{"text_format":"1","workbook":"xlsx","n_sheets":16,"sheets":["codes","cs scatter","fte10yr","notes","proj16jul","proj16aug","dec","feb","may","june","leas","statewide listing","distributions","monthly summary","district pupil trends","detail1516"],"not_rendered":{"charts":3,"images":2,"macros":1,"external_links":0,"defined_names":33,"comments":0,"pivot_tables":0},"unopened":[],"bounds":{"document_bytes":16777216,"sheet_cells":100000,"rows_first":2000,"rows_last":500,"rows_between":2000,"halvings":0,"cell_chars":16384,"cell_head_chars":4096},"cells_cut":0,"cells_raw":0,"read":"whole","date_system":"1900"}

{"sheet":"codes","index":0,"n_rows":367,"n_cols":3,"rows_kept":367,"cut":false,"hidden":true,"merged":[]}
[]
["codes to","codes to","codes to"]
["add to","add to","add to"]
["436 receiving","436 sending","detail1415"]
[2,2,5086]
[3,4,5309]
[4,6,5860]
[6,11,7105]
[9,12,7144]
[10,13,8061]
[11,15,8154]
[12,19,8227]
[13,21,8337]
[15,29,8728]
[16,32,14170]
[19,34,14321]
[21,37,17064]
[22,42,17271]
[23,47,20300]
[26,51,24043]
[29,53,25139]
[31,54,25177]
[32,55,25199]
[33,58,25635]
[34,59,25690]
[35,60,25710]
[37,62,27182]
[38,65,28170]
[40,66,30035]
[41,69,30246]
[42,70,36016]
[43,75,36201]
[46,76,44018]
[47,78,44073]
[49,80,44780]
[50,81,45043]
[51,90,48160]
[53,92,48295]
[54,104,52083]
[55,106,56149]
[57,108,56181]
[58,109,61005]
[59,112,61086]
[60,113,61680]
[62,115,61766]
[65,116,64162]
[66,119,64174]
[67,120,64271]
[69,123,64322]
[70,124,68008]
[71,126,74278]
[72,129,74332]
[73,130,74337]
[75,132,74685]
[76,134,77610]
[78,140,79031]
[80,143,83133]
[81,145,83251]
[82,146,89774]
[84,147,95650]
[85,156,95665]
[87,164,95810]
[88,166,96182]
[90,179,97031]
[91,180,97110]
[92,183,97128]
[93,188,97170]
[94,192,97673]
[99,193,101185]
[100,194,103616]
[102,202,105252]
[104,203,114210]
[106,205,114289]
[108,206,114632]
[109,211,114683]
[112,216,117272]
[113,222,117275]
[115,225,117289]
[116,228,117309]
[118,232,117325]
[119,233,121200]
[120,235,125321]
[122,237,127635]
[123,238,127672]
[124,241,128023]
[126,245,128616]
[129,247,133001]
[130,254,133018]
[131,255,133035]
[132,256,133040]
[134,257,135287]
[139,259,136212]
[140,260,137086]
[142,267,137683]
[143,268,141017]
[145,269,141174]
[146,270,141185]
[147,279,141213]
[149,280,141229]
[155,282,144745]
[156,283,148341]
[157,286,151153]
[160,294,151778]
[163,297,152148]
[164,298,153141]
[165,299,153322]
[166,303,153720]
[167,311,153725]
[168,312,153801]
[169,313,154337]
[170,319,158097]
[175,320,159191]
[176,328,162064]
[179,329,162100]
[180,333,162174]
[181,334,171219]
[183,335,172308]
[184,338,172645]
[186,339,173331]
[188,345,174026]
[189,351,174067]
[190,406,174141]
[192,801,174277]
[193,805,174308]
[194,806,174314]
[195,829,174616]
[196,851,177167]
[197,910,177170]
[199,915,177690]
[200,3901,177710]
[201,3902,182088]
[202,null,182239]
[203,null,185014]
[205,null,185100]
[206,null,185198]
[207,null,185276]
[208,null,185317]
[211,null,187018]
[212,null,187035]
[213,null,187136]
[216,null,187207]
[217,null,187350]
[219,null,198138]
[220,null,198139]
[222,null,198213]
[225,null,198288]
[228,null,209341]
[231,null,210008]
[232,null,210024]
[233,null,210074]
[235,null,210227]
[237,null,210275]
[238,null,214100]
[239,null,215001]
[241,null,215309]
[243,null,223114]
[245,null,226151]
[246,null,226348]
[247,null,227061]
[248,null,227680]
[250,null,229305]
[254,null,230111]
[255,null,230117]
[256,null,230223]
[257,null,230309]
[258,null,234309]
[259,null,236209]
[260,null,236685]
[262,null,236851]
[264,null,242261]
[265,null,242645]
[266,null,249603]
[267,null,251095]
[268,null,251171]
[269,null,263635]
[270,null,263717]
[271,null,271110]
[272,null,277770]
[273,null,281278]
[274,null,290658]
[276,null,290710]
[279,null,290775]
[280,null,293014]
[282,null,293052]
[283,null,293083]
[284,null,293212]
[285,null,293879]
[286,null,300085]
[287,null,301031]
[288,null,301326]
[291,null,301342]
[292,null,304177]
[294,null,306137]
[295,null,306227]
[297,null,306277]
[298,null,309024]
[299,null,309043]
[302,null,309111]
[303,null,310095]
[305,null,310172]
[307,null,310690]
[308,null,310855]
[311,null,316110]
[312,null,316767]
[313,null,316876]
[314,null,322753]
[315,null,322767]
[317,null,323133]
[318,null,325086]
[319,null,325143]
[320,null,325309]
[321,null,337289]
[324,null,337309]
[328,null,337750]
[329,null,340327]
[330,null,340672]
[331,null,341121]
[333,null,343753]
[334,null,348084]
[335,null,348101]
[336,null,348213]
[338,null,348214]
[339,null,348290]
[342,null,348304]
[344,null,348832]
[345,null,348876]
[347,null,603341]
[350,null,605005]
[351,null,605061]
[352,null,605091]
[406,null,605111]
[640,null,605672]
[655,null,605750]
[690,null,615110]
[695,null,616099]
[700,null,616125]
[705,null,616191]
[730,null,616288]
[760,null,618209]
[801,null,622101]
[805,null,622690]
[806,null,625218]
[810,null,625323]
[815,null,632210]
[818,null,635114]
[821,null,635152]
[825,null,635209]
[829,null,645239]
[830,null,658186]
[851,null,658214]
[855,null,665036]
[871,null,672137]
[872,null,673352]
[873,null,674008]
[876,null,680278]
[878,null,683778]
[879,null,685209]
[910,null,698248]
[915,null,710321]
[828,null,710775]
[null,null,712036]
[null,null,712085]
[null,null,712172]
[null,null,717091]
[null,null,717161]
[null,null,717236]
[null,null,717340]
[null,null,717683]
[null,null,720348]
[null,null,725174]
[null,null,725322]
[null,null,728750]
[null,null,735125]
[null,null,735158]
[null,null,740052]
[null,null,740625]
[null,null,745030]
[null,null,745079]
[null,null,745105]
[null,null,745258]
[null,null,750008]
[null,null,753017]
[null,null,753025]
[null,null,753064]
[null,null,753110]
[null,null,753141]
[null,null,753153]
[null,null,753170]
[null,null,753214]
[null,null,753226]
[null,null,753271]
[null,null,753277]
[null,null,753290]
[null,null,753316]
[null,null,753322]
[null,null,753725]
[null,null,755160]
[null,null,755605]
[null,null,755622]
[null,null,765152]
[null,null,766061]
[null,null,766111]
[null,null,766210]
[null,null,766683]
[null,null,767770]
[null,null,770309]
[null,null,773258]
[null,null,773298]
[null,null,775215]
[null,null,775271]
[null,null,778086]
[null,null,778191]
[null,null,778281]
[null,null,778287]
[null,null,780052]
[null,null,780175]
[null,null,780239]
[null,null,817885]
[null,null,828852]
[null,null,828885]
[null,null,832830]
[null,null,852801]
[null,null,852810]
[null,null,853308]
[null,null,853806]
[null,null,860818]
[null,null,860832]
[null,null,3901008]
[null,null,3901014]
[null,null,3901025]
[null,null,3901039]
[null,null,3901048]
[null,null,3901083]
[null,null,3901094]
[null,null,3901136]
[null,null,3901169]
[null,null,3901172]
[null,null,3901176]
[null,null,3901185]
[null,null,3901204]
[null,null,3901224]
[null,null,3901264]
[null,null,3901266]
[null,null,3901273]
[null,null,3901295]
[null,null,3901321]
[null,null,3901323]
[null,null,3901618]
[null,null,3901670]
[null,null,3901698]
[null,null,3901720]
[null,null,3901728]
[null,null,3901763]
[null,null,3901765]
[null,null,3902036]
[null,null,3902152]
[null,null,3902167]
[null,null,3902178]
[null,null,3902191]
[null,null,3902211]
[null,null,3902252]
[null,null,3902274]
[null,null,3902335]
[null,null,3902341]
[null,null,3902600]
[null,null,3902618]
[null,null,3902650]

{"sheet":"cs scatter","index":1,"n_rows":528,"n_cols":8,"rows_kept":528,"cut":false,"hidden":true,"merged":[]}
[]
[]
[]
[]
[]
[]
[]
[]
[]
[]
[]
[]
[]
[]
[]
[]
[]
[]
[]
[]
[]
[]
[]
[]
[]
[]
[]
[]
[]
[]
[]
[]
[]
[]
[]
[]
[]
[]
[]
[]
[]
[]
[]
[]
[]
[]
[]
[]
[]
[]
[]
[]
[]
[]
[]
[]
[]
[]
[]
[]
[]
[]
[]
[]
[]
[]
[]
[]
[]
[]
[]
[]
[]
[]
[]
[]
[]
[]
[]
[]
[]
[]
[]
[]
[]
[null,null,"cs receipts","actual  receipts",null,null,"ch sheet assessments","actual assessments"]
[1,"ABINGTON                     ",{"$f":"distributions!C10","v":10000},{"$f":"distributions!D10","v":5000},null,null,{"$f":"distributions!T10","v":141707},{"$f":"distributions!U10","v":231077}]
[2,"ACTON                        ",{"$f":"distributions!C11","v":0},{"$f":"distributions!D11","v":0},null,null,{"$f":"distributions!T11","v":5561},{"$f":"distributions!U11","v":0}]
[3,"ACUSHNET                     ",{"$f":"distributions!C12","v":0},{"$f":"distributions!D12","v":0},null,null,{"$f":"distributions!T12","v":62652},{"$f":"distributions!U12","v":76700}]
[4,"ADAMS                        ",{"$f":"distributions!C13","v":0},{"$f":"distributions!D13","v":0},null,null,{"$f":"distributions!T13","v":0},{"$f":"distributions!U13","v":0}]
[5,"AGAWAM                       ",{"$f":"distributions!C14","v":425326},{"$f":"distributions!D14","v":429476},null,null,{"$f":"distributions!T14","v":290838},{"$f":"distributions!U14","v":294983}]
[6,"ALFORD                       ",{"$f":"distributions!C15","v":0},{"$f":"distributions!D15","v":0},null,null,{"$f":"distributions!T15","v":0},{"$f":"distributions!U15","v":0}]
[7,"AMESBURY                     ",{"$f":"distributions!C16","v":196514},{"$f":"distributions!D16","v":121524},null,null,{"$f":"distributions!T16","v":494598},{"$f":"distributions!U16","v":394457}]
[8,"AMHERST                      ",{"$f":"distributions!C17","v":338073},{"$f":"distributions!D17","v":319432},null,null,{"$f":"distributions!T17","v":157400},{"$f":"distributions!U17","v":134194}]
[9,"ANDOVER                      ",{"$f":"distributions!C18","v":0},{"$f":"distributions!D18","v":0},null,null,{"$f":"distributions!T18","v":25326},{"$f":"distributions!U18","v":29100}]
[10,"ARLINGTON                    ",{"$f":"distributions!C19","v":0},{"$f":"distributions!D19","v":0},null,null,{"$f":"distributions!T19","v":5561},{"$f":"distributions!U19","v":21400}]
[11,"ASHBURNHAM                   ",{"$f":"distributions!C20","v":0},{"$f":"distributions!D20","v":0},null,null,{"$f":"distributions!T20","v":0},{"$f":"distributions!U20","v":0}]
[12,"ASHBY                        ",{"$f":"distributions!C21","v":0},{"$f":"distributions!D21","v":0},null,null,{"$f":"distributions!T21","v":0},{"$f":"distributions!U21","v":0}]
[13,"ASHFIELD                     ",{"$f":"distributions!C22","v":0},{"$f":"distributions!D22","v":0},null,null,{"$f":"distributions!T22","v":0},{"$f":"distributions!U22","v":0}]
[14,"ASHLAND                      ",{"$f":"distributions!C23","v":212748},{"$f":"distributions!D23","v":287724},null,null,{"$f":"distributions!T23","v":91418},{"$f":"distributions!U23","v":84632}]
[15,"ATHOL                        ",{"$f":"distributions!C24","v":0},{"$f":"distributions!D24","v":0},null,null,{"$f":"distributions!T24","v":0},{"$f":"distributions!U24","v":0}]
[16,"ATTLEBORO                    ",{"$f":"distributions!C25","v":0},{"$f":"distributions!D25","v":0},null,null,{"$f":"distributions!T25","v":98305},{"$f":"distributions!U25","v":183900}]
[17,"AUBURN                       ",{"$f":"distributions!C26","v":249438},{"$f":"distributions!D26","v":327404},null,null,{"$f":"distributions!T26","v":127289},{"$f":"distributions!U26","v":112071}]
[18,"AVON                         ",{"$f":"distributions!C27","v":949225},{"$f":"distributions!D27","v":1024920},null,null,{"$f":"distributions!T27","v":25000},{"$f":"distributions!U27","v":10000}]
[19,"AYER                         ",{"$f":"distributions!C28","v":0},{"$f":"distributions!D28","v":0},null,null,{"$f":"distributions!T28","v":0},{"$f":"distributions!U28","v":0}]
[20,"BARNSTABLE                   ",{"$f":"distributions!C29","v":616894},{"$f":"distributions!D29","v":658306},null,null,{"$f":"distributions!T29","v":918231},{"$f":"distributions!U29","v":934327}]
[21,"BARRE                        ",{"$f":"distributions!C30","v":0},{"$f":"distributions!D30","v":0},null,null,{"$f":"distributions!T30","v":0},{"$f":"distributions!U30","v":0}]
[22,"BECKET                       ",{"$f":"distributions!C31","v":0},{"$f":"distributions!D31","v":0},null,null,{"$f":"distributions!T31","v":10000},{"$f":"distributions!U31","v":15000}]
[23,"BEDFORD                      ",{"$f":"distributions!C32","v":0},{"$f":"distributions!D32","v":0},null,null,{"$f":"distributions!T32","v":5000},{"$f":"distributions!U32","v":23400}]
[24,"BELCHERTOWN                  ",{"$f":"distributions!C33","v":580989},{"$f":"distributions!D33","v":760087},null,null,{"$f":"distributions!T33","v":544940},{"$f":"distributions!U33","v":659834}]
[25,"BELLINGHAM                   ",{"$f":"distributions!C34","v":257806},{"$f":"distributions!D34","v":202459},null,null,{"$f":"distributions!T34","v":703458},{"$f":"distributions!U34","v":831394}]
[26,"BELMONT                      ",{"$f":"distributions!C35","v":0},{"$f":"distributions!D35","v":0},null,null,{"$f":"distributions!T35","v":4653},{"$f":"distributions!U35","v":0}]
[27,"BERKLEY                      ",{"$f":"distributions!C36","v":396688},{"$f":"distributions!D36","v":582114},null,null,{"$f":"distributions!T36","v":10000},{"$f":"distributions!U36","v":10000}]
[28,"BERLIN                       ",{"$f":"distributions!C37","v":145629},{"$f":"distributions!D37","v":149051},null,null,{"$f":"distributions!T37","v":0},{"$f":"distributions!U37","v":0}]
[29,"BERNARDSTON                  ",{"$f":"distributions!C38","v":0},{"$f":"distributions!D38","v":0},null,null,{"$f":"distributions!T38","v":0},{"$f":"distributions!U38","v":0}]
[30,"BEVERLY                      ",{"$f":"distributions!C39","v":524477},{"$f":"distributions!D39","v":601926},null,null,{"$f":"distributions!T39","v":336687},{"$f":"distributions!U39","v":340184}]
[31,"BILLERICA                    ",{"$f":"distributions!C40","v":0},{"$f":"distributions!D40","v":0},null,null,{"$f":"distributions!T40","v":74634},{"$f":"distributions!U40","v":105600}]
[32,"BLACKSTONE                   ",{"$f":"distributions!C41","v":0},{"$f":"distributions!D41","v":0},null,null,{"$f":"distributions!T41","v":0},{"$f":"distributions!U41","v":0}]
[33,"BLANDFORD                    ",{"$f":"distributions!C42","v":0},{"$f":"distributions!D42","v":0},null,null,{"$f":"distributions!T42","v":0},{"$f":"distributions!U42","v":12120}]
[34,"BOLTON                       ",{"$f":"distributions!C43","v":0},{"$f":"distributions!D43","v":0},null,null,{"$f":"distributions!T43","v":0},{"$f":"distributions!U43","v":0}]
[35,"BOSTON                       ",{"$f":"distributions!C44","v":0},{"$f":"distributions!D44","v":0},null,null,{"$f":"distributions!T44","v":555312},{"$f":"distributions!U44","v":608120}]
[36,"BOURNE                       ",{"$f":"distributions!C45","v":723869},{"$f":"distributions!D45","v":696677},null,null,{"$f":"distributions!T45","v":622519},{"$f":"distributions!U45","v":584253}]
[37,"BOXBOROUGH                   ",{"$f":"distributions!C46","v":0},{"$f":"distributions!D46","v":0},null,null,{"$f":"distributions!T46","v":0},{"$f":"distributions!U46","v":0}]
[38,"BOXFORD                      ",{"$f":"distributions!C47","v":0},{"$f":"distributions!D47","v":0},null,null,{"$f":"distributions!T47","v":5561},{"$f":"distributions!U47","v":16700}]
[39,"BOYLSTON                     ",{"$f":"distributions!C48","v":70513},{"$f":"distributions!D48","v":90513},null,null,{"$f":"distributions!T48","v":83867},{"$f":"distributions!U48","v":91045}]
[40,"BRAINTREE                    ",{"$f":"distributions!C49","v":0},{"$f":"distributions!D49","v":0},null,null,{"$f":"distributions!T49","v":27420},{"$f":"distributions!U49","v":18400}]
[41,"BREWSTER                     ",{"$f":"distributions!C50","v":0},{"$f":"distributions!D50","v":0},null,null,{"$f":"distributions!T50","v":158226},{"$f":"distributions!U50","v":166964}]
[42,"BRIDGEWATER                  ",{"$f":"distributions!C51","v":0},{"$f":"distributions!D51","v":0},null,null,{"$f":"distributions!T51","v":0},{"$f":"distributions!U51","v":0}]
[43,"BRIMFIELD                    ",{"$f":"distributions!C52","v":0},{"$f":"distributions!D52","v":0},null,null,{"$f":"distributions!T52","v":102550},{"$f":"distributions!U52","v":64508}]
[44,"BROCKTON                     ",{"$f":"distributions!C53","v":115000},{"$f":"distributions!D53","v":136000},null,null,{"$f":"distributions!T53","v":1037038},{"$f":"distributions!U53","v":1328445}]
[45,"BROOKFIELD                   ",{"$f":"distributions!C54","v":389284},{"$f":"distributions!D54","v":350618},null,null,{"$f":"distributions!T54","v":14677},{"$f":"distributions!U54","v":5000}]
[46,"BROOKLINE                    ",{"$f":"distributions!C55","v":0},{"$f":"distributions!D55","v":0},null,null,{"$f":"distributions!T55","v":3953},{"$f":"distributions!U55","v":6700}]
[47,"BUCKLAND                     ",{"$f":"distributions!C56","v":0},{"$f":"distributions!D56","v":0},null,null,{"$f":"distributions!T56","v":0},{"$f":"distributions!U56","v":0}]
[48,"BURLINGTON                   ",{"$f":"distributions!C57","v":125100},{"$f":"distributions!D57","v":153000},null,null,{"$f":"distributions!T57","v":15812},{"$f":"distributions!U57","v":20100}]
[49,"CAMBRIDGE                    ",{"$f":"distributions!C58","v":0},{"$f":"distributions!D58","v":0},null,null,{"$f":"distributions!T58","v":19028},{"$f":"distributions!U58","v":33500}]
[50,"CANTON                       ",{"$f":"distributions!C59","v":0},{"$f":"distributions!D59","v":0},null,null,{"$f":"distributions!T59","v":7906},{"$f":"distributions!U59","v":6700}]
[51,"CARLISLE                     ",{"$f":"distributions!C60","v":0},{"$f":"distributions!D60","v":0},null,null,{"$f":"distributions!T60","v":0},{"$f":"distributions!U60","v":0}]
[52,"CARVER                       ",{"$f":"distributions!C61","v":155991},{"$f":"distributions!D61","v":167791},null,null,{"$f":"distributions!T61","v":30075},{"$f":"distributions!U61","v":40200}]
[53,"CHARLEMONT                   ",{"$f":"distributions!C62","v":0},{"$f":"distributions!D62","v":0},null,null,{"$f":"distributions!T62","v":0},{"$f":"distributions!U62","v":0}]
[54,"CHARLTON                     ",{"$f":"distributions!C63","v":0},{"$f":"distributions!D63","v":0},null,null,{"$f":"distributions!T63","v":0},{"$f":"distributions!U63","v":0}]
[55,"CHATHAM                      ",{"$f":"distributions!C64","v":0},{"$f":"distributions!D64","v":0},null,null,{"$f":"distributions!T64","v":0},{"$f":"distributions!U64","v":0}]
[56,"CHELMSFORD                   ",{"$f":"distributions!C65","v":326523},{"$f":"distributions!D65","v":375373},null,null,{"$f":"distributions!T65","v":193494},{"$f":"distributions!U65","v":207601}]
[57,"CHELSEA                      ",{"$f":"distributions!C66","v":0},{"$f":"distributions!D66","v":0},null,null,{"$f":"distributions!T66","v":28542},{"$f":"distributions!U66","v":51900}]
[58,"CHESHIRE                     ",{"$f":"distributions!C67","v":0},{"$f":"distributions!D67","v":0},null,null,{"$f":"distributions!T67","v":0},{"$f":"distributions!U67","v":0}]
[59,"CHESTER                      ",{"$f":"distributions!C68","v":0},{"$f":"distributions!D68","v":0},null,null,{"$f":"distributions!T68","v":0},{"$f":"distributions!U68","v":0}]
[60,"CHESTERFIELD                 ",{"$f":"distributions!C69","v":0},{"$f":"distributions!D69","v":0},null,null,{"$f":"distributions!T69","v":0},{"$f":"distributions!U69","v":0}]
[61,"CHICOPEE                     ",{"$f":"distributions!C70","v":941627},{"$f":"distributions!D70","v":1009093},null,null,{"$f":"distributions!T70","v":754391},{"$f":"distributions!U70","v":777720}]
[62,"CHILMARK                     ",{"$f":"distributions!C71","v":0},{"$f":"distributions!D71","v":0},null,null,{"$f":"distributions!T71","v":0},{"$f":"distributions!U71","v":0}]
[63,"CLARKSBURG                   ",{"$f":"distributions!C72","v":159657},{"$f":"distributions!D72","v":203974},null,null,{"$f":"distributions!T72","v":90681},{"$f":"distributions!U72","v":107823}]
[64,"CLINTON                      ",{"$f":"distributions!C73","v":843868},{"$f":"distributions!D73","v":585285},null,null,{"$f":"distributions!T73","v":637998},{"$f":"distributions!U73","v":675727}]
[65,"COHASSET                     ",{"$f":"distributions!C74","v":0},{"$f":"distributions!D74","v":0},null,null,{"$f":"distributions!T74","v":0},{"$f":"distributions!U74","v":0}]
[66,"COLRAIN                      ",{"$f":"distributions!C75","v":0},{"$f":"distributions!D75","v":0},null,null,{"$f":"distributions!T75","v":0},{"$f":"distributions!U75","v":0}]
[67,"CONCORD                      ",{"$f":"distributions!C76","v":0},{"$f":"distributions!D76","v":0},null,null,{"$f":"distributions!T76","v":20812},{"$f":"distributions!U76","v":18400}]
[68,"CONWAY                       ",{"$f":"distributions!C77","v":126837},{"$f":"distributions!D77","v":148737},null,null,{"$f":"distributions!T77","v":76433},{"$f":"distributions!U77","v":72060}]
[69,"CUMMINGTON                   ",{"$f":"distributions!C78","v":0},{"$f":"distributions!D78","v":0},null,null,{"$f":"distributions!T78","v":0},{"$f":"distributions!U78","v":0}]
[70,"DALTON                       ",{"$f":"distributions!C79","v":0},{"$f":"distributions!D79","v":0},null,null,{"$f":"distributions!T79","v":0},{"$f":"distributions!U79","v":0}]
[71,"DANVERS                      ",{"$f":"distributions!C80","v":0},{"$f":"distributions!D80","v":0},null,null,{"$f":"distributions!T80","v":223719},{"$f":"distributions!U80","v":278474}]
[72,"DARTMOUTH                    ",{"$f":"distributions!C81","v":0},{"$f":"distributions!D81","v":0},null,null,{"$f":"distributions!T81","v":22420},{"$f":"distributions!U81","v":20100}]
[73,"DEDHAM                       ",{"$f":"distributions!C82","v":0},{"$f":"distributions!D82","v":0},null,null,{"$f":"distributions!T82","v":9514},{"$f":"distributions!U82","v":36400}]
[74,"DEERFIELD                    ",{"$f":"distributions!C83","v":711861},{"$f":"distributions!D83","v":572511},null,null,{"$f":"distributions!T83","v":114130},{"$f":"distributions!U83","v":126100}]
[75,"DENNIS                       ",{"$f":"distributions!C84","v":0},{"$f":"distributions!D84","v":0},null,null,{"$f":"distributions!T84","v":0},{"$f":"distributions!U84","v":0}]
[76,"DIGHTON                      ",{"$f":"distributions!C85","v":0},{"$f":"distributions!D85","v":0},null,null,{"$f":"distributions!T85","v":0},{"$f":"distributions!U85","v":0}]
[77,"DOUGLAS                      ",{"$f":"distributions!C86","v":677565},{"$f":"distributions!D86","v":614852},null,null,{"$f":"distributions!T86","v":265630},{"$f":"distributions!U86","v":284393}]
[78,"DOVER                        ",{"$f":"distributions!C87","v":0},{"$f":"distributions!D87","v":0},null,null,{"$f":"distributions!T87","v":9514},{"$f":"distributions!U87","v":0}]
[79,"DRACUT                       ",{"$f":"distributions!C88","v":140340},{"$f":"distributions!D88","v":157640},null,null,{"$f":"distributions!T88","v":108837},{"$f":"distributions!U88","v":158017}]
[80,"DUDLEY                       ",{"$f":"distributions!C89","v":0},{"$f":"distributions!D89","v":0},null,null,{"$f":"distributions!T89","v":0},{"$f":"distributions!U89","v":0}]
[81,"DUNSTABLE                    ",{"$f":"distributions!C90","v":0},{"$f":"distributions!D90","v":0},null,null,{"$f":"distributions!T90","v":0},{"$f":"distributions!U90","v":0}]
[82,"DUXBURY                      ",{"$f":"distributions!C91","v":0},{"$f":"distributions!D91","v":0},null,null,{"$f":"distributions!T91","v":7906},{"$f":"distributions!U91","v":6700}]
[83,"EAST BRIDGEWATER             ",{"$f":"distributions!C92","v":73450},{"$f":"distributions!D92","v":201000},null,null,{"$f":"distributions!T92","v":167141},{"$f":"distributions!U92","v":154021}]
[84,"EAST BROOKFIELD              ",{"$f":"distributions!C93","v":0},{"$f":"distributions!D93","v":0},null,null,{"$f":"distributions!T93","v":30000},{"$f":"distributions!U93","v":30000}]
[85,"EASTHAM                      ",{"$f":"distributions!C94","v":0},{"$f":"distributions!D94","v":0},null,null,{"$f":"distributions!T94","v":36124},{"$f":"distributions!U94","v":37560}]
[86,"EASTHAMPTON                  ",{"$f":"distributions!C95","v":429763},{"$f":"distributions!D95","v":467402},null,null,{"$f":"distributions!T95","v":1291064},{"$f":"distributions!U95","v":1154611}]
[87,"EAST LONGMEADOW              ",{"$f":"distributions!C96","v":0},{"$f":"distributions!D96","v":0},null,null,{"$f":"distributions!T96","v":33467},{"$f":"distributions!U96","v":62800}]
[88,"EASTON                       ",{"$f":"distributions!C97","v":0},{"$f":"distributions!D97","v":0},null,null,{"$f":"distributions!T97","v":26914},{"$f":"distributions!U97","v":54921}]
[89,"EDGARTOWN                    ",{"$f":"distributions!C98","v":74997},{"$f":"distributions!D98","v":51028},null,null,{"$f":"distributions!T98","v":180161},{"$f":"distributions!U98","v":189337}]
[90,"EGREMONT                     ",{"$f":"distributions!C99","v":0},{"$f":"distributions!D99","v":0},null,null,{"$f":"distributions!T99","v":0},{"$f":"distributions!U99","v":0}]
[91,"ERVING                       ",{"$f":"distributions!C100","v":0},{"$f":"distributions!D100","v":0},null,null,{"$f":"distributions!T100","v":289481},{"$f":"distributions!U100","v":183768}]
[92,"ESSEX                        ",{"$f":"distributions!C101","v":0},{"$f":"distributions!D101","v":0},null,null,{"$f":"distributions!T101","v":0},{"$f":"distributions!U101","v":0}]
[93,"EVERETT                      ",{"$f":"distributions!C102","v":0},{"$f":"distributions!D102","v":0},null,null,{"$f":"distributions!T102","v":93873},{"$f":"distributions!U102","v":100274}]
[94,"FAIRHAVEN                    ",{"$f":"distributions!C103","v":0},{"$f":"distributions!D103","v":0},null,null,{"$f":"distributions!T103","v":75861},{"$f":"distributions!U103","v":72646}]
[95,"FALL RIVER                   ",{"$f":"distributions!C104","v":82050},{"$f":"distributions!D104","v":213000},null,null,{"$f":"distributions!T104","v":394695},{"$f":"distributions!U104","v":633074}]
[96,"FALMOUTH                     ",{"$f":"distributions!C105","v":581601},{"$f":"distributions!D105","v":696289},null,null,{"$f":"distributions!T105","v":261955},{"$f":"distributions!U105","v":200977}]
[97,"FITCHBURG                    ",{"$f":"distributions!C106","v":1048411},{"$f":"distributions!D106","v":973989},null,null,{"$f":"distributions!T106","v":2451589},{"$f":"distributions!U106","v":2504850}]
[98,"FLORIDA                      ",{"$f":"distributions!C107","v":11708},{"$f":"distributions!D107","v":5000},null,null,{"$f":"distributions!T107","v":20000},{"$f":"distributions!U107","v":47000}]
[99,"FOXBOROUGH                   ",{"$f":"distributions!C108","v":0},{"$f":"distributions!D108","v":0},null,null,{"$f":"distributions!T108","v":3953},{"$f":"distributions!U108","v":28400}]
[100,"FRAMINGHAM                   ",{"$f":"distributions!C109","v":0},{"$f":"distributions!D109","v":0},null,null,{"$f":"distributions!T109","v":312643},{"$f":"distributions!U109","v":377803}]
[101,"FRANKLIN                     ",{"$f":"distributions!C110","v":50468},{"$f":"distributions!D110","v":39000},null,null,{"$f":"distributions!T110","v":141344},{"$f":"distributions!U110","v":203953}]
[102,"FREETOWN                     ",{"$f":"distributions!C111","v":0},{"$f":"distributions!D111","v":0},null,null,{"$f":"distributions!T111","v":0},{"$f":"distributions!U111","v":5000}]
[103,"GARDNER                      ",{"$f":"distributions!C112","v":773133},{"$f":"distributions!D112","v":667591},null,null,{"$f":"distributions!T112","v":1002576},{"$f":"distributions!U112","v":1311559}]
[104,"AQUINNAH",{"$f":"distributions!C113","v":0},{"$f":"distributions!D113","v":0},null,null,{"$f":"distributions!T113","v":0},{"$f":"distributions!U113","v":0}]
[105,"GEORGETOWN                   ",{"$f":"distributions!C114","v":196130},{"$f":"distributions!D114","v":190439},null,null,{"$f":"distributions!T114","v":197267},{"$f":"distributions!U114","v":191661}]
[106,"GILL                         ",{"$f":"distributions!C115","v":0},{"$f":"distributions!D115","v":0},null,null,{"$f":"distributions!T115","v":0},{"$f":"distributions!U115","v":0}]
[107,"GLOUCESTER                   ",{"$f":"distributions!C116","v":214791},{"$f":"distributions!D116","v":193525},null,null,{"$f":"distributions!T116","v":1651567},{"$f":"distributions!U116","v":1675296}]
[108,"GOSHEN                       ",{"$f":"distributions!C117","v":0},{"$f":"distributions!D117","v":0},null,null,{"$f":"distributions!T117","v":0},{"$f":"distributions!U117","v":0}]
[109,"GOSNOLD                      ",{"$f":"distributions!C118","v":0},{"$f":"distributions!D118","v":0},null,null,{"$f":"distributions!T118","v":0},{"$f":"distributions!U118","v":0}]
[110,"GRAFTON                      ",{"$f":"distributions!C119","v":191757},{"$f":"distributions!D119","v":266367},null,null,{"$f":"distributions!T119","v":143393},{"$f":"distributions!U119","v":202296}]
[111,"GRANBY                       ",{"$f":"distributions!C120","v":750306},{"$f":"distributions!D120","v":667038},null,null,{"$f":"distributions!T120","v":286171},{"$f":"distributions!U120","v":303479}]
[112,"GRANVILLE                    ",{"$f":"distributions!C121","v":0},{"$f":"distributions!D121","v":0},null,null,{"$f":"distributions!T121","v":0},{"$f":"distributions!U121","v":0}]
[113,"GREAT BARRINGTON             ",{"$f":"distributions!C122","v":0},{"$f":"distributions!D122","v":0},null,null,{"$f":"distributions!T122","v":0},{"$f":"distributions!U122","v":0}]
[114,"GREENFIELD                   ",{"$f":"distributions!C123","v":578152},{"$f":"distributions!D123","v":661041},null,null,{"$f":"distributions!T123","v":2309748},{"$f":"distributions!U123","v":2219044}]
[115,"GROTON                       ",{"$f":"distributions!C124","v":0},{"$f":"distributions!D124","v":0},null,null,{"$f":"distributions!T124","v":0},{"$f":"distributions!U124","v":0}]
[116,"GROVELAND                    ",{"$f":"distributions!C125","v":0},{"$f":"distributions!D125","v":0},null,null,{"$f":"distributions!T125","v":0},{"$f":"distributions!U125","v":0}]
[117,"HADLEY                       ",{"$f":"distributions!C126","v":589766},{"$f":"distributions!D126","v":545205},null,null,{"$f":"distributions!T126","v":385346},{"$f":"distributions!U126","v":314228}]
[118,"HALIFAX                      ",{"$f":"distributions!C127","v":0},{"$f":"distributions!D127","v":0},null,null,{"$f":"distributions!T127","v":5000},{"$f":"distributions!U127","v":5000}]
[119,"HAMILTON                     ",{"$f":"distributions!C128","v":0},{"$f":"distributions!D128","v":0},null,null,{"$f":"distributions!T128","v":0},{"$f":"distributions!U128","v":0}]
[120,"HAMPDEN                      ",{"$f":"distributions!C129","v":0},{"$f":"distributions!D129","v":0},null,null,{"$f":"distributions!T129","v":0},{"$f":"distributions!U129","v":0}]
[121,"HANCOCK                      ",{"$f":"distributions!C130","v":15000},{"$f":"distributions!D130","v":24000},null,null,{"$f":"distributions!T130","v":55000},{"$f":"distributions!U130","v":25000}]
[122,"HANOVER                      ",{"$f":"distributions!C131","v":0},{"$f":"distributions!D131","v":0},null,null,{"$f":"distributions!T131","v":0},{"$f":"distributions!U131","v":10000}]
[123,"HANSON                       ",{"$f":"distributions!C132","v":0},{"$f":"distributions!D132","v":0},null,null,{"$f":"distributions!T132","v":0},{"$f":"distributions!U132","v":0}]
[124,"HARDWICK                     ",{"$f":"distributions!C133","v":0},{"$f":"distributions!D133","v":0},null,null,{"$f":"distributions!T133","v":0},{"$f":"distributions!U133","v":0}]
[125,"HARVARD                      ",{"$f":"distributions!C134","v":368354},{"$f":"distributions!D134","v":358354},null,null,{"$f":"distributions!T134","v":31314},{"$f":"distributions!U134","v":20000}]
[126,"HARWICH                      ",{"$f":"distributions!C135","v":0},{"$f":"distributions!D135","v":0},null,null,{"$f":"distributions!T135","v":7906},{"$f":"distributions!U135","v":0}]
[127,"HATFIELD                     ",{"$f":"distributions!C136","v":838623},{"$f":"distributions!D136","v":850119},null,null,{"$f":"distributions!T136","v":202217},{"$f":"distributions!U136","v":205121}]
[128,"HAVERHILL                    ",{"$f":"distributions!C137","v":247501},{"$f":"distributions!D137","v":191343},null,null,{"$f":"distributions!T137","v":1190061},{"$f":"distributions!U137","v":1095599}]
[129,"HAWLEY                       ",{"$f":"distributions!C138","v":0},{"$f":"distributions!D138","v":0},null,null,{"$f":"distributions!T138","v":0},{"$f":"distributions!U138","v":0}]
[130,"HEATH                        ",{"$f":"distributions!C139","v":0},{"$f":"distributions!D139","v":0},null,null,{"$f":"distributions!T139","v":0},{"$f":"distributions!U139","v":0}]
[131,"HINGHAM                      ",{"$f":"distributions!C140","v":0},{"$f":"distributions!D140","v":0},null,null,{"$f":"distributions!T140","v":0},{"$f":"distributions!U140","v":28100}]
[132,"HINSDALE                     ",{"$f":"distributions!C141","v":0},{"$f":"distributions!D141","v":0},null,null,{"$f":"distributions!T141","v":0},{"$f":"distributions!U141","v":0}]
[133,"HOLBROOK                     ",{"$f":"distributions!C142","v":305871},{"$f":"distributions!D142","v":306291},null,null,{"$f":"distributions!T142","v":76997},{"$f":"distributions!U142","v":85200}]
[134,"HOLDEN                       ",{"$f":"distributions!C143","v":0},{"$f":"distributions!D143","v":0},null,null,{"$f":"distributions!T143","v":0},{"$f":"distributions!U143","v":0}]
[135,"HOLLAND                      ",{"$f":"distributions!C144","v":246248},{"$f":"distributions!D144","v":275872},null,null,{"$f":"distributions!T144","v":8953},{"$f":"distributions!U144","v":5000}]
[136,"HOLLISTON                    ",{"$f":"distributions!C145","v":1038241},{"$f":"distributions!D145","v":1058438},null,null,{"$f":"distributions!T145","v":49554},{"$f":"distributions!U145","v":94295}]
[137,"HOLYOKE                      ",{"$f":"distributions!C146","v":274673},{"$f":"distributions!D146","v":316976},null,null,{"$f":"distributions!T146","v":2055893},{"$f":"distributions!U146","v":2020196}]
[138,"HOPEDALE                     ",{"$f":"distributions!C147","v":709439},{"$f":"distributions!D147","v":666244},null,null,{"$f":"distributions!T147","v":290034},{"$f":"distributions!U147","v":260019}]
[139,"HOPKINTON                    ",{"$f":"distributions!C148","v":0},{"$f":"distributions!D148","v":0},null,null,{"$f":"distributions!T148","v":88021},{"$f":"distributions!U148","v":104415}]
[140,"HUBBARDSTON                  ",{"$f":"distributions!C149","v":0},{"$f":"distributions!D149","v":0},null,null,{"$f":"distributions!T149","v":0},{"$f":"distributions!U149","v":0}]
[141,"HUDSON                       ",{"$f":"distributions!C150","v":546944},{"$f":"distributions!D150","v":554577},null,null,{"$f":"distributions!T150","v":111154},{"$f":"distributions!U150","v":104422}]
[142,"HULL                         ",{"$f":"distributions!C151","v":0},{"$f":"distributions!D151","v":0},null,null,{"$f":"distributions!T151","v":22981},{"$f":"distributions!U151","v":38189}]
[143,"HUNTINGTON                   ",{"$f":"distributions!C152","v":0},{"$f":"distributions!D152","v":0},null,null,{"$f":"distributions!T152","v":0},{"$f":"distributions!U152","v":5000}]
[144,"IPSWICH                      ",{"$f":"distributions!C153","v":383036},{"$f":"distributions!D153","v":365038},null,null,{"$f":"distributions!T153","v":109839},{"$f":"distributions!U153","v":99253}]
[145,"KINGSTON                     ",{"$f":"distributions!C154","v":0},{"$f":"distributions!D154","v":0},null,null,{"$f":"distributions!T154","v":3953},{"$f":"distributions!U154","v":0}]
[146,"LAKEVILLE                    ",{"$f":"distributions!C155","v":0},{"$f":"distributions!D155","v":0},null,null,{"$f":"distributions!T155","v":0},{"$f":"distributions!U155","v":0}]
[147,"LANCASTER                    ",{"$f":"distributions!C156","v":0},{"$f":"distributions!D156","v":0},null,null,{"$f":"distributions!T156","v":0},{"$f":"distributions!U156","v":0}]
[148,"LANESBOROUGH                 ",{"$f":"distributions!C157","v":120999},{"$f":"distributions!D157","v":115999},null,null,{"$f":"distributions!T157","v":114496},{"$f":"distributions!U157","v":111635}]
[149,"LAWRENCE                     ",{"$f":"distributions!C158","v":0},{"$f":"distributions!D158","v":0},null,null,{"$f":"distributions!T158","v":372271},{"$f":"distributions!U158","v":444484}]
[150,"LEE                          ",{"$f":"distributions!C159","v":731075},{"$f":"distributions!D159","v":729588},null,null,{"$f":"distributions!T159","v":482824},{"$f":"distributions!U159","v":561288}]
[151,"LEICESTER                    ",{"$f":"distributions!C160","v":544663},{"$f":"distributions!D160","v":558265},null,null,{"$f":"distributions!T160","v":162376},{"$f":"distributions!U160","v":190973}]
[152,"LENOX                        ",{"$f":"distributions!C161","v":1279101},{"$f":"distributions!D161","v":1329856},null,null,{"$f":"distributions!T161","v":308326},{"$f":"distributions!U161","v":285344}]
[153,"LEOMINSTER                   ",{"$f":"distributions!C162","v":1401012},{"$f":"distributions!D162","v":1367932},null,null,{"$f":"distributions!T162","v":1875141},{"$f":"distributions!U162","v":1886475}]
[154,"LEVERETT                     ",{"$f":"distributions!C163","v":163072},{"$f":"distributions!D163","v":139816},null,null,{"$f":"distributions!T163","v":35971},{"$f":"distributions!U163","v":31700}]
[155,"LEXINGTON                    ",{"$f":"distributions!C164","v":0},{"$f":"distributions!D164","v":0},null,null,{"$f":"distributions!T164","v":16859},{"$f":"distributions!U164","v":38500}]
[156,"LEYDEN                       ",{"$f":"distributions!C165","v":0},{"$f":"distributions!D165","v":0},null,null,{"$f":"distributions!T165","v":0},{"$f":"distributions!U165","v":0}]
[157,"LINCOLN                      ",{"$f":"distributions!C166","v":0},{"$f":"distributions!D166","v":0},null,null,{"$f":"distributions!T166","v":0},{"$f":"distributions!U166","v":20100}]
[158,"LITTLETON                    ",{"$f":"distributions!C167","v":373331},{"$f":"distributions!D167","v":453343},null,null,{"$f":"distributions!T167","v":102084},{"$f":"distributions!U167","v":145578}]
[159,"LONGMEADOW                   ",{"$f":"distributions!C168","v":364404},{"$f":"distributions!D168","v":284642},null,null,{"$f":"distributions!T168","v":8953},{"$f":"distributions!U168","v":5000}]
[160,"LOWELL                       ",{"$f":"distributions!C169","v":0},{"$f":"distributions!D169","v":0},null,null,{"$f":"distributions!T169","v":685289},{"$f":"distributions!U169","v":889811}]
[161,"LUDLOW                       ",{"$f":"distributions!C170","v":499229},{"$f":"distributions!D170","v":611083},null,null,{"$f":"distributions!T170","v":204660},{"$f":"distributions!U170","v":212834}]
[162,"LUNENBURG                    ",{"$f":"distributions!C171","v":227741},{"$f":"distributions!D171","v":303389},null,null,{"$f":"distributions!T171","v":517649},{"$f":"distributions!U171","v":439103}]
[163,"LYNN                         ",{"$f":"distributions!C172","v":0},{"$f":"distributions!D172","v":0},null,null,{"$f":"distributions!T172","v":457634},{"$f":"distributions!U172","v":606998}]
[164,"LYNNFIELD                    ",{"$f":"distributions!C173","v":0},{"$f":"distributions!D173","v":0},null,null,{"$f":"distributions!T173","v":0},{"$f":"distributions!U173","v":0}]
[165,"MALDEN                       ",{"$f":"distributions!C174","v":0},{"$f":"distributions!D174","v":0},null,null,{"$f":"distributions!T174","v":32981},{"$f":"distributions!U174","v":50800}]
[166,"MANCHESTER                   ",{"$f":"distributions!C175","v":0},{"$f":"distributions!D175","v":0},null,null,{"$f":"distributions!T175","v":0},{"$f":"distributions!U175","v":0}]
[167,"MANSFIELD                    ",{"$f":"distributions!C176","v":0},{"$f":"distributions!D176","v":0},null,null,{"$f":"distributions!T176","v":34028},{"$f":"distributions!U176","v":37600}]
[168,"MARBLEHEAD                   ",{"$f":"distributions!C177","v":0},{"$f":"distributions!D177","v":0},null,null,{"$f":"distributions!T177","v":13467},{"$f":"distributions!U177","v":34100}]
[169,"MARION                       ",{"$f":"distributions!C178","v":0},{"$f":"distributions!D178","v":0},null,null,{"$f":"distributions!T178","v":9514},{"$f":"distributions!U178","v":0}]
[170,"MARLBOROUGH                  ",{"$f":"distributions!C179","v":0},{"$f":"distributions!D179","v":0},null,null,{"$f":"distributions!T179","v":560509},{"$f":"distributions!U179","v":526099}]
[171,"MARSHFIELD                   ",{"$f":"distributions!C180","v":34000},{"$f":"distributions!D180","v":25000},null,null,{"$f":"distributions!T180","v":37942},{"$f":"distributions!U180","v":33500}]
[172,"MASHPEE                      ",{"$f":"distributions!C181","v":442050},{"$f":"distributions!D181","v":397671},null,null,{"$f":"distributions!T181","v":389807},{"$f":"distributions!U181","v":476511}]
[173,"MATTAPOISETT                 ",{"$f":"distributions!C182","v":42512},{"$f":"distributions!D182","v":37512},null,null,{"$f":"distributions!T182","v":11859},{"$f":"distributions!U182","v":14481}]
[174,"MAYNARD                      ",{"$f":"distributions!C183","v":264647},{"$f":"distributions!D183","v":335347},null,null,{"$f":"distributions!T183","v":80595},{"$f":"distributions!U183","v":52445}]
[175,"MEDFIELD                     ",{"$f":"distributions!C184","v":0},{"$f":"distributions!D184","v":0},null,null,{"$f":"distributions!T184","v":28450},{"$f":"distributions!U184","v":34100}]
[176,"MEDFORD                      ",{"$f":"distributions!C185","v":0},{"$f":"distributions!D185","v":0},null,null,{"$f":"distributions!T185","v":16712},{"$f":"distributions!U185","v":62200}]
[177,"MEDWAY                       ",{"$f":"distributions!C186","v":347095},{"$f":"distributions!D186","v":549040},null,null,{"$f":"distributions!T186","v":265066},{"$f":"distributions!U186","v":261598}]
[178,"MELROSE                      ",{"$f":"distributions!C187","v":53150},{"$f":"distributions!D187","v":130000},null,null,{"$f":"distributions!T187","v":14514},{"$f":"distributions!U187","v":20103}]
[179,"MENDON                       ",{"$f":"distributions!C188","v":0},{"$f":"distributions!D188","v":0},null,null,{"$f":"distributions!T188","v":0},{"$f":"distributions!U188","v":0}]
[180,"MERRIMAC                     ",{"$f":"distributions!C189","v":0},{"$f":"distributions!D189","v":0},null,null,{"$f":"distributions!T189","v":0},{"$f":"distributions!U189","v":0}]
[181,"METHUEN                      ",{"$f":"distributions!C190","v":0},{"$f":"distributions!D190","v":0},null,null,{"$f":"distributions!T190","v":95709},{"$f":"distributions!U190","v":142700}]
[182,"MIDDLEBOROUGH                ",{"$f":"distributions!C191","v":15000},{"$f":"distributions!D191","v":25000},null,null,{"$f":"distributions!T191","v":231623},{"$f":"distributions!U191","v":245319}]
[183,"MIDDLEFIELD                  ",{"$f":"distributions!C192","v":0},{"$f":"distributions!D192","v":0},null,null,{"$f":"distributions!T192","v":0},{"$f":"distributions!U192","v":0}]
[184,"MIDDLETON                    ",{"$f":"distributions!C193","v":0},{"$f":"distributions!D193","v":0},null,null,{"$f":"distributions!T193","v":5561},{"$f":"distributions!U193","v":6700}]
[185,"MILFORD                      ",{"$f":"distributions!C194","v":459014},{"$f":"distributions!D194","v":442124},null,null,{"$f":"distributions!T194","v":1042782},{"$f":"distributions!U194","v":1178463}]
[186,"MILLBURY                     ",{"$f":"distributions!C195","v":0},{"$f":"distributions!D195","v":0},null,null,{"$f":"distributions!T195","v":118671},{"$f":"distributions!U195","v":159604}]
[187,"MILLIS                       ",{"$f":"distributions!C196","v":419555},{"$f":"distributions!D196","v":376474},null,null,{"$f":"distributions!T196","v":168883},{"$f":"distributions!U196","v":197848}]
[188,"MILLVILLE                    ",{"$f":"distributions!C197","v":0},{"$f":"distributions!D197","v":0},null,null,{"$f":"distributions!T197","v":0},{"$f":"distributions!U197","v":0}]
[189,"MILTON                       ",{"$f":"distributions!C198","v":0},{"$f":"distributions!D198","v":0},null,null,{"$f":"distributions!T198","v":19028},{"$f":"distributions!U198","v":26800}]
[190,"MONROE                       ",{"$f":"distributions!C199","v":0},{"$f":"distributions!D199","v":0},null,null,{"$f":"distributions!T199","v":1850},{"$f":"distributions!U199","v":5000}]
[191,"MONSON                       ",{"$f":"distributions!C200","v":239656},{"$f":"distributions!D200","v":308926},null,null,{"$f":"distributions!T200","v":170503},{"$f":"distributions!U200","v":207987}]
[192,"MONTAGUE                     ",{"$f":"distributions!C201","v":0},{"$f":"distributions!D201","v":0},null,null,{"$f":"distributions!T201","v":0},{"$f":"distributions!U201","v":0}]
[193,"MONTEREY                     ",{"$f":"distributions!C202","v":0},{"$f":"distributions!D202","v":0},null,null,{"$f":"distributions!T202","v":0},{"$f":"distributions!U202","v":0}]
[194,"MONTGOMERY                   ",{"$f":"distributions!C203","v":0},{"$f":"distributions!D203","v":0},null,null,{"$f":"distributions!T203","v":0},{"$f":"distributions!U203","v":0}]
[195,"MOUNT WASHINGTON             ",{"$f":"distributions!C204","v":0},{"$f":"distributions!D204","v":0},null,null,{"$f":"distributions!T204","v":5000},{"$f":"distributions!U204","v":5000}]
[196,"NAHANT                       ",{"$f":"distributions!C205","v":0},{"$f":"distributions!D205","v":0},null,null,{"$f":"distributions!T205","v":0},{"$f":"distributions!U205","v":0}]
[197,"NANTUCKET                    ",{"$f":"distributions!C206","v":0},{"$f":"distributions!D206","v":0},null,null,{"$f":"distributions!T206","v":0},{"$f":"distributions!U206","v":6700}]
[198,"NATICK                       ",{"$f":"distributions!C207","v":245600},{"$f":"distributions!D207","v":261473},null,null,{"$f":"distributions!T207","v":70718},{"$f":"distributions!U207","v":74094}]
[199,"NEEDHAM                      ",{"$f":"distributions!C208","v":0},{"$f":"distributions!D208","v":0},null,null,{"$f":"distributions!T208","v":30663},{"$f":"distributions!U208","v":42500}]
[200,"NEW ASHFORD                  ",{"$f":"distributions!C209","v":0},{"$f":"distributions!D209","v":0},null,null,{"$f":"distributions!T209","v":17406},{"$f":"distributions!U209","v":5000}]
[201,"NEW BEDFORD                  ",{"$f":"distributions!C210","v":0},{"$f":"distributions!D210","v":0},null,null,{"$f":"distributions!T210","v":364593},{"$f":"distributions!U210","v":505748}]
[202,"NEW BRAINTREE                ",{"$f":"distributions!C211","v":0},{"$f":"distributions!D211","v":0},null,null,{"$f":"distributions!T211","v":0},{"$f":"distributions!U211","v":0}]
[203,"NEWBURY                      ",{"$f":"distributions!C212","v":0},{"$f":"distributions!D212","v":0},null,null,{"$f":"distributions!T212","v":0},{"$f":"distributions!U212","v":0}]
[204,"NEWBURYPORT                  ",{"$f":"distributions!C213","v":727472},{"$f":"distributions!D213","v":671478},null,null,{"$f":"distributions!T213","v":311607},{"$f":"distributions!U213","v":288690}]
[205,"NEW MARLBOROUGH              ",{"$f":"distributions!C214","v":0},{"$f":"distributions!D214","v":0},null,null,{"$f":"distributions!T214","v":0},{"$f":"distributions!U214","v":0}]
[206,"NEW SALEM                    ",{"$f":"distributions!C215","v":0},{"$f":"distributions!D215","v":0},null,null,{"$f":"distributions!T215","v":0},{"$f":"distributions!U215","v":0}]
[207,"NEWTON                       ",{"$f":"distributions!C216","v":0},{"$f":"distributions!D216","v":0},null,null,{"$f":"distributions!T216","v":37326},{"$f":"distributions!U216","v":50900}]
[208,"NORFOLK                      ",{"$f":"distributions!C217","v":0},{"$f":"distributions!D217","v":0},null,null,{"$f":"distributions!T217","v":34589},{"$f":"distributions!U217","v":11700}]
[209,"NORTH ADAMS                  ",{"$f":"distributions!C218","v":290526},{"$f":"distributions!D218","v":283731},null,null,{"$f":"distributions!T218","v":714238},{"$f":"distributions!U218","v":668937}]
[210,"NORTHAMPTON                  ",{"$f":"distributions!C219","v":1827864},{"$f":"distributions!D219","v":1716289},null,null,{"$f":"distributions!T219","v":515576},{"$f":"distributions!U219","v":572388}]
[211,"NORTH ANDOVER                ",{"$f":"distributions!C220","v":0},{"$f":"distributions!D220","v":0},null,null,{"$f":"distributions!T220","v":0},{"$f":"distributions!U220","v":0}]
[212,"NORTH ATTLEBOROUGH           ",{"$f":"distributions!C221","v":0},{"$f":"distributions!D221","v":0},null,null,{"$f":"distributions!T221","v":51427},{"$f":"distributions!U221","v":70300}]
[213,"NORTHBOROUGH                 ",{"$f":"distributions!C222","v":0},{"$f":"distributions!D222","v":0},null,null,{"$f":"distributions!T222","v":28953},{"$f":"distributions!U222","v":22400}]
[214,"NORTHBRIDGE                  ",{"$f":"distributions!C223","v":597709},{"$f":"distributions!D223","v":575388},null,null,{"$f":"distributions!T223","v":702739},{"$f":"distributions!U223","v":740327}]
[215,"NORTH BROOKFIELD             ",{"$f":"distributions!C224","v":367210},{"$f":"distributions!D224","v":373679},null,null,{"$f":"distributions!T224","v":712941},{"$f":"distributions!U224","v":623298}]
[216,"NORTHFIELD                   ",{"$f":"distributions!C225","v":0},{"$f":"distributions!D225","v":0},null,null,{"$f":"distributions!T225","v":0},{"$f":"distributions!U225","v":0}]
[217,"NORTH READING                ",{"$f":"distributions!C226","v":0},{"$f":"distributions!D226","v":0},null,null,{"$f":"distributions!T226","v":19765},{"$f":"distributions!U226","v":30100}]
[218,"NORTON                       ",{"$f":"distributions!C227","v":64700},{"$f":"distributions!D227","v":207200},null,null,{"$f":"distributions!T227","v":107342},{"$f":"distributions!U227","v":116783}]
[219,"NORWELL                      ",{"$f":"distributions!C228","v":0},{"$f":"distributions!D228","v":0},null,null,{"$f":"distributions!T228","v":9000},{"$f":"distributions!U228","v":10700}]
[220,"NORWOOD                      ",{"$f":"distributions!C229","v":0},{"$f":"distributions!D229","v":0},null,null,{"$f":"distributions!T229","v":22981},{"$f":"distributions!U229","v":63910}]
[221,"OAK BLUFFS                   ",{"$f":"distributions!C230","v":226153},{"$f":"distributions!D230","v":214429},null,null,{"$f":"distributions!T230","v":189652},{"$f":"distributions!U230","v":189683}]
[222,"OAKHAM                       ",{"$f":"distributions!C231","v":0},{"$f":"distributions!D231","v":0},null,null,{"$f":"distributions!T231","v":0},{"$f":"distributions!U231","v":0}]
[223,"ORANGE                       ",{"$f":"distributions!C232","v":344380},{"$f":"distributions!D232","v":373608},null,null,{"$f":"distributions!T232","v":419776},{"$f":"distributions!U232","v":323919}]
[224,"ORLEANS                      ",{"$f":"distributions!C233","v":5000},{"$f":"distributions!D233","v":5000},null,null,{"$f":"distributions!T233","v":10000},{"$f":"distributions!U233","v":5000}]
[225,"OTIS                         ",{"$f":"distributions!C234","v":0},{"$f":"distributions!D234","v":0},null,null,{"$f":"distributions!T234","v":0},{"$f":"distributions!U234","v":0}]
[226,"OXFORD                       ",{"$f":"distributions!C235","v":25129},{"$f":"distributions!D235","v":25000},null,null,{"$f":"distributions!T235","v":381920},{"$f":"distributions!U235","v":469422}]
[227,"PALMER                       ",{"$f":"distributions!C236","v":103206},{"$f":"distributions!D236","v":111006},null,null,{"$f":"distributions!T236","v":415637},{"$f":"distributions!U236","v":484241}]
[228,"PAXTON                       ",{"$f":"distributions!C237","v":0},{"$f":"distributions!D237","v":0},null,null,{"$f":"distributions!T237","v":0},{"$f":"distributions!U237","v":0}]
[229,"PEABODY                      ",{"$f":"distributions!C238","v":365942},{"$f":"distributions!D238","v":478459},null,null,{"$f":"distributions!T238","v":262846},{"$f":"distributions!U238","v":263896}]
[230,"PELHAM                       ",{"$f":"distributions!C239","v":358484},{"$f":"distributions!D239","v":373116},null,null,{"$f":"distributions!T239","v":34025},{"$f":"distributions!U239","v":5000}]
[231,"PEMBROKE                     ",{"$f":"distributions!C240","v":0},{"$f":"distributions!D240","v":0},null,null,{"$f":"distributions!T240","v":26717},{"$f":"distributions!U240","v":46800}]
[232,"PEPPERELL                    ",{"$f":"distributions!C241","v":0},{"$f":"distributions!D241","v":0},null,null,{"$f":"distributions!T241","v":0},{"$f":"distributions!U241","v":0}]
[233,"PERU                         ",{"$f":"distributions!C242","v":0},{"$f":"distributions!D242","v":0},null,null,{"$f":"distributions!T242","v":0},{"$f":"distributions!U242","v":0}]
[234,"PETERSHAM                    ",{"$f":"distributions!C243","v":383945},{"$f":"distributions!D243","v":384684},null,null,{"$f":"distributions!T243","v":50000},{"$f":"distributions!U243","v":40000}]
[235,"PHILLIPSTON                  ",{"$f":"distributions!C244","v":0},{"$f":"distributions!D244","v":0},null,null,{"$f":"distributions!T244","v":0},{"$f":"distributions!U244","v":0}]
[236,"PITTSFIELD                   ",{"$f":"distributions!C245","v":534879},{"$f":"distributions!D245","v":515935},null,null,{"$f":"distributions!T245","v":2452955},{"$f":"distributions!U245","v":2654601}]
[237,"PLAINFIELD                   ",{"$f":"distributions!C246","v":0},{"$f":"distributions!D246","v":0},null,null,{"$f":"distributions!T246","v":0},{"$f":"distributions!U246","v":0}]
[238,"PLAINVILLE                   ",{"$f":"distributions!C247","v":0},{"$f":"distributions!D247","v":0},null,null,{"$f":"distributions!T247","v":0},{"$f":"distributions!U247","v":0}]
[239,"PLYMOUTH                     ",{"$f":"distributions!C248","v":0},{"$f":"distributions!D248","v":0},null,null,{"$f":"distributions!T248","v":280378},{"$f":"distributions!U248","v":325368}]
[240,"PLYMPTON                     ",{"$f":"distributions!C249","v":20000},{"$f":"distributions!D249","v":25000},null,null,{"$f":"distributions!T249","v":5000},{"$f":"distributions!U249","v":5000}]
[241,"PRINCETON                    ",{"$f":"distributions!C250","v":0},{"$f":"distributions!D250","v":0},null,null,{"$f":"distributions!T250","v":0},{"$f":"distributions!U250","v":0}]
[242,"PROVINCETOWN                 ",{"$f":"distributions!C251","v":300338},{"$f":"distributions!D251","v":245160},null,null,{"$f":"distributions!T251","v":124934},{"$f":"distributions!U251","v":129934}]
[243,"QUINCY                       ",{"$f":"distributions!C252","v":0},{"$f":"distributions!D252","v":0},null,null,{"$f":"distributions!T252","v":71352},{"$f":"distributions!U252","v":79440}]
[244,"RANDOLPH                     ",{"$f":"distributions!C253","v":47279},{"$f":"distributions!D253","v":47950},null,null,{"$f":"distributions!T253","v":819586},{"$f":"distributions!U253","v":889801}]
[245,"RAYNHAM                      ",{"$f":"distributions!C254","v":0},{"$f":"distributions!D254","v":0},null,null,{"$f":"distributions!T254","v":0},{"$f":"distributions!U254","v":0}]
[246,"READING                      ",{"$f":"distributions!C255","v":0},{"$f":"distributions!D255","v":0},null,null,{"$f":"distributions!T255","v":19369},{"$f":"distributions!U255","v":39800}]
[247,"REHOBOTH                     ",{"$f":"distributions!C256","v":0},{"$f":"distributions!D256","v":0},null,null,{"$f":"distributions!T256","v":0},{"$f":"distributions!U256","v":0}]
[248,"REVERE                       ",{"$f":"distributions!C257","v":0},{"$f":"distributions!D257","v":0},null,null,{"$f":"distributions!T257","v":71448},{"$f":"distributions!U257","v":70824}]
[249,"RICHMOND                     ",{"$f":"distributions!C258","v":380000},{"$f":"distributions!D258","v":418500},null,null,{"$f":"distributions!T258","v":86852},{"$f":"distributions!U258","v":83198}]
[250,"ROCHESTER                    ",{"$f":"distributions!C259","v":0},{"$f":"distributions!D259","v":0},null,null,{"$f":"distributions!T259","v":10000},{"$f":"distributions!U259","v":0}]
[251,"ROCKLAND                     ",{"$f":"distributions!C260","v":185181},{"$f":"distributions!D260","v":181877},null,null,{"$f":"distributions!T260","v":67851},{"$f":"distributions!U260","v":96000}]
[252,"ROCKPORT                     ",{"$f":"distributions!C261","v":1245557},{"$f":"distributions!D261","v":1312827},null,null,{"$f":"distributions!T261","v":152910},{"$f":"distributions!U261","v":134446}]
[253,"ROWE                         ",{"$f":"distributions!C262","v":93768},{"$f":"distributions!D262","v":110368},null,null,{"$f":"distributions!T262","v":16970},{"$f":"distributions!U262","v":21970}]
[254,"ROWLEY                       ",{"$f":"distributions!C263","v":0},{"$f":"distributions!D263","v":0},null,null,{"$f":"distributions!T263","v":0},{"$f":"distributions!U263","v":0}]
[255,"ROYALSTON                    ",{"$f":"distributions!C264","v":0},{"$f":"distributions!D264","v":0},null,null,{"$f":"distributions!T264","v":0},{"$f":"distributions!U264","v":0}]
[256,"RUSSELL                      ",{"$f":"distributions!C265","v":0},{"$f":"distributions!D265","v":0},null,null,{"$f":"distributions!T265","v":0},{"$f":"distributions!U265","v":0}]
[257,"RUTLAND                      ",{"$f":"distributions!C266","v":0},{"$f":"distributions!D266","v":0},null,null,{"$f":"distributions!T266","v":0},{"$f":"distributions!U266","v":0}]
[258,"SALEM                        ",{"$f":"distributions!C267","v":0},{"$f":"distributions!D267","v":0},null,null,{"$f":"distributions!T267","v":400142},{"$f":"distributions!U267","v":445533}]
[259,"SALISBURY                    ",{"$f":"distributions!C268","v":0},{"$f":"distributions!D268","v":0},null,null,{"$f":"distributions!T268","v":0},{"$f":"distributions!U268","v":0}]
[260,"SANDISFIELD                  ",{"$f":"distributions!C269","v":0},{"$f":"distributions!D269","v":0},null,null,{"$f":"distributions!T269","v":0},{"$f":"distributions!U269","v":0}]
[261,"SANDWICH                     ",{"$f":"distributions!C270","v":458438},{"$f":"distributions!D270","v":456274},null,null,{"$f":"distributions!T270","v":344631},{"$f":"distributions!U270","v":333800}]
[262,"SAUGUS                       ",{"$f":"distributions!C271","v":0},{"$f":"distributions!D271","v":0},null,null,{"$f":"distributions!T271","v":62495},{"$f":"distributions!U271","v":85500}]
[263,"SAVOY                        ",{"$f":"distributions!C272","v":74998},{"$f":"distributions!D272","v":47846},null,null,{"$f":"distributions!T272","v":166742},{"$f":"distributions!U272","v":114631}]
[264,"SCITUATE                     ",{"$f":"distributions!C273","v":0},{"$f":"distributions!D273","v":0},null,null,{"$f":"distributions!T273","v":7906},{"$f":"distributions!U273","v":0}]
[265,"SEEKONK                      ",{"$f":"distributions!C274","v":0},{"$f":"distributions!D274","v":0},null,null,{"$f":"distributions!T274","v":26934},{"$f":"distributions!U274","v":32100}]
[266,"SHARON                       ",{"$f":"distributions!C275","v":0},{"$f":"distributions!D275","v":0},null,null,{"$f":"distributions!T275","v":3953},{"$f":"distributions!U275","v":20700}]
[267,"SHEFFIELD                    ",{"$f":"distributions!C276","v":0},{"$f":"distributions!D276","v":0},null,null,{"$f":"distributions!T276","v":0},{"$f":"distributions!U276","v":0}]
[268,"SHELBURNE                    ",{"$f":"distributions!C277","v":0},{"$f":"distributions!D277","v":0},null,null,{"$f":"distributions!T277","v":0},{"$f":"distributions!U277","v":0}]
[269,"SHERBORN                     ",{"$f":"distributions!C278","v":0},{"$f":"distributions!D278","v":0},null,null,{"$f":"distributions!T278","v":0},{"$f":"distributions!U278","v":0}]
[270,"SHIRLEY                      ",{"$f":"distributions!C279","v":0},{"$f":"distributions!D279","v":0},null,null,{"$f":"distributions!T279","v":0},{"$f":"distributions!U279","v":0}]
[271,"SHREWSBURY                   ",{"$f":"distributions!C280","v":4989},{"$f":"distributions!D280","v":0},null,null,{"$f":"distributions!T280","v":211728},{"$f":"distributions!U280","v":184243}]
[272,"SHUTESBURY                   ",{"$f":"distributions!C281","v":0},{"$f":"distributions!D281","v":0},null,null,{"$f":"distributions!T281","v":40000},{"$f":"distributions!U281","v":59000}]
[273,"SOMERSET                     ",{"$f":"distributions!C282","v":0},{"$f":"distributions!D282","v":0},null,null,{"$f":"distributions!T282","v":29567},{"$f":"distributions!U282","v":100700}]
[274,"SOMERVILLE                   ",{"$f":"distributions!C283","v":0},{"$f":"distributions!D283","v":0},null,null,{"$f":"distributions!T283","v":9514},{"$f":"distributions!U283","v":13400}]
[275,"SOUTHAMPTON                  ",{"$f":"distributions!C284","v":394230},{"$f":"distributions!D284","v":416610},null,null,{"$f":"distributions!T284","v":113346},{"$f":"distributions!U284","v":78109}]
[276,"SOUTHBOROUGH                 ",{"$f":"distributions!C285","v":0},{"$f":"distributions!D285","v":0},null,null,{"$f":"distributions!T285","v":16812},{"$f":"distributions!U285","v":37500}]
[277,"SOUTHBRIDGE                  ",{"$f":"distributions!C286","v":71119},{"$f":"distributions!D286","v":48902},null,null,{"$f":"distributions!T286","v":1301647},{"$f":"distributions!U286","v":1492451}]
[278,"SOUTH HADLEY                 ",{"$f":"distributions!C287","v":960997},{"$f":"distributions!D287","v":868955},null,null,{"$f":"distributions!T287","v":738717},{"$f":"distributions!U287","v":741097}]
[279,"SOUTHWICK                    ",{"$f":"distributions!C288","v":0},{"$f":"distributions!D288","v":0},null,null,{"$f":"distributions!T288","v":0},{"$f":"distributions!U288","v":0}]
[280,"SPENCER                      ",{"$f":"distributions!C289","v":0},{"$f":"distributions!D289","v":0},null,null,{"$f":"distributions!T289","v":0},{"$f":"distributions!U289","v":0}]
[281,"SPRINGFIELD                  ",{"$f":"distributions!C290","v":45904},{"$f":"distributions!D290","v":30000},null,null,{"$f":"distributions!T290","v":4294860},{"$f":"distributions!U290","v":4482138}]
[282,"STERLING                     ",{"$f":"distributions!C291","v":0},{"$f":"distributions!D291","v":0},null,null,{"$f":"distributions!T291","v":0},{"$f":"distributions!U291","v":0}]
[283,"STOCKBRIDGE                  ",{"$f":"distributions!C292","v":0},{"$f":"distributions!D292","v":0},null,null,{"$f":"distributions!T292","v":0},{"$f":"distributions!U292","v":0}]
[284,"STONEHAM                     ",{"$f":"distributions!C293","v":0},{"$f":"distributions!D293","v":0},null,null,{"$f":"distributions!T293","v":21674},{"$f":"distributions!U293","v":38274}]
[285,"STOUGHTON                    ",{"$f":"distributions!C294","v":0},{"$f":"distributions!D294","v":0},null,null,{"$f":"distributions!T294","v":76138},{"$f":"distributions!U294","v":119452}]
[286,"STOW                         ",{"$f":"distributions!C295","v":0},{"$f":"distributions!D295","v":0},null,null,{"$f":"distributions!T295","v":0},{"$f":"distributions!U295","v":0}]
[287,"STURBRIDGE                   ",{"$f":"distributions!C296","v":0},{"$f":"distributions!D296","v":0},null,null,{"$f":"distributions!T296","v":25222},{"$f":"distributions!U296","v":46200}]
[288,"SUDBURY                      ",{"$f":"distributions!C297","v":0},{"$f":"distributions!D297","v":0},null,null,{"$f":"distributions!T297","v":23284},{"$f":"distributions!U297","v":29230}]
[289,"SUNDERLAND                   ",{"$f":"distributions!C298","v":262071},{"$f":"distributions!D298","v":320512},null,null,{"$f":"distributions!T298","v":93953},{"$f":"distributions!U298","v":40000}]
[290,"SUTTON                       ",{"$f":"distributions!C299","v":292239},{"$f":"distributions!D299","v":244538},null,null,{"$f":"distributions!T299","v":106098},{"$f":"distributions!U299","v":112031}]
[291,"SWAMPSCOTT                   ",{"$f":"distributions!C300","v":0},{"$f":"distributions!D300","v":0},null,null,{"$f":"distributions!T300","v":20812},{"$f":"distributions!U300","v":25100}]
[292,"SWANSEA                      ",{"$f":"distributions!C301","v":0},{"$f":"distributions!D301","v":0},null,null,{"$f":"distributions!T301","v":47456},{"$f":"distributions!U301","v":95400}]
[293,"TAUNTON                      ",{"$f":"distributions!C302","v":444565},{"$f":"distributions!D302","v":422939},null,null,{"$f":"distributions!T302","v":361081},{"$f":"distributions!U302","v":660353}]
[294,"TEMPLETON                    ",{"$f":"distributions!C303","v":0},{"$f":"distributions!D303","v":0},null,null,{"$f":"distributions!T303","v":0},{"$f":"distributions!U303","v":0}]
[295,"TEWKSBURY                    ",{"$f":"distributions!C304","v":0},{"$f":"distributions!D304","v":0},null,null,{"$f":"distributions!T304","v":32671},{"$f":"distributions!U304","v":49200}]
[296,"TISBURY                      ",{"$f":"distributions!C305","v":114178},{"$f":"distributions!D305","v":95144},null,null,{"$f":"distributions!T305","v":251699},{"$f":"distributions!U305","v":260852}]
[297,"TOLLAND                      ",{"$f":"distributions!C306","v":0},{"$f":"distributions!D306","v":0},null,null,{"$f":"distributions!T306","v":0},{"$f":"distributions!U306","v":0}]
[298,"TOPSFIELD                    ",{"$f":"distributions!C307","v":0},{"$f":"distributions!D307","v":0},null,null,{"$f":"distributions!T307","v":7503},{"$f":"distributions!U307","v":0}]
[299,"TOWNSEND                     ",{"$f":"distributions!C308","v":0},{"$f":"distributions!D308","v":0},null,null,{"$f":"distributions!T308","v":0},{"$f":"distributions!U308","v":0}]
[300,"TRURO                        ",{"$f":"distributions!C309","v":121623},{"$f":"distributions!D309","v":98389},null,null,{"$f":"distributions!T309","v":107940},{"$f":"distributions!U309","v":145606}]
[301,"TYNGSBOROUGH                 ",{"$f":"distributions!C310","v":223965},{"$f":"distributions!D310","v":223196},null,null,{"$f":"distributions!T310","v":112513},{"$f":"distributions!U310","v":127400}]
[302,"TYRINGHAM                    ",{"$f":"distributions!C311","v":0},{"$f":"distributions!D311","v":0},null,null,{"$f":"distributions!T311","v":72960},{"$f":"distributions!U311","v":60000}]
[303,"UPTON                        ",{"$f":"distributions!C312","v":0},{"$f":"distributions!D312","v":0},null,null,{"$f":"distributions!T312","v":0},{"$f":"distributions!U312","v":0}]
[304,"UXBRIDGE                     ",{"$f":"distributions!C313","v":563983},{"$f":"distributions!D313","v":851098},null,null,{"$f":"distributions!T313","v":1100081},{"$f":"distributions!U313","v":1086333}]
[305,"WAKEFIELD                    ",{"$f":"distributions!C314","v":0},{"$f":"distributions!D314","v":0},null,null,{"$f":"distributions!T314","v":25459},{"$f":"distributions!U314","v":50800}]
[306,"WALES                        ",{"$f":"distributions!C315","v":53738},{"$f":"distributions!D315","v":35000},null,null,{"$f":"distributions!T315","v":86382},{"$f":"distributions!U315","v":73880}]
[307,"WALPOLE                      ",{"$f":"distributions!C316","v":0},{"$f":"distributions!D316","v":0},null,null,{"$f":"distributions!T316","v":57919},{"$f":"distributions!U316","v":63973}]
[308,"WALTHAM                      ",{"$f":"distributions!C317","v":0},{"$f":"distributions!D317","v":0},null,null,{"$f":"distributions!T317","v":37595},{"$f":"distributions!U317","v":60900}]
[309,"WARE                         ",{"$f":"distributions!C318","v":238934},{"$f":"distributions!D318","v":309186},null,null,{"$f":"distributions!T318","v":1036761},{"$f":"distributions!U318","v":1065949}]
[310,"WAREHAM                      ",{"$f":"distributions!C319","v":226728},{"$f":"distributions!D319","v":104000},null,null,{"$f":"distributions!T319","v":1004176},{"$f":"distributions!U319","v":1058430}]
[311,"WARREN                       ",{"$f":"distributions!C320","v":0},{"$f":"distributions!D320","v":0},null,null,{"$f":"distributions!T320","v":0},{"$f":"distributions!U320","v":0}]
[312,"WARWICK                      ",{"$f":"distributions!C321","v":0},{"$f":"distributions!D321","v":0},null,null,{"$f":"distributions!T321","v":0},{"$f":"distributions!U321","v":0}]
[313,"WASHINGTON                   ",{"$f":"distributions!C322","v":0},{"$f":"distributions!D322","v":0},null,null,{"$f":"distributions!T322","v":0},{"$f":"distributions!U322","v":0}]
[314,"WATERTOWN                    ",{"$f":"distributions!C323","v":0},{"$f":"distributions!D323","v":0},null,null,{"$f":"distributions!T323","v":36448},{"$f":"distributions!U323","v":51900}]
[315,"WAYLAND                      ",{"$f":"distributions!C324","v":0},{"$f":"distributions!D324","v":0},null,null,{"$f":"distributions!T324","v":5000},{"$f":"distributions!U324","v":20700}]
[316,"WEBSTER                      ",{"$f":"distributions!C325","v":153939},{"$f":"distributions!D325","v":161248},null,null,{"$f":"distributions!T325","v":674450},{"$f":"distributions!U325","v":642176}]
[317,"WELLESLEY                    ",{"$f":"distributions!C326","v":0},{"$f":"distributions!D326","v":0},null,null,{"$f":"distributions!T326","v":5000},{"$f":"distributions!U326","v":5000}]
[318,"WELLFLEET                    ",{"$f":"distributions!C327","v":0},{"$f":"distributions!D327","v":0},null,null,{"$f":"distributions!T327","v":178480},{"$f":"distributions!U327","v":40000}]
[319,"WENDELL                      ",{"$f":"distributions!C328","v":0},{"$f":"distributions!D328","v":0},null,null,{"$f":"distributions!T328","v":0},{"$f":"distributions!U328","v":0}]
[320,"WENHAM                       ",{"$f":"distributions!C329","v":0},{"$f":"distributions!D329","v":0},null,null,{"$f":"distributions!T329","v":0},{"$f":"distributions!U329","v":0}]
[321,"WESTBOROUGH                  ",{"$f":"distributions!C330","v":0},{"$f":"distributions!D330","v":0},null,null,{"$f":"distributions!T330","v":58753},{"$f":"distributions!U330","v":43700}]
[322,"WEST BOYLSTON                ",{"$f":"distributions!C331","v":835110},{"$f":"distributions!D331","v":880072},null,null,{"$f":"distributions!T331","v":219763},{"$f":"distributions!U331","v":201058}]
[323,"WEST BRIDGEWATER             ",{"$f":"distributions!C332","v":1346309},{"$f":"distributions!D332","v":1339979},null,null,{"$f":"distributions!T332","v":55021},{"$f":"distributions!U332","v":48400}]
[324,"WEST BROOKFIELD              ",{"$f":"distributions!C333","v":0},{"$f":"distributions!D333","v":0},null,null,{"$f":"distributions!T333","v":48896},{"$f":"distributions!U333","v":57246}]
[325,"WESTFIELD                    ",{"$f":"distributions!C334","v":765759},{"$f":"distributions!D334","v":645980},null,null,{"$f":"distributions!T334","v":537529},{"$f":"distributions!U334","v":703620}]
[326,"WESTFORD                     ",{"$f":"distributions!C335","v":381375},{"$f":"distributions!D335","v":416298},null,null,{"$f":"distributions!T335","v":34765},{"$f":"distributions!U335","v":67612}]
[327,"WESTHAMPTON                  ",{"$f":"distributions!C336","v":118455},{"$f":"distributions!D336","v":129181},null,null,{"$f":"distributions!T336","v":38649},{"$f":"distributions!U336","v":38649}]
[328,"WESTMINSTER                  ",{"$f":"distributions!C337","v":0},{"$f":"distributions!D337","v":0},null,null,{"$f":"distributions!T337","v":0},{"$f":"distributions!U337","v":0}]
[329,"WEST NEWBURY                 ",{"$f":"distributions!C338","v":0},{"$f":"distributions!D338","v":0},null,null,{"$f":"distributions!T338","v":0},{"$f":"distributions!U338","v":0}]
[330,"WESTON                       ",{"$f":"distributions!C339","v":0},{"$f":"distributions!D339","v":0},null,null,{"$f":"distributions!T339","v":7906},{"$f":"distributions!U339","v":20700}]
[331,"WESTPORT                     ",{"$f":"distributions!C340","v":0},{"$f":"distributions!D340","v":0},null,null,{"$f":"distributions!T340","v":54998},{"$f":"distributions!U340","v":83175}]
[332,"WEST SPRINGFIELD             ",{"$f":"distributions!C341","v":664836},{"$f":"distributions!D341","v":684643},null,null,{"$f":"distributions!T341","v":188884},{"$f":"distributions!U341","v":260688}]
[333,"WEST STOCKBRIDGE             ",{"$f":"distributions!C342","v":0},{"$f":"distributions!D342","v":0},null,null,{"$f":"distributions!T342","v":0},{"$f":"distributions!U342","v":0}]
[334,"WEST TISBURY                 ",{"$f":"distributions!C343","v":0},{"$f":"distributions!D343","v":0},null,null,{"$f":"distributions!T343","v":0},{"$f":"distributions!U343","v":0}]
[335,"WESTWOOD                     ",{"$f":"distributions!C344","v":0},{"$f":"distributions!D344","v":0},null,null,{"$f":"distributions!T344","v":0},{"$f":"distributions!U344","v":0}]
[336,"WEYMOUTH                     ",{"$f":"distributions!C345","v":0},{"$f":"distributions!D345","v":0},null,null,{"$f":"distributions!T345","v":101288},{"$f":"distributions!U345","v":127800}]
[337,"WHATELY                      ",{"$f":"distributions!C346","v":261836},{"$f":"distributions!D346","v":249559},null,null,{"$f":"distributions!T346","v":100380},{"$f":"distributions!U346","v":61392}]
[338,"WHITMAN                      ",{"$f":"distributions!C347","v":0},{"$f":"distributions!D347","v":0},null,null,{"$f":"distributions!T347","v":0},{"$f":"distributions!U347","v":0}]
[339,"WILBRAHAM                    ",{"$f":"distributions!C348","v":0},{"$f":"distributions!D348","v":0},null,null,{"$f":"distributions!T348","v":0},{"$f":"distributions!U348","v":0}]
[340,"WILLIAMSBURG                 ",{"$f":"distributions!C349","v":65223},{"$f":"distributions!D349","v":98000},null,null,{"$f":"distributions!T349","v":118318},{"$f":"distributions!U349","v":99181}]
[341,"WILLIAMSTOWN                 ",{"$f":"distributions!C350","v":237644},{"$f":"distributions!D350","v":169190},null,null,{"$f":"distributions!T350","v":30061},{"$f":"distributions!U350","v":10000}]
[342,"WILMINGTON                   ",{"$f":"distributions!C351","v":0},{"$f":"distributions!D351","v":0},null,null,{"$f":"distributions!T351","v":5000},{"$f":"distributions!U351","v":10700}]
[343,"WINCHENDON                   ",{"$f":"distributions!C352","v":305721},{"$f":"distributions!D352","v":216487},null,null,{"$f":"distributions!T352","v":702304},{"$f":"distributions!U352","v":785601}]
[344,"WINCHESTER                   ",{"$f":"distributions!C353","v":0},{"$f":"distributions!D353","v":0},null,null,{"$f":"distributions!T353","v":11122},{"$f":"distributions!U353","v":30800}]
[345,"WINDSOR                      ",{"$f":"distributions!C354","v":0},{"$f":"distributions!D354","v":0},null,null,{"$f":"distributions!T354","v":0},{"$f":"distributions!U354","v":0}]
[346,"WINTHROP                     ",{"$f":"distributions!C355","v":60000},{"$f":"distributions!D355","v":62000},null,null,{"$f":"distributions!T355","v":9514},{"$f":"distributions!U355","v":13400}]
[347,"WOBURN",{"$f":"distributions!C356","v":0},{"$f":"distributions!D356","v":0},null,null,{"$f":"distributions!T356","v":71115},{"$f":"distributions!U356","v":66700}]
[348,"WORCESTER                    ",{"$f":"distributions!C357","v":373775},{"$f":"distributions!D357","v":423431},null,null,{"$f":"distributions!T357","v":2651386},{"$f":"distributions!U357","v":2686481}]
[349,"WORTHINGTON                  ",{"$f":"distributions!C358","v":0},{"$f":"distributions!D358","v":25000},null,null,{"$f":"distributions!T358","v":0},{"$f":"distributions!U358","v":428885}]
[350,"WRENTHAM                     ",{"$f":"distributions!C359","v":0},{"$f":"distributions!D359","v":0},null,null,{"$f":"distributions!T359","v":39765},{"$f":"distributions!U359","v":17500}]
[351,"YARMOUTH                     ",{"$f":"distributions!C360","v":0},{"$f":"distributions!D360","v":0},null,null,{"$f":"distributions!T360","v":0},{"$f":"distributions!U360","v":0}]
[352,"DEVENS",{"$f":"distributions!C361","v":0},{"$f":"distributions!D361","v":0},null,null,{"$f":"distributions!T361","v":30834},{"$f":"distributions!U361","v":33408}]
[406,"NORTHAMPTON SMITH            ",{"$f":"distributions!C362","v":0},{"$f":"distributions!D362","v":0},null,null,{"$f":"distributions!T362","v":0},{"$f":"distributions!U362","v":0}]
[600,"ACTON BOXBOROUGH             ",{"$f":"distributions!C363","v":261263},{"$f":"distributions!D363","v":241662},null,null,{"$f":"distributions!T363","v":103482},{"$f":"distributions!U363","v":110698}]
[603,"ADAMS CHESHIRE               ",{"$f":"distributions!C364","v":372017},{"$f":"distributions!D364","v":297454},null,null,{"$f":"distributions!T364","v":506180},{"$f":"distributions!U364","v":451780}]
[605,"AMHERST PELHAM               ",{"$f":"distributions!C365","v":631941},{"$f":"distributions!D365","v":482749},null,null,{"$f":"distributions!T365","v":227771},{"$f":"distributions!U365","v":241845}]
[610,"ASHBURNHAM WESTMINSTER       ",{"$f":"distributions!C366","v":788699},{"$f":"distributions!D366","v":1042442},null,null,{"$f":"distributions!T366","v":295110},{"$f":"distributions!U366","v":338615}]
[615,"ATHOL ROYALSTON              ",{"$f":"distributions!C367","v":372175},{"$f":"distributions!D367","v":335741},null,null,{"$f":"distributions!T367","v":2109562},{"$f":"distributions!U367","v":2145696}]
[616,"AYER SHIRLEY",{"$f":"distributions!C368","v":779951},{"$f":"distributions!D368","v":819792},null,null,{"$f":"distributions!T368","v":713575},{"$f":"distributions!U368","v":727004}]
[618,"BERKSHIRE HILLS              ",{"$f":"distributions!C369","v":1298303},{"$f":"distributions!D369","v":1269680},null,null,{"$f":"distributions!T369","v":580163},{"$f":"distributions!U369","v":558660}]
[620,"BERLIN BOYLSTON              ",{"$f":"distributions!C370","v":528640},{"$f":"distributions!D370","v":514387},null,null,{"$f":"distributions!T370","v":161890},{"$f":"distributions!U370","v":158266}]
[622,"BLACKSTONE MILLVILLE         ",{"$f":"distributions!C371","v":197350},{"$f":"distributions!D371","v":226000},null,null,{"$f":"distributions!T371","v":455181},{"$f":"distributions!U371","v":471917}]
[625,"BRIDGEWATER RAYNHAM          ",{"$f":"distributions!C372","v":154726},{"$f":"distributions!D372","v":172000},null,null,{"$f":"distributions!T372","v":936066},{"$f":"distributions!U372","v":780499}]
[632,"CHESTERFIELD GOSHEN",{"$f":"distributions!C373","v":103289},{"$f":"distributions!D373","v":145189},null,null,{"$f":"distributions!T373","v":36300},{"$f":"distributions!U373","v":59000}]
[635,"CENTRAL BERKSHIRE            ",{"$f":"distributions!C374","v":978043},{"$f":"distributions!D374","v":1022486},null,null,{"$f":"distributions!T374","v":808367},{"$f":"distributions!U374","v":882971}]
[640,"CONCORD CARLISLE             ",{"$f":"distributions!C375","v":0},{"$f":"distributions!D375","v":0},null,null,{"$f":"distributions!T375","v":0},{"$f":"distributions!U375","v":6700}]
[645,"DENNIS YARMOUTH              ",{"$f":"distributions!C376","v":686441},{"$f":"distributions!D376","v":709268},null,null,{"$f":"distributions!T376","v":2187117},{"$f":"distributions!U376","v":2119758}]
[650,"DIGHTON REHOBOTH             ",{"$f":"distributions!C377","v":0},{"$f":"distributions!D377","v":64000},null,null,{"$f":"distributions!T377","v":86107},{"$f":"distributions!U377","v":140935}]
[655,"DOVER SHERBORN               ",{"$f":"distributions!C378","v":0},{"$f":"distributions!D378","v":0},null,null,{"$f":"distributions!T378","v":0},{"$f":"distributions!U378","v":18400}]
[658,"DUDLEY CHARLTON              ",{"$f":"distributions!C379","v":765916},{"$f":"distributions!D379","v":827821},null,null,{"$f":"distributions!T379","v":255560},{"$f":"distributions!U379","v":333517}]
[660,"NAUSET                       ",{"$f":"distributions!C380","v":1551954},{"$f":"distributions!D380","v":1642868},null,null,{"$f":"distributions!T380","v":263166},{"$f":"distributions!U380","v":266949}]
[662,"FARMINGTON RIVER",{"$f":"distributions!C381","v":88364},{"$f":"distributions!D381","v":85719},null,null,{"$f":"distributions!T381","v":285231},{"$f":"distributions!U381","v":257451}]
[665,"FREETOWN LAKEVILLE           ",{"$f":"distributions!C382","v":118202},{"$f":"distributions!D382","v":165000},null,null,{"$f":"distributions!T382","v":144453},{"$f":"distributions!U382","v":152500}]
[670,"FRONTIER                     ",{"$f":"distributions!C383","v":901451},{"$f":"distributions!D383","v":878160},null,null,{"$f":"distributions!T383","v":287679},{"$f":"distributions!U383","v":323204}]
[672,"GATEWAY                      ",{"$f":"distributions!C384","v":145799},{"$f":"distributions!D384","v":249799},null,null,{"$f":"distributions!T384","v":791316},{"$f":"distributions!U384","v":385422}]
[673,"GROTON DUNSTABLE             ",{"$f":"distributions!C385","v":296230},{"$f":"distributions!D385","v":239169},null,null,{"$f":"distributions!T385","v":92732},{"$f":"distributions!U385","v":139576}]
[674,"GILL MONTAGUE                ",{"$f":"distributions!C386","v":819041},{"$f":"distributions!D386","v":657010},null,null,{"$f":"distributions!T386","v":1416848},{"$f":"distributions!U386","v":1472954}]
[675,"HAMILTON WENHAM              ",{"$f":"distributions!C387","v":506976},{"$f":"distributions!D387","v":471098},null,null,{"$f":"distributions!T387","v":26114},{"$f":"distributions!U387","v":49100}]
[680,"HAMPDEN WILBRAHAM            ",{"$f":"distributions!C388","v":664668},{"$f":"distributions!D388","v":639375},null,null,{"$f":"distributions!T388","v":69443},{"$f":"distributions!U388","v":63100}]
[683,"HAMPSHIRE                    ",{"$f":"distributions!C389","v":760858},{"$f":"distributions!D389","v":660492},null,null,{"$f":"distributions!T389","v":351891},{"$f":"distributions!U389","v":361171}]
[685,"HAWLEMONT                    ",{"$f":"distributions!C390","v":91352},{"$f":"distributions!D390","v":96596},null,null,{"$f":"distributions!T390","v":120243},{"$f":"distributions!U390","v":76860}]
[690,"KING PHILIP                  ",{"$f":"distributions!C391","v":0},{"$f":"distributions!D391","v":0},null,null,{"$f":"distributions!T391","v":70582},{"$f":"distributions!U391","v":123508}]
[695,"LINCOLN SUDBURY              ",{"$f":"distributions!C392","v":0},{"$f":"distributions!D392","v":0},null,null,{"$f":"distributions!T392","v":0},{"$f":"distributions!U392","v":17854}]
[698,"MANCHESTER ESSEX",{"$f":"distributions!C393","v":359525},{"$f":"distributions!D393","v":358097},null,null,{"$f":"distributions!T393","v":51702},{"$f":"distributions!U393","v":35855}]
[700,"MARTHAS VINEYARD             ",{"$f":"distributions!C394","v":0},{"$f":"distributions!D394","v":0},null,null,{"$f":"distributions!T394","v":0},{"$f":"distributions!U394","v":17400}]
[705,"MASCONOMET                   ",{"$f":"distributions!C395","v":0},{"$f":"distributions!D395","v":0},null,null,{"$f":"distributions!T395","v":0},{"$f":"distributions!U395","v":16700}]
[710,"MENDON UPTON                 ",{"$f":"distributions!C396","v":814955},{"$f":"distributions!D396","v":875255},null,null,{"$f":"distributions!T396","v":351234},{"$f":"distributions!U396","v":313564}]
[712,"MONOMOY",{"$f":"distributions!C397","v":1683336},{"$f":"distributions!D397","v":1467354},null,null,{"$f":"distributions!T397","v":1037154},{"$f":"distributions!U397","v":1111009}]
[715,"MOUNT GREYLOCK               ",{"$f":"distributions!C398","v":352222},{"$f":"distributions!D398","v":356522},null,null,{"$f":"distributions!T398","v":85256},{"$f":"distributions!U398","v":140152}]
[717,"MOHAWK TRAIL                 ",{"$f":"distributions!C399","v":500473},{"$f":"distributions!D399","v":443381},null,null,{"$f":"distributions!T399","v":642946},{"$f":"distributions!U399","v":684405}]
[720,"NARRAGANSETT                 ",{"$f":"distributions!C400","v":862803},{"$f":"distributions!D400","v":1033420},null,null,{"$f":"distributions!T400","v":859797},{"$f":"distributions!U400","v":776163}]
[725,"NASHOBA                      ",{"$f":"distributions!C401","v":881656},{"$f":"distributions!D401","v":720937},null,null,{"$f":"distributions!T401","v":452128},{"$f":"distributions!U401","v":400345}]
[728,"NEW SALEM WENDELL            ",{"$f":"distributions!C402","v":144319},{"$f":"distributions!D402","v":116803},null,null,{"$f":"distributions!T402","v":44469},{"$f":"distributions!U402","v":72000}]
[730,"NORTHBORO SOUTHBORO          ",{"$f":"distributions!C403","v":0},{"$f":"distributions!D403","v":0},null,null,{"$f":"distributions!T403","v":15000},{"$f":"distributions!U403","v":66700}]
[735,"NORTH MIDDLESEX              ",{"$f":"distributions!C404","v":460730},{"$f":"distributions!D404","v":467037},null,null,{"$f":"distributions!T404","v":497359},{"$f":"distributions!U404","v":514481}]
[740,"OLD ROCHESTER                ",{"$f":"distributions!C405","v":440646},{"$f":"distributions!D405","v":376398},null,null,{"$f":"distributions!T405","v":38884},{"$f":"distributions!U405","v":53170}]
[745,"PENTUCKET                    ",{"$f":"distributions!C406","v":672571},{"$f":"distributions!D406","v":598369},null,null,{"$f":"distributions!T406","v":231315},{"$f":"distributions!U406","v":195715}]
[750,"PIONEER                      ",{"$f":"distributions!C407","v":1050984},{"$f":"distributions!D407","v":886731},null,null,{"$f":"distributions!T407","v":333731},{"$f":"distributions!U407","v":335670}]
[753,"QUABBIN                      ",{"$f":"distributions!C408","v":1925967},{"$f":"distributions!D408","v":1832098},null,null,{"$f":"distributions!T408","v":570414},{"$f":"distributions!U408","v":638983}]
[755,"RALPH C MAHAR                ",{"$f":"distributions!C409","v":1260687},{"$f":"distributions!D409","v":1321657},null,null,{"$f":"distributions!T409","v":364504},{"$f":"distributions!U409","v":287184}]
[760,"SILVER LAKE                  ",{"$f":"distributions!C410","v":0},{"$f":"distributions!D410","v":0},null,null,{"$f":"distributions!T410","v":10000},{"$f":"distributions!U410","v":40100}]
[763,"SOMERSET BERKLEY",{"$f":"distributions!C411","v":164871},{"$f":"distributions!D411","v":299197},null,null,{"$f":"distributions!T411","v":35879},{"$f":"distributions!U411","v":36700}]
[765,"SOUTHERN BERKSHIRE           ",{"$f":"distributions!C412","v":689770},{"$f":"distributions!D412","v":673764},null,null,{"$f":"distributions!T412","v":665880},{"$f":"distributions!U412","v":592028}]
[766,"SOUTHWICK TOLLAND GRANVILLE",{"$f":"distributions!C413","v":590457},{"$f":"distributions!D413","v":683195},null,null,{"$f":"distributions!T413","v":280907},{"$f":"distributions!U413","v":264532}]
[767,"SPENCER EAST BROOKFIELD      ",{"$f":"distributions!C414","v":333107},{"$f":"distributions!D414","v":271187},null,null,{"$f":"distributions!T414","v":1072219},{"$f":"distributions!U414","v":1212400}]
[770,"TANTASQUA                    ",{"$f":"distributions!C415","v":932098},{"$f":"distributions!D415","v":902593},null,null,{"$f":"distributions!T415","v":188462},{"$f":"distributions!U415","v":160653}]
[773,"TRITON                       ",{"$f":"distributions!C416","v":1209512},{"$f":"distributions!D416","v":1035310},null,null,{"$f":"distributions!T416","v":943249},{"$f":"distributions!U416","v":866809}]
[774,"UPISLAND",{"$f":"distributions!C417","v":315995},{"$f":"distributions!D417","v":360039},null,null,{"$f":"distributions!T417","v":113764},{"$f":"distributions!U417","v":80768}]
[775,"WACHUSETT                    ",{"$f":"distributions!C418","v":1068886},{"$f":"distributions!D418","v":955202},null,null,{"$f":"distributions!T418","v":587867},{"$f":"distributions!U418","v":637551}]
[778,"QUABOAG",{"$f":"distributions!C419","v":1031030},{"$f":"distributions!D419","v":1047949},null,null,{"$f":"distributions!T419","v":519822},{"$f":"distributions!U419","v":557343}]
[780,"WHITMAN HANSON               ",{"$f":"distributions!C420","v":78500},{"$f":"distributions!D420","v":179000},null,null,{"$f":"distributions!T420","v":75076},{"$f":"distributions!U420","v":120920}]
[801,"ASSABET VALLEY               ",{"$f":"distributions!C421","v":0},{"$f":"distributions!D421","v":0},null,null,{"$f":"distributions!T421","v":13953},{"$f":"distributions!U421","v":0}]
[805,"BLACKSTONE VALLEY            ",{"$f":"distributions!C422","v":0},{"$f":"distributions!D422","v":0},null,null,{"$f":"distributions!T422","v":0},{"$f":"distributions!U422","v":0}]
[806,"BLUE HILLS                   ",{"$f":"distributions!C423","v":0},{"$f":"distributions!D423","v":0},null,null,{"$f":"distributions!T423","v":5000},{"$f":"distributions!U423","v":0}]
[810,"BRISTOL PLYMOUTH             ",{"$f":"distributions!C424","v":0},{"$f":"distributions!D424","v":0},null,null,{"$f":"distributions!T424","v":26800},{"$f":"distributions!U424","v":49000}]
[815,"CAPE COD                     ",{"$f":"distributions!C425","v":0},{"$f":"distributions!D425","v":0},null,null,{"$f":"distributions!T425","v":10000},{"$f":"distributions!U425","v":29000}]
[817,"ESSEX NORTH SHORE",{"$f":"distributions!C426","v":10000},{"$f":"distributions!D426","v":5000},null,null,{"$f":"distributions!T426","v":92274},{"$f":"distributions!U426","v":117224}]
[818,"FRANKLIN COUNTY              ",{"$f":"distributions!C427","v":0},{"$f":"distributions!D427","v":0},null,null,{"$f":"distributions!T427","v":11900},{"$f":"distributions!U427","v":10000}]
[821,"GREATER FALL RIVER           ",{"$f":"distributions!C428","v":0},{"$f":"distributions!D428","v":0},null,null,{"$f":"distributions!T428","v":7550},{"$f":"distributions!U428","v":44000}]
[823,"GREATER LAWRENCE             ",{"$f":"distributions!C429","v":27500},{"$f":"distributions!D429","v":29000},null,null,{"$f":"distributions!T429","v":764958},{"$f":"distributions!U429","v":642141}]
[825,"GREATER NEW BEDFORD          ",{"$f":"distributions!C430","v":0},{"$f":"distributions!D430","v":0},null,null,{"$f":"distributions!T430","v":10000},{"$f":"distributions!U430","v":25000}]
[828,"GREATER LOWELL               ",{"$f":"distributions!C431","v":25070},{"$f":"distributions!D431","v":14232},null,null,{"$f":"distributions!T431","v":146589},{"$f":"distributions!U431","v":139425}]
[829,"SOUTH MIDDLESEX              ",{"$f":"distributions!C432","v":0},{"$f":"distributions!D432","v":0},null,null,{"$f":"distributions!T432","v":3953},{"$f":"distributions!U432","v":0}]
[830,"MINUTEMAN                    ",{"$f":"distributions!C433","v":0},{"$f":"distributions!D433","v":0},null,null,{"$f":"distributions!T433","v":9150},{"$f":"distributions!U433","v":5000}]
[832,"MONTACHUSETT                 ",{"$f":"distributions!C434","v":128988},{"$f":"distributions!D434","v":107121},null,null,{"$f":"distributions!T434","v":280442},{"$f":"distributions!U434","v":359000}]
[851,"NORTHERN BERKSHIRE           ",{"$f":"distributions!C435","v":0},{"$f":"distributions!D435","v":0},null,null,{"$f":"distributions!T435","v":20000},{"$f":"distributions!U435","v":5000}]
[852,"NASHOBA VALLEY               ",{"$f":"distributions!C436","v":365249},{"$f":"distributions!D436","v":335948},null,null,{"$f":"distributions!T436","v":56788},{"$f":"distributions!U436","v":39584}]
[853,"NORTHEAST METROPOLITAN       ",{"$f":"distributions!C437","v":218436},{"$f":"distributions!D437","v":188361},null,null,{"$f":"distributions!T437","v":0},{"$f":"distributions!U437","v":14000}]
[855,"OLD COLONY                   ",{"$f":"distributions!C438","v":0},{"$f":"distributions!D438","v":0},null,null,{"$f":"distributions!T438","v":0},{"$f":"distributions!U438","v":10000}]
[860,"PATHFINDER                   ",{"$f":"distributions!C439","v":127081},{"$f":"distributions!D439","v":194801},null,null,{"$f":"distributions!T439","v":83687},{"$f":"distributions!U439","v":67235}]
[871,"SHAWSHEEN VALLEY             ",{"$f":"distributions!C440","v":0},{"$f":"distributions!D440","v":0},null,null,{"$f":"distributions!T440","v":117766},{"$f":"distributions!U440","v":104477}]
[872,"SOUTHEASTERN                 ",{"$f":"distributions!C441","v":0},{"$f":"distributions!D441","v":0},null,null,{"$f":"distributions!T441","v":27181},{"$f":"distributions!U441","v":15000}]
[873,"SOUTH SHORE                  ",{"$f":"distributions!C442","v":0},{"$f":"distributions!D442","v":0},null,null,{"$f":"distributions!T442","v":5000},{"$f":"distributions!U442","v":5000}]
[876,"SOUTHERN WORCESTER           ",{"$f":"distributions!C443","v":0},{"$f":"distributions!D443","v":0},null,null,{"$f":"distributions!T443","v":174114},{"$f":"distributions!U443","v":170155}]
[878,"TRI COUNTY                   ",{"$f":"distributions!C444","v":0},{"$f":"distributions!D444","v":0},null,null,{"$f":"distributions!T444","v":0},{"$f":"distributions!U444","v":5000}]
[879,"UPPER CAPE COD               ",{"$f":"distributions!C445","v":0},{"$f":"distributions!D445","v":0},null,null,{"$f":"distributions!T445","v":20000},{"$f":"distributions!U445","v":15000}]
[885,"WHITTIER                     ",{"$f":"distributions!C446","v":749436},{"$f":"distributions!D446","v":641668},null,null,{"$f":"distributions!T446","v":33338},{"$f":"distributions!U446","v":24000}]
[910,"BRISTOL COUNTY               ",{"$f":"distributions!C447","v":0},{"$f":"distributions!D447","v":0},null,null,{"$f":"distributions!T447","v":0},{"$f":"distributions!U447","v":0}]
[915,"NORFOLK COUNTY               ",{"$f":"distributions!C448","v":0},{"$f":"distributions!D448","v":0},null,null,{"$f":"distributions!T448","v":0},{"$f":"distributions!U448","v":0}]
[3901,"MAVA",{"$f":"distributions!C449","v":2578913.75},{"$f":"distributions!D449","v":4490820},null,null,{"$f":"distributions!T449","v":0},{"$f":"distributions!U449","v":0}]
[3902,"TECCA",{"$f":"distributions!C450","v":3869662.5},{"$f":"distributions!D450","v":5822365},null,null,{"$f":"distributions!T450","v":0},{"$f":"distributions!U450","v":0}]
[null,null,{"$f":"SUM(C87:C527)","v":87705649.25},{"$f":"SUM(D87:D527)","v":92090242},null,null,{"$f":"SUM(G87:G527)","v":87763652},{"$f":"SUM(H87:H527)","v":92197577}]

{"sheet":"fte10yr","index":2,"n_rows":452,"n_cols":28,"rows_kept":452,"cut":false,"hidden":true,"merged":[]}
[null,null,null,null,null,null,null,"chosum10finalnov","chosum11final","chosum12finaldec","chosum13final","chosum14final","choice15final","this file",null,null,null,null,null,null,null,"chosum10finalnov","chosum11final","chosum12finaldec","chosum13final","chosum14final","choice15final"]
[null,null,null,null,null,null,null,null,null,"dec 20 2012","  jun16 2014","dec 23 2014"," june 15 2016",null,null,null,null,null,null,null,null,null,null,"dec 20 2012","  jun16 2014","dec 23 2014"," june 15 2016"]
[]
[]
[null,null,null,"receiving fte's, final"]
[]
[]
[]
["lea","district","FY05","FY06","FY07","FY08","FY09","FY10","FY11","FY12","FY13","FY14","FY15","FY16",null,null,"FY05","FY06","FY07","FY08","FY09","FY10","FY11","FY12","FY13","FY14","FY15","FY16"]
[1,"ABINGTON",0,0,0,0,0,0,0,0,0,2,2,{"$f":"june!E10","v":1},null,null,1,2,2,3,3,1.2,2,6,5.21,9.7000000000000011,29.199999999999996,{"$f":"june!G10","v":33.489999999999995}]
[2,"ACTON",0,0,0,0,0,0,0,0,0,0,0,{"$f":"june!E11","v":0},null,null,3,0.39,1.78,3,1.53,3,2,11.04,5.79,10.36,0,{"$f":"june!G11","v":0}]
[3,"ACUSHNET",0,0,0,0,0,0,0,0,0,0,0,{"$f":"june!E12","v":0},null,null,3,2.2999999999999998,1,0,0,1,4,5,7,11.5,11.120000000000001,{"$f":"june!G12","v":18.63}]
[4,"ADAMS",0,0,0,0,0,0,0,0,0,0,0,{"$f":"june!E13","v":0},null,null,0,0,0,0,0,0,0,0,0,0,0,{"$f":"june!G13","v":0}]
[5,"AGAWAM",65.47,68.75,73.72,76.5,78.22,71.03,78.89,80.769999999999982,74.89,82,80.569999999999993,{"$f":"june!E14","v":76.02},null,null,36.29,36.43,34.47,43.03,28.66,34.369999999999997,40.130000000000003,38.239999999999995,43.33,54.18,43.25,{"$f":"june!G14","v":46.1}]
[6,"ALFORD",0,0,0,0,0,0,0,0,0,0,0,{"$f":"june!E15","v":0},null,null,0,0,0,0,0,0,0,0,0,0,0,{"$f":"june!G15","v":0}]
[7,"AMESBURY",106.75,87.6,101.98,111.33,112.17,103.15,86.450000000000017,69.33,55.16,41.43,30,{"$f":"june!E16","v":12.360000000000001},null,null,129.57,112.735,115.315,95.35,82.51,72.94,74.009999999999991,72.97,78.59,75.500000000000014,73.90000000000002,{"$f":"june!G16","v":59.69}]
[8,"AMHERST",0,0,0,0,0,0,0,0,36.099999999999994,39.119999999999997,53.849999999999994,{"$f":"june!E17","v":49.96},null,null,15.15,14.75,24.36,26.48,33.18,30.83,27.11,28.640000000000004,28.639999999999997,24.41,22.129999999999995,{"$f":"june!G17","v":25.07}]
[9,"ANDOVER",0,0,0,0,0,0,0,0,0,0,0,{"$f":"june!E18","v":0},null,null,2.73,1,1,1,2,1.57,2,1,1,0.83,5.34,{"$f":"june!G18","v":4}]
[10,"ARLINGTON",0,0,0,0,0,0,0,0,0,0,0,{"$f":"june!E19","v":0},null,null,6,6,5,0,0,0,0,0,0,0,0.90999999999999992,{"$f":"june!G19","v":1.96}]
[11,"ASHBURNHAM",0,0,0,0,0,0,0,0,0,0,0,{"$f":"june!E20","v":0},null,null,0,0,0,0,0,0,0,0,0,0,0,{"$f":"june!G20","v":0}]
[12,"ASHBY",0,0,0,0,0,0,0,0,0,0,0,{"$f":"june!E21","v":0},null,null,0,0,0,0,0,0,0,0,0,0,0,{"$f":"june!G21","v":0}]
[13,"ASHFIELD",0,0,0,0,0,0,0,0,0,0,0,{"$f":"june!E22","v":0},null,null,0,0,0,0,0,0,0,0,0,0,0,{"$f":"june!G22","v":0}]
[14,"ASHLAND",12.55,11.15,13.88,11.775,18.600000000000001,15,22.61,24.47,28.730000000000004,26.1,31.759999999999998,{"$f":"june!E23","v":43.43},null,null,14,10.78,9,8.26,7,9.19,9.5,9.9600000000000009,11.24,12.44,15.780000000000003,{"$f":"june!G23","v":13.860000000000001}]
[15,"ATHOL",0,0,0,0,0,0,0,0,0,0,0,{"$f":"june!E24","v":0},null,null,0,0,0,0,0,0,0,0,0,0,0,{"$f":"june!G24","v":0}]
[16,"ATTLEBORO",0,0,0,0,0,0,0,0,0,0,0,{"$f":"june!E25","v":0},null,null,2.58,5,2.4900000000000002,3.67,4.37,6,7.5,10.68,11.129999999999999,7.4799999999999995,18.779999999999998,{"$f":"june!G25","v":26.330000000000002}]
[17,"AUBURN",0,0,13.91,17.11,18.98,22.04,21,35.89,34.89,40.74,46.910000000000004,{"$f":"june!E26","v":62.089999999999996},null,null,13.11,12.23,10.48,11.12,17.149999999999999,22.49,23.71,32.92,28.66,21.27,23.87,{"$f":"june!G26","v":17.799999999999997}]
[18,"AVON",145.24,158.15,185.49,191.31,180.18,174.41,185.60999999999999,169.64,175.18,184.97,182.16,{"$f":"june!E27","v":188.18},null,null,1,1,2.75,1,4,3,3,0.86,1,3,5.49,{"$f":"june!G27","v":1.69}]
[19,"AYER",229.02,184,164.86,152.35,149.72,163.52000000000001,119.71999999999998,0,0,0,0,{"$f":"june!E28","v":0},null,null,27.7,28.17,28.22,35.36,37.520000000000003,45.83,55.49,0,0,0,0,{"$f":"june!G28","v":0}]
[20,"BARNSTABLE",14.67,24.19,28.86,38.11,77.34,66.599999999999994,72.97,82.030000000000015,95.39,115.79,104.86,{"$f":"june!E29","v":101.78000000000002},null,null,63.545000000000002,74.974999999999994,61.38,63.71,57.47,67.569999999999993,82.23,105.49,123.60000000000001,111.49,153.61000000000007,{"$f":"june!G29","v":155.45000000000005}]
[21,"BARRE",0,0,0,0,0,0,0,0,0,0,0,{"$f":"june!E30","v":0},null,null,0,0,0,0,0,0,0,0,0,0,0,{"$f":"june!G30","v":0}]
[22,"BECKET",0,0,0,0,0,0,0,0,0,0,0,{"$f":"june!E31","v":0},null,null,1,3,3,1,0,2,0,2,2,5,2,{"$f":"june!G31","v":3}]
[23,"BEDFORD",0,0,0,0,0,0,0,0,0,0,0,{"$f":"june!E32","v":0},null,null,1.0900000000000001,1,0,0,0,1,1.3399999999999999,6.2,2,4,1.9,{"$f":"june!G32","v":4.16}]
[24,"BELCHERTOWN",58.65,60.78,52.12,39.75,34.049999999999997,24.86,28.73,33,49,53.260000000000005,99.509999999999991,{"$f":"june!E33","v":123.48999999999998},null,null,44.36,39.090000000000003,49.14,52.29,48.99,46.73,56.010000000000005,67.680000000000007,71.489999999999981,77.599999999999994,85.86,{"$f":"june!G33","v":95.69}]
[25,"BELLINGHAM",0,0,15.744999999999999,42.41,45.18,32.69,38.339999999999996,38.31,41.480000000000004,41.800000000000004,45.33,{"$f":"june!E34","v":39.19},null,null,52.6,56.15,56.164999999999999,72.81,76.504999999999995,84.84,83.2,75.670000000000016,68.17,89.379999999999981,122.36,{"$f":"june!G34","v":135.84999999999997}]
[26,"BELMONT",51.47,44,18,0,0,0,0,0,0,0,0,{"$f":"june!E35","v":0},null,null,0,0,0,0,1,0,0,3,0,0,0.14000000000000001,{"$f":"june!G35","v":1.3}]
[27,"BERKLEY",10.5,7,13,13.8,19.600000000000001,22.62,22.979999999999997,36.14,48.41,64.22,78.599999999999994,{"$f":"june!E36","v":104.15999999999997},null,null,18.05,15.9,17.399999999999999,19.28,17.149999999999999,19.600000000000001,16.46,7,3.8500000000000005,3.53,2,{"$f":"june!G36","v":1.8499999999999999}]
[28,"BERLIN",8.2100000000000009,9.67,9,10,11,10.5,12,22.2,36,27.96,18,{"$f":"june!E37","v":19.41},null,null,1,1,1,3,3,3,14.77,10.120000000000001,6.77,3,0,{"$f":"june!G37","v":1}]
[29,"BERNARDSTON",0,0,0,0,0,0,0,0,0,0,0,{"$f":"june!E38","v":0},null,null,0,0,0,0,0,0,0,0,0,0,0,{"$f":"june!G38","v":0}]
[30,"BEVERLY",75.37,62.35,71.025000000000006,68.784999999999997,67.5,68.31,53.760000000000005,48.519999999999996,64.039999999999992,92.12,95.320000000000007,{"$f":"june!E39","v":103.3},null,null,106.67,106.42,107.82,110.9,117.3,94.06,80.72,77.72,74.509999999999991,67.230000000000018,67.289999999999992,{"$f":"june!G39","v":59.339999999999996}]
[31,"BILLERICA",0,0,0,0,0,0,0,0,0,0,0,{"$f":"june!E40","v":0},null,null,2.78,3,1,1.5,2,2,7,11.100000000000001,10.219999999999999,10.43,18.299999999999997,{"$f":"june!G40","v":17.97}]
[32,"BLACKSTONE",0,0,0,0,0,0,0,0,0,0,0,{"$f":"june!E41","v":0},null,null,0,0,0,0,0,0,0,0,0,0,0,{"$f":"june!G41","v":0}]
[33,"BLANDFORD",0,0,0,0,0,0,0,0,0,0,0,{"$f":"june!E42","v":0},null,null,0,1,1,0,0,0,0,0,0,0,0,{"$f":"june!G42","v":2}]
[34,"BOLTON",0,0,0,0,0,0,0,0,0,0,0,{"$f":"june!E43","v":0},null,null,0,0,0,0,0,0,0,0,0,0,0,{"$f":"june!G43","v":0}]
[35,"BOSTON",0,0,0,0,0,0,0,0,0,0,0,{"$f":"june!E44","v":0},null,null,59.45,49.66,48.3,43.01,38.21,35.479999999999997,27.99,61.93,40.169999999999995,48.02,76.94,{"$f":"june!G44","v":93.08}]
[36,"BOURNE",0,9.33,17.260000000000002,33.380000000000003,18.86,36.409999999999997,44.04,42.78,40.770000000000003,73.289999999999992,126.46000000000001,{"$f":"june!E45","v":134.9},null,null,6.83,5.88,5.64,10.31,20.63,27.46,33.204999999999998,48.529999999999987,64.249999999999986,81.829999999999956,94.719999999999985,{"$f":"june!G45","v":95.580000000000013}]
[37,"BOXBOROUGH",0,0,0,24.5,31,30.5,25.5,26.26,20,27,0,{"$f":"june!E46","v":0},null,null,0,0,0.25,0.11,0,0,0,0,0.38,0,0,{"$f":"june!G46","v":0}]
[38,"BOXFORD",0,0,0,0,0,0,0,0,0,0,0,{"$f":"june!E47","v":0},null,null,1,0,0,2.4,1,0,0.56999999999999995,0.51,0.67,1,1,{"$f":"june!G47","v":3}]
[39,"BOYLSTON",10,10.5,16,20.5,25.51,23,15.7,12,21.5,17,13,{"$f":"june!E48","v":17},null,null,0,1,1,3,3.5,4,6,8.5,11.5,6,7.66,{"$f":"june!G48","v":5.6000000000000005}]
[40,"BRAINTREE",0,0,0,0,0,0,0,0,0,0,0,{"$f":"june!E49","v":0},null,null,0,0,0.94,1,1.38,2,0,6.08,5.79,5.8100000000000005,6.23,{"$f":"june!G49","v":5.19}]
[41,"BREWSTER",0,0,0,0,0,0,0,0,0,0,0,{"$f":"june!E50","v":0},null,null,18.36,26.01,16.745000000000001,19.04,16.71,16.11,17.18,13.53,17.740000000000002,17,22.8,{"$f":"june!G50","v":32.25}]
[42,"BRIDGEWATER",0,0,0,0,0,0,0,0,0,0,0,{"$f":"june!E51","v":0},null,null,0,0,0,0,0,0,0,0,0,0,0,{"$f":"june!G51","v":0}]
[43,"BRIMFIELD",0,0,0,0,0,0,0,0,0,0,0,{"$f":"june!E52","v":0},null,null,1.84,3.21,1,3.02,3.91,3.16,0.24,3.88,5.1000000000000005,6.05,9.370000000000001,{"$f":"june!G52","v":7.13}]
[44,"BROCKTON",0,0,0,3,11.74,12,12.12,16.16,15.03,18.96,23,{"$f":"june!E53","v":23.43},null,null,156.86000000000001,172.41,183.94,186.67,179.52,158.94999999999999,160.07000000000002,155.94999999999996,180.5,185.34,191.08000000000007,{"$f":"june!G53","v":235.67}]
[45,"BROOKFIELD",6.58,14.51,21.01,26.86,28.88,30.8,44.66,55.3,54.15,57.66,60.86,{"$f":"june!E54","v":56.91},null,null,15.44,18.16,26.66,20.79,16.91,14.13,16.04,7.94,7.9399999999999995,7.3500000000000005,2.2800000000000002,{"$f":"june!G54","v":2.63}]
[46,"BROOKLINE",0,0,0,0,0,0,0,0,0,0,0,{"$f":"june!E55","v":0},null,null,1,0,0,0,0,0,0.18,1,2,2,0,{"$f":"june!G55","v":1.31}]
[47,"BUCKLAND",0,0,0,0,0,0,0,0,0,0,0,{"$f":"june!E56","v":0},null,null,0,0,0,0,0,0,0,0,0,0,0,{"$f":"june!G56","v":0}]
[48,"BURLINGTON",0,0,0,0,0,0,10.98,16.16,20.41,23.31,25.019999999999996,{"$f":"june!E57","v":28.93},null,null,0,1.72,1,2,1,1.34,0.45,0,1,0,3.5,{"$f":"june!G57","v":3.88}]
[49,"CAMBRIDGE",0,0,0,0,0,0,0,0,0,0,0,{"$f":"june!E58","v":0},null,null,11.48,10,5.19,0.44,0,0,0.45,1,0,1.08,4.9000000000000004,{"$f":"june!G58","v":5.41}]
[50,"CANTON",0,0,0,0,0,0,0,0,0,0,0,{"$f":"june!E59","v":0},null,null,0,0,0,1,0,0,0,2,2,0,0.03,{"$f":"june!G59","v":1.4}]
[51,"CARLISLE",0,0,0,0,0,0,0,0,0,0,0,{"$f":"june!E60","v":0},null,null,0,0,0,1,0,0,0,0,1.6,0,0,{"$f":"june!G60","v":0}]
[52,"CARVER",0,0,0,0,0,0,0,12,10.629999999999999,16.739999999999998,20.64,{"$f":"june!E61","v":22.560000000000002},null,null,1,1,0.73,0,5.88,2.2400000000000002,3.6,7.97,4,6.84,6.71,{"$f":"june!G61","v":4.8099999999999996}]
[53,"CHARLEMONT",0,0,0,0,0,0,0,0,0,0,0,{"$f":"june!E62","v":0},null,null,0,0,0,0,0,0,0,0,0,0,0,{"$f":"june!G62","v":0}]
[54,"CHARLTON",0,0,0,0,0,0,0,0,0,0,0,{"$f":"june!E63","v":0},null,null,0,0,0,0,0,0,0,0,0,0,0,{"$f":"june!G63","v":0}]
[55,"CHATHAM",147.1,168.04,157.66,168.86,170,171.02,200.89,200.94000000000005,0,0,0,{"$f":"june!E64","v":0},null,null,16,26.83,26.18,38.49,42.46,51.585000000000001,57,71.960000000000008,0,0,0,{"$f":"june!G64","v":0}]
[56,"CHELMSFORD",0,0,0,0,0,0,13.170000000000002,20.7,24.77,29.37,44,{"$f":"june!E65","v":57.89},null,null,5.23,6.29,4.96,10.72,5.54,10.64,13.105,21.5,32.92,37.410000000000004,27.55,{"$f":"june!G65","v":29.66}]
[57,"CHELSEA",0,0,0,0,0,0,0,0,0,0,0,{"$f":"june!E66","v":0},null,null,0.28000000000000003,1,2,1,2,2.5299999999999998,0,3.92,4,1,3.9800000000000004,{"$f":"june!G66","v":10.27}]
[58,"CHESHIRE",0,0,0,0,0,0,0,0,0,0,0,{"$f":"june!E67","v":0},null,null,0,0,0,0,0,0,0,0,0,0,0,{"$f":"june!G67","v":0}]
[59,"CHESTER",0,0,0,0,0,0,0,0,0,0,0,{"$f":"june!E68","v":0},null,null,0,0,0,0,0,0,0,0,0,0,0,{"$f":"june!G68","v":0}]
[60,"CHESTERFIELD",0,0,0,0,0,0,0,0,0,0,0,{"$f":"june!E69","v":0},null,null,0,0,0,0,0,0,0,0,0,0,0,{"$f":"june!G69","v":0}]
[61,"CHICOPEE",148.83000000000001,167.63,183.08,199.78,224.57,228.87,191.02000000000004,188.23,177.51,189.14,179.17000000000002,{"$f":"june!E70","v":190.44},null,null,78.069999999999993,83.84,83.34,77.844999999999999,80.650000000000006,84.5,87.539999999999978,97.77000000000001,124.46,135.03999999999994,129.35000000000002,{"$f":"june!G70","v":139.67000000000002}]
[62,"CHILMARK",0,0,0,0,0,0,0,0,0,0,0,{"$f":"june!E71","v":0},null,null,0,0,0,0,0,0,0,0,0,0,0,{"$f":"june!G71","v":0}]
[63,"CLARKSBURG",0,0,0,0,0,0,14.39,19,20.69,22,26.96,{"$f":"june!E72","v":35.39},null,null,8.59,7,13.23,10.47,9.39,13.6,9.69,7.1899999999999995,13.299999999999999,8.4899999999999984,13.03,{"$f":"june!G72","v":17.78}]
[64,"CLINTON",120.655,103.29,113.79,119.51,136.58000000000001,125.19,125.80999999999997,136.99000000000004,138.51000000000002,129.94,115.97999999999996,{"$f":"june!E73","v":82.430000000000035},null,null,41.5,45.54,45.41,56,52.814999999999998,52.6,70.11,104.58999999999999,129.5,124.02000000000001,118.53999999999999,{"$f":"june!G73","v":117.37}]
[65,"COHASSET",0,0,0,0,0,0,0,0,0,0,0,{"$f":"june!E74","v":0},null,null,0,0,0,0,0,0,0,0,0,0,0,{"$f":"june!G74","v":0}]
[66,"COLRAIN",0,0,0,0,0,0,0,0,0,0,0,{"$f":"june!E75","v":0},null,null,0,0,0,0,0,0,0,0,0,0,0,{"$f":"june!G75","v":0}]
[67,"CONCORD",0,0,0,0,0,0,0,0,0,0,0,{"$f":"june!E76","v":0},null,null,0,0,0.57999999999999996,0,0.67,1.405,1,0.37,1.49,2,1.78,{"$f":"june!G76","v":2}]
[68,"CONWAY",22.86,25.43,21,21,22.89,19.649999999999999,23.3,12.04,15,20,19.48,{"$f":"june!E77","v":19.21},null,null,7.46,10,10,8.56,7.94,7.5,6,10.38,2,5.32,8,{"$f":"june!G77","v":10.58}]
[69,"CUMMINGTON",0,0,0,0,0,0,0,0,0,0,0,{"$f":"june!E78","v":0},null,null,0,0,0,0,0,0,0,0,0,0,0,{"$f":"june!G78","v":0}]
[70,"DALTON",0,0,0,0,0,0,0,0,0,0,0,{"$f":"june!E79","v":0},null,null,0,1.8,0.82,0,0,0,0,0,0,0,0,{"$f":"june!G79","v":0}]
[71,"DANVERS",0,0,0,0,0,0,0,0,0,0,0,{"$f":"june!E80","v":0},null,null,12,14.74,17.27,23.38,30.33,33.049999999999997,22,26.9,30.740000000000002,36.480000000000004,43.550000000000004,{"$f":"june!G80","v":55.1}]
[72,"DARTMOUTH",0,0,0,0,0,0,0,0,0,0,0,{"$f":"june!E81","v":0},null,null,3.3,4.49,2,1,2,3,1,2.16,1,4.6900000000000004,3.7,{"$f":"june!G81","v":5.4699999999999989}]
[73,"DEDHAM",0,0,0,0,0,0,0,0,0,0,0,{"$f":"june!E82","v":0},null,null,7.0000000000000007E-2,0,0,0,0,0,0,3,3.33,3.5199999999999996,2.66,{"$f":"june!G82","v":3.17}]
[74,"DEERFIELD",64.3,68.819999999999993,80.05,80.05,74.95,76.44,64,68.81,84.440000000000012,90.699999999999989,100.67,{"$f":"june!E83","v":89.79},null,null,14.92,13.005000000000001,15.33,9.4499999999999993,9.9600000000000009,12,16,12.370000000000001,10.809999999999999,10.78,17.369999999999997,{"$f":"june!G83","v":22.41}]
[75,"DENNIS",0,0,0,0,0,0,0,0,0,0,0,{"$f":"june!E84","v":0},null,null,0,0,0,0,0,0,0,0,0,0,0,{"$f":"june!G84","v":0}]
[76,"DIGHTON",0,0,0,0,0,0,0,0,0,0,0,{"$f":"june!E85","v":0},null,null,0,0,0,0,0,0,0,0,0,0,0,{"$f":"june!G85","v":0}]
[77,"DOUGLAS",98.11,90.36,82.47,88.27,89.69,110.17,100.61,101.28,110.58000000000001,122.64,121.81,{"$f":"june!E86","v":116.61000000000001},null,null,68.91,68.23,50.545000000000002,54.51,41.49,40.369999999999997,41.129999999999995,42.249999999999993,48.61,57.95,47.279999999999994,{"$f":"june!G86","v":47.12}]
[78,"DOVER",0,0,0,0,0,0,0,0,0,0,0,{"$f":"june!E87","v":0},null,null,0,0,0,0,0,0,0,0,0,0,0,{"$f":"june!G87","v":0}]
[79,"DRACUT",29.68,26.75,28.81,25.74,30.56,23.9,28.7,29.52,22.95,25.95,26.939999999999998,{"$f":"june!E88","v":35.849999999999994},null,null,15.75,15.94,12.01,10.94,12.97,12,15.23,15.48,18.020000000000003,19.91,18.77,{"$f":"june!G88","v":25.61}]
[80,"DUDLEY",0,0,0,0,0,0,0,0,0,0,0,{"$f":"june!E89","v":0},null,null,0,0,0,0,0,0,0,0,0,0,0,{"$f":"june!G89","v":0}]
[81,"DUNSTABLE",0,0,0,0,0,0,0,0,0,0,0,{"$f":"june!E90","v":0},null,null,0,0,0,0,0,0,0,0,0,0,0,{"$f":"june!G90","v":0}]
[82,"DUXBURY",0,0,0,0,0,0,0,0,0,0,0,{"$f":"june!E91","v":0},null,null,0,0,0,0,0.5,0,0,0.9,1,1,0.71,{"$f":"june!G91","v":1.77}]
[83,"EAST BRIDGEWATER",0,0,0,0,0,5.59,8,7,5,2,14.690000000000001,{"$f":"june!E92","v":26.009999999999998},null,null,1,2.64,6.84,9.25,15,17,20.68,22,15.18,17.150000000000002,24.140000000000004,{"$f":"june!G92","v":19.68}]
[84,"EAST BROOKFIELD",0,0,0,0,0,0,0,0,0,0,0,{"$f":"june!E93","v":0},null,null,1,0,0,0,0,2,4,4,7,6.65,6,{"$f":"june!G93","v":5}]
[85,"EASTHAM",0,0,0,0,0,0,0,0,0,0,0,{"$f":"june!E94","v":0},null,null,10,9.11,8,8.51,6.63,8.32,8.379999999999999,7.09,2.5099999999999998,6.51,6.14,{"$f":"june!G94","v":7.91}]
[86,"EASTHAMPTON",68.605000000000004,79.69,88.9,96.11,89.76,63.86,60.889999999999986,66.010000000000005,68.48,76.75,84.16,{"$f":"june!E95","v":86.100000000000009},null,null,197.1,200.01,197.84,179.84,192.36,211.37,197.35000000000002,193.62,188.88,186.81,188.71000000000004,{"$f":"june!G95","v":174.98}]
[87,"EAST LONGMEADOW",1.73,0,0,0,0,0,0,0,0,0,0,{"$f":"june!E96","v":0},null,null,8.02,10.72,7.56,8,4,9.58,5,9.73,6.97,4.75,7,{"$f":"june!G96","v":9.9700000000000006}]
[88,"EASTON",0,0,0,0,0,0,0,0,0,0,0,{"$f":"june!E97","v":0},null,null,4,2.46,3,3.56,5.84,4.3899999999999997,6,7.44,6,5.92,8.66,{"$f":"june!G97","v":8.64}]
[89,"EDGARTOWN",12,7.66,10,16,11,15,16,12,17.66,13.75,12.64,{"$f":"june!E98","v":8},null,null,34.31,31.55,29.81,34.700000000000003,35.99,45.13,44.739999999999995,45.83,33.51,36.020000000000003,32.450000000000003,{"$f":"june!G98","v":33}]
[90,"EGREMONT",0,0,0,0,0,0,0,0,0,0,0,{"$f":"june!E99","v":0},null,null,0,0,0,0,0,0,0,0,0,0,0,{"$f":"june!G99","v":0}]
[91,"ERVING",0,0,0,0,0,0,0,0,0,0,0,{"$f":"june!E100","v":0},null,null,20.74,22.62,27.69,26.58,41.88,51.36,48.910000000000004,40.28,44.72,40.22,40.010000000000005,{"$f":"june!G100","v":35.159999999999997}]
[92,"ESSEX",0,0,0,0,0,0,0,0,0,0,0,{"$f":"june!E101","v":0},null,null,0,0,0,0,0,0,0,0,0,0,0,{"$f":"june!G101","v":0}]
[93,"EVERETT",0,0,0,0,0,0,0,0,0,0,0,{"$f":"june!E102","v":0},null,null,8.99,11.22,13.64,12.11,17,20.43,15,12.440000000000001,9.9200000000000017,7.3800000000000008,16.310000000000002,{"$f":"june!G102","v":16.22}]
[94,"FAIRHAVEN",0,0,0,0,0,0,0,0,0,0,0,{"$f":"june!E103","v":0},null,null,0,0.49,0.96,0,0,4,5.63,12.459999999999999,14.75,17.329999999999998,10.75,{"$f":"june!G103","v":13.35}]
[95,"FALL RIVER",0,0,0,2,3,24.78,21.02,4.38,22.859999999999992,21.719999999999995,16.41,{"$f":"june!E104","v":26.349999999999998},null,null,23.51,21.65,31.61,22.84,16.55,15.61,13.189999999999998,22.49,27.05,42.319999999999993,78.230000000000018,{"$f":"june!G104","v":102.33999999999997}]
[96,"FALMOUTH",20.350000000000001,13.66,14.2,14.1,21.12,31.25,34.44,47.08,65.48,70.349999999999994,91.44999999999996,{"$f":"june!E105","v":112.14999999999999},null,null,5.03,4.68,8.59,8.17,8.7100000000000009,16.05,21.92,37.120000000000005,39.4,35.309999999999995,49.109999999999992,{"$f":"june!G105","v":40.19}]
[97,"FITCHBURG",158.41499999999999,142.94499999999999,142.51,151.97,150.88499999999999,170.815,179.85999999999996,188.36,200.10000000000022,179.47000000000023,180.11999999999995,{"$f":"june!E106","v":175.74999999999983},null,null,246.94,261.94,279.78500000000003,281.54000000000002,285.10000000000002,339.64,381.17999999999984,396.4799999999999,425.83,416.61999999999983,420.34999999999997,{"$f":"june!G106","v":430.6099999999999}]
[98,"FLORIDA",0,0,0,0,0,0,2,4,4,7,2,{"$f":"june!E107","v":3.42},null,null,3.67,3,4.18,5.17,5.91,2.41,2,1,0,3.49,4,{"$f":"june!G107","v":7}]
[99,"FOXBOROUGH",0,0,0,0,0,0,0,0,0,0,0,{"$f":"june!E108","v":0},null,null,0,1,1.4,0,7.0000000000000007E-2,0,0,0,1,0,0.17,{"$f":"june!G108","v":4.7}]
[100,"FRAMINGHAM",0,0,0,0,0,0,0,0,0,0,0,{"$f":"june!E109","v":0},null,null,16.350000000000001,19.41,16.940000000000001,18.760000000000002,25.98,20.51,29.08,35.39,36.299999999999997,40.14,45.330000000000005,{"$f":"june!G109","v":54.689999999999991}]
[101,"FRANKLIN",26.28,28.42,46.04,71.790000000000006,56.01,40.770000000000003,30,20,17,13,10,{"$f":"june!E110","v":7},null,null,30.38,27.26,25.68,29.37,31.03,27.51,29.5,30.130000000000003,34.530000000000008,23.92,29,{"$f":"june!G110","v":34.289999999999992}]
[102,"FREETOWN",0,0,0,0,0,0,0,0,0,0,0,{"$f":"june!E111","v":0},null,null,1,0,0.62,0,1,3.5,5.72,0,0,0,0,{"$f":"june!G111","v":2}]
[103,"GARDNER",127.41,144.19,199.95500000000001,239.83500000000001,162.32,168.56,166.29999999999995,176.73000000000005,156.39999999999998,150.69999999999999,140.22999999999996,{"$f":"june!E112","v":121.98000000000003},null,null,89.1,91.834999999999994,102.98,104.965,119.23,115.5,109.44000000000003,122.22000000000001,143.41000000000003,158.24,188.67999999999992,{"$f":"june!G112","v":252.39999999999998}]
[104,"AQUINNAH",0,0,0,0,0,0,0,0,0,0,0,{"$f":"june!E113","v":0},null,null,0,0,0,0,0,0,0,0,0,0,0,{"$f":"june!G113","v":0}]
[105,"GEORGETOWN",64.37,60.475000000000001,64.62,55,59.22,47,37.9,28,26,27.82,38,{"$f":"june!E114","v":40},null,null,26.57,28.95,28.53,33.619999999999997,23.12,28.524999999999999,25.03,30.56,22.1,26.93,24.109999999999996,{"$f":"june!G114","v":23.87}]
[106,"GILL",0,0,0,0,0,0,0,0,0,0,0,{"$f":"june!E115","v":0},null,null,0,0,0,0,0,0,0,0,0,0,0,{"$f":"june!G115","v":0}]
[107,"GLOUCESTER",64.39,55.02,43.57,46.79,40.619999999999997,35.17,31.529999999999998,33.520000000000003,39.649999999999991,43.870000000000005,39.200000000000003,{"$f":"june!E116","v":38.54},null,null,154.4,180.64500000000001,192.64,215.01,205.14,210.37,231.93,240,260.07000000000005,291.74,302.95999999999998,{"$f":"june!G116","v":312.14000000000004}]
[108,"GOSHEN",0,0,0,0,0,0,0,0,0,0,0,{"$f":"june!E117","v":0},null,null,0,0,0,0,0,0,0,0,0,0,0,{"$f":"june!G117","v":0}]
[109,"GOSNOLD",0,0,0,0,0,0,0,0,0,0,0,{"$f":"june!E118","v":0},null,null,0,0,0,0,0,0,0,0,0,0,0,{"$f":"june!G118","v":0}]
[110,"GRAFTON",0,0,0,0,0,0,0,0,0,18.270000000000003,31.53,{"$f":"june!E119","v":42.559999999999995},null,null,18.55,12.97,13.14,17.43,23.74,16.47,26.17,36.619999999999997,20.58,20.369999999999997,27.930000000000003,{"$f":"june!G119","v":37.1}]
[111,"GRANBY",106.75,103.77,103.6,100.47499999999999,109.29,131.96,132.25,140.21000000000004,114.12000000000002,113.30000000000001,132.75,{"$f":"june!E120","v":117.09},null,null,19,27.9,31.49,30,32.44,27.89,26.26,32.01,35.82,38.58,48.629999999999995,{"$f":"june!G120","v":52.089999999999989}]
[112,"GRANVILLE",0,0,0,0,0,0,0,0,0,0,0,{"$f":"june!E121","v":0},null,null,5.45,4.38,7.8,9.4700000000000006,14,15,20.32,21.5,0,0,0,{"$f":"june!G121","v":0}]
[113,"GREAT BARRINGTON",0,0,0,0,0,0,0,0,0,0,0,{"$f":"june!E122","v":0},null,null,0,0,0,0,0,0,0,0,0,0,0,{"$f":"june!G122","v":0}]
[114,"GREENFIELD",62.08,57.795000000000002,69.03,58.49,38.4,48.24,59.239999999999995,508.4000000000002,506.59000000000026,65.17,92.589999999999989,{"$f":"june!E123","v":116.54999999999997},null,null,201.29,222.63,249.12,256.3,339.51,380.53,357.44,341.54000000000008,338.89000000000016,333.69999999999993,331.94999999999993,{"$f":"june!G123","v":323.16000000000003}]
[115,"GROTON",0,0,0,0,0,0,0,0,0,0,0,{"$f":"june!E124","v":0},null,null,0,0,0,0,0,0,0,0,0,0,0,{"$f":"june!G124","v":0}]
[116,"GROVELAND",0,0,0,0,0,0,0,0,0,0,0,{"$f":"june!E125","v":0},null,null,0,0,0,0,0,0,0,0,0,0,0,{"$f":"june!G125","v":0}]
[117,"HADLEY",16.14,34.06,43.57,55.07,79.19,75.52,75.62,77.67,75.56,78.469999999999985,102.42999999999999,{"$f":"june!E126","v":98.469999999999985},null,null,24.42,21.38,32.39,26.92,31.34,36.299999999999997,30.07,47.03,61.470000000000006,58.52,58.58,{"$f":"june!G126","v":47.480000000000004}]
[118,"HALIFAX",0,0,0,0,0,0,0,0,0,0,0,{"$f":"june!E127","v":0},null,null,0,0,0,1,3.16,3,2,1,1,1,1,{"$f":"june!G127","v":1}]
[119,"HAMILTON",0,0,0,0,0,0,0,0,0,0,0,{"$f":"june!E128","v":0},null,null,0,0,0,0,0,0,0,0,0,0,0,{"$f":"june!G128","v":0}]
[120,"HAMPDEN",0,0,0,0,0,0,0,0,0,0,0,{"$f":"june!E129","v":0},null,null,0,0,0,0,0,0,0,0,0,0,0,{"$f":"june!G129","v":0}]
[121,"HANCOCK",4.42,6,5,6.5,3.81,6,8.34,7,3,4,3,{"$f":"june!E130","v":5},null,null,19,20.74,14.17,18,16,15.72,9.67,9,14.55,9.65,11,{"$f":"june!G130","v":4.6899999999999995}]
[122,"HANOVER",0,0,0,0,0,0,0,0,0,0,0,{"$f":"june!E131","v":0},null,null,2,2,2,2.48,2,1,1,0,0,1,0,{"$f":"june!G131","v":2.74}]
[123,"HANSON",0,0,0,0,0,0,0,0,0,0,0,{"$f":"june!E132","v":0},null,null,0,0,0,0,0,0,0,0,0,0,0,{"$f":"june!G132","v":0}]
[124,"HARDWICK",0,0,0,0,0,0,0,0,0,0,0,{"$f":"june!E133","v":0},null,null,0,0,0,0,0,0,0,0,0,0,0,{"$f":"june!G133","v":0}]
[125,"HARVARD",63.8,74.53,91.27,76.14,73.209999999999994,71,69.72,77,74.279999999999987,73.14,70,{"$f":"june!E134","v":67.38},null,null,4,9,11.04,9.48,8,8.98,10.55,9.02,8.93,5.3,5,{"$f":"june!G134","v":3}]
[126,"HARWICH",61.5,72.91,81.75,107.94,120.92,138.14500000000001,156.25000000000006,158.63999999999999,0,0,0,{"$f":"june!E135","v":0},null,null,122.43,145.16999999999999,148.88999999999999,176.63,180.38,175.96,193.82999999999996,206.72,0,0,0,{"$f":"june!G135","v":0}]
[127,"HATFIELD",26.97,27.77,43.12,50.64,66,123.24,123.93999999999998,134.4,124.93999999999997,124.89000000000001,123.99999999999999,{"$f":"june!E136","v":130.80000000000001},null,null,27.87,25.42,32.24,35.22,44.24,45.24,35.190000000000005,33.39,42.92,37.69,28.32,{"$f":"june!G136","v":30.78}]
[128,"HAVERHILL",60.33,53.89,54.435000000000002,54.02,55.33,52.924999999999997,54.789999999999992,55.080000000000005,57.34,56.41999999999998,42.49,{"$f":"june!E137","v":36.6},null,null,159.535,154.21,143.06,155.08000000000001,169.73,194.13,211.875,216.12999999999997,233.77999999999997,216.10999999999999,210.38000000000002,{"$f":"june!G137","v":189.82}]
[129,"HAWLEY",0,0,0,0,0,0,0,0,0,0,0,{"$f":"june!E138","v":0},null,null,0,0,0,0,0,0,0,0,0,0,0,{"$f":"june!G138","v":0}]
[130,"HEATH",0,0,0,0,0,0,0,0,0,0,0,{"$f":"june!E139","v":0},null,null,0,0,0,0,0,0,0,0,0,0,0,{"$f":"june!G139","v":0}]
[131,"HINGHAM",0,0,0,0,0,0,0,0,0,0,0,{"$f":"june!E140","v":0},null,null,0,0,0,0,0,0,0,0,1,0.72,0,{"$f":"june!G140","v":3.48}]
[132,"HINSDALE",0,0,0,0,0,0,0,0,0,0,0,{"$f":"june!E141","v":0},null,null,0,0,0,0,0,0,0,0,1,0,0,{"$f":"june!G141","v":0}]
[133,"HOLBROOK",0,0,0,0,0,0,11,27.63,61.16,65.430000000000007,57.480000000000004,{"$f":"june!E142","v":57.87},null,null,3,3.5,6.42,5,5,7.23,8.83,10.24,9,9.9,16.600000000000001,{"$f":"june!G142","v":17.499999999999996}]
[134,"HOLDEN",0,0,0,0,0,0,0,0,0,0,0,{"$f":"june!E143","v":0},null,null,0,0,0,0,0,0,0,0,0,0,0,{"$f":"june!G143","v":0}]
[135,"HOLLAND",6.37,11.355,12.52,14.065,19.18,20.54,20.339999999999996,21.98,18.5,28.36,40.31,{"$f":"june!E144","v":52.93},null,null,0.82,2.46,1.59,1,2,2,2.69,3.31,3,1,1,{"$f":"june!G144","v":2.52}]
[136,"HOLLISTON",105.435,97.35,106.125,106.74,103.97,111.22,119.995,125.13999999999999,121.02999999999999,132.01,158.83000000000001,{"$f":"june!E145","v":158.46},null,null,5.42,4.0750000000000002,8.2899999999999991,3.34,4.08,6.62,4.7699999999999996,9.43,7.1999999999999993,4.82,8.57,{"$f":"june!G145","v":14.330000000000002}]
[137,"HOLYOKE",14.42,24.75,27.21,20.34,22,18,12.64,19.440000000000001,32.159999999999997,50.190000000000005,51.699999999999996,{"$f":"june!E146","v":52.690000000000005},null,null,203.1,207.67,217.12,219.44,226.64,219.72,258.89999999999998,259.55000000000007,291.42000000000007,311.62000000000006,334.25000000000011,{"$f":"june!G146","v":337.02}]
[138,"HOPEDALE",139.41,134.56,117.39,111.39,97.31,106.11,111.67000000000002,120.49999999999999,124.6,139.91,129.57999999999998,{"$f":"june!E147","v":122.77},null,null,84.51,74.760000000000005,59.03,60.734999999999999,56.32,41.38,47.42,47.42,41.88,44.97,49.210000000000008,{"$f":"june!G147","v":48.56}]
[139,"HOPKINTON",3,0,0,0,0,0,0,0,0,0,0,{"$f":"june!E148","v":0},null,null,8.99,4.5,7.51,8.77,12.21,13.19,16.12,13.13,14.42,17.740000000000002,15.46,{"$f":"june!G148","v":18.369999999999997}]
[140,"HUBBARDSTON",0,0,0,0,0,0,0,0,0,0,0,{"$f":"june!E149","v":0},null,null,0,0,0,0,0,0,0,0,0,0,0,{"$f":"june!G149","v":0}]
[141,"HUDSON",110.2,109.6,117.75,139.99,155.31,179.57,161.6,139.04999999999998,123.35999999999999,125.08000000000001,101.62,{"$f":"june!E150","v":96.140000000000015},null,null,14.92,11.67,13.97,16.55,14.78,16.53,19.89,22.29,29.08,22.89,18.999999999999996,{"$f":"june!G150","v":21.259999999999998}]
[142,"HULL",0,0,0,0,0,0,0,0,0,0,0,{"$f":"june!E151","v":0},null,null,0,0,0,0,0,0,0,1.5299999999999998,1,2.1,4.5,{"$f":"june!G151","v":6}]
[143,"HUNTINGTON",0,0,0,0,0,0,0,0,0,0,0,{"$f":"june!E152","v":0},null,null,0,0,0,0,0,0,0,0,0,0,0,{"$f":"june!G152","v":0}]
[144,"IPSWICH",87.14,98.444999999999993,147.4,151.51499999999999,166.68,161.57,155.35,150.77000000000001,113.58,83.29,70,{"$f":"june!E153","v":67.97},null,null,16.16,16.61,12.16,11.72,6,3.68,2.5499999999999998,11,21.32,19.879999999999995,20.100000000000001,{"$f":"june!G153","v":16.66}]
[145,"KINGSTON",0,0,0,0,0,0,0,0,0,0,0,{"$f":"june!E154","v":0},null,null,0,0,0,0,0,0,0,0,0,0,0,{"$f":"june!G154","v":0}]
[146,"LAKEVILLE",0,0,0,0,0,0,0,0,0,0,0,{"$f":"june!E155","v":0},null,null,2,1.84,1,0,0.41,1.41,0,0,0,0,0,{"$f":"june!G155","v":0}]
[147,"LANCASTER",0,0,0,0,0,0,0,0,0,0,0,{"$f":"june!E156","v":0},null,null,0,0,0,0,0,0,0,0,0,0,0,{"$f":"june!G156","v":0}]
[148,"LANESBOROUGH",22.76,27.14,20.75,13.36,22.39,26,16.16,15,12.85,15,20,{"$f":"june!E157","v":19},null,null,5.74,5.54,17,15.41,14.73,11.57,15.08,18.34,22.91,21.21,21.279999999999998,{"$f":"june!G157","v":24.09}]
[149,"LAWRENCE",0,0,0,0,0,0,0,0,0,0,0,{"$f":"june!E158","v":0},null,null,97.93,81.63,74.954999999999998,84.07,79.89,81.569999999999993,68.72,66.350000000000009,53.590000000000018,48.82,54.8,{"$f":"june!G158","v":65.930000000000007}]
[150,"LEE",114.7,122.88,113.05,117.39,123.62,108.52,106.37000000000002,95.42,103.01,112.66,127.97999999999999,{"$f":"june!E159","v":128.54000000000002},null,null,69.63,76.41,79.52,72.099999999999994,68.45,74.55,71.23,76.81,81.069999999999993,90.420000000000016,89.71,{"$f":"june!G159","v":98.38}]
[151,"LEICESTER",25.82,54.63,45.75,59.65,67.510000000000005,73.305000000000007,69.97999999999999,73.050000000000011,70.5,67.28,92,{"$f":"june!E160","v":103.14},null,null,12.06,11.81,24.64,29.08,31.27,27.05,23.599999999999998,25.289999999999996,35.680000000000007,30.389999999999997,31.229999999999997,{"$f":"june!G160","v":35.340000000000003}]
[152,"LENOX",114.31,134.84,145.72999999999999,149.81,170.66,191.47,205.25999999999996,216.34000000000003,221.43,222,246.78999999999996,{"$f":"june!E161","v":253.16},null,null,35.479999999999997,37.49,39.32,38.119999999999997,40.799999999999997,42.93,39.700000000000003,41.74,44.42,53.79,51.5,{"$f":"june!G161","v":47.019999999999996}]
[153,"LEOMINSTER",110.46,117.76,140.44999999999999,150.55000000000001,164.45,181.56,200.99,215.76000000000002,238.4899999999999,257.75000000000006,246.87999999999997,{"$f":"june!E162","v":246.15999999999997},null,null,208.625,188.91,204.55,210.67,240.535,246.70500000000001,314.85999999999979,338.90999999999997,350.83999999999992,341.80000000000007,334.88000000000005,{"$f":"june!G162","v":323.70000000000005}]
[154,"LEVERETT",15.45,24.58,35.36,26.06,25.44,29.22,26.709999999999997,22.52,26,20.569999999999997,20.490000000000002,{"$f":"june!E163","v":21.2},null,null,0.11,0,0,0,3,3.58,3.42,5,7.63,6.98,7.34,{"$f":"june!G163","v":5.37}]
[155,"LEXINGTON",0,0,0,0,0,0,0,0,0,0,0,{"$f":"june!E164","v":0},null,null,2,3,2,1,0,0.52,2,5,2.99,1,2.4299999999999997,{"$f":"june!G164","v":6.34}]
[156,"LEYDEN",0,0,0,0,0,0,0,0,0,0,0,{"$f":"june!E165","v":0},null,null,0,0,0,0,0,0,0,0,0,0,0,{"$f":"june!G165","v":0}]
[157,"LINCOLN",0,0,0,0,0,0,0,0,0,0,0,{"$f":"june!E166","v":0},null,null,0,0,0,0,0,0,0.1,0,4,2.7,0.42,{"$f":"june!G166","v":2.2200000000000002}]
[158,"LITTLETON",28.2,27.15,27.18,33.22,41.4,43.325000000000003,54.180000000000007,69.91,75.02,72.5,68.490000000000009,{"$f":"june!E167","v":78.39},null,null,19.34,30,37.880000000000003,41.17,42.45,35.549999999999997,36.14,38.64,33.090000000000003,24.580000000000002,19.399999999999999,{"$f":"june!G167","v":22.16}]
[159,"LONGMEADOW",121.49,123.12,103,66.41,56,50.27,39.93,39.5,44,43,45,{"$f":"june!E168","v":39.630000000000003},null,null,0,1,3.37,2.91,3.78,4,0.17,4,2,2,2,{"$f":"june!G168","v":2.06}]
[160,"LOWELL",0,0,0,0,0,0,0,0,0,0,0,{"$f":"june!E169","v":0},null,null,40.450000000000003,39.01,43.22,36.950000000000003,50.66,48.03,57.98,76.929999999999978,78.699999999999989,88.64,106.84999999999998,{"$f":"june!G169","v":141.94999999999996}]
[161,"LUDLOW",86.86,107.97,104.05,102.05,109.59,105.46,94.67,89.3,94.75,89.11,80.17,{"$f":"june!E170","v":93.99},null,null,27.9,33.58,26.02,20.69,13.9,14.7,18.990000000000002,22.96,24.139999999999997,31.799999999999997,38.549999999999997,{"$f":"june!G170","v":40.08}]
[162,"LUNENBURG",81.87,85.94,83.74,79.510000000000005,62.87,70.900000000000006,66.3,55.089999999999996,53.96,46.3,38.94,{"$f":"june!E171","v":51.269999999999996},null,null,37.47,50.125,45.79,54.78,43.51,51.67,57.29999999999999,75.22,71.84,69.540000000000006,85.480000000000018,{"$f":"june!G171","v":80.180000000000007}]
[163,"LYNN",0,0,0,0,0,0,0,0,0,0,0,{"$f":"june!E172","v":0},null,null,47.25,29.71,28.59,21.53,26.3,25.78,24.12,34.19,36.400000000000006,62.339999999999996,79.010000000000005,{"$f":"june!G172","v":99.25}]
[164,"LYNNFIELD",0,0,0,0,0,0,0,0,0,0,0,{"$f":"june!E173","v":0},null,null,0.71,0,0,0.4,0,1,0,2.2599999999999998,2,1,0,{"$f":"june!G173","v":0}]
[165,"MALDEN",0,0,0,0,0,0,0,0,0,0,0,{"$f":"june!E174","v":0},null,null,0,0,0,0,1,1,1,3.61,4.12,0.65,7.370000000000001,{"$f":"june!G174","v":9.9400000000000013}]
[166,"MANCHESTER",0,0,0,0,0,0,0,0,0,0,0,{"$f":"june!E175","v":0},null,null,0,0,0,0,0,0,0,0,0,0,0,{"$f":"june!G175","v":0}]
[167,"MANSFIELD",0,0,0,0,0,0,0,0,0,0,0,{"$f":"june!E176","v":0},null,null,1.72,1,1,4.5999999999999996,5,5.92,4,7,3.56,5,5.27,{"$f":"june!G176","v":6.43}]
[168,"MARBLEHEAD",15,13.47,11,3,0,1,0,0,0,0,0,{"$f":"june!E177","v":0},null,null,2,2,0.42,0,0.66,0,1,6.43,4.6500000000000004,0.59,0.60000000000000009,{"$f":"june!G177","v":5.41}]
[169,"MARION",0,0,0,0,0,0,0,0,0,0,0,{"$f":"june!E178","v":0},null,null,0,0,0,0,0,0,0,0,0,0,1,{"$f":"june!G178","v":0.72}]
[170,"MARLBOROUGH",0,0,0,0,0,0,0,0,0,0,0,{"$f":"june!E179","v":0},null,null,59.09,52.05,63.15,73.58,87.94,106.68,111,105.63000000000001,96.699999999999989,92.13,93.87,{"$f":"june!G179","v":91.36}]
[171,"MARSHFIELD",0,0.98,1.5,2,2,2.5,3,4,4,4.5,6,{"$f":"june!E180","v":5},null,null,0,0,0,0,0,0,2,1.02,0,0.46,6.5400000000000009,{"$f":"june!G180","v":6.14}]
[172,"MASHPEE",0,0,0,0,0,0,3,28.150000000000002,48.580000000000005,37.5,72.42,{"$f":"june!E181","v":64.75},null,null,14.91,12.36,17.38,26.59,33.93,33.22,43.77000000000001,52.1,74.819999999999993,66.12,65.199999999999989,{"$f":"june!G181","v":81.100000000000023}]
[173,"MATTAPOISETT",0,0,0,0,0,0,0,0,0,3,3,{"$f":"june!E182","v":2},null,null,0,0.5,0,0,0,0,0,0,0,0,0.39,{"$f":"june!G182","v":1.33}]
[174,"MAYNARD",34.93,31.23,22.99,30.11,27.94,18.32,15.84,18.759999999999998,37.459999999999994,37.500000000000007,35.159999999999997,{"$f":"june!E183","v":39.520000000000003},null,null,9,14.88,27.95,45.414999999999999,42.96,52.43,45.709999999999994,33.700000000000003,29,24.16,15.629999999999999,{"$f":"june!G183","v":9}]
[175,"MEDFIELD",0,0,0,0,0,0,0,0,0,0,0,{"$f":"june!E184","v":0},null,null,0.5,1,2.58,4.21,5.41,9.49,6.4,2.13,1.99,1.67,5.9099999999999993,{"$f":"june!G184","v":7.4500000000000011}]
[176,"MEDFORD",0,0,0,0,0,0,0,0,0,0,0,{"$f":"june!E185","v":0},null,null,4.7,2.38,7.56,7,4.1500000000000004,4,1,1,0.31,2.25,3.93,{"$f":"june!G185","v":7.4099999999999993}]
[177,"MEDWAY",24.26,41.854999999999997,37.17,32.28,27.91,34.814999999999998,55.620000000000005,58.660000000000004,71.7,75.20999999999998,71.150000000000006,{"$f":"june!E186","v":89.180000000000021},null,null,32.22,31.18,35.28,39.645000000000003,42.17,49.41,44.35,45.91,47.660000000000004,50.559999999999995,42.32,{"$f":"june!G186","v":49.629999999999995}]
[178,"MELROSE",0,0,0,0,0,0,0,0,0,1,10.629999999999999,{"$f":"june!E187","v":25.29},null,null,0,0,0,0,0,0,0,0.94,0,0,3.8400000000000003,{"$f":"june!G187","v":2.08}]
[179,"MENDON",0,0,0,0,0,0,0,0,0,0,0,{"$f":"june!E188","v":0},null,null,0,0,0,0,0,0,0,0,0,0,0,{"$f":"june!G188","v":0}]
[180,"MERRIMAC",0,0,0,0,0,0,0,0,0,0,0,{"$f":"june!E189","v":0},null,null,0,0,0,0,0,0,0,0,0,0,0,{"$f":"june!G189","v":0}]
[181,"METHUEN",0,0,0,0,0,0,0,0,0,0,0,{"$f":"june!E190","v":0},null,null,14,11.71,12.31,9.84,14.95,10.82,13.77,19.339999999999996,21.31,24.779999999999998,16.989999999999998,{"$f":"june!G190","v":24.69}]
[182,"MIDDLEBOROUGH",13.02,13.41,9.1999999999999993,7.19,4,3,3,8,4,6.38,3,{"$f":"june!E191","v":3},null,null,3.84,1.54,2.17,5.13,10.76,9.19,21.25,32.72,35.090000000000003,33.94,46.590000000000011,{"$f":"june!G191","v":51.73}]
[183,"MIDDLEFIELD",0,0,0,0,0,0,0,0,0,0,0,{"$f":"june!E192","v":0},null,null,0,0,0,0,0,0,0,0,0,0,0,{"$f":"june!G192","v":0}]
[184,"MIDDLETON",0,0,0,0,0,0,0,0,0,0,0,{"$f":"june!E193","v":0},null,null,0.2,0,0.2,0,0,0,0,0,0,0,0,{"$f":"june!G193","v":1}]
[185,"MILFORD",140.69,130.33000000000001,109.69499999999999,113.505,117.69,99.3,85.69,94.259999999999991,89.920000000000016,84.49,82.649999999999991,{"$f":"june!E194","v":86.799999999999983},null,null,133.375,119.95,110.4,103.86,100.14,108.81,121.65,139.99000000000004,150.82,169.48000000000002,184.21000000000004,{"$f":"june!G194","v":198.76000000000002}]
[186,"MILLBURY",0,0,0,0,0,0,0,0,0,0,0,{"$f":"june!E195","v":0},null,null,18.18,12.96,15.19,14.58,15,8.5,16.14,15.030000000000001,14.68,17.739999999999998,20.189999999999998,{"$f":"june!G195","v":24.34}]
[187,"MILLIS",47.55,35.729999999999997,30.02,36.25,41.87,60.58,64.929999999999978,68.56,63.68,74.679999999999978,76.029999999999973,{"$f":"june!E196","v":79.259999999999991},null,null,31.66,36.14,35.465000000000003,34.65,29.34,29.555,36.155000000000001,35.099999999999994,31.259999999999998,31.01,31.69,{"$f":"june!G196","v":28.61}]
[188,"MILLVILLE",0,0,0,0,0,0,0,0,0,0,0,{"$f":"june!E197","v":0},null,null,0,0,0,0,0,0,0,0,0,0,0,{"$f":"june!G197","v":0}]
[189,"MILTON",0,0,0,0,0,0,0,0,0,0,0,{"$f":"june!E198","v":0},null,null,0,0,0,1,0,0,0,0,3.2199999999999998,2,2.7,{"$f":"june!G198","v":4}]
[190,"MONROE",0,0,0,0,0,0,0,0,0,0,0,{"$f":"june!E199","v":0},null,null,1,1.3,3,4.3600000000000003,6.2,1.52,1,1.7,1,1,0.37,{"$f":"june!G199","v":0.74}]
[191,"MONSON",0,0,0,0,0,0,7.7200000000000006,28.88,42.2,31.29,42.96,{"$f":"june!E200","v":52},null,null,5.15,10.83,10.5,12.78,20.61,22.98,17,32.799999999999997,35.61,35.379999999999995,34.769999999999996,{"$f":"june!G200","v":36.680000000000007}]
[192,"MONTAGUE",0,0,0,0,0,0,0,0,0,0,0,{"$f":"june!E201","v":0},null,null,0,0,0,0,0,0,0,0,0,0,0,{"$f":"june!G201","v":0}]
[193,"MONTEREY",0,0,0,0,0,0,0,0,0,0,0,{"$f":"june!E202","v":0},null,null,0,0,0,0,0,0,0,0,0,0,0,{"$f":"june!G202","v":0}]
[194,"MONTGOMERY",0,0,0,0,0,0,0,0,0,0,0,{"$f":"june!E203","v":0},null,null,0,0,0,0,0,0,0,0,0,0,0,{"$f":"june!G203","v":0}]
[195,"MOUNT WASHINGTON",0,0,0,0,0,0,0,0,0,0,0,{"$f":"june!E204","v":0},null,null,0,0,1,2,2.58,1,1,1,2,2,1,{"$f":"june!G204","v":1}]
[196,"NAHANT",0,0,0,0,0,0,0,0,0,0,0,{"$f":"june!E205","v":0},null,null,0,1,1,0,0,0,0,0,0,0,0,{"$f":"june!G205","v":1.48}]
[197,"NANTUCKET",0,0,0,0,0,0,0,0,0,0,0,{"$f":"june!E206","v":0},null,null,0,0,0,0,0,0,0,0,0,0,0,{"$f":"june!G206","v":1.17}]
[198,"NATICK",0,0,0,0,0,13.46,18.200000000000003,32.150000000000006,36.509999999999984,40.35,40.06,{"$f":"june!E207","v":38.89},null,null,3.92,6,5.32,5,5,1,1.5,4.9399999999999995,6.089999999999999,10.89,14.13,{"$f":"june!G207","v":11.770000000000003}]
[199,"NEEDHAM",0,0,0,0,0,0,0,0,0,0,0,{"$f":"june!E208","v":0},null,null,0,0,0,0.9,0,3,2,0,2.04,1.7,3.41,{"$f":"june!G208","v":5.9099999999999993}]
[200,"NEW ASHFORD",0,0,0,0,0,0,0,0,0,0,0,{"$f":"june!E209","v":0},null,null,4,4,2,1,1.5,3,3,3,2,2,3,{"$f":"june!G209","v":1}]
[201,"NEW BEDFORD",0,0,0,0,0,0,0,0,0,0,0,{"$f":"june!E210","v":0},null,null,5.3,3.94,5.18,5.98,6.84,11.3,13.7,19.66,28.68,43.220000000000006,56.489999999999995,{"$f":"june!G210","v":90.39}]
[202,"NEW BRAINTREE",0,0,0,0,0,0,0,0,0,0,0,{"$f":"june!E211","v":0},null,null,0,0,0,0,0,0,0,0,0,0,0,{"$f":"june!G211","v":0}]
[203,"NEWBURY",0,0,0,0,0,0,0,0,0,0,0,{"$f":"june!E212","v":0},null,null,0,0,0,0,0,0,0,0,0,0,0,{"$f":"june!G212","v":0}]
[204,"NEWBURYPORT",213.45,215.405,214.19499999999999,171.53,156.25,135.34,117.92,117.89,105.02,83.759999999999991,56.16,{"$f":"june!E213","v":42.019999999999996},null,null,62.74,52.55,43.734999999999999,54.08,57.67,55.115000000000002,60.03,63.239999999999995,58.99,65.87,50.15,{"$f":"june!G213","v":42.73}]
[205,"NEW MARLBOROUGH",0,0,0,0,0,0,0,0,0,0,0,{"$f":"june!E214","v":0},null,null,0,0,0,0,0,0,0,0,0,0,0,{"$f":"june!G214","v":0}]
[206,"NEW SALEM",0,0,0,0,0,0,0,0,0,0,0,{"$f":"june!E215","v":0},null,null,0,0,0,0,0,0,0,0,0,0,0,{"$f":"june!G215","v":0}]
[207,"NEWTON",0,0,0,0,0,0,0,0,0,0,0,{"$f":"june!E216","v":0},null,null,0,0,0,0,0,1.56,0,1,0.6,0.66,2.6900000000000004,{"$f":"june!G216","v":4.5599999999999996}]
[208,"NORFOLK",0,0,0,0,0,0,0,0,0,0,0,{"$f":"june!E217","v":0},null,null,2.02,1.56,1,1,2.35,1.57,2,1,1.5,1.76,3,{"$f":"june!G217","v":3}]
[209,"NORTH ADAMS",11.88,17.73,38.17,33.22,30.14,36.020000000000003,38.449999999999996,38.339999999999996,41.980000000000004,40.289999999999992,44.21,{"$f":"june!E218","v":44.169999999999995},null,null,97.42,87.43,89.98,87.73,91.17,89.71,106.35,112.83,119.74,121.37999999999998,117.86000000000003,{"$f":"june!G218","v":112.9}]
[210,"NORTHAMPTON",226.51,190.65,188.94,162.38,189.43,201.96,206.61000000000004,203.90000000000003,224.63,216.88000000000002,224.03,{"$f":"june!E219","v":221.36},null,null,48.08,46.94,53.59,52.71,63.18,84.31,74.84,77.63,69.25,73.399999999999991,69.150000000000006,{"$f":"june!G219","v":83.42}]
[211,"NORTH ANDOVER",0,0,0,0,0,0,0,0,0,0,0,{"$f":"june!E220","v":0},null,null,2.41,1.26,4,1.33,3.38,2.85,5.22,3.98,1.79,1,0.78,{"$f":"june!G220","v":0}]
[212,"NORTH ATTLEBOROUGH",0,0,0,0,0,0,0,0,0,0,0,{"$f":"june!E221","v":0},null,null,1.1299999999999999,0.2,2,2.78,1,0,0.96,1.5500000000000003,1,6.31,9.7899999999999991,{"$f":"june!G221","v":13.17}]
[213,"NORTHBOROUGH",0,0,0,0,0,0,0,0,0,0,0,{"$f":"june!E222","v":0},null,null,3,2,1,0,1.9,0,0,3,14,9.0400000000000009,5,{"$f":"june!G222","v":1.98}]
[214,"NORTHBRIDGE",98.37,103.2,88.66,58.7,63.53,81.83,96.75,84.6,89.97,97,108.41000000000001,{"$f":"june!E223","v":104.2},null,null,87.33,90.825000000000003,83.795000000000002,100.04,115.25,119.32,100.68000000000004,107.38,92.420000000000016,102.60999999999999,111.91999999999999,{"$f":"june!G223","v":127.59000000000003}]
[215,"NORTH BROOKFIELD",56.21,42.15,49.08,54.59,64.959999999999994,61.98,57.650000000000006,43.260000000000005,48.540000000000006,46.829999999999991,64.87,{"$f":"june!E224","v":64.580000000000013},null,null,83.68,91.01,115.2,114.87,112.84,116.41,105.71999999999998,111.04000000000002,113.77000000000002,122.72000000000004,123.22000000000001,{"$f":"june!G224","v":112.61}]
[216,"NORTHFIELD",0,0,0,0,0,0,0,0,0,0,0,{"$f":"june!E225","v":0},null,null,0,0,0,0,0,0,0,0,0,0,0,{"$f":"june!G225","v":0}]
[217,"NORTH READING",0,0,0,0,0,0,0,0,0,0,0,{"$f":"june!E226","v":0},null,null,0,0,0,0,0,0,0.4,0,0,1,3.01,{"$f":"june!G226","v":5.72}]
[218,"NORTON",0,0,0,0,0,0,0,0,0,0,11,{"$f":"june!E227","v":34.950000000000003},null,null,6.02,7.77,13.89,15,7.5,8,7.29,6.83,8.0399999999999991,11.12,18.680000000000003,{"$f":"june!G227","v":18.979999999999997}]
[219,"NORWELL",0,0,0,0,0,0,0,0,0,0,0,{"$f":"june!E228","v":0},null,null,0,0,0,0,0,0,0,0,0,0,1,{"$f":"june!G228","v":1}]
[220,"NORWOOD",0,0,0,0,0,0,0,0,0,0,0,{"$f":"june!E229","v":0},null,null,1,1,1,1.62,1,1,2,3.3699999999999997,2,1.9300000000000002,4.49,{"$f":"june!G229","v":9.370000000000001}]
[221,"OAK BLUFFS",26.8,36.36,44.1,46.12,51.35,59.59,50.480000000000004,42.3,38.349999999999994,40.04,35.269999999999996,{"$f":"june!E230","v":35.450000000000003},null,null,22.93,25.89,33.729999999999997,32.68,27.87,25.26,21.56,20.04,33.739999999999995,35.620000000000005,31.240000000000002,{"$f":"june!G230","v":31.089999999999996}]
[222,"OAKHAM",0,0,0,0,0,0,0,0,0,0,0,{"$f":"june!E231","v":0},null,null,0,0,0,1,0,0,0,0,0,0,0,{"$f":"june!G231","v":0}]
[223,"ORANGE",44.31,48.79,61.56,67.44,81.650000000000006,85.8,82.380000000000024,74.740000000000009,51.799999999999976,57.52000000000001,53.11,{"$f":"june!E232","v":61.23},null,null,13.59,14.51,14.86,19.22,19.75,25.67,21.06,34.049999999999997,46.370000000000005,43.19,64.34,{"$f":"june!G232","v":66.44}]
[224,"ORLEANS",0,0,0,0,0,0,0,0,3,4,1,{"$f":"june!E233","v":1},null,null,1.385,3,0,2.96,0.44,0,1.35,1.51,3.49,2.69,3,{"$f":"june!G233","v":2.4900000000000002}]
[225,"OTIS",0,0,0,0,0,0,0,0,0,0,0,{"$f":"june!E234","v":0},null,null,0,0,0,0,0,0,0,0,0,0,0,{"$f":"june!G234","v":0}]
[226,"OXFORD",0,0,0,0,0,0,4.7700000000000005,11.83,15.49,8.6,4,{"$f":"june!E235","v":5.93},null,null,18.86,34.340000000000003,31.67,34.57,47.61,56.1,53.115000000000002,55.100000000000009,63.2,61.839999999999996,75.099999999999994,{"$f":"june!G235","v":79.399999999999963}]
[227,"PALMER",0,0,0,0,0,0,0,0,0,17.759999999999998,19.439999999999998,{"$f":"june!E236","v":27.340000000000003},null,null,30.03,31.42,24.57,27.47,24.55,20.46,37.629999999999988,52.779999999999994,57.46,53.8,76.289999999999992,{"$f":"june!G236","v":84.030000000000015}]
[228,"PAXTON",0,0,0,0,0,0,0,0,0,0,0,{"$f":"june!E237","v":0},null,null,0,0,0,0,0,0,0,0,0,0,0,{"$f":"june!G237","v":0}]
[229,"PEABODY",0,0,0,0,0,0,0,7.1400000000000006,30.950000000000003,61.270000000000017,71.850000000000009,{"$f":"june!E238","v":91.090000000000046},null,null,39.94,33.47,38.119999999999997,41.47,46.83,49.72,55.34,60.31,70.509999999999991,71.11,54.03,{"$f":"june!G238","v":48.01}]
[230,"PELHAM",13,18.13,29.03,34,38.67,47,57,63.489999999999995,65.320000000000007,60.26,49.61999999999999,{"$f":"june!E239","v":52.919999999999995},null,null,2,1,0,0,0.62,0,0,1,3,4,2,{"$f":"june!G239","v":2}]
[231,"PEMBROKE",0,0,0,0,0,0,0,0,0,0,0,{"$f":"june!E240","v":0},null,null,0,0,0,0,0,2.68,0,2.95,2,1.65,7.2100000000000009,{"$f":"june!G240","v":7.51}]
[232,"PEPPERELL",0,0,0,0,0,0,0,0,0,0,0,{"$f":"june!E241","v":0},null,null,0,0,0,0,0,0,0,0,0,0,0,{"$f":"june!G241","v":0}]
[233,"PERU",0,0,0,0,0,0,0,0,0,0,0,{"$f":"june!E242","v":0},null,null,0,0,0,0,0,0,0,0,0,0,0,{"$f":"june!G242","v":0}]
[234,"PETERSHAM",13.2,12.27,16,29.49,33.51,46.2,56.519999999999996,57.35,59.519999999999996,60,66.39,{"$f":"june!E243","v":66.670000000000016},null,null,8,5.5,9.68,11.98,17,10.25,6,6,1,6.5,10,{"$f":"june!G243","v":8}]
[235,"PHILLIPSTON",0,0,0,0,0,0,0,0,0,0,0,{"$f":"june!E244","v":0},null,null,0,0,0,0,0,0,0,0,0,0,0,{"$f":"june!G244","v":0}]
[236,"PITTSFIELD",55.94,60.51,77.069999999999993,67.010000000000005,65.72,69.12,66.789999999999992,71.390000000000015,85.419999999999987,87.399999999999991,99.089999999999989,{"$f":"june!E245","v":101.65999999999998},null,null,222.34,230.92,251.61,264.61,308.27999999999997,349.78,378.94000000000005,385.37999999999988,398.92000000000019,373.22000000000014,443.34000000000009,{"$f":"june!G245","v":477.73000000000013}]
[237,"PLAINFIELD",0,0,0,0,0,0,0,0,0,0,0,{"$f":"june!E246","v":0},null,null,0,0,0,0,0,0,0,0,0,0,0,{"$f":"june!G246","v":0}]
[238,"PLAINVILLE",0,0,0,0,0,0,0,0,0,0,0,{"$f":"june!E247","v":0},null,null,0,0,0,1.33,1,0,0,0,0,0,0,{"$f":"june!G247","v":0}]
[239,"PLYMOUTH",0,0,0,0,0,0,0,0,0,0,0,{"$f":"june!E248","v":0},null,null,1,9.31,9.1,22.51,16.47,24.56,19.569999999999997,34.910000000000004,42.14,44.080000000000005,53.629999999999988,{"$f":"june!G248","v":53.060000000000009}]
[240,"PLYMPTON",0,0,0,0,0,0,0,0,0,0,4,{"$f":"june!E249","v":6},null,null,0,0,0,0,0,0,0,0,0,0,1,{"$f":"june!G249","v":1}]
[241,"PRINCETON",0,0,0,0,0,0,0,0,0,0,0,{"$f":"june!E250","v":0},null,null,0,0,0,0,0,0,0,0,0,0,0,{"$f":"june!G250","v":0}]
[242,"PROVINCETOWN",43.26,42.96,40.634999999999998,38.36,37.369999999999997,32.25,26.159999999999997,13.41,16.169999999999998,14.07,27.849999999999998,{"$f":"june!E251","v":42.53},null,null,17.37,20.58,30.25,35.369999999999997,41.38,50.06,44.290000000000006,37.94,29.57,18.490000000000002,20,{"$f":"june!G251","v":19}]
[243,"QUINCY",0,0,0,0,0,0,0,0,0,0,0,{"$f":"june!E252","v":0},null,null,0.6,0.74,1,1,1.31,1,1,0.54,1,4.53,9.379999999999999,{"$f":"june!G252","v":9.8899999999999988}]
[244,"RANDOLPH",0,0,0,0,0,0,0,0.24,3,3.95,5.330000000000001,{"$f":"june!E253","v":7},null,null,21.11,25.7,39.78,59.42,58.28,66.19,87.39,97.25,135.43,143.96000000000004,151.96,{"$f":"june!G253","v":158.96000000000004}]
[245,"RAYNHAM",0,0,0,0,0,0,0,0,0,0,0,{"$f":"june!E254","v":0},null,null,0,0,0,0,0,0,0,0,0,0,0,{"$f":"june!G254","v":0}]
[246,"READING",0,0,0,0,0,0,0,0,0,0,0,{"$f":"june!E255","v":0},null,null,1,1,1,1,1,0,1.65,2,3,2,3.25,{"$f":"june!G255","v":7.1}]
[247,"REHOBOTH",0,0,0,0,0,0,0,0,0,0,0,{"$f":"june!E256","v":0},null,null,0,0,0,0,0,0,0,0,0,0,0,{"$f":"june!G256","v":0}]
[248,"REVERE",0,0,0,0,0,0,0,0,0,0,0,{"$f":"june!E257","v":0},null,null,33.36,25.12,18.82,12,9.93,9.26,12,12,8.7200000000000006,8.9,11.209999999999999,{"$f":"june!G257","v":13.559999999999999}]
[249,"RICHMOND",0,0,34.57,43.08,40.94,51.01,75.930000000000007,69.2,56.94,59.510000000000005,76,{"$f":"june!E258","v":79.5},null,null,5.94,8.92,10.210000000000001,10.16,11.24,12,23.139999999999997,20.59,18.190000000000001,19.53,16.170000000000002,{"$f":"june!G258","v":15.739999999999998}]
[250,"ROCHESTER",0,0,0,0,0,0,0,0,0,0,0,{"$f":"june!E259","v":0},null,null,0,0,0,0.37,0,0,0,0,0,2,2,{"$f":"june!G259","v":1}]
[251,"ROCKLAND",0,0,0,0,0,0,0,0,0,11.12,36.28,{"$f":"june!E260","v":37.120000000000005},null,null,0,0,0,0,0,0,1,0,1.51,5.97,14.090000000000002,{"$f":"june!G260","v":13.910000000000002}]
[252,"ROCKPORT",62.4,89.85,108.25,122.61,114.65,122.37,134.93,146.94,169.69,205.73999999999998,224.25999999999993,{"$f":"june!E261","v":237.83},null,null,48.07,45.02,39.619999999999997,37.39,29.23,22.21,24.650000000000002,19.3,29.91,30.84,28.72,{"$f":"june!G261","v":27.48}]
[253,"ROWE",19.14,19.64,17.440000000000001,21.6,21.79,21,20,27,19.93,17.13,18.38,{"$f":"june!E262","v":19},null,null,0,1.46,2,0,0.72,2,2.9699999999999998,0,1,0.88,2,{"$f":"june!G262","v":3}]
[254,"ROWLEY",0,0,0,0,0,0,0,0,0,0,0,{"$f":"june!E263","v":0},null,null,0,0,0,0,0,0,0,0,0,0,0,{"$f":"june!G263","v":0}]
[255,"ROYALSTON",0,0,0,0,0,0,0,0,0,0,0,{"$f":"june!E264","v":0},null,null,0,0,0,0,0,0,0,0,0,0,0,{"$f":"june!G264","v":0}]
[256,"RUSSELL",0,0,0,0,0,0,0,0,0,0,0,{"$f":"june!E265","v":0},null,null,0,0,0,0,0,0,0,0,0,0,0,{"$f":"june!G265","v":0}]
[257,"RUTLAND",0,0,0,0,0,0,0,0,0,0,0,{"$f":"june!E266","v":0},null,null,0,0,0,0,0,0,0,0,0,0,0,{"$f":"june!G266","v":0}]
[258,"SALEM",0,0,0,0,0,0,0,0,0,0,0,{"$f":"june!E267","v":0},null,null,46.45,54.08,47.914999999999999,42.625,38.26,39.46,39.140000000000008,35.549999999999997,51.72,61.669999999999995,73.97999999999999,{"$f":"june!G267","v":74.459999999999994}]
[259,"SALISBURY",0,0,0,0,0,0,0,0,0,0,0,{"$f":"june!E268","v":0},null,null,0,0,0,0,0,0,0,0,0,0,0,{"$f":"june!G268","v":0}]
[260,"SANDISFIELD",0,0,0,0,0,0,0,0,0,0,0,{"$f":"june!E269","v":0},null,null,0,0,0,0,0,0,0,0,0,0,0,{"$f":"june!G269","v":0}]
[261,"SANDWICH",0,0,0,0,0,14.96,23.96,46.819999999999993,69.41,76.3,82.5,{"$f":"june!E270","v":76.400000000000006},null,null,3.93,7.59,13.03,28.3,36.58,30.52,42.33,55.799999999999983,56.81,54.120000000000012,63.88,{"$f":"june!G270","v":64.03}]
[262,"SAUGUS",0,0,0,0,0,0,0,0,0,0,0,{"$f":"june!E271","v":0},null,null,3,2.875,3,4.46,3.11,2,3.54,11.74,8,8.0399999999999991,8.81,{"$f":"june!G271","v":15.97}]
[263,"SAVOY",3.63,4.3499999999999996,4,5.76,6.37,4.99,7,6,5,7.8,14,{"$f":"june!E272","v":11},null,null,9.1,11,17.260000000000002,15,36.1,28.25,19.97,19,16.399999999999999,25,25.48,{"$f":"june!G272","v":24.15}]
[264,"SCITUATE",0,0,0,0,0,0,0,0,0,0,0,{"$f":"june!E273","v":0},null,null,0,0,0,0,0,0,0,0,0,0.93,2.74,{"$f":"june!G273","v":1.3}]
[265,"SEEKONK",0,0,0,0,0,0,0,0,0,0,0,{"$f":"june!E274","v":0},null,null,0,0,0.71,1,1,0,0,1,2.1,1,2.81,{"$f":"june!G274","v":5.3}]
[266,"SHARON",0,0,0,0,0,0,0,0,0,0,0,{"$f":"june!E275","v":0},null,null,0,0,0,0,0,0,0,2,2,0.17,0.69,{"$f":"june!G275","v":3}]
[267,"SHEFFIELD",0,0,0,0,0,0,0,0,0,0,0,{"$f":"june!E276","v":0},null,null,0,0,0,0,0,0,0,0,0,0,0,{"$f":"june!G276","v":0}]
[268,"SHELBURNE",0,0,0,0,0,0,0,0,0,0,0,{"$f":"june!E277","v":0},null,null,0,0,0,0,0,0,0,0,0,0,0,{"$f":"june!G277","v":0}]
[269,"SHERBORN",0,0,0,0,0,0,0,0,0,0,0,{"$f":"june!E278","v":0},null,null,1,0,0,0,0,0,0,0,1.97,0,0,{"$f":"june!G278","v":0}]
[270,"SHIRLEY",66.34,53.58,45,40.340000000000003,45.03,48.08,64.400000000000006,0,0,0,0,{"$f":"june!E279","v":0},null,null,90,94.45,91.51,94.33,106.46,120.05,106.69,0,0,0,0,{"$f":"june!G279","v":0}]
[271,"SHREWSBURY",0,0,0,0,0,0,19.21,15,13,13,0.81,{"$f":"june!E280","v":0},null,null,17.05,16.46,10.039999999999999,13.72,18.48,21.2,19.48,26.32,28.610000000000003,32.140000000000008,38.010000000000005,{"$f":"june!G280","v":26.689999999999998}]
[272,"SHUTESBURY",0,0,0,0,0,0,0,0,0,0,0,{"$f":"june!E281","v":0},null,null,5.03,7.89,8,8,7.04,4,6,9,7.24,11,8,{"$f":"june!G281","v":11.459999999999999}]
[273,"SOMERSET",0,0,0,0,0,0,0,0,0,0,0,{"$f":"june!E282","v":0},null,null,0,0,1.38,3,5,4.5,1,6.14,10,8,3.51,{"$f":"june!G282","v":13.68}]
[274,"SOMERVILLE",0,0,0,0,0,0,0,0,0,0,0,{"$f":"june!E283","v":0},null,null,1,0,0.24,0.85,1,0,0,0,0.99,1,2.08,{"$f":"june!G283","v":5}]
[275,"SOUTHAMPTON",0,10,35,42,44,48,60,72.45,73.87,65.010000000000005,65,{"$f":"june!E284","v":70.88},null,null,3.08,3,2.29,3.68,1.1599999999999999,4.68,3.36,5,4.93,7,11.79,{"$f":"june!G284","v":9.9499999999999993}]
[276,"SOUTHBOROUGH",0,0,0,0,0,0,0,0,0,0,0,{"$f":"june!E285","v":0},null,null,0,0.66,1,0,0,2.68,0,2,1.55,0,3.57,{"$f":"june!G285","v":4.17}]
[277,"SOUTHBRIDGE",0,0,0,0,0,7.22,4.24,2.12,0,5,6.33,{"$f":"june!E286","v":7.3100000000000005},null,null,32.979999999999997,74.680000000000007,89.34,128.22999999999999,155.13,170.6,174.92,189.41999999999996,189.99,224.05,232.54,{"$f":"june!G286","v":262.32999999999993}]
[278,"SOUTH HADLEY",131.57,131.6,125.41,124.22,138.82,140.55000000000001,149.56999999999996,140.17999999999998,164.93000000000004,178.22000000000006,168.47000000000006,{"$f":"june!E287","v":162.38999999999999},null,null,48.63,50.17,59.78,72.91,91.87,98.23,89.91,107.11000000000003,93.21,101.57000000000004,114.81000000000002,{"$f":"june!G287","v":113.36000000000003}]
[279,"SOUTHWICK",0,0,0,0,0,0,0,0,0,0,0,{"$f":"june!E288","v":0},null,null,0,0,0,0,0,0,0,0,0,0,0,{"$f":"june!G288","v":0}]
[280,"SPENCER",0,0,0,0,0,0,0,0,0,0,0,{"$f":"june!E289","v":0},null,null,0,0,0,0,0,0,0,0,0,0,0,{"$f":"june!G289","v":0}]
[281,"SPRINGFIELD",8.74,5.18,5.78,11,7,8.7799999999999994,5,3.98,3,9.5399999999999991,8.41,{"$f":"june!E290","v":14},null,null,461.84,521.37,550.12,563.63,632.58000000000004,645.61500000000001,616.1,656.2600000000001,675.12999999999977,712.99,746.22,{"$f":"june!G290","v":757.32000000000016}]
[282,"STERLING",0,0,0,0,0,0,0,0,0,0,0,{"$f":"june!E291","v":0},null,null,0,0,0,0,0,0,0,0,0,0,0,{"$f":"june!G291","v":0}]
[283,"STOCKBRIDGE",0,0,0,0,0,0,0,0,0,0,0,{"$f":"june!E292","v":0},null,null,0,0,0,0,0,0,0,0,0,0,0,{"$f":"june!G292","v":0}]
[284,"STONEHAM",0,0,0,0,0,0,0,0,0,0,0,{"$f":"june!E293","v":0},null,null,1,1,0,0,0,0,1.6099999999999999,1,1,3,2.48,{"$f":"june!G293","v":7.4899999999999993}]
[285,"STOUGHTON",0,0,0,0,0,0,0,0,0,0,0,{"$f":"june!E294","v":0},null,null,0,1,4.5,5,7.28,8.81,5.1100000000000003,6.4500000000000011,4.1900000000000004,6.28,14.09,{"$f":"june!G294","v":16.630000000000003}]
[286,"STOW",0,0,0,0,0,0,0,0,0,0,0,{"$f":"june!E295","v":0},null,null,0,0,0,0,0,0,0,0,0,0,0,{"$f":"june!G295","v":0}]
[287,"STURBRIDGE",0,0,0,0,0,0,0,0,0,0,0,{"$f":"june!E296","v":0},null,null,1,1.915,3.92,7.4249999999999998,9.77,15.78,18.16,6.5299999999999994,7.15,6.63,3.8200000000000003,{"$f":"june!G296","v":7.01}]
[288,"SUDBURY",0,0,0,0,0,0,0,0,0,0,0,{"$f":"june!E297","v":0},null,null,0,0,0,2.2599999999999998,1,1,0,0.72,2,2.2999999999999998,2.98,{"$f":"june!G297","v":1.5}]
[289,"SUNDERLAND",32.090000000000003,28.88,24,25.71,31.42,30.15,16.22,24.12,30.35,35.700000000000003,35.769999999999996,{"$f":"june!E298","v":41.51},null,null,5.5,6,8.57,11.6,15.31,24.79,20.28,21,18.61,17.64,18,{"$f":"june!G298","v":8}]
[290,"SUTTON",64.56,58.81,59.88,56.83,54.68,51.28,64.28,65.42,58,56.82,52,{"$f":"june!E299","v":39},null,null,21.51,24.96,19.96,17.82,15.24,17.79,17.649999999999999,12.66,11.360000000000001,16.760000000000002,19.399999999999999,{"$f":"june!G299","v":17.899999999999999}]
[291,"SWAMPSCOTT",0,0,0,0,0,0,0,0,0,0,0,{"$f":"june!E300","v":0},null,null,0,2.89,1,0.47,0,0,0.89,1,1,1.28,1.49,{"$f":"june!G300","v":5.26}]
[292,"SWANSEA",0,0,0,0,0,0,0,0,0,0,0,{"$f":"june!E301","v":0},null,null,2.81,3,3,3,1,5,3.48,3.9,4.3100000000000005,7.63,8.91,{"$f":"june!G301","v":14}]
[293,"TAUNTON",78.010000000000005,75.06,88.8,76.12,74.959999999999994,72.680000000000007,60.3,60.560000000000009,82.31,85.249999999999986,84.230000000000018,{"$f":"june!E302","v":90.62},null,null,11.5,16,23.4,46.24,48.98,40.69,43.179999999999993,54.36,73.239999999999995,55.650000000000006,69.429999999999993,{"$f":"june!G302","v":112.57}]
[294,"TEMPLETON",0,0,0,0,0,0,0,0,0,0,0,{"$f":"june!E303","v":0},null,null,0,0,0,0,0,0,0,0,0,0,0,{"$f":"june!G303","v":0}]
[295,"TEWKSBURY",0,0,0,0,0,0,0,0,0,0,0,{"$f":"june!E304","v":0},null,null,3,1,0,1.1499999999999999,1,1.5,1,2.98,1,3,4.0600000000000005,{"$f":"june!G304","v":6.35}]
[296,"TISBURY",28.25,30.21,35.21,32.99,29.08,43.87,37.5,31.880000000000003,34.590000000000003,31.87,21.14,{"$f":"june!E305","v":21.03},null,null,23.51,32.4,32.86,41,38.92,48.68,44.62,43.999999999999993,45.989999999999995,42.48,40,{"$f":"june!G305","v":45.45}]
[297,"TOLLAND",0,0,0,0,0,0,0,0,0,0,0,{"$f":"june!E306","v":0},null,null,0,0,0,0,0,0,0,0,0,0,0,{"$f":"june!G306","v":0}]
[298,"TOPSFIELD",0,0,0,0,0,0,0,0,0,0,0,{"$f":"june!E307","v":0},null,null,1,0,0.5,0,0,1,2,2,1.2,0,0.71,{"$f":"june!G307","v":0}]
[299,"TOWNSEND",0,0,0,0,0,0,0,0,0,0,0,{"$f":"june!E308","v":0},null,null,0,0,0,0,0,0,0,0,0,0,0,{"$f":"june!G308","v":0}]
[300,"TRURO",10.72,14.3,20,29.96,27.18,29.99,24.709999999999997,29.8,24.1,24.04,19.98,{"$f":"june!E309","v":14.870000000000001},null,null,17.72,14,11.09,5.76,5,3,4.6400000000000006,1.1599999999999999,4.17,5,16.770000000000003,{"$f":"june!G309","v":23.009999999999998}]
[301,"TYNGSBOROUGH",33.53,28.5,27.42,21.33,27.28,28.99,33.230000000000004,34,44.849999999999994,51.85,39.64,{"$f":"june!E310","v":42.78},null,null,9.33,8.1999999999999993,9,10.88,7.5,6,10.76,14.58,19.04,20.71,23.309999999999995,{"$f":"june!G310","v":26.63}]
[302,"TYRINGHAM",0,0,0,0,0,0,0,0,0,0,0,{"$f":"june!E311","v":0},null,null,4.96,5,4.99,1,3,4,5,7.55,12,13,14,{"$f":"june!G311","v":13}]
[303,"UPTON",0,0,0,0,0,0,0,0,0,0,0,{"$f":"june!E312","v":0},null,null,0,0,0,0,0,0,0,0,0,0,0,{"$f":"june!G312","v":0}]
[304,"UXBRIDGE",68.515000000000001,74.575000000000003,71.295000000000002,72.180000000000007,75.33,73.19,64.199999999999989,63.219999999999992,63.169999999999995,71.75,90.930000000000021,{"$f":"june!E313","v":136.07000000000002},null,null,231.86500000000001,245.13,247.46,223.82,202.67,213.36,197.35999999999999,175.63,178.92,180.79999999999998,196.93000000000006,{"$f":"june!G313","v":178.47000000000003}]
[305,"WAKEFIELD",0,0,0,0,0,0,0,0,0,0,0,{"$f":"june!E314","v":0},null,null,0,0,1,1.79,3,2,1,2.69,1,3.1799999999999997,3.75,{"$f":"june!G314","v":12.450000000000003}]
[306,"WALES",1.52,2.46,1.61,7.21,4.1900000000000004,4,3,6.88,7.5599999999999987,10.879999999999999,10.219999999999999,{"$f":"june!E315","v":6.17},null,null,1,2.17,0.9,2.5,3.5,3,5,9.64,6.5,8,15,{"$f":"june!G315","v":14}]
[307,"WALPOLE",0,0,0,0,0,0,0,0,0,0,0,{"$f":"june!E316","v":0},null,null,3,4,4.3600000000000003,4,4,7,7.5,9.7000000000000011,4,3.39,8.6999999999999993,{"$f":"june!G316","v":9.879999999999999}]
[308,"WALTHAM",0,0,0,0,0,0,0,0,0,0,0,{"$f":"june!E317","v":0},null,null,4,7,5.34,2,1.91,0,0,1.3499999999999999,4.04,5,4.4799999999999995,{"$f":"june!G317","v":8.33}]
[309,"WARE",31.14,31.01,32.96,28.86,23.56,39.119999999999997,38.680000000000007,38.06,23.3,33.11,36.72,{"$f":"june!E318","v":49.810000000000009},null,null,142.06,144.34,154.71,166.39,156.1,152.77000000000001,163.24,150.80000000000004,144.37000000000003,156.91,179.71,{"$f":"june!G318","v":183.72}]
[310,"WAREHAM",1,11,16.25,28.02,39.33,38.24,47.695,33.92,39.359999999999978,35.139999999999993,36.499999999999986,{"$f":"june!E319","v":26.95},null,null,6.3,8.07,7.12,14.69,14.37,21.81,31.57,43.45,61.7,117.62999999999998,159.79,{"$f":"june!G319","v":185.13000000000002}]
[311,"WARREN",0,0,0,0,0,0,0,0,0,0,0,{"$f":"june!E320","v":0},null,null,0.99,1,0,0,0,0,0,0,0,0,0,{"$f":"june!G320","v":0}]
[312,"WARWICK",0,0,0,0,0,0,0,0,0,0,0,{"$f":"june!E321","v":0},null,null,0,0,0,0,0,0,0,0,0,0,0,{"$f":"june!G321","v":0}]
[313,"WASHINGTON",0,0,0,0,0,0,0,0,0,0,0,{"$f":"june!E322","v":0},null,null,0,0,1,0,0,0,0,0,0,0,0,{"$f":"june!G322","v":0}]
[314,"WATERTOWN",0,0,0,0,0,0,0,0,0,0,0,{"$f":"june!E323","v":0},null,null,4,3,1,0,0,0,0,1,0,0.76,4.51,{"$f":"june!G323","v":8.32}]
[315,"WAYLAND",0,0,0,0,0,0,0,0,0,0,0,{"$f":"june!E324","v":0},null,null,0,1,2,2.88,0,1,1,0.55000000000000004,2,2.79,1,{"$f":"june!G324","v":3.95}]
[316,"WEBSTER",3.41,14.54,16.739999999999998,15.86,19.309999999999999,25.99,26.700000000000003,23.98,28.599999999999998,28.32,28.019999999999996,{"$f":"june!E325","v":28.67},null,null,48.75,41.9,45.33,51.01,57.89,62.46,76.300000000000011,91.75,114.95000000000002,129.43,119.86000000000001,{"$f":"june!G325","v":113.26}]
[317,"WELLESLEY",0,0,0,0,0,0,0,0,0,0,0,{"$f":"june!E326","v":0},null,null,1,0,0,0.28000000000000003,0,0,0.59000000000000008,0,1.8,1.54,1,{"$f":"june!G326","v":0.11}]
[318,"WELLFLEET",0,0,0,0,0,0,0,0,0,0,0,{"$f":"june!E327","v":0},null,null,5.36,5,2.75,8.59,14.92,12.33,10.15,10.54,7.53,10.53,12.99,{"$f":"june!G327","v":10.02}]
[319,"WENDELL",0,0,0,0,0,0,0,0,0,0,0,{"$f":"june!E328","v":0},null,null,0,0,0,0,0,0,0,0,0,0,0,{"$f":"june!G328","v":0}]
[320,"WENHAM",0,0,0,0,0,0,0,0,0,0,0,{"$f":"june!E329","v":0},null,null,0,0,0,0,0,0,0,0,0,0,0,{"$f":"june!G329","v":0}]
[321,"WESTBOROUGH",0,0,13.52,14.5,20.5,16.61,27.5,26,0,0,0,{"$f":"june!E330","v":0},null,null,0.55000000000000004,4.93,3.24,2.4550000000000001,5.59,3,2,10.56,10.62,11.440000000000001,12.22,{"$f":"june!G330","v":6.52}]
[322,"WEST BOYLSTON",97.69,98.704999999999998,93.64,86.93,94,85.49,95.44,119.44,114,158.11000000000001,152.79000000000002,{"$f":"june!E331","v":161.24},null,null,6.5,5.5,11.37,15.25,18.34,25,25.97,26.68,40.81,42.839999999999996,36.96,{"$f":"june!G331","v":31.95}]
[323,"WEST BRIDGEWATER",91.9,133.91999999999999,155.52000000000001,169.38,169.78,173.13499999999999,173.44,189.35,223.51000000000002,215.39000000000004,229.93000000000006,{"$f":"june!E332","v":246.23},null,null,1.44,1,3,7.29,5.18,5,4.9399999999999995,5.73,4,4.75,9.1199999999999992,{"$f":"june!G332","v":7.44}]
[324,"WEST BROOKFIELD",0,0,0,0,0,0,0,0,0,0,0,{"$f":"june!E333","v":0},null,null,2.74,4,2,3.91,3,4,3,3,4.9600000000000009,3.52,8.33,{"$f":"june!G333","v":11.049999999999999}]
[325,"WESTFIELD",41.93,40.229999999999997,39.04,50.44,64.650000000000006,55.43,77.59999999999998,91.250000000000014,106.00999999999999,122.03999999999999,136.07,{"$f":"june!E334","v":129.81},null,null,69.88,78.45,72.650000000000006,59.17,53.49,55.78,59.81,81,80.660000000000025,90.62,97.839999999999989,{"$f":"june!G334","v":133.95999999999995}]
[326,"WESTFORD",11.25,8,7,10,12,24.64,35,52,63.71,70.319999999999993,64.44,{"$f":"june!E335","v":68.490000000000009},null,null,4.82,2,2,4,3,4.58,5,4,6.3900000000000006,5.66,5,{"$f":"june!G335","v":12.51}]
[327,"WESTHAMPTON",0,0,0,0,3,5,4.1400000000000006,5,12.09,13,16,{"$f":"june!E336","v":18.600000000000001},null,null,3,3,5,5,9,7.03,3,3,2,3,5,{"$f":"june!G336","v":7}]
[328,"WESTMINSTER",0,0,0,0,0,0,0,0,0,0,0,{"$f":"june!E337","v":0},null,null,0,0,0,0,0,0,0,0,0,0,0,{"$f":"june!G337","v":0}]
[329,"WEST NEWBURY",0,0,0,0,0,0,0,0,0,0,0,{"$f":"june!E338","v":0},null,null,0,0,0,0,0,0,0,0,0,0,0,{"$f":"june!G338","v":0}]
[330,"WESTON",0,0,0,0,0,0,0,0,0,0,0,{"$f":"june!E339","v":0},null,null,0,0,0,0,0,0,0,0.68,0,0,0,{"$f":"june!G339","v":3}]
[331,"WESTPORT",18.71,15,19.8,20,11.81,6,3,0,0,0,0,{"$f":"june!E340","v":0},null,null,0.79,1.08,2,2,0,3.32,6.07,2.37,10.870000000000001,8,9.2000000000000011,{"$f":"june!G340","v":14.01}]
[332,"WEST SPRINGFIELD",1,45.1,73.349999999999994,100.75,108.8,119.52500000000001,123.05000000000003,122.88,108.31,106.52000000000001,112.25999999999999,{"$f":"june!E341","v":108.1},null,null,33.18,24.45,26.83,15.79,18.23,19.89,21.68,34.690000000000005,24.380000000000003,28.09,37.25,{"$f":"june!G341","v":42.06}]
[333,"WEST STOCKBRIDGE",0,0,0,0,0,0,0,0,0,0,0,{"$f":"june!E342","v":0},null,null,0,0,0,0,0,0,0,0,0,0,0,{"$f":"june!G342","v":0}]
[334,"WEST TISBURY",0,0,0,0,0,0,0,0,0,0,0,{"$f":"june!E343","v":0},null,null,0,0,0,0,0,0,0,0,0,0,0,{"$f":"june!G343","v":0}]
[335,"WESTWOOD",0,0,0,0,0,0,0,0,0,0,0,{"$f":"june!E344","v":0},null,null,0,0,1,0,0,0,0,0,0,0,0.19,{"$f":"june!G344","v":0}]
[336,"WEYMOUTH",0,0,0,0,0,0,0,0,0,0,0,{"$f":"june!E345","v":0},null,null,1,1,1.52,0.48,1,0,1,4.4800000000000004,3.86,5.99,13.94,{"$f":"june!G345","v":19.21}]
[337,"WHATELY",9.92,14,17.27,29.76,42.74,46,48.900000000000006,47.18,51.330000000000013,50.68,48.91,{"$f":"june!E346","v":44.86},null,null,10.199999999999999,11.15,9.51,10,12.6,14.12,9,14.559999999999999,12.469999999999997,12.79,11.32,{"$f":"june!G346","v":5}]
[338,"WHITMAN",0,0,0,0,0,0,0,0,0,0,0,{"$f":"june!E347","v":0},null,null,0,0,0,0,0,0,0,0,0,0,0,{"$f":"june!G347","v":0}]
[339,"WILBRAHAM",0,0,0,0,0,0,0,0,0,0,0,{"$f":"june!E348","v":0},null,null,0,0,0,0,0,0,0,0,0,0,0,{"$f":"june!G348","v":0}]
[340,"WILLIAMSBURG",42.05,42.52,28.3,19.309999999999999,21,13.16,11.89,11,4,2,11.85,{"$f":"june!E349","v":18.41},null,null,7,11.79,11.05,10.56,10.52,12,17,18,26.29,22.1,20.69,{"$f":"june!G349","v":17.189999999999998}]
[341,"WILLIAMSTOWN",71.3,58.76,51.16,50.32,55,41.72,35,33.56,41,38.879999999999995,42.1,{"$f":"june!E350","v":31.92},null,null,1.29,1,3.19,3,2.68,5.9,2.93,4.04,4.33,4.76,4.53,{"$f":"june!G350","v":2}]
[342,"WILMINGTON",0,0,0,0,0,0,0,0,0,0,0,{"$f":"june!E351","v":0},null,null,0,0,0,0,0,0,0.74,1,3,2,1.9,{"$f":"june!G351","v":1.08}]
[343,"WINCHENDON",21.38,18.670000000000002,21.25,18.559999999999999,17.03,18.68,24.64,30.799999999999994,29.22,26.830000000000002,39.42,{"$f":"june!E352","v":29},null,null,106.59,120.535,128.94,134.565,112.57,130.93,132.94,142.17000000000004,146.72999999999996,127.66,127.05999999999996,{"$f":"june!G352","v":140.28000000000006}]
[344,"WINCHESTER",0,0,0,0,0,0,0,0,0,0,0,{"$f":"june!E353","v":0},null,null,0,1,0,0,0,0,0,4.09,3.19,3,3,{"$f":"june!G353","v":3.8}]
[345,"WINDSOR",0,0,0,0,0,0,0,0,0,0,0,{"$f":"june!E354","v":0},null,null,0,0,0,0,0,0,0,0,0,0,0,{"$f":"june!G354","v":0}]
[346,"WINTHROP",48.74,35.65,31.82,33.4,32.020000000000003,31.53,28.97,30,25.04,24.3,12,{"$f":"june!E355","v":16},null,null,0,0,0,0,1,0,1,4.01,2,2.63,1.71,{"$f":"june!G355","v":3.8499999999999996}]
[347,"WOBURN",0,0,0,0,0,0,0,0,0,0,0,{"$f":"june!E356","v":0},null,null,0.95,0,1,1,1,0,3.7199999999999998,9.0300000000000011,9,8.11,12.18,{"$f":"june!G356","v":16.020000000000003}]
[348,"WORCESTER",0,0,0,17.23,66.53,75.290000000000006,64.170000000000016,86.39,140.22,85.160000000000011,66.81,{"$f":"june!E357","v":69.150000000000006},null,null,209.03,240.75,262.7,295.8,341.2,342.58,355.22,406.83,418.14999999999992,483.92999999999995,465.13000000000011,{"$f":"june!G357","v":473.96000000000009}]
[349,"WORTHINGTON",0,0,0,0,0,0,0,0,0,0,0,{"$f":"june!E358","v":5.37},null,null,0,0,0,0,0,0,0,0,0,0,0,{"$f":"june!G358","v":54.339999999999996}]
[350,"WRENTHAM",0,0,0,0,0,0,0,0,0,0,0,{"$f":"june!E359","v":0},null,null,2.17,3,2,4,4,3.5,2,2.5,3.49,5.0600000000000005,4,{"$f":"june!G359","v":4.17}]
[351,"YARMOUTH",0,0,0,0,0,0,0,0,0,0,0,{"$f":"june!E360","v":0},null,null,0,0,0,0,0,0,0,0,0,0,0,{"$f":"june!G360","v":0}]
[352,"DEVENS",0,0,0,0,0,0,0,0,0,0,0,{"$f":"june!E361","v":0},null,null,9.32,11.73,18.2,11.55,11.89,9.61,4.2100000000000009,3.1,2,2,4.8,{"$f":"june!G361","v":5}]
[406,"NORTHAMPTON SMITH",0,0,0,0,0,0,0,0,0,0,0,{"$f":"june!E362","v":0},null,null,0,0,0,0,0,0,0,0,0,0,0,{"$f":"june!G362","v":0}]
[600,"ACTON BOXBOROUGH",3,53.5,70.69,70,63.66,44.78,36,33.35,39,38.299999999999997,42.5,{"$f":"june!E363","v":39},null,null,8.82,6.01,3.72,4.4000000000000004,3.9,0.31,0.34,3.12,9.3800000000000008,6,14.290000000000001,{"$f":"june!G363","v":14.27}]
[603,"ADAMS CHESHIRE",45.08,53.86,53.58,59.92,83.72,77.81,65.859999999999985,58.320000000000007,59.72,66.48,58.20000000000001,{"$f":"june!E364","v":54.550000000000004},null,null,28.61,32.200000000000003,41.52,34.49,38.58,39.11,53.12,58.589999999999996,56.920000000000009,69.13000000000001,79.36999999999999,{"$f":"june!G364","v":79.16}]
[605,"AMHERST PELHAM",100.41,100.41,108.4,93.3,71.13,72.36,68.13,78,92.29,104.46,88.46,{"$f":"june!E365","v":69.400000000000006},null,null,18.260000000000002,17.809999999999999,12.73,15.41,12.04,16.27,19.799999999999997,18.78,21.1,23.91,35.239999999999995,{"$f":"june!G365","v":34.470000000000006}]
[610,"ASHBURNHAM WESTMINSTER",53.33,57.965000000000003,61.36,74.150000000000006,61.49,58.46,46.14,51.910000000000004,88.25,119.43,147.49,{"$f":"june!E366","v":200.22},null,null,44.06,36.770000000000003,37.229999999999997,33.54,31.3,52.71,50.709999999999987,56.830000000000005,42.86,54.57,54.170000000000016,{"$f":"june!G366","v":60.95}]
[615,"ATHOL ROYALSTON",17.93,25.29,38.729999999999997,39.729999999999997,38.950000000000003,57.24,43.84,42.239999999999995,45.73,39.100000000000009,58.019999999999996,{"$f":"june!E367","v":66.070000000000007},null,null,130.14500000000001,186.3,248.28,286.5,281.17,308.41500000000002,338.45,327.76,300.45999999999998,335.29000000000008,359.92000000000007,{"$f":"june!G367","v":364.54000000000008}]
[616,"AYER SHIRLEY",null,null,null,null,null,null,0,141.07999999999998,122.05000000000001,109.87999999999997,119.33999999999997,{"$f":"june!E368","v":135.34},null,null,null,null,null,null,null,null,0,142.45999999999998,127.47,139.68999999999997,124.83999999999999,{"$f":"june!G368","v":127.73999999999998}]
[618,"BERKSHIRE HILLS",204.8,250.27,288.31,279.02999999999997,262.3,275.12,269.12,275.52,287.59000000000003,288.22000000000003,241.93999999999997,{"$f":"june!E369","v":225.2},null,null,129.65,103.36,100.27,104.64,125.35,126.5,120.50999999999999,110.47,99.14,99.960000000000008,102.88,{"$f":"june!G369","v":103.19}]
[620,"BERLIN BOYLSTON",84.35,90.45,97.58,86.95,93.31,78.760000000000005,72.83,83.12,85.12,110.71000000000001,93.44,{"$f":"june!E370","v":90},null,null,17.64,18.18,18.39,21.77,28.27,28.05,31.319999999999997,35.44,36,37.44,31.99,{"$f":"june!G370","v":27.689999999999998}]
[622,"BLACKSTONE MILLVILLE",28.035,34.020000000000003,32.479999999999997,36.18,38.435000000000002,32.08,32.970000000000006,22.41,20.759999999999998,29.5,39.47,{"$f":"june!E371","v":45.800000000000011},null,null,25.65,27.79,28.64,46.33,43.01,39.19,44.83,51.639999999999993,73.410000000000011,78.12,79.809999999999988,{"$f":"june!G371","v":90.539999999999992}]
[625,"BRIDGEWATER RAYNHAM",0,0,27.92,64.7,77.37,52.24,57.52,55.49,45.16,40,28.82,{"$f":"june!E372","v":28.09},null,null,55.09,89.25,115.91,103.8,112.16,108.755,105.96,119.46000000000001,147.11000000000001,148.31000000000003,162.88,{"$f":"june!G372","v":155.88}]
[632,"CHESTERFIELD GOSHEN",19.420000000000002,12.48,17.32,18.91,19,20.47,15.14,15.24,13.36,13.9,20.22,{"$f":"june!E373","v":23.58},null,null,20.14,27.23,14.34,9.93,9.81,6,9.16,9.42,8,5.3900000000000006,9.26,{"$f":"june!G373","v":11}]
[635,"CENTRAL BERKSHIRE",101.79,86.8,85.89,77.03,84.23,102.01,105.28999999999999,123.77999999999999,129.11000000000001,130.20999999999998,152.82000000000002,{"$f":"june!E374","v":162.89000000000001},null,null,110.29,128.85,135.26,146.5,157.04,132.91999999999999,139.73000000000002,140.81,134.62,133.24,147.78999999999996,{"$f":"june!G374","v":167.41999999999996}]
[640,"CONCORD CARLISLE",0,0,0,0,0,0,0,0,0,0,0,{"$f":"june!E375","v":0},null,null,0,1,0,0,1.82,1,2,1,2.68,2.36,0,{"$f":"june!G375","v":1.88}]
[645,"DENNIS YARMOUTH",87.32,94.655000000000001,70.8,84.54,77.23,80.19,79.639999999999986,96.669999999999973,99.13000000000001,84.689999999999984,102.25,{"$f":"june!E376","v":121.98},null,null,85.61,119.63,140.88,170.56,221.94,257.26,305.65999999999997,321.18999999999988,335.54,345.80999999999995,356.41000000000008,{"$f":"june!G376","v":352.82000000000022}]
[650,"DIGHTON REHOBOTH",0,0,0,0,0,0,0,0,0,0,0,{"$f":"june!E377","v":10},null,null,5.22,5.57,6.59,3.37,3.48,9.61,5.38,5.62,13.49,9.8600000000000012,17.720000000000002,{"$f":"june!G377","v":24.790000000000003}]
[655,"DOVER SHERBORN",0,0,0,0,0,0,0,0,0,0,0,{"$f":"june!E378","v":0},null,null,2,0,0,1,2,2,3.5,3,2.76,2,4.3100000000000005,{"$f":"june!G378","v":5.43}]
[658,"DUDLEY CHARLTON",4,8.34,4.2,38.21,55.4,69.2,101.99000000000001,109.46,118.28999999999999,141.80000000000001,136.45000000000002,{"$f":"june!E379","v":144.54000000000002},null,null,5.99,14.41,14.33,19.309999999999999,22.09,30,36.47,37.22,43.529999999999994,42.14,40.949999999999989,{"$f":"june!G379","v":56.080000000000005}]
[660,"NAUSET",70.7,101.01,119.57,151.52000000000001,182.53,202.27,241.02999999999997,252.16,274.36,286.58,266.25999999999993,{"$f":"june!E380","v":279.53999999999996},null,null,64.14,58.19,56.38,52.68,49.35,47.59,35.51,31.769999999999996,35.970000000000006,25.89,35.700000000000003,{"$f":"june!G380","v":32.26}]
[662,"FARMINGTON RIVER",42.19,36.54,33.090000000000003,31.38,25.38,19,17.64,15.5,19.36,19.62,16,{"$f":"june!E381","v":15},null,null,38.619999999999997,43.98,45.04,40.44,44.34,45.43,50.510000000000005,50.47,53.91,49.67,52.989999999999995,{"$f":"june!G381","v":44.91}]
[665,"FREETOWN LAKEVILLE",0,0,0,0,0,0,0,1,22.139999999999997,22.139999999999997,21.28,{"$f":"june!E382","v":40.97},null,null,8.4,4.41,5.82,3,3,6.82,4.57,8.620000000000001,13.26,15.41,27.98,{"$f":"june!G382","v":27.250000000000004}]
[670,"FRONTIER",74.62,76.42,71.67,84.5,104.25,124.92,124.37000000000002,115.50999999999999,125.85000000000001,128.44,120.59000000000002,{"$f":"june!E383","v":129.17000000000002},null,null,36.06,30.19,20.64,26.61,23.94,22.08,27.229999999999997,31.799999999999997,38.269999999999996,48.03,46.620000000000005,{"$f":"june!G383","v":55.09}]
[672,"GATEWAY",38.42,50.83,47.68,53.45,36.86,37.49,26.56,26.53,28.800000000000004,27.939999999999998,26,{"$f":"june!E384","v":45.8},null,null,99.784999999999997,86.69,81.64,81.86,81.14,79.69,79.390000000000015,88.710000000000008,95.32,106.99,123.27999999999999,{"$f":"june!G384","v":73.02}]
[673,"GROTON DUNSTABLE",31.43,24.8,35.299999999999997,31.15,40,35.869999999999997,36.49,37,36.56,55.94,55,{"$f":"june!E385","v":44.87},null,null,18.73,18.64,19.63,15.87,16.45,18.2,22.66,13.51,12.809999999999999,13.28,15.4,{"$f":"june!G385","v":23.98}]
[674,"GILL MONTAGUE",66.849999999999994,66.97,74.45,64.66,88.49,99.4,103.64999999999999,88.81,96.149999999999991,97.43,106.04,{"$f":"june!E386","v":94.81},null,null,109.46,135.44,150.12,157.69,172.59,189.35,187.86,177,191.19999999999996,194.99000000000004,225.35,{"$f":"june!G386","v":239.12000000000003}]
[675,"HAMILTON WENHAM",100,109.31,101,116.57,117.93,101,106.25999999999999,96.37,109.27000000000001,110.72,97.95,{"$f":"june!E387","v":90},null,null,8.1,6.7,10.35,6.335,2.2200000000000002,4,2.5900000000000003,4.8600000000000003,4.93,3,6.32,{"$f":"june!G387","v":9.0299999999999994}]
[680,"HAMPDEN WILBRAHAM",67,64.959999999999994,81.400000000000006,92.09,96.85,108.36,119,124.45,120.83,121.91,119.47,{"$f":"june!E388","v":111.35},null,null,7.12,4.84,7.02,7.12,11.03,12.93,12.38,9.92,4.82,7.6400000000000006,11.040000000000001,{"$f":"june!G388","v":11.53}]
[683,"HAMPSHIRE",109.65,117.19,106.66,102.23,105.11,114.63,117.21000000000001,112.85,104.25000000000001,119.23000000000002,107.78999999999998,{"$f":"june!E389","v":97.35},null,null,69.69,75.209999999999994,79.25,70.8,66.55,61.72,56.03,50.24,50.65,65.900000000000006,63.44,{"$f":"june!G389","v":63.040000000000006}]
[685,"HAWLEMONT",10.130000000000001,10.35,12.64,11.99,13.72,10.67,8.75,9.26,6.3699999999999992,8.6699999999999982,13.790000000000001,{"$f":"june!E390","v":15.75},null,null,23.32,25.58,17.079999999999998,10.98,13.01,15.18,14.69,16.34,18.729999999999997,15.5,20.509999999999998,{"$f":"june!G390","v":24.91}]
[690,"KING PHILIP",0,0,0,0,0,0,0,0,0,0,0,{"$f":"june!E391","v":0},null,null,11.35,8.64,9.44,12.87,11.41,11.68,9,9.58,11.219999999999999,9,12.14,{"$f":"june!G391","v":16.709999999999997}]
[695,"LINCOLN SUDBURY",0,0,0,0,0,0,0,0,0,0,0,{"$f":"june!E392","v":0},null,null,1,1,0,0,3,4,1,1,3,0,0,{"$f":"june!G392","v":2.14}]
[698,"MANCHESTER ESSEX",149.72,144.05000000000001,143.87,147,138.71,121,119,109,96,79,71,{"$f":"june!E393","v":71},null,null,36,29.3,30.33,22.074999999999999,13.52,13.2,10,7.5900000000000007,9.18,11.46,10.4,{"$f":"june!G393","v":9.6400000000000023}]
[700,"MARTHAS VINEYARD",0,0,0,0,0,0,0,0,0,0,0,{"$f":"june!E394","v":0},null,null,0,0,0,0,0,0,0,0,0,0,0.04,{"$f":"june!G394","v":2.48}]
[705,"MASCONOMET",0,0,0,0,0,0,0,0,0,0,0,{"$f":"june!E395","v":0},null,null,7,8,5,3.44,4.37,3.62,3,2,3.89,2.5499999999999998,0,{"$f":"june!G395","v":3}]
[710,"MENDON UPTON",171.78,174.79,152.32499999999999,145.36500000000001,137.68,142.56,127.77499999999999,115.80999999999999,119.17000000000002,138.13,139.26000000000002,{"$f":"june!E396","v":143.26},null,null,38.534999999999997,42.5,42.045000000000002,32.299999999999997,29.2,34.86,54.455000000000005,60.599999999999994,59.970000000000006,70.61,59.089999999999989,{"$f":"june!G396","v":54.35}]
[712,"MONOMOY",null,null,null,null,null,null,null,0,254.80000000000004,237.81999999999996,271.62999999999994,{"$f":"june!E397","v":257.12},null,null,null,null,null,null,null,null,null,0,193.95000000000002,189.94,180.51,{"$f":"june!G397","v":197.07}]
[715,"MOUNT GREYLOCK",52.9,49.55,56.64,54.22,58.05,55.12,59.92,64,65.39,58.47,61.430000000000007,{"$f":"june!E398","v":62.639999999999993},null,null,12.68,16.39,20.61,20.190000000000001,12.87,18.11,19.29,17.09,16.3,20.53,18.830000000000002,{"$f":"june!G398","v":22.509999999999998}]
[717,"MOHAWK TRAIL",79.88,93.27,77.98,71.61,77.790000000000006,98.5,91.65,86.08,86.59,82.789999999999992,73.989999999999981,{"$f":"june!E399","v":90.320000000000007},null,null,62.82,55.11,61.23,70.81,60.87,69.680000000000007,69.14,69.109999999999985,63.240000000000009,80.199999999999989,71.23,{"$f":"june!G399","v":73.830000000000013}]
[720,"NARRAGANSETT",75.715000000000003,98.36,109.46,114.11499999999999,111.74,130.05500000000001,130.40000000000003,144.41,141.54999999999995,152.57000000000008,150.20999999999998,{"$f":"june!E400","v":185.68},null,null,68.569999999999993,71.025000000000006,79.13,91.25,91.97,99.88,100.73000000000002,111.33000000000001,105.42,127,139.24000000000004,{"$f":"june!G400","v":141.63999999999993}]
[725,"NASHOBA",27,37.880000000000003,52.95,70.27,101.875,126.78,190.66000000000003,206.85,218.51,194.78,166.60000000000002,{"$f":"june!E401","v":134.37},null,null,71.594999999999999,57.89,66.540000000000006,77.63,91.49,65.59,54.07,60.95,74.379999999999981,80.420000000000016,75.890000000000015,{"$f":"june!G401","v":69.38000000000001}]
[728,"NEW SALEM WENDELL",12.52,11.34,17.39,12.43,12.24,13.74,14.58,17.61,18,17.680000000000003,26.4,{"$f":"june!E402","v":26.96},null,null,13.7,12.77,17.36,12.08,8,9.4700000000000006,11.680000000000001,11.89,10.61,5.12,9.18,{"$f":"june!G402","v":12.63}]
[730,"NORTHBORO SOUTHBORO",0,0,0,0,0,0,0,0,0,0,0,{"$f":"june!E403","v":0},null,null,5.34,6,5.26,9.02,9.67,9.2799999999999994,3.2800000000000002,1.6600000000000001,6.63,3,3.6599999999999997,{"$f":"june!G403","v":5.34}]
[735,"NORTH MIDDLESEX",39.39,44.27,45.045000000000002,46.24,51.42,62.04,74.535000000000025,80.709999999999994,77.240000000000009,77.770000000000039,76.849999999999994,{"$f":"june!E404","v":87.059999999999988},null,null,68.3,61.61,61.25,69.47,65.47,61.59,62.36,65.77000000000001,79.97,101.05,90.98,{"$f":"june!G404","v":94.63000000000001}]
[740,"OLD ROCHESTER",0,0,0,0,0,14.78,29.86,50.12,70.760000000000005,93.779999999999987,82.5,{"$f":"june!E405","v":72.849999999999994},null,null,1,4.0199999999999996,4.13,5.72,4,2.62,6.48,3.55,4.57,4.7299999999999995,6.55,{"$f":"june!G405","v":7.82}]
[745,"PENTUCKET",92.055000000000007,92.12,87.9,92.61,103.5,128.99,147.07499999999999,155.75,177.25,158.26999999999998,126.55000000000001,{"$f":"june!E406","v":108.53999999999999},null,null,34.659999999999997,31.89,45.13,47.22,45.64,45.31,41.370000000000005,45.179999999999986,43.05,38.58,37.15,{"$f":"june!G406","v":28.94}]
[750,"PIONEER",75.42,96.27,123.56,126.85,188.45,191.53,185.35000000000002,179.11999999999998,168.76999999999998,168.05,171.10999999999999,{"$f":"june!E407","v":152.85},null,null,34.82,33.409999999999997,33.79,26.1,24.1,30.56,32.049999999999997,26.46,30.65,32.93,48.080000000000005,{"$f":"june!G407","v":47.9}]
[753,"QUABBIN",312.60000000000002,344.6,394.62,428.18,408.33,404.86,373.36,346.91000000000014,308.08,330.94000000000005,345.84999999999991,{"$f":"june!E408","v":325.26},null,null,45.18,54.44,73.765000000000001,71.8,69.39,86.74,95.110000000000014,81.650000000000006,97.04,94.56,95.389999999999986,{"$f":"june!G408","v":110.18000000000005}]
[755,"RALPH C MAHAR",26.98,37.57,44.31,62.65,84.98,114.86,160.48000000000002,167.52,186.37999999999997,189.14999999999998,222.35999999999987,{"$f":"june!E409","v":245.66},null,null,91.2,101.87,113.58,111.16,103.51,96.63,84.749999999999986,72.83,67.98,59.919999999999995,60.26,{"$f":"june!G409","v":54.050000000000004}]
[760,"SILVER LAKE",0,0,0,0,0,0,0,0,0,0,0,{"$f":"june!E410","v":0},null,null,2,2,0,3.32,0.84,0,1.9,2.68,2,3,2.4,{"$f":"june!G410","v":6.9799999999999995}]
[763,"SOMERSET BERKLEY",null,null,null,null,null,null,0,0,0,0,23.519999999999996,{"$f":"june!E411","v":50.86},null,null,null,null,null,null,null,null,0,10.49,11.010000000000002,8.58,7.51,{"$f":"june!G411","v":6.5}]
[765,"SOUTHERN BERKSHIRE",128.35,106.39,95.69,98.05,131.71,139.47,140.94,124.43,121.72000000000001,122.5,123.58999999999997,{"$f":"june!E412","v":121.53},null,null,114.69,144.81,173.19,165.26,155.32,165.25,148.20999999999998,140.30000000000001,145.13999999999999,151.98000000000002,133.21,{"$f":"june!G412","v":113.74000000000001}]
[766,"SOUTHWICK TOLLAND",83.02,78.7,62.65,59.5,65.61,78.05,83.850000000000023,92.839999999999989,88.69,105.8,102.59,{"$f":"june!E413","v":127.05999999999999},null,null,22.5,22.37,21.25,29.1,29.7,30,38.880000000000003,40.479999999999997,63.43,60.65,52,{"$f":"june!G413","v":51.75}]
[767,"SPENCER EAST BROOKFIELD",74.430000000000007,85.02,119.05,110.17,114.86,94.75,106.43,94.39,82.789999999999992,64.260000000000005,54.51,{"$f":"june!E414","v":44.199999999999996},null,null,53.19,54.51,53.55,63.21,85.1,103.575,118.32000000000001,114.97,132.66999999999999,146.07999999999998,188.68,{"$f":"june!G414","v":210.14999999999998}]
[770,"TANTASQUA",77.81,102.83,107.59,111.11,116.02,130.69999999999999,136.16000000000003,136.45999999999998,172.57000000000002,159.68999999999997,162.22999999999999,{"$f":"june!E415","v":157.76999999999998},null,null,22.17,20.6,22.29,20.94,17.68,19.02,17.049999999999997,16.04,19.190000000000001,20.639999999999997,29.2,{"$f":"june!G415","v":25.490000000000002}]
[773,"TRITON",140.16999999999999,126.065,116.38500000000001,143.63499999999999,139.12,148.22499999999999,162.57000000000005,164.77000000000004,162.43,178.60999999999999,181.52999999999994,{"$f":"june!E416","v":156.34},null,null,186.01,201.255,267.22000000000003,265.26,270.02,244.69,220.14000000000001,197.76999999999998,161.57,125.34,97.70999999999998,{"$f":"june!G416","v":84}]
[774,"UPISLAND",31,31,30.3,30,32.200000000000003,36,37.89,45.499999999999993,42,45.269999999999996,51,{"$f":"june!E417","v":56},null,null,17.3,15.39,23.21,16.73,20.85,35.39,30.95,21.81,19.36,16.809999999999999,16.36,{"$f":"june!G417","v":10.94}]
[775,"WACHUSETT",43.52,57.305,63.58,89.965000000000003,108.4,138.05000000000001,189.16499999999996,194.57000000000002,240.55999999999997,236.89999999999998,203.84,{"$f":"june!E418","v":174},null,null,88.41,88.84,102.34,113.07,116.28,102.61,95.8,92.729999999999976,108.71,95.27000000000001,103.88000000000002,{"$f":"june!G418","v":111.87}]
[778,"QUABOAG",32.82,56.63,69.23,95.55,104.94,113.34,120.44999999999997,119.90000000000003,142.33000000000001,176.25000000000003,186.26,{"$f":"june!E419","v":193.33999999999997},null,null,105.54,109.76,102.63,101.25,88.87,89.78,108.57000000000001,109.43,109.13999999999999,95.140000000000015,84.18,{"$f":"june!G419","v":90.170000000000016}]
[780,"WHITMAN HANSON",0,0,0,0,0,0,0,0,0,6,15.7,{"$f":"june!E420","v":29.76},null,null,1,0,0,2,0,0,2,2,4.5,6.79,16.02,{"$f":"june!G420","v":17.78}]
[801,"ASSABET VALLEY",0,0,0,0,0,0,0,0,0,0,0,{"$f":"june!E421","v":0},null,null,1.22,0,0,0,0,0,0,0,1.53,1,2,{"$f":"june!G421","v":0}]
[805,"BLACKSTONE VALLEY",0,0,0,0,0,0,0,0,0,0,0,{"$f":"june!E422","v":0},null,null,0,2,2.4300000000000002,2,1.88,2,2,0,0,0,0,{"$f":"june!G422","v":0}]
[806,"BLUE HILLS",0,0,0,0,0,0,0,0,0,0,0,{"$f":"june!E423","v":0},null,null,0,0,0,0,0,0,0,1,1,0.63,1,{"$f":"june!G423","v":0}]
[810,"BRISTOL PLYMOUTH",0,0,0,0,0,0,0,0,0,0,0,{"$f":"june!E424","v":0},null,null,0,1,0.53,0,0,2,2,3,4,4.42,5.3599999999999994,{"$f":"june!G424","v":6.83}]
[815,"CAPE COD",0,0,0,0,0,0,0,0,0,0,0,{"$f":"june!E425","v":0},null,null,0,0,0,0,0,0,0,0,0,0,2,{"$f":"june!G425","v":3.7800000000000002}]
[817,"ESSEX NORTH SHORE",7.72,3.46,7.64,3.57,0,5.5,4.63,5.84,7.73,8.93,2,{"$f":"june!E426","v":1},null,null,9.19,7.19,6.6,5.18,3.14,4.62,2,5.5500000000000007,2.2799999999999998,15.61,16.990000000000002,{"$f":"june!G426","v":21.240000000000002}]
[818,"FRANKLIN COUNTY",0,0,0,0,0,0,0,0,0,0,0,{"$f":"june!E427","v":0},null,null,4.72,4.79,4.93,3.96,2.5099999999999998,1,3.06,2,1,1,2.38,{"$f":"june!G427","v":1.52}]
[821,"GREATER FALL RIVER",0,0,0,0,0,0,0,0,0,0,0,{"$f":"june!E428","v":0},null,null,0,0,0,0,0.7,3,0,1,1,1,1.51,{"$f":"june!G428","v":7.85}]
[823,"GREATER LAWRENCE",13.51,14.24,10.55,6.25,7,5,11.620000000000001,14.76,7.04,9.02,5.5,{"$f":"june!E429","v":6.22},null,null,251.71,206.34,194.61,183.04,199.36,198.42,191.81,163.84,128.43,153.89000000000001,142.82,{"$f":"june!G429","v":115.58}]
[825,"GREATER NEW BEDFORD",0,0,0,0,0,0,0,0,0,0,0,{"$f":"june!E430","v":0},null,null,0,0,0,0,0,1,0.4,0.49,2,1.77,2,{"$f":"june!G430","v":5}]
[828,"GREATER LOWELL",6,3,1.78,3,4,0,2,2.3200000000000003,1,4.2300000000000004,3.36,{"$f":"june!E431","v":0},null,null,69.290000000000006,94.55,91.94,85.52,68.84,52.47,61.589999999999996,48.660000000000004,45.939999999999991,38.219999999999992,27.8,{"$f":"june!G431","v":25.330000000000002}]
[829,"SOUTH MIDDLESEX",0,0,0,0,0,0,0,0,0,0,0,{"$f":"june!E432","v":0},null,null,0,0,0,0,0,0.48,0,0,0,0,0,{"$f":"june!G432","v":0}]
[830,"MINUTEMAN",0,0,0,0,0,0,0,0,0,0,0,{"$f":"june!E433","v":0},null,null,1.41,1.33,2,3.72,2,2.4500000000000002,3,2.44,0,1,1.83,{"$f":"june!G433","v":1.62}]
[832,"MONTACHUSETT",20.18,21.59,16.75,20.3,14.4,15.39,17.48,24.370000000000005,19.48,25.26,24.84,{"$f":"june!E434","v":21.089999999999996},null,null,28.82,31.46,36.29,30.01,25.69,28.99,22.94,30.990000000000002,37.81,37.050000000000004,49.39,{"$f":"june!G434","v":65.11}]
[851,"NORTHERN BERKSHIRE",0,0,0,0,0,0,0,0,0,0,0,{"$f":"june!E435","v":0},null,null,0,0,0,3,0,0.46,0,0,1,2,4,{"$f":"june!G435","v":0}]
[852,"NASHOBA VALLEY",79.34,103.53,105.08,99.86,88.43,74.400000000000006,89.38,75.920000000000016,81.610000000000014,71.970000000000013,68.02000000000001,{"$f":"june!E436","v":62.510000000000005},null,null,6.38,2,0.78,3.27,2.4700000000000002,1,2,3.7299999999999995,5,6.55,6.8100000000000005,{"$f":"june!G436","v":2.1100000000000003}]
[853,"NORTHEAST METROPOLITAN",49.37,46.23,51.13,39.94,40.22,43.96,33.260000000000005,36.409999999999997,30.1,35.06,36.6,{"$f":"june!E437","v":28.83},null,null,1.36,0.65,1.34,0,0,0.54,1,1.54,1.8900000000000001,0,0,{"$f":"june!G437","v":2}]
[855,"OLD COLONY",0,0,0,0,0,0,0,0,0,0,0,{"$f":"june!E438","v":0},null,null,0,0,0,0,0,0,0,0,1,0,0,{"$f":"june!G438","v":0.81}]
[860,"PATHFINDER",24.88,27.49,23.05,19.18,20.100000000000001,13.62,20.380000000000003,13.44,23.200000000000003,27.419999999999998,22.54,{"$f":"june!E439","v":33.700000000000003},null,null,1,0,4,4,2,3,2.1,3.81,8,14.88,13,{"$f":"june!G439","v":11}]
[871,"SHAWSHEEN VALLEY",0,0,0,0,0,0,0,0,0,0,0,{"$f":"june!E440","v":0},null,null,5.74,12,8.4700000000000006,7.18,7.58,10,17.05,16.61,19.84,25.369999999999997,20.98,{"$f":"june!G440","v":18.22}]
[872,"SOUTHEASTERN",0,0,0,0,0,0,0,0,0,0,0,{"$f":"june!E441","v":0},null,null,0,0,0,1.97,1,0,1,0,2.42,4.92,4,{"$f":"june!G441","v":4}]
[873,"SOUTH SHORE",0,0,0,0,0,0,0,0,0,0,0,{"$f":"june!E442","v":0},null,null,0,0,0,0,0,0,0,0,0,2,1,{"$f":"june!G442","v":1}]
[876,"SOUTHERN WORCESTER",0,0,0,0,0,0,0,0,0,0,0,{"$f":"june!E443","v":0},null,null,4.0999999999999996,9.1999999999999993,15.46,19.62,25.53,27.72,30.65,25.860000000000003,26.78,28.53,29.86,{"$f":"june!G443","v":30.49}]
[878,"TRI COUNTY",0,0,0,0,0,0,0,0,0,0,0,{"$f":"june!E444","v":0},null,null,0,0,0,0,0,0,0,0,0,0,0,{"$f":"june!G444","v":0.69}]
[879,"UPPER CAPE COD",0,0,0,0,0,0,0,0,0,0,0,{"$f":"june!E445","v":0},null,null,0,0.37,0,0,0,0,0,0,0,0.53,4,{"$f":"june!G445","v":1.32}]
[885,"WHITTIER",249.69,204.6,196.11,183.22,197.1,194.42,187.80999999999997,159.22999999999999,124.43,153.91,139.66999999999999,{"$f":"june!E446","v":114.58},null,null,11.73,10.38,9.41,5.13,6,5,8.81,12.860000000000001,7.82,7.34,5.86,{"$f":"june!G446","v":4.8099999999999996}]
[910,"BRISTOL COUNTY",0,0,0,0,0,0,0,0,0,0,0,{"$f":"june!E447","v":0},null,null,0,0,0,0,0,0,0,0,0,0,0,{"$f":"june!G447","v":0}]
[915,"NORFOLK COUNTY",0,0,0,0,0,0,0,0,0,0,0,{"$f":"june!E448","v":0},null,null,0,0,0,0,0,0,0,0,0,0,0,{"$f":"june!G448","v":0}]
[3901,"MA VIRTUAL ACADEMY",null,null,null,null,null,null,null,null,null,496.48999999999961,627.37000000000069,{"$f":"june!E449","v":622.1099999999999},null,null,null,null,null,null,null,null,null,null,null,0,0,{"$f":"june!G449","v":0}]
[3902,"TECCA",null,null,null,null,null,null,null,null,null,0,481.91000000000065,{"$f":"june!E450","v":895.15000000000248},null,null,null,null,null,null,null,null,null,null,null,0,0,{"$f":"june!G450","v":0}]
[9999,"state total",9276.4900000000034,9734.9850000000042,10345.379999999994,10790.064999999995,11300.224999999999,11806.3,12195.25,{"$f":"SUM(J10:J450)","v":12893.100000000008},{"$f":"SUM(K10:K450)","v":13362.350000000008},{"$f":"SUM(L10:L450)","v":13929.670000000002},{"$f":"SUM(M10:M450)","v":14855.580000000011},{"$f":"SUM(N10:N450)","v":15635.540000000006},null,null,9276.489999999998,9734.9850000000024,10345.379999999999,10790.064999999999,11300.225000000008,11806.30000000001,12195.249999999993,{"$f":"SUM(X10:X448)","v":12893.1},{"$f":"SUM(Y10:Y448)","v":13362.349999999999},{"$f":"SUM(Z10:Z450)","v":13929.669999999996},{"$f":"SUM(AA10:AA450)","v":14855.579999999994},{"$f":"SUM(AB10:AB450)","v":15635.540000000003}]
[null,null,null,null,null,null,null,null,null,null,null,null,null,{"$f":"COUNTIF(N10:N450,\">0\")","v":185},null,null,null,null,null,null,{"$f":"COUNTIF(U10:U450,\">0\")","v":267},{"$f":"COUNTIF(V10:V450,\">0\")","v":267},276,289,297,296,303,314]

{"sheet":"notes","index":3,"n_rows":1,"n_cols":1,"rows_kept":1,"cut":false,"hidden":true,"merged":[]}
["source: chosum16proj, nov 19 2015"]

{"sheet":"proj16jul","index":4,"n_rows":455,"n_cols":22,"rows_kept":455,"cut":false,"hidden":true,"merged":[]}
[]
["Massachusetts Department of Elementary and Secondary Education"]
["Office of School Finance"]
[]
["School Choice Pupils and Tuition, Projected FY16, July 2015"]
[]
[null,null,null,null,null,null,null,null,null,null,null,null,null,null,null,null,null,null,"choicecalc15jun, after removing mava and tecca"]
[null,null,"receiving ","receiving","sending","sending",null,null,"mava",null,null,"ffte chg","tuition chg","ffte chg","tuition chg"]
["LEA","district","fte","tuition","fte","tuition",null,"lea","n of kids","tecca",null,"june to proj","proj to june","june to proj","proj to june"]
[1,"ABINGTON                     ",2,10000,{"$f":"S10+(0.83*I10)+0.59*J10","v":26.249999999999996},{"$f":"T10+(0.83*I10)*6700+0.59*J10*6700","v":141707},null,1,3,4,null,{"$f":"C10-june!E10","v":1},{"$f":"D10-june!F10","v":5000},{"$f":"E10-june!G10","v":-7.2399999999999984},{"$f":"F10-june!H10","v":-60914},null,{"$f":"R10-A10","v":0},1,21.4,109212,{"$f":"S10-june!G10","v":-12.089999999999996},{"$f":"T10-june!H10","v":-93409}]
[2,"ACTON                        ",0,0,{"$f":"S11+(0.83*I11)+0.59*J11","v":0.83},{"$f":"T11+(0.83*I11)*6700+0.59*J11*6700","v":5561},null,2,1,null,null,{"$f":"C11-june!E11","v":0},{"$f":"D11-june!F11","v":0},{"$f":"E11-june!G11","v":0.83},{"$f":"F11-june!H11","v":5561},null,{"$f":"R11-A11","v":0},2,null,null,{"$f":"S11-june!G11","v":0},{"$f":"T11-june!H11","v":0}]
[3,"ACUSHNET                     ",0,0,11.120000000000001,62652,null,3,null,null,null,{"$f":"C12-june!E12","v":0},{"$f":"D12-june!F12","v":0},{"$f":"E12-june!G12","v":-7.509999999999998},{"$f":"F12-june!H12","v":-35933},null,0,3,11.120000000000001,62652,{"$f":"S12-june!G12","v":-7.509999999999998},{"$f":"T12-june!H12","v":-35933}]
[4,"ADAMS                        ",0,0,0,0,null,4,null,null,null,{"$f":"C13-june!E13","v":0},{"$f":"D13-june!F13","v":0},{"$f":"E13-june!G13","v":0},{"$f":"F13-june!H13","v":0},null,0,4,null,null,{"$f":"S13-june!G13","v":0},{"$f":"T13-june!H13","v":0}]
[5,"AGAWAM                       ",80.569999999999993,425326,42.49,290838,null,5,3,2,null,{"$f":"C14-june!E14","v":4.5499999999999972},{"$f":"D14-june!F14","v":-12590},{"$f":"E14-june!G14","v":-3.6099999999999994},{"$f":"F14-june!H14","v":-1221},null,0,5,38.82,266249,{"$f":"S14-june!G14","v":-7.2800000000000011},{"$f":"T14-june!H14","v":-25810}]
[6,"ALFORD                       ",0,0,0,0,null,6,null,null,null,{"$f":"C15-june!E15","v":0},{"$f":"D15-june!F15","v":0},{"$f":"E15-june!G15","v":0},{"$f":"F15-june!H15","v":0},null,0,6,null,null,{"$f":"S15-june!G15","v":0},{"$f":"T15-june!H15","v":0}]
[7,"AMESBURY                     ",30,196514,74.48,494598,null,7,2,8,null,{"$f":"C16-june!E16","v":17.64},{"$f":"D16-june!F16","v":102001},{"$f":"E16-june!G16","v":14.790000000000006},{"$f":"F16-june!H16","v":115117},null,0,7,68.100000000000009,451852,{"$f":"S16-june!G16","v":8.4100000000000108},{"$f":"T16-june!H16","v":72371}]
[8,"AMHERST                      ",53.849999999999994,338073,23.909999999999997,157400,null,8,2,1,null,{"$f":"C17-june!E17","v":3.8899999999999935},{"$f":"D17-june!F17","v":1940},{"$f":"E17-june!G17","v":-1.1600000000000037},{"$f":"F17-june!H17","v":-81488},null,0,8,21.659999999999997,142325,{"$f":"S17-june!G17","v":-3.4100000000000037},{"$f":"T17-june!H17","v":-96563}]
[9,"ANDOVER                      ",0,0,3.78,25326,null,9,1,5,null,{"$f":"C18-june!E18","v":0},{"$f":"D18-june!F18","v":0},{"$f":"E18-june!G18","v":-0.2200000000000002},{"$f":"F18-june!H18","v":-1141},null,0,9,null,null,{"$f":"S18-june!G18","v":-4},{"$f":"T18-june!H18","v":-26467}]
[10,"ARLINGTON                    ",0,0,0.83,5561,null,10,1,null,null,{"$f":"C19-june!E19","v":0},{"$f":"D19-june!F19","v":0},{"$f":"E19-june!G19","v":-1.1299999999999999},{"$f":"F19-june!H19","v":-9245},null,0,10,null,null,{"$f":"S19-june!G19","v":-1.96},{"$f":"T19-june!H19","v":-14806}]
[11,"ASHBURNHAM                   ",0,0,0,0,null,11,null,null,null,{"$f":"C20-june!E20","v":0},{"$f":"D20-june!F20","v":0},{"$f":"E20-june!G20","v":0},{"$f":"F20-june!H20","v":0},null,0,11,null,null,{"$f":"S20-june!G20","v":0},{"$f":"T20-june!H20","v":0}]
[12,"ASHBY                        ",0,0,0,0,null,12,null,null,null,{"$f":"C21-june!E21","v":0},{"$f":"D21-june!F21","v":0},{"$f":"E21-june!G21","v":0},{"$f":"F21-june!H21","v":0},null,0,12,null,null,{"$f":"S21-june!G21","v":0},{"$f":"T21-june!H21","v":0}]
[13,"ASHFIELD                     ",0,0,0,0,null,13,null,null,null,{"$f":"C22-june!E22","v":0},{"$f":"D22-june!F22","v":0},{"$f":"E22-june!G22","v":0},{"$f":"F22-june!H22","v":0},null,0,13,null,null,{"$f":"S22-june!G22","v":0},{"$f":"T22-june!H22","v":0}]
[14,"ASHLAND                      ",31.759999999999998,212748,15.370000000000003,91418,null,14,null,1,null,{"$f":"C23-june!E23","v":-11.670000000000002},{"$f":"D23-june!F23","v":-53867},{"$f":"E23-june!G23","v":1.5100000000000016},{"$f":"F23-june!H23","v":1487},null,0,14,14.780000000000003,87465,{"$f":"S23-june!G23","v":0.92000000000000171},{"$f":"T23-june!H23","v":-2466}]
[15,"ATHOL                        ",0,0,0,0,null,15,null,null,null,{"$f":"C24-june!E24","v":0},{"$f":"D24-june!F24","v":0},{"$f":"E24-june!G24","v":0},{"$f":"F24-june!H24","v":0},null,0,15,null,null,{"$f":"S24-june!G24","v":0},{"$f":"T24-june!H24","v":0}]
[16,"ATTLEBORO                    ",0,0,16.89,98305,null,16,2,11,null,{"$f":"C25-june!E25","v":0},{"$f":"D25-june!F25","v":0},{"$f":"E25-june!G25","v":-9.4400000000000013},{"$f":"F25-june!H25","v":-65086},null,0,16,8.74,43700,{"$f":"S25-june!G25","v":-17.590000000000003},{"$f":"T25-june!H25","v":-119691}]
[17,"AUBURN                       ",46.910000000000004,249438,20.36,127289,null,17,null,null,null,{"$f":"C26-june!E26","v":-15.179999999999993},{"$f":"D26-june!F26","v":-78172},{"$f":"E26-june!G26","v":2.5600000000000023},{"$f":"F26-june!H26","v":24866},null,0,17,20.36,127289,{"$f":"S26-june!G26","v":2.5600000000000023},{"$f":"T26-june!H26","v":24866}]
[18,"AVON                         ",182.16,949225,5,25000,null,18,null,null,null,{"$f":"C27-june!E27","v":-6.0200000000000102},{"$f":"D27-june!F27","v":-31445},{"$f":"E27-june!G27","v":3.31},{"$f":"F27-june!H27","v":14933},null,0,18,5,25000,{"$f":"S27-june!G27","v":3.31},{"$f":"T27-june!H27","v":14933}]
[19,"AYER                         ",0,0,0,0,null,19,null,null,null,{"$f":"C28-june!E28","v":0},{"$f":"D28-june!F28","v":0},{"$f":"E28-june!G28","v":0},{"$f":"F28-june!H28","v":0},null,0,19,null,null,{"$f":"S28-june!G28","v":0},{"$f":"T28-june!H28","v":0}]
[20,"BARNSTABLE                   ",104.86,616894,155.75000000000003,918231,null,20,1,14,null,{"$f":"C29-june!E29","v":3.0799999999999841},{"$f":"D29-june!F29","v":-33824},{"$f":"E29-june!G29","v":0.29999999999998295},{"$f":"F29-june!H29","v":13338},null,0,20,146.66000000000003,857328,{"$f":"S29-june!G29","v":-8.7900000000000205},{"$f":"T29-june!H29","v":-47565}]
[21,"BARRE                        ",0,0,0,0,null,21,null,null,null,{"$f":"C30-june!E30","v":0},{"$f":"D30-june!F30","v":0},{"$f":"E30-june!G30","v":0},{"$f":"F30-june!H30","v":0},null,0,21,null,null,{"$f":"S30-june!G30","v":0},{"$f":"T30-june!H30","v":0}]
[22,"BECKET                       ",0,0,2,10000,null,22,null,null,null,{"$f":"C31-june!E31","v":0},{"$f":"D31-june!F31","v":0},{"$f":"E31-june!G31","v":-1},{"$f":"F31-june!H31","v":-5000},null,0,22,2,10000,{"$f":"S31-june!G31","v":-1},{"$f":"T31-june!H31","v":-5000}]
[23,"BEDFORD                      ",0,0,1,5000,null,23,null,null,null,{"$f":"C32-june!E32","v":0},{"$f":"D32-june!F32","v":0},{"$f":"E32-june!G32","v":-3.16},{"$f":"F32-june!H32","v":-21665},null,0,23,1,5000,{"$f":"S32-june!G32","v":-3.16},{"$f":"T32-june!H32","v":-21665}]
[24,"BELCHERTOWN                  ",99.509999999999991,580989,82.72999999999999,544940,null,24,null,4,null,{"$f":"C33-june!E33","v":-23.97999999999999},{"$f":"D33-june!F33","v":-168322},{"$f":"E33-june!G33","v":-12.960000000000008},{"$f":"F33-june!H33","v":-116779},null,0,24,80.36999999999999,529128,{"$f":"S33-june!G33","v":-15.320000000000007},{"$f":"T33-june!H33","v":-132591}]
[25,"BELLINGHAM                   ",45.33,257806,115.13999999999999,703458,null,25,null,8,null,{"$f":"C34-june!E34","v":6.1400000000000006},{"$f":"D34-june!F34","v":39136},{"$f":"E34-june!G34","v":-20.70999999999998},{"$f":"F34-june!H34","v":-140935},null,0,25,110.41999999999999,671834,{"$f":"S34-june!G34","v":-25.429999999999978},{"$f":"T34-june!H34","v":-172559}]
[26,"BELMONT                      ",0,0,0.73,4653,null,26,null,1,null,{"$f":"C35-june!E35","v":0},{"$f":"D35-june!F35","v":0},{"$f":"E35-june!G35","v":-0.57000000000000006},{"$f":"F35-june!H35","v":-4267},null,0,26,0.14000000000000001,700,{"$f":"S35-june!G35","v":-1.1600000000000001},{"$f":"T35-june!H35","v":-8220}]
[27,"BERKLEY                      ",78.599999999999994,396688,2,10000,null,27,null,null,null,{"$f":"C36-june!E36","v":-25.559999999999974},{"$f":"D36-june!F36","v":-124112},{"$f":"E36-june!G36","v":0.15000000000000013},{"$f":"F36-june!H36","v":750},null,0,27,2,10000,{"$f":"S36-june!G36","v":0.15000000000000013},{"$f":"T36-june!H36","v":750}]
[28,"BERLIN                       ",18,145629,0,0,null,28,null,null,null,{"$f":"C37-june!E37","v":-1.4100000000000001},{"$f":"D37-june!F37","v":-2192},{"$f":"E37-june!G37","v":-1},{"$f":"F37-june!H37","v":-5000},null,0,28,null,null,{"$f":"S37-june!G37","v":-1},{"$f":"T37-june!H37","v":-5000}]
[29,"BERNARDSTON                  ",0,0,0,0,null,29,null,null,null,{"$f":"C38-june!E38","v":0},{"$f":"D38-june!F38","v":0},{"$f":"E38-june!G38","v":0},{"$f":"F38-june!H38","v":0},null,0,29,null,null,{"$f":"S38-june!G38","v":0},{"$f":"T38-june!H38","v":0}]
[30,"BEVERLY                      ",95.320000000000007,524477,62.120000000000005,336687,null,30,7,9,null,{"$f":"C39-june!E39","v":-7.9799999999999898},{"$f":"D39-june!F39","v":-71601},{"$f":"E39-june!G39","v":2.7800000000000082},{"$f":"F39-june!H39","v":-1997},null,0,30,51,262183,{"$f":"S39-june!G39","v":-8.3399999999999963},{"$f":"T39-june!H39","v":-76501}]
[31,"BILLERICA                    ",0,0,13.559999999999999,74634,null,31,2,4,null,{"$f":"C40-june!E40","v":0},{"$f":"D40-june!F40","v":0},{"$f":"E40-june!G40","v":-4.41},{"$f":"F40-june!H40","v":-42618},null,0,31,9.5399999999999991,47700,{"$f":"S40-june!G40","v":-8.43},{"$f":"T40-june!H40","v":-69552}]
[32,"BLACKSTONE                   ",0,0,0,0,null,32,null,null,null,{"$f":"C41-june!E41","v":0},{"$f":"D41-june!F41","v":0},{"$f":"E41-june!G41","v":0},{"$f":"F41-june!H41","v":0},null,0,32,null,null,{"$f":"S41-june!G41","v":0},{"$f":"T41-june!H41","v":0}]
[33,"BLANDFORD                    ",0,0,0,0,null,33,null,null,null,{"$f":"C42-june!E42","v":0},{"$f":"D42-june!F42","v":0},{"$f":"E42-june!G42","v":-2},{"$f":"F42-june!H42","v":-11951},null,0,33,null,null,{"$f":"S42-june!G42","v":-2},{"$f":"T42-june!H42","v":-11951}]
[34,"BOLTON                       ",0,0,0,0,null,34,null,null,null,{"$f":"C43-june!E43","v":0},{"$f":"D43-june!F43","v":0},{"$f":"E43-june!G43","v":0},{"$f":"F43-june!H43","v":0},null,0,34,null,null,{"$f":"S43-june!G43","v":0},{"$f":"T43-june!H43","v":0}]
[35,"BOSTON                       ",0,0,86.539999999999992,555312,null,35,24,76,null,{"$f":"C44-june!E44","v":0},{"$f":"D44-june!F44","v":0},{"$f":"E44-june!G44","v":-6.5400000000000063},{"$f":"F44-june!H44","v":-61463},null,0,35,21.78,121420,{"$f":"S44-june!G44","v":-71.3},{"$f":"T44-june!H44","v":-495355}]
[36,"BOURNE                       ",126.46000000000001,723869,91.77,622519,null,36,2,1,null,{"$f":"C45-june!E45","v":-8.4399999999999977},{"$f":"D45-june!F45","v":-76651},{"$f":"E45-june!G45","v":-3.8100000000000165},{"$f":"F45-june!H45","v":57602},null,0,36,89.52,607444,{"$f":"S45-june!G45","v":-6.0600000000000165},{"$f":"T45-june!H45","v":42527}]
[37,"BOXBOROUGH                   ",0,0,0,0,null,37,null,null,null,{"$f":"C46-june!E46","v":0},{"$f":"D46-june!F46","v":0},{"$f":"E46-june!G46","v":0},{"$f":"F46-june!H46","v":0},null,0,37,null,null,{"$f":"S46-june!G46","v":0},{"$f":"T46-june!H46","v":0}]
[38,"BOXFORD                      ",0,0,0.83,5561,null,38,1,null,null,{"$f":"C47-june!E47","v":0},{"$f":"D47-june!F47","v":0},{"$f":"E47-june!G47","v":-2.17},{"$f":"F47-june!H47","v":-11139},null,0,38,null,null,{"$f":"S47-june!G47","v":-3},{"$f":"T47-june!H47","v":-16700}]
[39,"BOYLSTON                     ",13,70513,7.4,83867,null,39,2,null,null,{"$f":"C48-june!E48","v":-4},{"$f":"D48-june!F48","v":-24252},{"$f":"E48-june!G48","v":1.7999999999999998},{"$f":"F48-june!H48","v":10179},null,0,39,5.74,72745,{"$f":"S48-june!G48","v":0.13999999999999968},{"$f":"T48-june!H48","v":-943}]
[40,"BRAINTREE                    ",0,0,4.5999999999999996,27420,null,40,1,3,null,{"$f":"C49-june!E49","v":0},{"$f":"D49-june!F49","v":0},{"$f":"E49-june!G49","v":-0.59000000000000075},{"$f":"F49-june!H49","v":-5910},null,0,40,2,10000,{"$f":"S49-june!G49","v":-3.1900000000000004},{"$f":"T49-june!H49","v":-23330}]
[41,"BREWSTER                     ",0,0,23.39,158226,null,41,null,1,null,{"$f":"C50-june!E50","v":0},{"$f":"D50-june!F50","v":0},{"$f":"E50-june!G50","v":-8.86},{"$f":"F50-june!H50","v":-37170},null,0,41,22.8,154273,{"$f":"S50-june!G50","v":-9.4499999999999993},{"$f":"T50-june!H50","v":-41123}]
[42,"BRIDGEWATER                  ",0,0,0,0,null,42,null,null,null,{"$f":"C51-june!E51","v":0},{"$f":"D51-june!F51","v":0},{"$f":"E51-june!G51","v":0},{"$f":"F51-june!H51","v":0},null,0,42,null,null,{"$f":"S51-june!G51","v":0},{"$f":"T51-june!H51","v":0}]
[43,"BRIMFIELD                    ",0,0,9.370000000000001,102550,null,43,null,null,null,{"$f":"C52-june!E52","v":0},{"$f":"D52-june!F52","v":0},{"$f":"E52-june!G52","v":2.2400000000000011},{"$f":"F52-june!H52","v":39790},null,0,43,9.370000000000001,102550,{"$f":"S52-june!G52","v":2.2400000000000011},{"$f":"T52-june!H52","v":39790}]
[44,"BROCKTON                     ",23,115000,188.57000000000005,1037038,null,44,10,24,null,{"$f":"C53-june!E53","v":-0.42999999999999972},{"$f":"D53-june!F53","v":-112944},{"$f":"E53-june!G53","v":-47.099999999999937},{"$f":"F53-june!H53","v":-231930},null,0,44,166.11000000000004,886556,{"$f":"S53-june!G53","v":-69.559999999999945},{"$f":"T53-june!H53","v":-382412}]
[45,"BROOKFIELD                   ",60.86,389284,2.2800000000000002,14677,null,45,null,null,null,{"$f":"C54-june!E54","v":3.9500000000000028},{"$f":"D54-june!F54","v":34511},{"$f":"E54-june!G54","v":-0.34999999999999964},{"$f":"F54-june!H54","v":-8107},null,0,45,2.2800000000000002,14677,{"$f":"S54-june!G54","v":-0.34999999999999964},{"$f":"T54-june!H54","v":-8107}]
[46,"BROOKLINE                    ",0,0,0.59,3953,null,46,null,1,null,{"$f":"C55-june!E55","v":0},{"$f":"D55-june!F55","v":0},{"$f":"E55-june!G55","v":-0.72000000000000008},{"$f":"F55-june!H55","v":-4876},null,0,46,null,null,{"$f":"S55-june!G55","v":-1.31},{"$f":"T55-june!H55","v":-8829}]
[47,"BUCKLAND                     ",0,0,0,0,null,47,null,null,null,{"$f":"C56-june!E56","v":0},{"$f":"D56-june!F56","v":0},{"$f":"E56-june!G56","v":0},{"$f":"F56-june!H56","v":0},null,0,47,null,null,{"$f":"S56-june!G56","v":0},{"$f":"T56-june!H56","v":0}]
[48,"BURLINGTON                   ",25.019999999999996,125100,2.36,15812,null,48,null,4,null,{"$f":"C57-june!E57","v":-3.9100000000000037},{"$f":"D57-june!F57","v":-19550},{"$f":"E57-june!G57","v":-1.52},{"$f":"F57-june!H57","v":-10193},null,0,48,null,null,{"$f":"S57-june!G57","v":-3.88},{"$f":"T57-june!H57","v":-26005}]
[49,"CAMBRIDGE                    ",0,0,2.84,19028,null,49,2,2,null,{"$f":"C58-june!E58","v":0},{"$f":"D58-june!F58","v":0},{"$f":"E58-june!G58","v":-2.5700000000000003},{"$f":"F58-june!H58","v":-17263},null,0,49,null,null,{"$f":"S58-june!G58","v":-5.41},{"$f":"T58-june!H58","v":-36291}]
[50,"CANTON                       ",0,0,1.18,7906,null,50,null,2,null,{"$f":"C59-june!E59","v":0},{"$f":"D59-june!F59","v":0},{"$f":"E59-june!G59","v":-0.21999999999999997},{"$f":"F59-june!H59","v":-1930},null,0,50,null,null,{"$f":"S59-june!G59","v":-1.4},{"$f":"T59-june!H59","v":-9836}]
[51,"CARLISLE                     ",0,0,0,0,null,51,null,null,null,{"$f":"C60-june!E60","v":0},{"$f":"D60-june!F60","v":0},{"$f":"E60-june!G60","v":0},{"$f":"F60-june!H60","v":0},null,0,51,null,null,{"$f":"S60-june!G60","v":0},{"$f":"T60-june!H60","v":0}]
[52,"CARVER                       ",20.64,155991,5.25,30075,null,52,2,1,null,{"$f":"C61-june!E61","v":-1.9200000000000017},{"$f":"D61-june!F61","v":-18151},{"$f":"E61-june!G61","v":0.44000000000000039},{"$f":"F61-june!H61","v":24},null,0,52,3,15000,{"$f":"S61-june!G61","v":-1.8099999999999996},{"$f":"T61-june!H61","v":-15051}]
[53,"CHARLEMONT                   ",0,0,0,0,null,53,null,null,null,{"$f":"C62-june!E62","v":0},{"$f":"D62-june!F62","v":0},{"$f":"E62-june!G62","v":0},{"$f":"F62-june!H62","v":0},null,0,53,null,null,{"$f":"S62-june!G62","v":0},{"$f":"T62-june!H62","v":0}]
[54,"CHARLTON                     ",0,0,0,0,null,54,null,null,null,{"$f":"C63-june!E63","v":0},{"$f":"D63-june!F63","v":0},{"$f":"E63-june!G63","v":0},{"$f":"F63-june!H63","v":0},null,0,54,null,null,{"$f":"S63-june!G63","v":0},{"$f":"T63-june!H63","v":0}]
[55,"CHATHAM                      ",0,0,0,0,null,55,null,null,null,{"$f":"C64-june!E64","v":0},{"$f":"D64-june!F64","v":0},{"$f":"E64-june!G64","v":0},{"$f":"F64-june!H64","v":0},null,0,55,null,null,{"$f":"S64-june!G64","v":0},{"$f":"T64-june!H64","v":0}]
[56,"CHELMSFORD                   ",44,326523,27.68,193494,null,56,2,4,null,{"$f":"C65-june!E65","v":-13.89},{"$f":"D65-june!F65","v":-99198},{"$f":"E65-june!G65","v":-1.9800000000000004},{"$f":"F65-june!H65","v":-21435},null,0,56,23.66,166560,{"$f":"S65-june!G65","v":-6},{"$f":"T65-june!H65","v":-48369}]
[57,"CHELSEA                      ",0,0,4.26,28542,null,57,3,3,null,{"$f":"C66-june!E66","v":0},{"$f":"D66-june!F66","v":0},{"$f":"E66-june!G66","v":-6.01},{"$f":"F66-june!H66","v":-38848},null,0,57,null,null,{"$f":"S66-june!G66","v":-10.27},{"$f":"T66-june!H66","v":-67390}]
[58,"CHESHIRE                     ",0,0,0,0,null,58,null,null,null,{"$f":"C67-june!E67","v":0},{"$f":"D67-june!F67","v":0},{"$f":"E67-june!G67","v":0},{"$f":"F67-june!H67","v":0},null,0,58,null,null,{"$f":"S67-june!G67","v":0},{"$f":"T67-june!H67","v":0}]
[59,"CHESTER                      ",0,0,0,0,null,59,null,null,null,{"$f":"C68-june!E68","v":0},{"$f":"D68-june!F68","v":0},{"$f":"E68-june!G68","v":0},{"$f":"F68-june!H68","v":0},null,0,59,null,null,{"$f":"S68-june!G68","v":0},{"$f":"T68-june!H68","v":0}]
[60,"CHESTERFIELD                 ",0,0,0,0,null,60,null,null,null,{"$f":"C69-june!E69","v":0},{"$f":"D69-june!F69","v":0},{"$f":"E69-june!G69","v":0},{"$f":"F69-june!H69","v":0},null,0,60,null,null,{"$f":"S69-june!G69","v":0},{"$f":"T69-june!H69","v":0}]
[61,"CHICOPEE                     ",179.17000000000002,941627,130.28,754391,null,61,6,11,null,{"$f":"C70-june!E70","v":-11.269999999999982},{"$f":"D70-june!F70","v":-47282},{"$f":"E70-june!G70","v":-9.3900000000000148},{"$f":"F70-june!H70","v":-84583},null,0,61,118.81,677542,{"$f":"S70-june!G70","v":-20.860000000000014},{"$f":"T70-june!H70","v":-161432}]
[62,"CHILMARK                     ",0,0,0,0,null,62,null,null,null,{"$f":"C71-june!E71","v":0},{"$f":"D71-june!F71","v":0},{"$f":"E71-june!G71","v":0},{"$f":"F71-june!H71","v":0},null,0,62,null,null,{"$f":"S71-june!G71","v":0},{"$f":"T71-june!H71","v":0}]
[63,"CLARKSBURG                   ",26.96,159657,13.03,90681,null,63,null,null,null,{"$f":"C72-june!E72","v":-8.43},{"$f":"D72-june!F72","v":-43356},{"$f":"E72-june!G72","v":-4.7500000000000018},{"$f":"F72-june!H72","v":-43253},null,0,63,13.03,90681,{"$f":"S72-june!G72","v":-4.7500000000000018},{"$f":"T72-june!H72","v":-43253}]
[64,"CLINTON                      ",115.24999999999996,843868,113.69999999999999,637998,null,64,4,3,null,{"$f":"C73-june!E73","v":32.819999999999922},{"$f":"D73-june!F73","v":203716},{"$f":"E73-june!G73","v":-3.6700000000000159},{"$f":"F73-june!H73","v":-47599},null,0,64,108.61,603895,{"$f":"S73-june!G73","v":-8.7600000000000051},{"$f":"T73-june!H73","v":-81702}]
[65,"COHASSET                     ",0,0,0,0,null,65,null,null,null,{"$f":"C74-june!E74","v":0},{"$f":"D74-june!F74","v":0},{"$f":"E74-june!G74","v":0},{"$f":"F74-june!H74","v":0},null,0,65,null,null,{"$f":"S74-june!G74","v":0},{"$f":"T74-june!H74","v":0}]
[66,"COLRAIN                      ",0,0,{"$f":"S75+(0.83*I75)+0.59*J75","v":0},{"$f":"T75+(0.83*I75)*6700+0.59*J75*6700","v":0},null,66,null,null,null,{"$f":"C75-june!E75","v":0},{"$f":"D75-june!F75","v":0},{"$f":"E75-june!G75","v":0},{"$f":"F75-june!H75","v":0},null,{"$f":"R75-A75","v":0},66,null,null,{"$f":"S75-june!G75","v":0},{"$f":"T75-june!H75","v":0}]
[67,"CONCORD                      ",0,0,3.36,20812,null,67,null,4,null,{"$f":"C76-june!E76","v":0},{"$f":"D76-june!F76","v":0},{"$f":"E76-june!G76","v":1.3599999999999999},{"$f":"F76-june!H76","v":7412},null,0,67,1,5000,{"$f":"S76-june!G76","v":-1},{"$f":"T76-june!H76","v":-8400}]
[68,"CONWAY                       ",19.82,126837,8,76433,null,68,null,null,null,{"$f":"C77-june!E77","v":0.60999999999999943},{"$f":"D77-june!F77","v":2742},{"$f":"E77-june!G77","v":-2.58},{"$f":"F77-june!H77","v":-10760},null,0,68,8,76433,{"$f":"S77-june!G77","v":-2.58},{"$f":"T77-june!H77","v":-10760}]
[69,"CUMMINGTON                   ",0,0,0,0,null,69,null,null,null,{"$f":"C78-june!E78","v":0},{"$f":"D78-june!F78","v":0},{"$f":"E78-june!G78","v":0},{"$f":"F78-june!H78","v":0},null,0,69,null,null,{"$f":"S78-june!G78","v":0},{"$f":"T78-june!H78","v":0}]
[70,"DALTON                       ",0,0,0,0,null,70,null,null,null,{"$f":"C79-june!E79","v":0},{"$f":"D79-june!F79","v":0},{"$f":"E79-june!G79","v":0},{"$f":"F79-june!H79","v":0},null,0,70,null,null,{"$f":"S79-june!G79","v":0},{"$f":"T79-june!H79","v":0}]
[71,"DANVERS                      ",0,0,42.83,223719,null,71,null,6,null,{"$f":"C80-june!E80","v":0},{"$f":"D80-june!F80","v":0},{"$f":"E80-june!G80","v":-12.270000000000003},{"$f":"F80-june!H80","v":-79756},null,0,71,39.29,200001,{"$f":"S80-june!G80","v":-15.810000000000002},{"$f":"T80-june!H80","v":-103474}]
[72,"DARTMOUTH                    ",0,0,3.6,22420,null,72,1,3,null,{"$f":"C81-june!E81","v":0},{"$f":"D81-june!F81","v":0},{"$f":"E81-june!G81","v":-1.8699999999999988},{"$f":"F81-june!H81","v":-12644},null,0,72,1,5000,{"$f":"S81-june!G81","v":-4.4699999999999989},{"$f":"T81-june!H81","v":-30064}]
[73,"DEDHAM                       ",0,0,1.42,9514,null,73,1,1,null,{"$f":"C82-june!E82","v":0},{"$f":"D82-june!F82","v":0},{"$f":"E82-june!G82","v":-1.75},{"$f":"F82-june!H82","v":-8339},null,0,73,null,null,{"$f":"S82-june!G82","v":-3.17},{"$f":"T82-june!H82","v":-17853}]
[74,"DEERFIELD                    ",100.67,711861,19.619999999999997,114130,null,74,2,1,null,{"$f":"C83-june!E83","v":10.879999999999995},{"$f":"D83-june!F83","v":64237},{"$f":"E83-june!G83","v":-2.7900000000000027},{"$f":"F83-june!H83","v":-13809},null,0,74,17.369999999999997,99055,{"$f":"S83-june!G83","v":-5.0400000000000027},{"$f":"T83-june!H83","v":-28884}]
[75,"DENNIS                       ",0,0,0,0,null,75,null,null,null,{"$f":"C84-june!E84","v":0},{"$f":"D84-june!F84","v":0},{"$f":"E84-june!G84","v":0},{"$f":"F84-june!H84","v":0},null,0,75,null,null,{"$f":"S84-june!G84","v":0},{"$f":"T84-june!H84","v":0}]
[76,"DIGHTON                      ",0,0,0,0,null,76,null,null,null,{"$f":"C85-june!E85","v":0},{"$f":"D85-june!F85","v":0},{"$f":"E85-june!G85","v":0},{"$f":"F85-june!H85","v":0},null,0,76,null,null,{"$f":"S85-june!G85","v":0},{"$f":"T85-june!H85","v":0}]
[77,"DOUGLAS                      ",121.81,677565,47.39,265630,null,77,3,2,null,{"$f":"C86-june!E86","v":5.1999999999999886},{"$f":"D86-june!F86","v":21277},{"$f":"E86-june!G86","v":0.27000000000000313},{"$f":"F86-june!H86","v":-11623},null,0,77,43.72,241041,{"$f":"S86-june!G86","v":-3.3999999999999986},{"$f":"T86-june!H86","v":-36212}]
[78,"DOVER                        ",0,0,1.42,9514,null,78,1,1,null,{"$f":"C87-june!E87","v":0},{"$f":"D87-june!F87","v":0},{"$f":"E87-june!G87","v":1.42},{"$f":"F87-june!H87","v":9514},null,0,78,null,null,{"$f":"S87-june!G87","v":0},{"$f":"T87-june!H87","v":0}]
[79,"DRACUT                       ",26.939999999999998,140340,19.599999999999998,108837,null,79,1,3,null,{"$f":"C88-june!E88","v":-8.9099999999999966},{"$f":"D88-june!F88","v":-61030},{"$f":"E88-june!G88","v":-6.0100000000000016},{"$f":"F88-june!H88","v":-60658},null,0,79,17,91417,{"$f":"S88-june!G88","v":-8.61},{"$f":"T88-june!H88","v":-78078}]
[80,"DUDLEY                       ",0,0,0,0,null,80,null,null,null,{"$f":"C89-june!E89","v":0},{"$f":"D89-june!F89","v":0},{"$f":"E89-june!G89","v":0},{"$f":"F89-june!H89","v":0},null,0,80,null,null,{"$f":"S89-june!G89","v":0},{"$f":"T89-june!H89","v":0}]
[81,"DUNSTABLE                    ",0,0,0,0,null,81,null,null,null,{"$f":"C90-june!E90","v":0},{"$f":"D90-june!F90","v":0},{"$f":"E90-june!G90","v":0},{"$f":"F90-june!H90","v":0},null,0,81,null,null,{"$f":"S90-june!G90","v":0},{"$f":"T90-june!H90","v":0}]
[82,"DUXBURY                      ",0,0,1.18,7906,null,82,null,2,null,{"$f":"C91-june!E91","v":0},{"$f":"D91-june!F91","v":0},{"$f":"E91-june!G91","v":-0.59000000000000008},{"$f":"F91-june!H91","v":-4571},null,0,82,null,null,{"$f":"S91-june!G91","v":-1.77},{"$f":"T91-june!H91","v":-12477}]
[83,"EAST BRIDGEWATER             ",14.690000000000001,73450,22.44,167141,null,83,3,2,null,{"$f":"C92-june!E92","v":-11.319999999999997},{"$f":"D92-june!F92","v":-56600},{"$f":"E92-june!G92","v":2.7600000000000016},{"$f":"F92-june!H92","v":14364},null,0,83,18.770000000000003,142552,{"$f":"S92-june!G92","v":-0.90999999999999659},{"$f":"T92-june!H92","v":-10225}]
[84,"EAST BROOKFIELD              ",0,0,6,30000,null,84,null,null,null,{"$f":"C93-june!E93","v":0},{"$f":"D93-june!F93","v":0},{"$f":"E93-june!G93","v":1},{"$f":"F93-june!H93","v":5000},null,0,84,6,30000,{"$f":"S93-june!G93","v":1},{"$f":"T93-june!H93","v":5000}]
[85,"EASTHAM                      ",0,0,6.14,36124,null,85,null,null,null,{"$f":"C94-june!E94","v":0},{"$f":"D94-june!F94","v":0},{"$f":"E94-june!G94","v":-1.7700000000000005},{"$f":"F94-june!H94","v":-10155},null,0,85,6.14,36124,{"$f":"S94-june!G94","v":-1.7700000000000005},{"$f":"T94-june!H94","v":-10155}]
[86,"EASTHAMPTON                  ",84.16,429763,189.24000000000004,1291064,null,86,3,2,null,{"$f":"C95-june!E95","v":-1.9400000000000119},{"$f":"D95-june!F95","v":-61001},{"$f":"E95-june!G95","v":14.260000000000048},{"$f":"F95-june!H95","v":107888},null,0,86,185.57000000000002,1266475,{"$f":"S95-june!G95","v":10.590000000000032},{"$f":"T95-june!H95","v":83299}]
[87,"EAST LONGMEADOW              ",0,0,6.01,33467,null,87,1,2,null,{"$f":"C96-june!E96","v":0},{"$f":"D96-june!F96","v":0},{"$f":"E96-june!G96","v":-3.9600000000000009},{"$f":"F96-june!H96","v":-58058},null,0,87,4,20000,{"$f":"S96-june!G96","v":-5.9700000000000006},{"$f":"T96-june!H96","v":-71525}]
[88,"EASTON                       ",0,0,4.8999999999999995,26914,null,88,1,1,null,{"$f":"C97-june!E97","v":0},{"$f":"D97-june!F97","v":0},{"$f":"E97-june!G97","v":-3.7400000000000011},{"$f":"F97-june!H97","v":-26869},null,0,88,3.48,17400,{"$f":"S97-june!G97","v":-5.16},{"$f":"T97-june!H97","v":-36383}]
[89,"EDGARTOWN                    ",12.64,74997,32.450000000000003,180161,null,89,null,null,null,{"$f":"C98-june!E98","v":4.6400000000000006},{"$f":"D98-june!F98","v":11185},{"$f":"E98-june!G98","v":-0.54999999999999716},{"$f":"F98-june!H98","v":-9103},null,0,89,32.450000000000003,180161,{"$f":"S98-june!G98","v":-0.54999999999999716},{"$f":"T98-june!H98","v":-9103}]
[90,"EGREMONT                     ",0,0,0,0,null,90,null,null,null,{"$f":"C99-june!E99","v":0},{"$f":"D99-june!F99","v":0},{"$f":"E99-june!G99","v":0},{"$f":"F99-june!H99","v":0},null,0,90,null,null,{"$f":"S99-june!G99","v":0},{"$f":"T99-june!H99","v":0}]
[91,"ERVING                       ",0,0,40.840000000000003,289481,null,91,1,null,null,{"$f":"C100-june!E100","v":0},{"$f":"D100-june!F100","v":0},{"$f":"E100-june!G100","v":5.6800000000000068},{"$f":"F100-june!H100","v":97683},null,0,91,40.010000000000005,283920,{"$f":"S100-june!G100","v":4.8500000000000085},{"$f":"T100-june!H100","v":92122}]
[92,"ESSEX                        ",0,0,0,0,null,92,null,null,null,{"$f":"C101-june!E101","v":0},{"$f":"D101-june!F101","v":0},{"$f":"E101-june!G101","v":0},{"$f":"F101-june!H101","v":0},null,0,92,null,null,{"$f":"S101-june!G101","v":0},{"$f":"T101-june!H101","v":0}]
[93,"EVERETT                      ",0,0,15.809999999999999,93873,null,93,null,5,null,{"$f":"C102-june!E102","v":0},{"$f":"D102-june!F102","v":0},{"$f":"E102-june!G102","v":-0.41000000000000014},{"$f":"F102-june!H102","v":-5603},null,0,93,12.86,74108,{"$f":"S102-june!G102","v":-3.3599999999999994},{"$f":"T102-june!H102","v":-25368}]
[94,"FAIRHAVEN                    ",0,0,12.78,75861,null,94,null,5,null,{"$f":"C103-june!E103","v":0},{"$f":"D103-june!F103","v":0},{"$f":"E103-june!G103","v":-0.57000000000000028},{"$f":"F103-june!H103","v":-272},null,0,94,9.83,56096,{"$f":"S103-june!G103","v":-3.5199999999999996},{"$f":"T103-june!H103","v":-20037}]
[95,"FALL RIVER                   ",16.41,82050,67.86,394695,null,95,7,11,null,{"$f":"C104-june!E104","v":-9.9399999999999977},{"$f":"D104-june!F104","v":-49700},{"$f":"E104-june!G104","v":-34.479999999999976},{"$f":"F104-june!H104","v":-212989},null,0,95,55.56,312285,{"$f":"S104-june!G104","v":-46.779999999999973},{"$f":"T104-june!H104","v":-295399}]
[96,"FALMOUTH                     ",91.44999999999996,581601,46.58,261955,null,96,null,3,null,{"$f":"C105-june!E105","v":-20.700000000000031},{"$f":"D105-june!F105","v":-80748},{"$f":"E105-june!G105","v":6.3900000000000006},{"$f":"F105-june!H105","v":22606},null,0,96,44.809999999999995,250096,{"$f":"S105-june!G105","v":4.6199999999999974},{"$f":"T105-june!H105","v":10747}]
[97,"FITCHBURG                    ",180.11999999999995,1048411,419.84999999999991,2451589,null,97,4,12,null,{"$f":"C106-june!E106","v":4.3700000000001182},{"$f":"D106-june!F106","v":33853},{"$f":"E106-june!G106","v":-10.759999999999991},{"$f":"F106-june!H106","v":863},null,0,97,409.44999999999993,2381909,{"$f":"S106-june!G106","v":-21.159999999999968},{"$f":"T106-june!H106","v":-68817}]
[98,"FLORIDA                      ",2,11708,4,20000,null,98,null,null,null,{"$f":"C107-june!E107","v":-1.42},{"$f":"D107-june!F107","v":-7798},{"$f":"E107-june!G107","v":-3},{"$f":"F107-june!H107","v":-19198},null,0,98,4,20000,{"$f":"S107-june!G107","v":-3},{"$f":"T107-june!H107","v":-19198}]
[99,"FOXBOROUGH                   ",0,0,0.59,3953,null,99,null,1,null,{"$f":"C108-june!E108","v":0},{"$f":"D108-june!F108","v":0},{"$f":"E108-june!G108","v":-4.1100000000000003},{"$f":"F108-june!H108","v":-24436},null,0,99,null,null,{"$f":"S108-june!G108","v":-4.7},{"$f":"T108-june!H108","v":-28389}]
[100,"FRAMINGHAM                   ",0,0,52.199999999999996,312643,null,100,null,19,null,{"$f":"C109-june!E109","v":0},{"$f":"D109-june!F109","v":0},{"$f":"E109-june!G109","v":-2.4899999999999949},{"$f":"F109-june!H109","v":-15245},null,0,100,40.989999999999995,237536,{"$f":"S109-june!G109","v":-13.699999999999996},{"$f":"T109-june!H109","v":-90352}]
[101,"FRANKLIN                     ",10,50468,26.060000000000002,141344,null,101,null,8,null,{"$f":"C110-june!E110","v":3},{"$f":"D110-june!F110","v":10451},{"$f":"E110-june!G110","v":-8.2299999999999898},{"$f":"F110-june!H110","v":-67321},null,0,101,21.340000000000003,109720,{"$f":"S110-june!G110","v":-12.949999999999989},{"$f":"T110-june!H110","v":-98945}]
[102,"FREETOWN                     ",0,0,0,0,null,102,null,null,null,{"$f":"C111-june!E111","v":0},{"$f":"D111-june!F111","v":0},{"$f":"E111-june!G111","v":-2},{"$f":"F111-june!H111","v":-10000},null,0,102,null,null,{"$f":"S111-june!G111","v":-2},{"$f":"T111-june!H111","v":-10000}]
[103,"GARDNER                      ",140.22999999999996,773133,188.06999999999994,1002576,null,103,7,4,null,{"$f":"C112-june!E112","v":18.249999999999929},{"$f":"D112-june!F112","v":91184},{"$f":"E112-june!G112","v":-64.330000000000041},{"$f":"F112-june!H112","v":-431869},null,0,103,179.89999999999992,947837,{"$f":"S112-june!G112","v":-72.500000000000057},{"$f":"T112-june!H112","v":-486608}]
[104,"GAY HEAD                     ",0,0,0,0,null,104,null,null,null,{"$f":"C113-june!E113","v":0},{"$f":"D113-june!F113","v":0},{"$f":"E113-june!G113","v":0},{"$f":"F113-june!H113","v":0},null,0,104,null,null,{"$f":"S113-june!G113","v":0},{"$f":"T113-june!H113","v":0}]
[105,"GEORGETOWN                   ",38,196130,22.77,197267,null,105,null,3,null,{"$f":"C114-june!E114","v":-2},{"$f":"D114-june!F114","v":-7693},{"$f":"E114-june!G114","v":-1.1000000000000014},{"$f":"F114-june!H114","v":7069},null,0,105,21,185408,{"$f":"S114-june!G114","v":-2.870000000000001},{"$f":"T114-june!H114","v":-4790}]
[106,"GILL                         ",0,0,0,0,null,106,null,null,null,{"$f":"C115-june!E115","v":0},{"$f":"D115-june!F115","v":0},{"$f":"E115-june!G115","v":0},{"$f":"F115-june!H115","v":0},null,0,106,null,null,{"$f":"S115-june!G115","v":0},{"$f":"T115-june!H115","v":0}]
[107,"GLOUCESTER                   ",39.200000000000003,214791,303.85999999999996,1651567,null,107,1,3,null,{"$f":"C116-june!E116","v":0.66000000000000369},{"$f":"D116-june!F116","v":12916},{"$f":"E116-june!G116","v":-8.2800000000000864},{"$f":"F116-june!H116","v":-222109},null,0,107,301.26,1634147,{"$f":"S116-june!G116","v":-10.880000000000052},{"$f":"T116-june!H116","v":-239529}]
[108,"GOSHEN                       ",0,0,0,0,null,108,null,null,null,{"$f":"C117-june!E117","v":0},{"$f":"D117-june!F117","v":0},{"$f":"E117-june!G117","v":0},{"$f":"F117-june!H117","v":0},null,0,108,null,null,{"$f":"S117-june!G117","v":0},{"$f":"T117-june!H117","v":0}]
[109,"GOSNOLD                      ",0,0,0,0,null,109,null,null,null,{"$f":"C118-june!E118","v":0},{"$f":"D118-june!F118","v":0},{"$f":"E118-june!G118","v":0},{"$f":"F118-june!H118","v":0},null,0,109,null,null,{"$f":"S118-june!G118","v":0},{"$f":"T118-june!H118","v":0}]
[110,"GRAFTON                      ",31.53,191757,25.52,143393,null,110,1,5,null,{"$f":"C119-june!E119","v":-11.029999999999994},{"$f":"D119-june!F119","v":-94423},{"$f":"E119-june!G119","v":-11.580000000000002},{"$f":"F119-june!H119","v":-65901},null,0,110,21.740000000000002,118067,{"$f":"S119-june!G119","v":-15.36},{"$f":"T119-june!H119","v":-91227}]
[111,"GRANBY                       ",132.75,750306,48.22,286171,null,111,null,1,null,{"$f":"C120-june!E120","v":15.659999999999997},{"$f":"D120-june!F120","v":87493},{"$f":"E120-june!G120","v":-3.8699999999999903},{"$f":"F120-june!H120","v":-24688},null,0,111,47.629999999999995,282218,{"$f":"S120-june!G120","v":-4.4599999999999937},{"$f":"T120-june!H120","v":-28641}]
[112,"GRANVILLE                    ",0,0,0,0,null,112,null,null,null,{"$f":"C121-june!E121","v":0},{"$f":"D121-june!F121","v":0},{"$f":"E121-june!G121","v":0},{"$f":"F121-june!H121","v":0},null,0,112,null,null,{"$f":"S121-june!G121","v":0},{"$f":"T121-june!H121","v":0}]
[113,"GREAT BARRINGTON             ",0,0,0,0,null,113,null,null,null,{"$f":"C122-june!E122","v":0},{"$f":"D122-june!F122","v":0},{"$f":"E122-june!G122","v":0},{"$f":"F122-june!H122","v":0},null,0,113,null,null,{"$f":"S122-june!G122","v":0},{"$f":"T122-june!H122","v":0}]
[114,"GREENFIELD                   ",92.589999999999989,578152,326.21999999999991,2309748,null,114,13,3,null,{"$f":"C123-june!E123","v":-23.95999999999998},{"$f":"D123-june!F123","v":-132783},{"$f":"E123-june!G123","v":3.0599999999998886},{"$f":"F123-june!H123","v":-193701},null,0,114,313.65999999999991,2225596,{"$f":"S123-june!G123","v":-9.5000000000001137},{"$f":"T123-june!H123","v":-277853}]
[115,"GROTON                       ",0,0,0,0,null,115,null,null,null,{"$f":"C124-june!E124","v":0},{"$f":"D124-june!F124","v":0},{"$f":"E124-june!G124","v":0},{"$f":"F124-june!H124","v":0},null,0,115,null,null,{"$f":"S124-june!G124","v":0},{"$f":"T124-june!H124","v":0}]
[116,"GROVELAND                    ",0,0,0,0,null,116,null,null,null,{"$f":"C125-june!E125","v":0},{"$f":"D125-june!F125","v":0},{"$f":"E125-june!G125","v":0},{"$f":"F125-june!H125","v":0},null,0,116,null,null,{"$f":"S125-june!G125","v":0},{"$f":"T125-june!H125","v":0}]
[117,"HADLEY                       ",102.42999999999999,589766,57.59,385346,null,117,null,4,null,{"$f":"C126-june!E126","v":3.960000000000008},{"$f":"D126-june!F126","v":-32913},{"$f":"E126-june!G126","v":10.11},{"$f":"F126-june!H126","v":82369},null,0,117,55.230000000000004,369534,{"$f":"S126-june!G126","v":7.75},{"$f":"T126-june!H126","v":66557}]
[118,"HALIFAX                      ",0,0,1,5000,null,118,null,null,null,{"$f":"C127-june!E127","v":0},{"$f":"D127-june!F127","v":0},{"$f":"E127-june!G127","v":0},{"$f":"F127-june!H127","v":0},null,0,118,1,5000,{"$f":"S127-june!G127","v":0},{"$f":"T127-june!H127","v":0}]
[119,"HAMILTON                     ",0,0,0,0,null,119,null,null,null,{"$f":"C128-june!E128","v":0},{"$f":"D128-june!F128","v":0},{"$f":"E128-june!G128","v":0},{"$f":"F128-june!H128","v":0},null,0,119,null,null,{"$f":"S128-june!G128","v":0},{"$f":"T128-june!H128","v":0}]
[120,"HAMPDEN                      ",0,0,0,0,null,120,null,null,null,{"$f":"C129-june!E129","v":0},{"$f":"D129-june!F129","v":0},{"$f":"E129-june!G129","v":0},{"$f":"F129-june!H129","v":0},null,0,120,null,null,{"$f":"S129-june!G129","v":0},{"$f":"T129-june!H129","v":0}]
[121,"HANCOCK                      ",3,15000,11,55000,null,121,null,null,null,{"$f":"C130-june!E130","v":-2},{"$f":"D130-june!F130","v":-13564},{"$f":"E130-june!G130","v":6.3100000000000005},{"$f":"F130-june!H130","v":31550},null,0,121,11,55000,{"$f":"S130-june!G130","v":6.3100000000000005},{"$f":"T130-june!H130","v":31550}]
[122,"HANOVER                      ",0,0,0,0,null,122,null,null,null,{"$f":"C131-june!E131","v":0},{"$f":"D131-june!F131","v":0},{"$f":"E131-june!G131","v":-2.74},{"$f":"F131-june!H131","v":-13700},null,0,122,null,null,{"$f":"S131-june!G131","v":-2.74},{"$f":"T131-june!H131","v":-13700}]
[123,"HANSON                       ",0,0,0,0,null,123,null,null,null,{"$f":"C132-june!E132","v":0},{"$f":"D132-june!F132","v":0},{"$f":"E132-june!G132","v":0},{"$f":"F132-june!H132","v":0},null,0,123,null,null,{"$f":"S132-june!G132","v":0},{"$f":"T132-june!H132","v":0}]
[124,"HARDWICK                     ",0,0,0,0,null,124,null,null,null,{"$f":"C133-june!E133","v":0},{"$f":"D133-june!F133","v":0},{"$f":"E133-june!G133","v":0},{"$f":"F133-june!H133","v":0},null,0,124,null,null,{"$f":"S133-june!G133","v":0},{"$f":"T133-june!H133","v":0}]
[125,"HARVARD                      ",70,368354,5,31314,null,125,null,null,null,{"$f":"C134-june!E134","v":2.6200000000000045},{"$f":"D134-june!F134","v":12462},{"$f":"E134-june!G134","v":2},{"$f":"F134-june!H134","v":16314},null,0,125,5,31314,{"$f":"S134-june!G134","v":2},{"$f":"T134-june!H134","v":16314}]
[126,"HARWICH                      ",0,0,1.18,7906,null,126,null,2,null,{"$f":"C135-june!E135","v":0},{"$f":"D135-june!F135","v":0},{"$f":"E135-june!G135","v":1.18},{"$f":"F135-june!H135","v":7906},null,0,126,null,null,{"$f":"S135-june!G135","v":0},{"$f":"T135-june!H135","v":0}]
[127,"HATFIELD                     ",123.99999999999999,838623,28.3,202217,null,127,6,null,null,{"$f":"C136-june!E136","v":-6.8000000000000256},{"$f":"D136-june!F136","v":-80568},{"$f":"E136-june!G136","v":-2.4800000000000004},{"$f":"F136-june!H136","v":7303},null,0,127,23.32,168851,{"$f":"S136-june!G136","v":-7.4600000000000009},{"$f":"T136-june!H136","v":-26063}]
[128,"HAVERHILL                    ",42.49,247501,211.74,1190061,null,128,3,16,null,{"$f":"C137-june!E137","v":5.8900000000000006},{"$f":"D137-june!F137","v":40726},{"$f":"E137-june!G137","v":21.920000000000016},{"$f":"F137-june!H137","v":105922},null,0,128,199.81,1110130,{"$f":"S137-june!G137","v":9.9900000000000091},{"$f":"T137-june!H137","v":25991}]
[129,"HAWLEY                       ",0,0,0,0,null,129,null,null,null,{"$f":"C138-june!E138","v":0},{"$f":"D138-june!F138","v":0},{"$f":"E138-june!G138","v":0},{"$f":"F138-june!H138","v":0},null,0,129,null,null,{"$f":"S138-june!G138","v":0},{"$f":"T138-june!H138","v":0}]
[130,"HEATH                        ",0,0,{"$f":"S139+(0.83*I139)+0.59*J139","v":0},{"$f":"T139+(0.83*I139)*6700+0.59*J139*6700","v":0},null,130,null,null,null,{"$f":"C139-june!E139","v":0},{"$f":"D139-june!F139","v":0},{"$f":"E139-june!G139","v":0},{"$f":"F139-june!H139","v":0},null,{"$f":"R139-A139","v":0},130,null,null,{"$f":"S139-june!G139","v":0},{"$f":"T139-june!H139","v":0}]
[131,"HINGHAM                      ",0,0,0,0,null,131,null,null,null,{"$f":"C140-june!E140","v":0},{"$f":"D140-june!F140","v":0},{"$f":"E140-june!G140","v":-3.48},{"$f":"F140-june!H140","v":-24172},null,0,131,null,null,{"$f":"S140-june!G140","v":-3.48},{"$f":"T140-june!H140","v":-24172}]
[132,"HINSDALE                     ",0,0,0,0,null,132,null,null,null,{"$f":"C141-june!E141","v":0},{"$f":"D141-june!F141","v":0},{"$f":"E141-june!G141","v":0},{"$f":"F141-june!H141","v":0},null,0,132,null,null,{"$f":"S141-june!G141","v":0},{"$f":"T141-june!H141","v":0}]
[133,"HOLBROOK                     ",57.480000000000004,305871,14.07,76997,null,133,4,1,null,{"$f":"C142-june!E142","v":-0.38999999999999346},{"$f":"D142-june!F142","v":-10225},{"$f":"E142-june!G142","v":-3.4299999999999962},{"$f":"F142-june!H142","v":-43807},null,0,133,10.16,50800,{"$f":"S142-june!G142","v":-7.3399999999999963},{"$f":"T142-june!H142","v":-70004}]
[134,"HOLDEN                       ",0,0,0,0,null,134,null,null,null,{"$f":"C143-june!E143","v":0},{"$f":"D143-june!F143","v":0},{"$f":"E143-june!G143","v":0},{"$f":"F143-june!H143","v":0},null,0,134,null,null,{"$f":"S143-june!G143","v":0},{"$f":"T143-june!H143","v":0}]
[135,"HOLLAND                      ",40.31,246248,1.5899999999999999,8953,null,135,null,1,null,{"$f":"C144-june!E144","v":-12.619999999999997},{"$f":"D144-june!F144","v":-53033},{"$f":"E144-june!G144","v":-0.93000000000000016},{"$f":"F144-june!H144","v":-4567},null,0,135,1,5000,{"$f":"S144-june!G144","v":-1.52},{"$f":"T144-june!H144","v":-8520}]
[136,"HOLLISTON                    ",158.83000000000001,1038241,7.41,49554,null,136,null,3,null,{"$f":"C145-june!E145","v":0.37000000000000455},{"$f":"D145-june!F145","v":-39186},{"$f":"E145-june!G145","v":-6.9200000000000017},{"$f":"F145-june!H145","v":-34660},null,0,136,5.6400000000000006,37695,{"$f":"S145-june!G145","v":-8.6900000000000013},{"$f":"T145-june!H145","v":-46519}]
[137,"HOLYOKE                      ",51.699999999999996,274673,337.20000000000005,2055893,null,137,3,8,null,{"$f":"C146-june!E146","v":-0.99000000000000909},{"$f":"D146-june!F146","v":-18393},{"$f":"E146-june!G146","v":0.18000000000006366},{"$f":"F146-june!H146","v":-78684},null,0,137,329.99,2007586,{"$f":"S146-june!G146","v":-7.0299999999999727},{"$f":"T146-june!H146","v":-126991}]
[138,"HOPEDALE                     ",129.57999999999998,709439,48.32,290034,null,138,null,3,null,{"$f":"C147-june!E147","v":6.8099999999999881},{"$f":"D147-june!F147","v":14905},{"$f":"E147-june!G147","v":-0.24000000000000199},{"$f":"F147-june!H147","v":-3769},null,0,138,46.55,278175,{"$f":"S147-june!G147","v":-2.0100000000000051},{"$f":"T147-june!H147","v":-15628}]
[139,"HOPKINTON                    ",0,0,16.64,88021,null,139,null,2,null,{"$f":"C148-june!E148","v":0},{"$f":"D148-june!F148","v":0},{"$f":"E148-june!G148","v":-1.7299999999999969},{"$f":"F148-june!H148","v":-23443},null,0,139,15.46,80115,{"$f":"S148-june!G148","v":-2.9099999999999966},{"$f":"T148-june!H148","v":-31349}]
[140,"HUBBARDSTON                  ",0,0,0,0,null,140,null,null,null,{"$f":"C149-june!E149","v":0},{"$f":"D149-june!F149","v":0},{"$f":"E149-june!G149","v":0},{"$f":"F149-june!H149","v":0},null,0,140,null,null,{"$f":"S149-june!G149","v":0},{"$f":"T149-june!H149","v":0}]
[141,"HUDSON                       ",101.62,546944,19.649999999999999,111154,null,141,null,6,null,{"$f":"C150-june!E150","v":5.4799999999999898},{"$f":"D150-june!F150","v":-70539},{"$f":"E150-june!G150","v":-1.6099999999999994},{"$f":"F150-june!H150","v":-29086},null,0,141,16.11,87436,{"$f":"S150-june!G150","v":-5.1499999999999986},{"$f":"T150-june!H150","v":-52804}]
[142,"HULL                         ",0,0,3.4299999999999997,22981,null,142,2,3,null,{"$f":"C151-june!E151","v":0},{"$f":"D151-june!F151","v":0},{"$f":"E151-june!G151","v":-2.5700000000000003},{"$f":"F151-june!H151","v":-19297},null,0,142,null,null,{"$f":"S151-june!G151","v":-6},{"$f":"T151-june!H151","v":-42278}]
[143,"HUNTINGTON                   ",0,0,0,0,null,143,null,null,null,{"$f":"C152-june!E152","v":0},{"$f":"D152-june!F152","v":0},{"$f":"E152-june!G152","v":0},{"$f":"F152-june!H152","v":0},null,0,143,null,null,{"$f":"S152-june!G152","v":0},{"$f":"T152-june!H152","v":0}]
[144,"IPSWICH                      ",70,383036,19.43,109839,null,144,null,2,null,{"$f":"C153-june!E153","v":2.0300000000000011},{"$f":"D153-june!F153","v":15962},{"$f":"E153-june!G153","v":2.7699999999999996},{"$f":"F153-june!H153","v":14600},null,0,144,18.25,101933,{"$f":"S153-june!G153","v":1.5899999999999999},{"$f":"T153-june!H153","v":6694}]
[145,"KINGSTON                     ",0,0,0.59,3953,null,145,null,1,null,{"$f":"C154-june!E154","v":0},{"$f":"D154-june!F154","v":0},{"$f":"E154-june!G154","v":0.59},{"$f":"F154-june!H154","v":3953},null,0,145,null,null,{"$f":"S154-june!G154","v":0},{"$f":"T154-june!H154","v":0}]
[146,"LAKEVILLE                    ",0,0,0,0,null,146,null,null,null,{"$f":"C155-june!E155","v":0},{"$f":"D155-june!F155","v":0},{"$f":"E155-june!G155","v":0},{"$f":"F155-june!H155","v":0},null,0,146,null,null,{"$f":"S155-june!G155","v":0},{"$f":"T155-june!H155","v":0}]
[147,"LANCASTER                    ",0,0,0,0,null,147,null,null,null,{"$f":"C156-june!E156","v":0},{"$f":"D156-june!F156","v":0},{"$f":"E156-june!G156","v":0},{"$f":"F156-june!H156","v":0},null,0,147,null,null,{"$f":"S156-june!G156","v":0},{"$f":"T156-june!H156","v":0}]
[148,"LANESBOROUGH                 ",20,120999,22.109999999999996,114496,null,148,1,null,null,{"$f":"C157-june!E157","v":1},{"$f":"D157-june!F157","v":11195},{"$f":"E157-june!G157","v":-1.980000000000004},{"$f":"F157-june!H157","v":-17612},null,0,148,21.279999999999998,108935,{"$f":"S157-june!G157","v":-2.8100000000000023},{"$f":"T157-june!H157","v":-23173}]
[149,"LAWRENCE                     ",0,0,59.06,372271,null,149,7,14,null,{"$f":"C158-june!E158","v":0},{"$f":"D158-june!F158","v":0},{"$f":"E158-june!G158","v":-6.8700000000000045},{"$f":"F158-june!H158","v":-53756},null,0,149,44.99,278002,{"$f":"S158-june!G158","v":-20.940000000000005},{"$f":"T158-june!H158","v":-148025}]
[150,"LEE                          ",127.97999999999999,731075,89.25,482824,null,150,1,1,null,{"$f":"C159-june!E159","v":-0.5600000000000307},{"$f":"D159-june!F159","v":-12379},{"$f":"E159-june!G159","v":-9.1299999999999955},{"$f":"F159-june!H159","v":-76559},null,0,150,87.83,473310,{"$f":"S159-june!G159","v":-10.549999999999997},{"$f":"T159-june!H159","v":-86073}]
[151,"LEICESTER                    ",92,544663,31.58,162376,null,151,null,1,null,{"$f":"C160-june!E160","v":-11.14},{"$f":"D160-june!F160","v":-20218},{"$f":"E160-june!G160","v":-3.7600000000000051},{"$f":"F160-june!H160","v":-37414},null,0,151,30.99,158423,{"$f":"S160-june!G160","v":-4.350000000000005},{"$f":"T160-june!H160","v":-41367}]
[152,"LENOX                        ",246.78999999999996,1279101,50.230000000000004,308326,null,152,null,1,null,{"$f":"C161-june!E161","v":-6.370000000000033},{"$f":"D161-june!F161","v":-31093},{"$f":"E161-june!G161","v":3.210000000000008},{"$f":"F161-june!H161","v":41967},null,0,152,49.64,304373,{"$f":"S161-june!G161","v":2.6200000000000045},{"$f":"T161-june!H161","v":38014}]
[153,"LEOMINSTER                   ",246.87999999999997,1401012,324.63000000000005,1875141,null,153,2,8,null,{"$f":"C162-june!E162","v":0.71999999999999886},{"$f":"D162-june!F162","v":50516},{"$f":"E162-june!G162","v":0.93000000000000682},{"$f":"F162-june!H162","v":-3793},null,0,153,318.25,1832395,{"$f":"S162-june!G162","v":-5.4500000000000455},{"$f":"T162-june!H162","v":-46539}]
[154,"LEVERETT                     ",20.490000000000002,163072,7,35971,null,154,null,null,null,{"$f":"C163-june!E163","v":-0.7099999999999973},{"$f":"D163-june!F163","v":17912},{"$f":"E163-june!G163","v":1.63},{"$f":"F163-june!H163","v":8445},null,0,154,7,35971,{"$f":"S163-june!G163","v":1.63},{"$f":"T163-june!H163","v":8445}]
[155,"LEXINGTON                    ",0,0,2.77,16859,null,155,null,3,null,{"$f":"C164-june!E164","v":0},{"$f":"D164-june!F164","v":0},{"$f":"E164-june!G164","v":-3.57},{"$f":"F164-june!H164","v":-23969},null,0,155,1,5000,{"$f":"S164-june!G164","v":-5.34},{"$f":"T164-june!H164","v":-35828}]
[156,"LEYDEN                       ",0,0,0,0,null,156,null,null,null,{"$f":"C165-june!E165","v":0},{"$f":"D165-june!F165","v":0},{"$f":"E165-june!G165","v":0},{"$f":"F165-june!H165","v":0},null,0,156,null,null,{"$f":"S165-june!G165","v":0},{"$f":"T165-june!H165","v":0}]
[157,"LINCOLN                      ",0,0,0,0,null,157,null,null,null,{"$f":"C166-june!E166","v":0},{"$f":"D166-june!F166","v":0},{"$f":"E166-june!G166","v":-2.2200000000000002},{"$f":"F166-june!H166","v":-14933},null,0,157,null,null,{"$f":"S166-june!G166","v":-2.2200000000000002},{"$f":"T166-june!H166","v":-14933}]
[158,"LITTLETON                    ",68.490000000000009,373331,19.009999999999998,102084,null,158,1,null,null,{"$f":"C167-june!E167","v":-9.8999999999999915},{"$f":"D167-june!F167","v":-58241},{"$f":"E167-june!G167","v":-3.1500000000000021},{"$f":"F167-june!H167","v":-41790},null,0,158,18.18,96523,{"$f":"S167-june!G167","v":-3.9800000000000004},{"$f":"T167-june!H167","v":-47351}]
[159,"LONGMEADOW                   ",45,364404,1.5899999999999999,8953,null,159,null,1,null,{"$f":"C168-june!E168","v":5.3699999999999974},{"$f":"D168-june!F168","v":36248},{"$f":"E168-june!G168","v":-0.4700000000000002},{"$f":"F168-june!H168","v":-3295},null,0,159,1,5000,{"$f":"S168-june!G168","v":-1.06},{"$f":"T168-june!H168","v":-7248}]
[160,"LOWELL                       ",0,0,102.58999999999999,685289,null,160,10,9,null,{"$f":"C169-june!E169","v":0},{"$f":"D169-june!F169","v":0},{"$f":"E169-june!G169","v":-39.359999999999971},{"$f":"F169-june!H169","v":-259786},null,0,160,88.97999999999999,594102,{"$f":"S169-june!G169","v":-52.96999999999997},{"$f":"T169-june!H169","v":-350973}]
[161,"LUDLOW                       ",80.17,499229,38.589999999999996,204660,null,161,1,3,null,{"$f":"C170-june!E170","v":-13.819999999999993},{"$f":"D170-june!F170","v":-63175},{"$f":"E170-june!G170","v":-1.490000000000002},{"$f":"F170-june!H170","v":-15180},null,0,161,35.989999999999995,187240,{"$f":"S170-june!G170","v":-4.0900000000000034},{"$f":"T170-june!H170","v":-32600}]
[162,"LUNENBURG                    ",38.94,227741,84.480000000000018,517649,null,162,null,null,null,{"$f":"C171-june!E171","v":-12.329999999999998},{"$f":"D171-june!F171","v":-58932},{"$f":"E171-june!G171","v":4.3000000000000114},{"$f":"F171-june!H171","v":40747},null,0,162,84.480000000000018,517649,{"$f":"S171-june!G171","v":4.3000000000000114},{"$f":"T171-june!H171","v":40747}]
[163,"LYNN                         ",0,0,78.77,457634,null,163,9,28,null,{"$f":"C172-june!E172","v":0},{"$f":"D172-june!F172","v":0},{"$f":"E172-june!G172","v":-20.480000000000004},{"$f":"F172-june!H172","v":-146579},null,0,163,54.78,296901,{"$f":"S172-june!G172","v":-44.47},{"$f":"T172-june!H172","v":-307312}]
[164,"LYNNFIELD                    ",0,0,0,0,null,164,null,null,null,{"$f":"C173-june!E173","v":0},{"$f":"D173-june!F173","v":0},{"$f":"E173-june!G173","v":0},{"$f":"F173-june!H173","v":0},null,0,164,null,null,{"$f":"S173-june!G173","v":0},{"$f":"T173-june!H173","v":0}]
[165,"MALDEN                       ",0,0,5.43,32981,null,165,2,3,null,{"$f":"C174-june!E174","v":0},{"$f":"D174-june!F174","v":0},{"$f":"E174-june!G174","v":-4.5100000000000016},{"$f":"F174-june!H174","v":-28416},null,0,165,2,10000,{"$f":"S174-june!G174","v":-7.9400000000000013},{"$f":"T174-june!H174","v":-51397}]
[166,"MANCHESTER                   ",0,0,0,0,null,166,null,null,null,{"$f":"C175-june!E175","v":0},{"$f":"D175-june!F175","v":0},{"$f":"E175-june!G175","v":0},{"$f":"F175-june!H175","v":0},null,0,166,null,null,{"$f":"S175-june!G175","v":0},{"$f":"T175-june!H175","v":0}]
[167,"MANSFIELD                    ",0,0,5.84,34028,null,167,2,2,null,{"$f":"C176-june!E176","v":0},{"$f":"D176-june!F176","v":0},{"$f":"E176-june!G176","v":-0.58999999999999986},{"$f":"F176-june!H176","v":-3222},null,0,167,3,15000,{"$f":"S176-june!G176","v":-3.4299999999999997},{"$f":"T176-june!H176","v":-22250}]
[168,"MARBLEHEAD                   ",0,0,2.0099999999999998,13467,null,168,1,2,null,{"$f":"C177-june!E177","v":0},{"$f":"D177-june!F177","v":0},{"$f":"E177-june!G177","v":-3.4000000000000004},{"$f":"F177-june!H177","v":-20657},null,0,168,null,null,{"$f":"S177-june!G177","v":-5.41},{"$f":"T177-june!H177","v":-34124}]
[169,"MARION                       ",0,0,1.42,9514,null,169,1,1,null,{"$f":"C178-june!E178","v":0},{"$f":"D178-june!F178","v":0},{"$f":"E178-june!G178","v":0.7},{"$f":"F178-june!H178","v":4418},null,0,169,null,null,{"$f":"S178-june!G178","v":-0.72},{"$f":"T178-june!H178","v":-5096}]
[170,"MARLBOROUGH                  ",0,0,93.310000000000016,560509,null,170,5,7,null,{"$f":"C179-june!E179","v":0},{"$f":"D179-june!F179","v":0},{"$f":"E179-june!G179","v":1.9500000000000171},{"$f":"F179-june!H179","v":27562},null,0,170,85.030000000000015,505033,{"$f":"S179-june!G179","v":-6.3299999999999841},{"$f":"T179-june!H179","v":-27914}]
[171,"MARSHFIELD                   ",6,34000,6.1899999999999995,37942,null,171,1,4,null,{"$f":"C180-june!E180","v":1},{"$f":"D180-june!F180","v":9000},{"$f":"E180-june!G180","v":4.9999999999999822E-2},{"$f":"F180-june!H180","v":-5180},null,0,171,3,16569,{"$f":"S180-june!G180","v":-3.1399999999999997},{"$f":"T180-june!H180","v":-26553}]
[172,"MASHPEE                      ",72.42,442050,65.45,389807,null,172,2,1,null,{"$f":"C181-june!E181","v":7.6700000000000017},{"$f":"D181-june!F181","v":57030},{"$f":"E181-june!G181","v":-15.65000000000002},{"$f":"F181-june!H181","v":-53979},null,0,172,63.199999999999996,374732,{"$f":"S181-june!G181","v":-17.900000000000027},{"$f":"T181-june!H181","v":-69054}]
[173,"MATTAPOISETT                 ",3,42512,1.77,11859,null,173,null,3,null,{"$f":"C182-june!E182","v":1},{"$f":"D182-june!F182","v":3935},{"$f":"E182-june!G182","v":0.43999999999999995},{"$f":"F182-june!H182","v":1651},null,0,173,null,null,{"$f":"S182-june!G182","v":-1.33},{"$f":"T182-june!H182","v":-10208}]
[174,"MAYNARD                      ",35.159999999999997,264647,15.629999999999999,80595,null,174,null,null,null,{"$f":"C183-june!E183","v":-4.3600000000000065},{"$f":"D183-june!F183","v":-23476},{"$f":"E183-june!G183","v":6.629999999999999},{"$f":"F183-june!H183","v":34123},null,0,174,15.629999999999999,80595,{"$f":"S183-june!G183","v":6.629999999999999},{"$f":"T183-june!H183","v":34123}]
[175,"MEDFIELD                     ",0,0,5.6899999999999995,28450,null,175,null,null,null,{"$f":"C184-june!E184","v":0},{"$f":"D184-june!F184","v":0},{"$f":"E184-june!G184","v":-1.7600000000000016},{"$f":"F184-june!H184","v":-18352},null,0,175,5.6899999999999995,28450,{"$f":"S184-june!G184","v":-1.7600000000000016},{"$f":"T184-june!H184","v":-18352}]
[176,"MEDFORD                      ",0,0,2.54,16712,null,176,null,4,null,{"$f":"C185-june!E185","v":0},{"$f":"D185-june!F185","v":0},{"$f":"E185-june!G185","v":-4.8699999999999992},{"$f":"F185-june!H185","v":-35659},null,0,176,0.18,900,{"$f":"S185-june!G185","v":-7.2299999999999995},{"$f":"T185-june!H185","v":-51471}]
[177,"MEDWAY                       ",61.65,347095,43.68,265066,null,177,null,4,null,{"$f":"C186-june!E186","v":-27.530000000000022},{"$f":"D186-june!F186","v":-152135},{"$f":"E186-june!G186","v":-5.9499999999999957},{"$f":"F186-june!H186","v":-51399},null,0,177,41.32,249254,{"$f":"S186-june!G186","v":-8.3099999999999952},{"$f":"T186-june!H186","v":-67211}]
[178,"MELROSE                      ",10.629999999999999,53150,2.42,14514,null,178,1,1,null,{"$f":"C187-june!E187","v":-14.66},{"$f":"D187-june!F187","v":-86905},{"$f":"E187-june!G187","v":0.33999999999999986},{"$f":"F187-june!H187","v":413},null,0,178,1,5000,{"$f":"S187-june!G187","v":-1.08},{"$f":"T187-june!H187","v":-9101}]
[179,"MENDON                       ",0,0,0,0,null,179,null,null,null,{"$f":"C188-june!E188","v":0},{"$f":"D188-june!F188","v":0},{"$f":"E188-june!G188","v":0},{"$f":"F188-june!H188","v":0},null,0,179,null,null,{"$f":"S188-june!G188","v":0},{"$f":"T188-june!H188","v":0}]
[180,"MERRIMAC                     ",0,0,0,0,null,180,null,null,null,{"$f":"C189-june!E189","v":0},{"$f":"D189-june!F189","v":0},{"$f":"E189-june!G189","v":0},{"$f":"F189-june!H189","v":0},null,0,180,null,null,{"$f":"S189-june!G189","v":0},{"$f":"T189-june!H189","v":0}]
[181,"METHUEN                      ",0,0,17.010000000000002,95709,null,181,4,5,null,{"$f":"C190-june!E190","v":0},{"$f":"D190-june!F190","v":0},{"$f":"E190-june!G190","v":-7.68},{"$f":"F190-june!H190","v":-53629},null,0,181,10.74,53700,{"$f":"S190-june!G190","v":-13.950000000000001},{"$f":"T190-june!H190","v":-95638}]
[182,"MIDDLEBOROUGH                ",3,15000,43.78,231623,null,182,2,4,null,{"$f":"C191-june!E191","v":0},{"$f":"D191-june!F191","v":0},{"$f":"E191-june!G191","v":-7.9499999999999957},{"$f":"F191-june!H191","v":-66503},null,0,182,39.760000000000005,204689,{"$f":"S191-june!G191","v":-11.969999999999992},{"$f":"T191-june!H191","v":-93437}]
[183,"MIDDLEFIELD                  ",0,0,0,0,null,183,null,null,null,{"$f":"C192-june!E192","v":0},{"$f":"D192-june!F192","v":0},{"$f":"E192-june!G192","v":0},{"$f":"F192-june!H192","v":0},null,0,183,null,null,{"$f":"S192-june!G192","v":0},{"$f":"T192-june!H192","v":0}]
[184,"MIDDLETON                    ",0,0,0.83,5561,null,184,1,null,null,{"$f":"C193-june!E193","v":0},{"$f":"D193-june!F193","v":0},{"$f":"E193-june!G193","v":-0.17000000000000004},{"$f":"F193-june!H193","v":-1139},null,0,184,null,null,{"$f":"S193-june!G193","v":-1},{"$f":"T193-june!H193","v":-6700}]
[185,"MILFORD                      ",82.649999999999991,459014,182.01000000000002,1042782,null,185,1,9,null,{"$f":"C194-june!E194","v":-4.1499999999999915},{"$f":"D194-june!F194","v":-54094},{"$f":"E194-june!G194","v":-16.75},{"$f":"F194-june!H194","v":-139467},null,0,185,175.87,1001644,{"$f":"S194-june!G194","v":-22.890000000000015},{"$f":"T194-june!H194","v":-180605}]
[186,"MILLBURY                     ",0,0,19.5,118671,null,186,2,3,null,{"$f":"C195-june!E195","v":0},{"$f":"D195-june!F195","v":0},{"$f":"E195-june!G195","v":-4.84},{"$f":"F195-june!H195","v":-38958},null,0,186,16.07,95690,{"$f":"S195-june!G195","v":-8.27},{"$f":"T195-june!H195","v":-61939}]
[187,"MILLIS                       ",76.029999999999973,419555,28.34,168883,null,187,null,2,null,{"$f":"C196-june!E196","v":-3.2300000000000182},{"$f":"D196-june!F196","v":-4365},{"$f":"E196-june!G196","v":-0.26999999999999957},{"$f":"F196-june!H196","v":-1900},null,0,187,27.16,160977,{"$f":"S196-june!G196","v":-1.4499999999999993},{"$f":"T196-june!H196","v":-9806}]
[188,"MILLVILLE                    ",0,0,0,0,null,188,null,null,null,{"$f":"C197-june!E197","v":0},{"$f":"D197-june!F197","v":0},{"$f":"E197-june!G197","v":0},{"$f":"F197-june!H197","v":0},null,0,188,null,null,{"$f":"S197-june!G197","v":0},{"$f":"T197-june!H197","v":0}]
[189,"MILTON                       ",0,0,2.84,19028,null,189,2,2,null,{"$f":"C198-june!E198","v":0},{"$f":"D198-june!F198","v":0},{"$f":"E198-june!G198","v":-1.1600000000000001},{"$f":"F198-june!H198","v":-7772},null,0,189,null,null,{"$f":"S198-june!G198","v":-4},{"$f":"T198-june!H198","v":-26800}]
[190,"MONROE                       ",0,0,0.37,1850,null,190,null,null,null,{"$f":"C199-june!E199","v":0},{"$f":"D199-june!F199","v":0},{"$f":"E199-june!G199","v":-0.37},{"$f":"F199-june!H199","v":-2134},null,0,190,0.37,1850,{"$f":"S199-june!G199","v":-0.37},{"$f":"T199-june!H199","v":-2134}]
[191,"MONSON                       ",42.96,239656,31.33,170503,null,191,6,null,null,{"$f":"C200-june!E200","v":-9.0399999999999991},{"$f":"D200-june!F200","v":-84072},{"$f":"E200-june!G200","v":-5.3500000000000085},{"$f":"F200-june!H200","v":-31474},null,0,191,26.349999999999998,137137,{"$f":"S200-june!G200","v":-10.330000000000009},{"$f":"T200-june!H200","v":-64840}]
[192,"MONTAGUE                     ",0,0,0,0,null,192,null,null,null,{"$f":"C201-june!E201","v":0},{"$f":"D201-june!F201","v":0},{"$f":"E201-june!G201","v":0},{"$f":"F201-june!H201","v":0},null,0,192,null,null,{"$f":"S201-june!G201","v":0},{"$f":"T201-june!H201","v":0}]
[193,"MONTEREY                     ",0,0,0,0,null,193,null,null,null,{"$f":"C202-june!E202","v":0},{"$f":"D202-june!F202","v":0},{"$f":"E202-june!G202","v":0},{"$f":"F202-june!H202","v":0},null,0,193,null,null,{"$f":"S202-june!G202","v":0},{"$f":"T202-june!H202","v":0}]
[194,"MONTGOMERY                   ",0,0,{"$f":"S203+(0.83*I203)+0.59*J203","v":0},{"$f":"T203+(0.83*I203)*6700+0.59*J203*6700","v":0},null,194,null,null,null,{"$f":"C203-june!E203","v":0},{"$f":"D203-june!F203","v":0},{"$f":"E203-june!G203","v":0},{"$f":"F203-june!H203","v":0},null,{"$f":"R203-A203","v":0},194,null,null,{"$f":"S203-june!G203","v":0},{"$f":"T203-june!H203","v":0}]
[195,"MOUNT WASHINGTON             ",0,0,1,5000,null,195,null,null,null,{"$f":"C204-june!E204","v":0},{"$f":"D204-june!F204","v":0},{"$f":"E204-june!G204","v":0},{"$f":"F204-june!H204","v":0},null,0,195,1,5000,{"$f":"S204-june!G204","v":0},{"$f":"T204-june!H204","v":0}]
[196,"NAHANT                       ",0,0,0,0,null,196,null,null,null,{"$f":"C205-june!E205","v":0},{"$f":"D205-june!F205","v":0},{"$f":"E205-june!G205","v":-1.48},{"$f":"F205-june!H205","v":-7400},null,0,196,null,null,{"$f":"S205-june!G205","v":-1.48},{"$f":"T205-june!H205","v":-7400}]
[197,"NANTUCKET                    ",0,0,0,0,null,197,null,null,null,{"$f":"C206-june!E206","v":0},{"$f":"D206-june!F206","v":0},{"$f":"E206-june!G206","v":-1.17},{"$f":"F206-june!H206","v":-7902},null,0,197,null,null,{"$f":"S206-june!G206","v":-1.17},{"$f":"T206-june!H206","v":-7902}]
[198,"NATICK                       ",40.06,245600,11.319999999999999,70718,null,198,3,4,null,{"$f":"C207-june!E207","v":1.1700000000000017},{"$f":"D207-june!F207","v":-61042},{"$f":"E207-june!G207","v":-0.45000000000000462},{"$f":"F207-june!H207","v":-7125},null,0,198,6.47,38223,{"$f":"S207-june!G207","v":-5.3000000000000034},{"$f":"T207-june!H207","v":-39620}]
[199,"NEEDHAM                      ",0,0,4.9499999999999993,30663,null,199,null,5,null,{"$f":"C208-june!E208","v":0},{"$f":"D208-june!F208","v":0},{"$f":"E208-june!G208","v":-0.96},{"$f":"F208-june!H208","v":-7542},null,0,199,2,10898,{"$f":"S208-june!G208","v":-3.9099999999999993},{"$f":"T208-june!H208","v":-27307}]
[200,"NEW ASHFORD                  ",0,0,3,17406,null,200,null,null,null,{"$f":"C209-june!E209","v":0},{"$f":"D209-june!F209","v":0},{"$f":"E209-june!G209","v":2},{"$f":"F209-june!H209","v":12406},null,0,200,3,17406,{"$f":"S209-june!G209","v":2},{"$f":"T209-june!H209","v":12406}]
[201,"NEW BEDFORD                  ",0,0,56.099999999999994,364593,null,201,19,12,null,{"$f":"C210-june!E210","v":0},{"$f":"D210-june!F210","v":0},{"$f":"E210-june!G210","v":-34.290000000000006},{"$f":"F210-june!H210","v":-193999},null,0,201,33.25,211498,{"$f":"S210-june!G210","v":-57.14},{"$f":"T210-june!H210","v":-347094}]
[202,"NEW BRAINTREE                ",0,0,0,0,null,202,null,null,null,{"$f":"C211-june!E211","v":0},{"$f":"D211-june!F211","v":0},{"$f":"E211-june!G211","v":0},{"$f":"F211-june!H211","v":0},null,0,202,null,null,{"$f":"S211-june!G211","v":0},{"$f":"T211-june!H211","v":0}]
[203,"NEWBURY                      ",0,0,0,0,null,203,null,null,null,{"$f":"C212-june!E212","v":0},{"$f":"D212-june!F212","v":0},{"$f":"E212-june!G212","v":0},{"$f":"F212-june!H212","v":0},null,0,203,null,null,{"$f":"S212-june!G212","v":0},{"$f":"T212-june!H212","v":0}]
[204,"NEWBURYPORT                  ",56.16,727472,49.449999999999996,311607,null,204,null,null,null,{"$f":"C213-june!E213","v":14.14},{"$f":"D213-june!F213","v":85663},{"$f":"E213-june!G213","v":6.7199999999999989},{"$f":"F213-june!H213","v":46999},null,0,204,49.449999999999996,311607,{"$f":"S213-june!G213","v":6.7199999999999989},{"$f":"T213-june!H213","v":46999}]
[205,"NEW MARLBOROUGH              ",0,0,0,0,null,205,null,null,null,{"$f":"C214-june!E214","v":0},{"$f":"D214-june!F214","v":0},{"$f":"E214-june!G214","v":0},{"$f":"F214-june!H214","v":0},null,0,205,null,null,{"$f":"S214-june!G214","v":0},{"$f":"T214-june!H214","v":0}]
[206,"NEW SALEM                    ",0,0,0,0,null,206,null,null,null,{"$f":"C215-june!E215","v":0},{"$f":"D215-june!F215","v":0},{"$f":"E215-june!G215","v":0},{"$f":"F215-june!H215","v":0},null,0,206,null,null,{"$f":"S215-june!G215","v":0},{"$f":"T215-june!H215","v":0}]
[207,"NEWTON                       ",0,0,6.18,37326,null,207,1,5,null,{"$f":"C216-june!E216","v":0},{"$f":"D216-june!F216","v":0},{"$f":"E216-june!G216","v":1.62},{"$f":"F216-june!H216","v":6515},null,0,207,2.4000000000000004,12000,{"$f":"S216-june!G216","v":-2.1599999999999993},{"$f":"T216-june!H216","v":-18811}]
[208,"NORFOLK                      ",0,0,5.67,34589,null,208,3,2,null,{"$f":"C217-june!E217","v":0},{"$f":"D217-june!F217","v":0},{"$f":"E217-june!G217","v":2.67},{"$f":"F217-june!H217","v":17889},null,0,208,2,10000,{"$f":"S217-june!G217","v":-1},{"$f":"T217-june!H217","v":-6700}]
[209,"NORTH ADAMS                  ",44.21,290526,118.86000000000001,714238,null,209,1,8,null,{"$f":"C218-june!E218","v":4.0000000000006253E-2},{"$f":"D218-june!F218","v":-33233},{"$f":"E218-june!G218","v":5.960000000000008},{"$f":"F218-june!H218","v":61595},null,0,209,113.31000000000002,677053,{"$f":"S218-june!G218","v":0.4100000000000108},{"$f":"T218-june!H218","v":24410}]
[210,"NORTHAMPTON                  ",224.03,1827864,68.62,515576,null,210,1,1,null,{"$f":"C219-june!E219","v":2.6699999999999875},{"$f":"D219-june!F219","v":-1188},{"$f":"E219-june!G219","v":-14.799999999999997},{"$f":"F219-june!H219","v":-121771},null,0,210,67.2,506062,{"$f":"S219-june!G219","v":-16.22},{"$f":"T219-june!H219","v":-131285}]
[211,"NORTH ANDOVER                ",0,0,0,0,null,211,null,null,null,{"$f":"C220-june!E220","v":0},{"$f":"D220-june!F220","v":0},{"$f":"E220-june!G220","v":0},{"$f":"F220-june!H220","v":0},null,0,211,null,null,{"$f":"S220-june!G220","v":0},{"$f":"T220-june!H220","v":0}]
[212,"NORTH ATTLEBOROUGH           ",0,0,8.3099999999999987,51427,null,212,7,null,null,{"$f":"C221-june!E221","v":0},{"$f":"D221-june!F221","v":0},{"$f":"E221-june!G221","v":-4.8600000000000012},{"$f":"F221-june!H221","v":-35212},null,0,212,2.5,12500,{"$f":"S221-june!G221","v":-10.67},{"$f":"T221-june!H221","v":-74139}]
[213,"NORTHBOROUGH                 ",0,0,5.59,28953,null,213,null,1,null,{"$f":"C222-june!E222","v":0},{"$f":"D222-june!F222","v":0},{"$f":"E222-june!G222","v":3.61},{"$f":"F222-june!H222","v":15685},null,0,213,5,25000,{"$f":"S222-june!G222","v":3.02},{"$f":"T222-june!H222","v":11732}]
[214,"NORTHBRIDGE                  ",108.41000000000001,597709,113.07999999999998,702739,null,214,1,3,null,{"$f":"C223-june!E223","v":4.210000000000008},{"$f":"D223-june!F223","v":29331},{"$f":"E223-june!G223","v":-14.510000000000048},{"$f":"F223-june!H223","v":-178239},null,0,214,110.47999999999999,685319,{"$f":"S223-june!G223","v":-17.110000000000042},{"$f":"T223-june!H223","v":-195659}]
[215,"NORTH BROOKFIELD             ",64.87,367210,123.61,712941,null,215,2,4,null,{"$f":"C224-june!E224","v":0.28999999999999204},{"$f":"D224-june!F224","v":19630},{"$f":"E224-june!G224","v":11},{"$f":"F224-june!H224","v":57326},null,0,215,119.59,686007,{"$f":"S224-june!G224","v":6.980000000000004},{"$f":"T224-june!H224","v":30392}]
[216,"NORTHFIELD                   ",0,0,0,0,null,216,null,null,null,{"$f":"C225-june!E225","v":0},{"$f":"D225-june!F225","v":0},{"$f":"E225-june!G225","v":0},{"$f":"F225-june!H225","v":0},null,0,216,null,null,{"$f":"S225-june!G225","v":0},{"$f":"T225-june!H225","v":0}]
[217,"NORTH READING                ",0,0,2.9499999999999997,19765,null,217,null,5,null,{"$f":"C226-june!E226","v":0},{"$f":"D226-june!F226","v":0},{"$f":"E226-june!G226","v":-2.77},{"$f":"F226-june!H226","v":-15181},null,0,217,null,null,{"$f":"S226-june!G226","v":-5.72},{"$f":"T226-june!H226","v":-34946}]
[218,"NORTON                       ",11,64700,17.829999999999998,107342,null,218,6,3,null,{"$f":"C227-june!E227","v":-23.950000000000003},{"$f":"D227-june!F227","v":-110050},{"$f":"E227-june!G227","v":-1.1499999999999986},{"$f":"F227-june!H227","v":-10100},null,0,218,11.08,62117,{"$f":"S227-june!G227","v":-7.8999999999999968},{"$f":"T227-june!H227","v":-55325}]
[219,"NORWELL                      ",0,0,1,9000,null,219,null,null,null,{"$f":"C228-june!E228","v":0},{"$f":"D228-june!F228","v":0},{"$f":"E228-june!G228","v":0},{"$f":"F228-june!H228","v":2059},null,0,219,1,9000,{"$f":"S228-june!G228","v":0},{"$f":"T228-june!H228","v":2059}]
[220,"NORWOOD                      ",0,0,3.4299999999999997,22981,null,220,2,3,null,{"$f":"C229-june!E229","v":0},{"$f":"D229-june!F229","v":0},{"$f":"E229-june!G229","v":-5.9400000000000013},{"$f":"F229-june!H229","v":-39634},null,0,220,null,null,{"$f":"S229-june!G229","v":-9.370000000000001},{"$f":"T229-june!H229","v":-62615}]
[221,"OAK BLUFFS                   ",35.269999999999996,226153,31.240000000000002,189652,null,221,null,null,null,{"$f":"C230-june!E230","v":-0.18000000000000682},{"$f":"D230-june!F230","v":48903},{"$f":"E230-june!G230","v":0.15000000000000568},{"$f":"F230-june!H230","v":-45478},null,0,221,31.240000000000002,189652,{"$f":"S230-june!G230","v":0.15000000000000568},{"$f":"T230-june!H230","v":-45478}]
[222,"OAKHAM                       ",0,0,0,0,null,222,null,null,null,{"$f":"C231-june!E231","v":0},{"$f":"D231-june!F231","v":0},{"$f":"E231-june!G231","v":0},{"$f":"F231-june!H231","v":0},null,0,222,null,null,{"$f":"S231-june!G231","v":0},{"$f":"T231-june!H231","v":0}]
[223,"ORANGE                       ",53.11,344380,65.14,419776,null,223,1,1,null,{"$f":"C232-june!E232","v":-8.1199999999999974},{"$f":"D232-june!F232","v":-69763},{"$f":"E232-june!G232","v":-1.2999999999999972},{"$f":"F232-june!H232","v":28218},null,0,223,63.72,410262,{"$f":"S232-june!G232","v":-2.7199999999999989},{"$f":"T232-june!H232","v":18704}]
[224,"ORLEANS                      ",1,5000,2,10000,null,224,null,null,null,{"$f":"C233-june!E233","v":0},{"$f":"D233-june!F233","v":0},{"$f":"E233-june!G233","v":-0.49000000000000021},{"$f":"F233-june!H233","v":-3321},null,0,224,2,10000,{"$f":"S233-june!G233","v":-0.49000000000000021},{"$f":"T233-june!H233","v":-3321}]
[225,"OTIS                         ",0,0,0,0,null,225,null,null,null,{"$f":"C234-june!E234","v":0},{"$f":"D234-june!F234","v":0},{"$f":"E234-june!G234","v":0},{"$f":"F234-june!H234","v":0},null,0,225,null,null,{"$f":"S234-june!G234","v":0},{"$f":"T234-june!H234","v":0}]
[226,"OXFORD                       ",4,25129,69.580000000000013,381920,null,226,5,6,null,{"$f":"C235-june!E235","v":-1.9299999999999997},{"$f":"D235-june!F235","v":-4521},{"$f":"E235-june!G235","v":-9.8199999999999505},{"$f":"F235-june!H235","v":-68408},null,0,226,61.89,330397,{"$f":"S235-june!G235","v":-17.509999999999962},{"$f":"T235-june!H235","v":-119931}]
[227,"PALMER                       ",19.439999999999998,103206,74.960000000000008,415637,null,227,2,5,null,{"$f":"C236-june!E236","v":-7.9000000000000057},{"$f":"D236-june!F236","v":-45676},{"$f":"E236-june!G236","v":-9.0700000000000074},{"$f":"F236-june!H236","v":-103956},null,0,227,70.350000000000009,384750,{"$f":"S236-june!G236","v":-13.680000000000007},{"$f":"T236-june!H236","v":-134843}]
[228,"PAXTON                       ",0,0,0,0,null,228,null,null,null,{"$f":"C237-june!E237","v":0},{"$f":"D237-june!F237","v":0},{"$f":"E237-june!G237","v":0},{"$f":"F237-june!H237","v":0},null,0,228,null,null,{"$f":"S237-june!G237","v":0},{"$f":"T237-june!H237","v":0}]
[229,"PEABODY                      ",71.850000000000009,365942,50.04,262846,null,229,1,5,null,{"$f":"C238-june!E238","v":-19.240000000000038},{"$f":"D238-june!F238","v":-120653},{"$f":"E238-june!G238","v":2.0300000000000011},{"$f":"F238-june!H238","v":8832},null,0,229,46.26,237520,{"$f":"S238-june!G238","v":-1.75},{"$f":"T238-june!H238","v":-16494}]
[230,"PELHAM                       ",49.61999999999999,358484,2,34025,null,230,null,null,null,{"$f":"C239-june!E239","v":-3.3000000000000043},{"$f":"D239-june!F239","v":-23753},{"$f":"E239-june!G239","v":0},{"$f":"F239-june!H239","v":24025},null,0,230,2,34025,{"$f":"S239-june!G239","v":0},{"$f":"T239-june!H239","v":24025}]
[231,"PEMBROKE                     ",0,0,4.66,26717,null,231,1,2,null,{"$f":"C240-june!E240","v":0},{"$f":"D240-june!F240","v":0},{"$f":"E240-june!G240","v":-2.8499999999999996},{"$f":"F240-june!H240","v":-16912},null,0,231,2.65,13250,{"$f":"S240-june!G240","v":-4.8599999999999994},{"$f":"T240-june!H240","v":-30379}]
[232,"PEPPERELL                    ",0,0,0,0,null,232,null,null,null,{"$f":"C241-june!E241","v":0},{"$f":"D241-june!F241","v":0},{"$f":"E241-june!G241","v":0},{"$f":"F241-june!H241","v":0},null,0,232,null,null,{"$f":"S241-june!G241","v":0},{"$f":"T241-june!H241","v":0}]
[233,"PERU                         ",0,0,0,0,null,233,null,null,null,{"$f":"C242-june!E242","v":0},{"$f":"D242-june!F242","v":0},{"$f":"E242-june!G242","v":0},{"$f":"F242-june!H242","v":0},null,0,233,null,null,{"$f":"S242-june!G242","v":0},{"$f":"T242-june!H242","v":0}]
[234,"PETERSHAM                    ",66.39,383945,10,50000,null,234,null,null,null,{"$f":"C243-june!E243","v":-0.28000000000001535},{"$f":"D243-june!F243","v":-19830},{"$f":"E243-june!G243","v":2},{"$f":"F243-june!H243","v":10000},null,0,234,10,50000,{"$f":"S243-june!G243","v":2},{"$f":"T243-june!H243","v":10000}]
[235,"PHILLIPSTON                  ",0,0,0,0,null,235,null,null,null,{"$f":"C244-june!E244","v":0},{"$f":"D244-june!F244","v":0},{"$f":"E244-june!G244","v":0},{"$f":"F244-june!H244","v":0},null,0,235,null,null,{"$f":"S244-june!G244","v":0},{"$f":"T244-june!H244","v":0}]
[236,"PITTSFIELD                   ",99.089999999999989,534879,441.93000000000006,2452955,null,236,6,8,null,{"$f":"C245-june!E245","v":-2.5699999999999932},{"$f":"D245-june!F245","v":-29220},{"$f":"E245-june!G245","v":-35.800000000000068},{"$f":"F245-june!H245","v":-266572},null,0,236,432.23,2387965,{"$f":"S245-june!G245","v":-45.500000000000114},{"$f":"T245-june!H245","v":-331562}]
[237,"PLAINFIELD                   ",0,0,0,0,null,237,null,null,null,{"$f":"C246-june!E246","v":0},{"$f":"D246-june!F246","v":0},{"$f":"E246-june!G246","v":0},{"$f":"F246-june!H246","v":0},null,0,237,null,null,{"$f":"S246-june!G246","v":0},{"$f":"T246-june!H246","v":0}]
[238,"PLAINVILLE                   ",0,0,0,0,null,238,null,null,null,{"$f":"C247-june!E247","v":0},{"$f":"D247-june!F247","v":0},{"$f":"E247-june!G247","v":0},{"$f":"F247-june!H247","v":0},null,0,238,null,null,{"$f":"S247-june!G247","v":0},{"$f":"T247-june!H247","v":0}]
[239,"PLYMOUTH                     ",0,0,50.06,280378,null,239,null,5,null,{"$f":"C248-june!E248","v":0},{"$f":"D248-june!F248","v":0},{"$f":"E248-june!G248","v":-3.0000000000000071},{"$f":"F248-june!H248","v":-9259},null,0,239,47.11,260613,{"$f":"S248-june!G248","v":-5.9500000000000099},{"$f":"T248-june!H248","v":-29024}]
[240,"PLYMPTON                     ",4,20000,1,5000,null,240,null,null,null,{"$f":"C249-june!E249","v":-2},{"$f":"D249-june!F249","v":-10000},{"$f":"E249-june!G249","v":0},{"$f":"F249-june!H249","v":0},null,0,240,1,5000,{"$f":"S249-june!G249","v":0},{"$f":"T249-june!H249","v":0}]
[241,"PRINCETON                    ",0,0,0,0,null,241,null,null,null,{"$f":"C250-june!E250","v":0},{"$f":"D250-june!F250","v":0},{"$f":"E250-june!G250","v":0},{"$f":"F250-june!H250","v":0},null,0,241,null,null,{"$f":"S250-june!G250","v":0},{"$f":"T250-june!H250","v":0}]
[242,"PROVINCETOWN                 ",27.849999999999998,300338,20,124934,null,242,null,null,null,{"$f":"C251-june!E251","v":-14.680000000000003},{"$f":"D251-june!F251","v":-68594},{"$f":"E251-june!G251","v":1},{"$f":"F251-june!H251","v":18280},null,0,242,20,124934,{"$f":"S251-june!G251","v":1},{"$f":"T251-june!H251","v":18280}]
[243,"QUINCY                       ",0,0,10.629999999999999,71352,null,243,4,9,null,{"$f":"C252-june!E252","v":0},{"$f":"D252-june!F252","v":0},{"$f":"E252-june!G252","v":0.74000000000000021},{"$f":"F252-june!H252","v":-1478},null,0,243,2,13531,{"$f":"S252-june!G252","v":-7.8899999999999988},{"$f":"T252-june!H252","v":-59299}]
[244,"RANDOLPH                     ",5.330000000000001,47279,153.69,819586,null,244,null,10,null,{"$f":"C253-june!E253","v":-1.669999999999999},{"$f":"D253-june!F253","v":8760},{"$f":"E253-june!G253","v":-5.2700000000000387},{"$f":"F253-june!H253","v":-30144},null,0,244,147.79,780056,{"$f":"S253-june!G253","v":-11.170000000000044},{"$f":"T253-june!H253","v":-69674}]
[245,"RAYNHAM                      ",0,0,0,0,null,245,null,null,null,{"$f":"C254-june!E254","v":0},{"$f":"D254-june!F254","v":0},{"$f":"E254-june!G254","v":0},{"$f":"F254-june!H254","v":0},null,0,245,null,null,{"$f":"S254-june!G254","v":0},{"$f":"T254-june!H254","v":0}]
[246,"READING                      ",0,0,2.91,19369,null,246,2,null,null,{"$f":"C255-june!E255","v":0},{"$f":"D255-june!F255","v":0},{"$f":"E255-june!G255","v":-4.1899999999999995},{"$f":"F255-june!H255","v":-28780},null,0,246,1.25,8247,{"$f":"S255-june!G255","v":-5.85},{"$f":"T255-june!H255","v":-39902}]
[247,"REHOBOTH                     ",0,0,0,0,null,247,null,null,null,{"$f":"C256-june!E256","v":0},{"$f":"D256-june!F256","v":0},{"$f":"E256-june!G256","v":0},{"$f":"F256-june!H256","v":0},null,0,247,null,null,{"$f":"S256-june!G256","v":0},{"$f":"T256-june!H256","v":0}]
[248,"REVERE                       ",0,0,12.44,71448,null,248,3,5,null,{"$f":"C257-june!E257","v":0},{"$f":"D257-june!F257","v":0},{"$f":"E257-june!G257","v":-1.1199999999999992},{"$f":"F257-june!H257","v":-8265},null,0,248,7,35000,{"$f":"S257-june!G257","v":-6.5599999999999987},{"$f":"T257-june!H257","v":-44713}]
[249,"RICHMOND                     ",76,380000,16.170000000000002,86852,null,249,null,null,null,{"$f":"C258-june!E258","v":-3.5},{"$f":"D258-june!F258","v":-24770},{"$f":"E258-june!G258","v":0.43000000000000327},{"$f":"F258-june!H258","v":2337},null,0,249,16.170000000000002,86852,{"$f":"S258-june!G258","v":0.43000000000000327},{"$f":"T258-june!H258","v":2337}]
[250,"ROCHESTER                    ",0,0,2,10000,null,250,null,null,null,{"$f":"C259-june!E259","v":0},{"$f":"D259-june!F259","v":0},{"$f":"E259-june!G259","v":1},{"$f":"F259-june!H259","v":5000},null,0,250,2,10000,{"$f":"S259-june!G259","v":1},{"$f":"T259-june!H259","v":5000}]
[251,"ROCKLAND                     ",36.28,185181,11.52,67851,null,251,3,6,null,{"$f":"C260-june!E260","v":-0.84000000000000341},{"$f":"D260-june!F260","v":-7638},{"$f":"E260-june!G260","v":-2.3900000000000023},{"$f":"F260-june!H260","v":-19952},null,0,251,5.49,27450,{"$f":"S260-june!G260","v":-8.4200000000000017},{"$f":"T260-june!H260","v":-60353}]
[252,"ROCKPORT                     ",224.25999999999993,1245557,27.849999999999998,152910,null,252,null,null,null,{"$f":"C261-june!E261","v":-13.570000000000078},{"$f":"D261-june!F261","v":-140687},{"$f":"E261-june!G261","v":0.36999999999999744},{"$f":"F261-june!H261","v":14400},null,0,252,27.849999999999998,152910,{"$f":"S261-june!G261","v":0.36999999999999744},{"$f":"T261-june!H261","v":14400}]
[253,"ROWE                         ",18.38,93768,2,16970,null,253,null,null,null,{"$f":"C262-june!E262","v":-0.62000000000000099},{"$f":"D262-june!F262","v":-3586},{"$f":"E262-june!G262","v":-1},{"$f":"F262-june!H262","v":-4987},null,0,253,2,16970,{"$f":"S262-june!G262","v":-1},{"$f":"T262-june!H262","v":-4987}]
[254,"ROWLEY                       ",0,0,0,0,null,254,null,null,null,{"$f":"C263-june!E263","v":0},{"$f":"D263-june!F263","v":0},{"$f":"E263-june!G263","v":0},{"$f":"F263-june!H263","v":0},null,0,254,null,null,{"$f":"S263-june!G263","v":0},{"$f":"T263-june!H263","v":0}]
[255,"ROYALSTON                    ",0,0,0,0,null,255,null,null,null,{"$f":"C264-june!E264","v":0},{"$f":"D264-june!F264","v":0},{"$f":"E264-june!G264","v":0},{"$f":"F264-june!H264","v":0},null,0,255,null,null,{"$f":"S264-june!G264","v":0},{"$f":"T264-june!H264","v":0}]
[256,"RUSSELL                      ",0,0,0,0,null,256,null,null,null,{"$f":"C265-june!E265","v":0},{"$f":"D265-june!F265","v":0},{"$f":"E265-june!G265","v":0},{"$f":"F265-june!H265","v":0},null,0,256,null,null,{"$f":"S265-june!G265","v":0},{"$f":"T265-june!H265","v":0}]
[257,"RUTLAND                      ",0,0,0,0,null,257,null,null,null,{"$f":"C266-june!E266","v":0},{"$f":"D266-june!F266","v":0},{"$f":"E266-june!G266","v":0},{"$f":"F266-june!H266","v":0},null,0,257,null,null,{"$f":"S266-june!G266","v":0},{"$f":"T266-june!H266","v":0}]
[258,"SALEM                        ",0,0,{"$f":"S267+(0.83*I267)+0.59*J267","v":73.719999999999985},{"$f":"T267+(0.83*I267)*6700+0.59*J267*6700","v":400142},null,258,3,7,null,{"$f":"C267-june!E267","v":0},{"$f":"D267-june!F267","v":0},{"$f":"E267-june!G267","v":-0.74000000000000909},{"$f":"F267-june!H267","v":-19396},null,{"$f":"R267-A267","v":0},258,67.099999999999994,355788,{"$f":"S267-june!G267","v":-7.3599999999999994},{"$f":"T267-june!H267","v":-63750}]
[259,"SALISBURY                    ",0,0,0,0,null,259,null,null,null,{"$f":"C268-june!E268","v":0},{"$f":"D268-june!F268","v":0},{"$f":"E268-june!G268","v":0},{"$f":"F268-june!H268","v":0},null,0,259,null,null,{"$f":"S268-june!G268","v":0},{"$f":"T268-june!H268","v":0}]
[260,"SANDISFIELD                  ",0,0,0,0,null,260,null,null,null,{"$f":"C269-june!E269","v":0},{"$f":"D269-june!F269","v":0},{"$f":"E269-june!G269","v":0},{"$f":"F269-june!H269","v":0},null,0,260,null,null,{"$f":"S269-june!G269","v":0},{"$f":"T269-june!H269","v":0}]
[261,"SANDWICH                     ",82.5,458438,64.48,344631,null,261,null,6,null,{"$f":"C270-june!E270","v":6.0999999999999943},{"$f":"D270-june!F270","v":46400},{"$f":"E270-june!G270","v":0.45000000000000284},{"$f":"F270-june!H270","v":-28000},null,0,261,60.940000000000005,320913,{"$f":"S270-june!G270","v":-3.0899999999999963},{"$f":"T270-june!H270","v":-51718}]
[262,"SAUGUS                       ",0,0,10.85,62495,null,262,3,4,null,{"$f":"C271-june!E271","v":0},{"$f":"D271-june!F271","v":0},{"$f":"E271-june!G271","v":-5.120000000000001},{"$f":"F271-june!H271","v":-34949},null,0,262,6,30000,{"$f":"S271-june!G271","v":-9.9700000000000006},{"$f":"T271-june!H271","v":-67444}]
[263,"SAVOY                        ",14,74998,25.48,166742,null,263,null,null,null,{"$f":"C272-june!E272","v":3},{"$f":"D272-june!F272","v":17693},{"$f":"E272-june!G272","v":1.3300000000000018},{"$f":"F272-june!H272","v":35861},null,0,263,25.48,166742,{"$f":"S272-june!G272","v":1.3300000000000018},{"$f":"T272-june!H272","v":35861}]
[264,"SCITUATE                     ",0,0,1.18,7906,null,264,null,2,null,{"$f":"C273-june!E273","v":0},{"$f":"D273-june!F273","v":0},{"$f":"E273-june!G273","v":-0.12000000000000011},{"$f":"F273-june!H273","v":-1175},null,0,264,null,null,{"$f":"S273-june!G273","v":-1.3},{"$f":"T273-june!H273","v":-9081}]
[265,"SEEKONK                      ",0,0,4.0199999999999996,26934,null,265,2,4,null,{"$f":"C274-june!E274","v":0},{"$f":"D274-june!F274","v":0},{"$f":"E274-june!G274","v":-1.2800000000000002},{"$f":"F274-june!H274","v":-9697},null,0,265,null,null,{"$f":"S274-june!G274","v":-5.3},{"$f":"T274-june!H274","v":-36631}]
[266,"SHARON                       ",0,0,0.59,3953,null,266,null,1,null,{"$f":"C275-june!E275","v":0},{"$f":"D275-june!F275","v":0},{"$f":"E275-june!G275","v":-2.41},{"$f":"F275-june!H275","v":-13903},null,0,266,null,null,{"$f":"S275-june!G275","v":-3},{"$f":"T275-june!H275","v":-17856}]
[267,"SHEFFIELD                    ",0,0,0,0,null,267,null,null,null,{"$f":"C276-june!E276","v":0},{"$f":"D276-june!F276","v":0},{"$f":"E276-june!G276","v":0},{"$f":"F276-june!H276","v":0},null,0,267,null,null,{"$f":"S276-june!G276","v":0},{"$f":"T276-june!H276","v":0}]
[268,"SHELBURNE                    ",0,0,0,0,null,268,null,null,null,{"$f":"C277-june!E277","v":0},{"$f":"D277-june!F277","v":0},{"$f":"E277-june!G277","v":0},{"$f":"F277-june!H277","v":0},null,0,268,null,null,{"$f":"S277-june!G277","v":0},{"$f":"T277-june!H277","v":0}]
[269,"SHERBORN                     ",0,0,0,0,null,269,null,null,null,{"$f":"C278-june!E278","v":0},{"$f":"D278-june!F278","v":0},{"$f":"E278-june!G278","v":0},{"$f":"F278-june!H278","v":0},null,0,269,null,null,{"$f":"S278-june!G278","v":0},{"$f":"T278-june!H278","v":0}]
[270,"SHIRLEY                      ",0,0,0,0,null,270,null,null,null,{"$f":"C279-june!E279","v":0},{"$f":"D279-june!F279","v":0},{"$f":"E279-june!G279","v":0},{"$f":"F279-june!H279","v":0},null,0,270,null,null,{"$f":"S279-june!G279","v":0},{"$f":"T279-june!H279","v":0}]
[271,"SHREWSBURY                   ",0.81,4989,36.79,211728,null,271,1,8,null,{"$f":"C280-june!E280","v":0.81},{"$f":"D280-june!F280","v":4989},{"$f":"E280-june!G280","v":10.100000000000001},{"$f":"F280-june!H280","v":48873},null,0,271,31.240000000000002,174543,{"$f":"S280-june!G280","v":4.5500000000000043},{"$f":"T280-june!H280","v":11688}]
[272,"SHUTESBURY                   ",0,0,8,40000,null,272,null,null,null,{"$f":"C281-june!E281","v":0},{"$f":"D281-june!F281","v":0},{"$f":"E281-june!G281","v":-3.4599999999999991},{"$f":"F281-june!H281","v":-21092},null,0,272,8,40000,{"$f":"S281-june!G281","v":-3.4599999999999991},{"$f":"T281-june!H281","v":-21092}]
[273,"SOMERSET                     ",0,0,5.2299999999999995,29567,null,273,1,2,null,{"$f":"C282-june!E282","v":0},{"$f":"D282-june!F282","v":0},{"$f":"E282-june!G282","v":-8.4499999999999993},{"$f":"F282-june!H282","v":-43609},null,0,273,3.2199999999999998,16100,{"$f":"S282-june!G282","v":-10.46},{"$f":"T282-june!H282","v":-57076}]
[274,"SOMERVILLE                   ",0,0,1.42,9514,null,274,1,1,null,{"$f":"C283-june!E283","v":0},{"$f":"D283-june!F283","v":0},{"$f":"E283-june!G283","v":-3.58},{"$f":"F283-june!H283","v":-18886},null,0,274,null,null,{"$f":"S283-june!G283","v":-5},{"$f":"T283-june!H283","v":-28400}]
[275,"SOUTHAMPTON                  ",65,394230,15.939999999999998,113346,null,275,5,null,null,{"$f":"C284-june!E284","v":-5.8799999999999955},{"$f":"D284-june!F284","v":-40796},{"$f":"E284-june!G284","v":5.9899999999999984},{"$f":"F284-june!H284","v":38143},null,0,275,11.79,85541,{"$f":"S284-june!G284","v":1.8399999999999999},{"$f":"T284-june!H284","v":10338}]
[276,"SOUTHBOROUGH                 ",0,0,2.4,16812,null,276,2,1,null,{"$f":"C285-june!E285","v":0},{"$f":"D285-june!F285","v":0},{"$f":"E285-june!G285","v":-1.77},{"$f":"F285-june!H285","v":-13006},null,0,276,0.15,1737,{"$f":"S285-june!G285","v":-4.0199999999999996},{"$f":"T285-june!H285","v":-28081}]
[277,"SOUTHBRIDGE                  ",6.33,71119,231.83,1301647,null,277,4,8,null,{"$f":"C286-june!E286","v":-0.98000000000000043},{"$f":"D286-june!F286","v":34569},{"$f":"E286-june!G286","v":-30.499999999999915},{"$f":"F286-june!H286","v":-187855},null,0,277,223.79000000000002,1247779,{"$f":"S286-june!G286","v":-38.539999999999907},{"$f":"T286-june!H286","v":-241723}]
[278,"SOUTH HADLEY                 ",168.47000000000006,960997,115.37,738717,null,278,4,3,null,{"$f":"C287-june!E287","v":6.0800000000000693},{"$f":"D287-june!F287","v":57851},{"$f":"E287-june!G287","v":2.0099999999999767},{"$f":"F287-june!H287","v":-3850},null,0,278,110.28000000000002,704614,{"$f":"S287-june!G287","v":-3.0800000000000125},{"$f":"T287-june!H287","v":-37953}]
[279,"SOUTHWICK                    ",0,0,0,0,null,279,null,null,null,{"$f":"C288-june!E288","v":0},{"$f":"D288-june!F288","v":0},{"$f":"E288-june!G288","v":0},{"$f":"F288-june!H288","v":0},null,0,279,null,null,{"$f":"S288-june!G288","v":0},{"$f":"T288-june!H288","v":0}]
[280,"SPENCER                      ",0,0,0,0,null,280,null,null,null,{"$f":"C289-june!E289","v":0},{"$f":"D289-june!F289","v":0},{"$f":"E289-june!G289","v":0},{"$f":"F289-june!H289","v":0},null,0,280,null,null,{"$f":"S289-june!G289","v":0},{"$f":"T289-june!H289","v":0}]
[281,"SPRINGFIELD                  ",8.41,45904,740.96999999999991,4294860,null,281,30,56,null,{"$f":"C290-june!E290","v":-5.59},{"$f":"D290-june!F290","v":-32448},{"$f":"E290-june!G290","v":-16.35000000000025},{"$f":"F290-june!H290","v":-185285},null,0,281,683.03,3906662,{"$f":"S290-june!G290","v":-74.290000000000191},{"$f":"T290-june!H290","v":-573483}]
[282,"STERLING                     ",0,0,0,0,null,282,null,null,null,{"$f":"C291-june!E291","v":0},{"$f":"D291-june!F291","v":0},{"$f":"E291-june!G291","v":0},{"$f":"F291-june!H291","v":0},null,0,282,null,null,{"$f":"S291-june!G291","v":0},{"$f":"T291-june!H291","v":0}]
[283,"STOCKBRIDGE                  ",0,0,0,0,null,283,null,null,null,{"$f":"C292-june!E292","v":0},{"$f":"D292-june!F292","v":0},{"$f":"E292-june!G292","v":0},{"$f":"F292-june!H292","v":0},null,0,283,null,null,{"$f":"S292-june!G292","v":0},{"$f":"T292-june!H292","v":0}]
[284,"STONEHAM                     ",0,0,2.48,21674,null,284,null,null,null,{"$f":"C293-june!E293","v":0},{"$f":"D293-june!F293","v":0},{"$f":"E293-june!G293","v":-5.01},{"$f":"F293-june!H293","v":-30162},null,0,284,2.48,21674,{"$f":"S293-june!G293","v":-5.01},{"$f":"T293-june!H293","v":-30162}]
[285,"STOUGHTON                    ",0,0,13.14,76138,null,285,1,9,null,{"$f":"C294-june!E294","v":0},{"$f":"D294-june!F294","v":0},{"$f":"E294-june!G294","v":-3.490000000000002},{"$f":"F294-june!H294","v":-67497},null,0,285,7,35000,{"$f":"S294-june!G294","v":-9.6300000000000026},{"$f":"T294-june!H294","v":-108635}]
[286,"STOW                         ",0,0,0,0,null,286,null,null,null,{"$f":"C295-june!E295","v":0},{"$f":"D295-june!F295","v":0},{"$f":"E295-june!G295","v":0},{"$f":"F295-june!H295","v":0},null,0,286,null,null,{"$f":"S295-june!G295","v":0},{"$f":"T295-june!H295","v":0}]
[287,"STURBRIDGE                   ",0,0,4.4800000000000004,25222,null,287,2,null,null,{"$f":"C296-june!E296","v":0},{"$f":"D296-june!F296","v":0},{"$f":"E296-june!G296","v":-2.5299999999999994},{"$f":"F296-june!H296","v":-24863},null,0,287,2.8200000000000003,14100,{"$f":"S296-june!G296","v":-4.1899999999999995},{"$f":"T296-june!H296","v":-35985}]
[288,"SUDBURY                      ",0,0,2.98,23284,null,288,null,null,null,{"$f":"C297-june!E297","v":0},{"$f":"D297-june!F297","v":0},{"$f":"E297-june!G297","v":1.48},{"$f":"F297-june!H297","v":8172},null,0,288,2.98,23284,{"$f":"S297-june!G297","v":1.48},{"$f":"T297-june!H297","v":8172}]
[289,"SUNDERLAND                   ",35.769999999999996,262071,18.59,93953,null,289,null,1,null,{"$f":"C298-june!E298","v":-5.740000000000002},{"$f":"D298-june!F298","v":-41286},{"$f":"E298-june!G298","v":10.59},{"$f":"F298-june!H298","v":53953},null,0,289,18,90000,{"$f":"S298-june!G298","v":10},{"$f":"T298-june!H298","v":50000}]
[290,"SUTTON                       ",52,292239,19.409999999999997,106098,null,290,1,2,null,{"$f":"C299-june!E299","v":13},{"$f":"D299-june!F299","v":73156},{"$f":"E299-june!G299","v":1.509999999999998},{"$f":"F299-june!H299","v":9668},null,0,290,17.399999999999999,92631,{"$f":"S299-june!G299","v":-0.5},{"$f":"T299-june!H299","v":-3799}]
[291,"SWAMPSCOTT                   ",0,0,3.36,20812,null,291,null,4,null,{"$f":"C300-june!E300","v":0},{"$f":"D300-june!F300","v":0},{"$f":"E300-june!G300","v":-1.9},{"$f":"F300-june!H300","v":-12925},null,0,291,1,5000,{"$f":"S300-june!G300","v":-4.26},{"$f":"T300-june!H300","v":-28737}]
[292,"SWANSEA                      ",0,0,9.09,47456,null,292,null,2,null,{"$f":"C301-june!E301","v":0},{"$f":"D301-june!F301","v":0},{"$f":"E301-june!G301","v":-4.91},{"$f":"F301-june!H301","v":-29745},null,0,292,7.91,39550,{"$f":"S301-june!G301","v":-6.09},{"$f":"T301-june!H301","v":-37651}]
[293,"TAUNTON                      ",84.230000000000018,444565,64.11,361081,null,293,3,6,null,{"$f":"C302-june!E302","v":-6.3899999999999864},{"$f":"D302-june!F302","v":-29153},{"$f":"E302-june!G302","v":-48.459999999999994},{"$f":"F302-june!H302","v":-268261},null,0,293,58.08,320680,{"$f":"S302-june!G302","v":-54.489999999999995},{"$f":"T302-june!H302","v":-308662}]
[294,"TEMPLETON                    ",0,0,0,0,null,294,null,null,null,{"$f":"C303-june!E303","v":0},{"$f":"D303-june!F303","v":0},{"$f":"E303-june!G303","v":0},{"$f":"F303-june!H303","v":0},null,0,294,null,null,{"$f":"S303-june!G303","v":0},{"$f":"T303-june!H303","v":0}]
[295,"TEWKSBURY                    ",0,0,5.13,32671,null,295,null,7,null,{"$f":"C304-june!E304","v":0},{"$f":"D304-june!F304","v":0},{"$f":"E304-june!G304","v":-1.2199999999999998},{"$f":"F304-june!H304","v":-8108},null,0,295,1,5000,{"$f":"S304-june!G304","v":-5.35},{"$f":"T304-june!H304","v":-35779}]
[296,"TISBURY                      ",21.14,114178,40.590000000000003,251699,null,296,null,1,null,{"$f":"C305-june!E305","v":0.10999999999999943},{"$f":"D305-june!F305","v":3517},{"$f":"E305-june!G305","v":-4.8599999999999994},{"$f":"F305-june!H305","v":2152},null,0,296,40,247746,{"$f":"S305-june!G305","v":-5.4500000000000028},{"$f":"T305-june!H305","v":-1801}]
[297,"TOLLAND                      ",0,0,0,0,null,297,null,null,null,{"$f":"C306-june!E306","v":0},{"$f":"D306-june!F306","v":0},{"$f":"E306-june!G306","v":0},{"$f":"F306-june!H306","v":0},null,0,297,null,null,{"$f":"S306-june!G306","v":0},{"$f":"T306-june!H306","v":0}]
[298,"TOPSFIELD                    ",0,0,1.2999999999999998,7503,null,298,null,1,null,{"$f":"C307-june!E307","v":0},{"$f":"D307-june!F307","v":0},{"$f":"E307-june!G307","v":1.2999999999999998},{"$f":"F307-june!H307","v":7503},null,0,298,0.71,3550,{"$f":"S307-june!G307","v":0.71},{"$f":"T307-june!H307","v":3550}]
[299,"TOWNSEND                     ",0,0,0,0,null,299,null,null,null,{"$f":"C308-june!E308","v":0},{"$f":"D308-june!F308","v":0},{"$f":"E308-june!G308","v":0},{"$f":"F308-june!H308","v":0},null,0,299,null,null,{"$f":"S308-june!G308","v":0},{"$f":"T308-june!H308","v":0}]
[300,"TRURO                        ",19.98,121623,16.770000000000003,107940,null,300,null,null,null,{"$f":"C309-june!E309","v":5.1099999999999994},{"$f":"D309-june!F309","v":41340},{"$f":"E309-june!G309","v":-6.2399999999999949},{"$f":"F309-june!H309","v":-145167},null,0,300,16.770000000000003,107940,{"$f":"S309-june!G309","v":-6.2399999999999949},{"$f":"T309-june!H309","v":-145167}]
[301,"TYNGSBOROUGH                 ",39.64,223965,21.799999999999997,112513,null,301,1,1,null,{"$f":"C310-june!E310","v":-3.1400000000000006},{"$f":"D310-june!F310","v":-19426},{"$f":"E310-june!G310","v":-4.8300000000000018},{"$f":"F310-june!H310","v":-26653},null,0,301,20.38,102999,{"$f":"S310-june!G310","v":-6.25},{"$f":"T310-june!H310","v":-36167}]
[302,"TYRINGHAM                    ",0,0,14,72960,null,302,null,null,null,{"$f":"C311-june!E311","v":0},{"$f":"D311-june!F311","v":0},{"$f":"E311-june!G311","v":1},{"$f":"F311-june!H311","v":5785},null,0,302,14,72960,{"$f":"S311-june!G311","v":1},{"$f":"T311-june!H311","v":5785}]
[303,"UPTON                        ",0,0,0,0,null,303,null,null,null,{"$f":"C312-june!E312","v":0},{"$f":"D312-june!F312","v":0},{"$f":"E312-june!G312","v":0},{"$f":"F312-june!H312","v":0},null,0,303,null,null,{"$f":"S312-june!G312","v":0},{"$f":"T312-june!H312","v":0}]
[304,"UXBRIDGE                     ",90.930000000000021,563983,196.76000000000005,1100081,null,304,3,5,null,{"$f":"C313-june!E313","v":-45.14},{"$f":"D313-june!F313","v":-305590},{"$f":"E313-june!G313","v":18.29000000000002},{"$f":"F313-june!H313","v":114774},null,0,304,191.32000000000005,1063633,{"$f":"S313-june!G313","v":12.850000000000023},{"$f":"T313-june!H313","v":78326}]
[305,"WAKEFIELD                    ",0,0,4.49,25459,null,305,null,3,null,{"$f":"C314-june!E314","v":0},{"$f":"D314-june!F314","v":0},{"$f":"E314-june!G314","v":-7.9600000000000026},{"$f":"F314-june!H314","v":-52501},null,0,305,2.7199999999999998,13600,{"$f":"S314-june!G314","v":-9.730000000000004},{"$f":"T314-june!H314","v":-64360}]
[306,"WALES                        ",10.219999999999999,53738,15,86382,null,306,null,null,null,{"$f":"C315-june!E315","v":4.0499999999999989},{"$f":"D315-june!F315","v":22888},{"$f":"E315-june!G315","v":1},{"$f":"F315-june!H315","v":10987},null,0,306,15,86382,{"$f":"S315-june!G315","v":1},{"$f":"T315-june!H315","v":10987}]
[307,"WALPOLE                      ",0,0,9.5399999999999991,57919,null,307,null,6,null,{"$f":"C316-june!E316","v":0},{"$f":"D316-june!F316","v":0},{"$f":"E316-june!G316","v":-0.33999999999999986},{"$f":"F316-june!H316","v":-3235},null,0,307,6,34201,{"$f":"S316-june!G316","v":-3.879999999999999},{"$f":"T316-june!H316","v":-26953}]
[308,"WALTHAM                      ",0,0,5.8699999999999992,37595,null,308,3,4,null,{"$f":"C317-june!E317","v":0},{"$f":"D317-june!F317","v":0},{"$f":"E317-june!G317","v":-2.4600000000000009},{"$f":"F317-june!H317","v":-18417},null,0,308,1.02,5100,{"$f":"S317-june!G317","v":-7.3100000000000005},{"$f":"T317-june!H317","v":-50912}]
[309,"WARE                         ",36.72,238934,177.66,1036761,null,309,6,2,null,{"$f":"C318-june!E318","v":-13.090000000000011},{"$f":"D318-june!F318","v":-73869},{"$f":"E318-june!G318","v":-6.0600000000000023},{"$f":"F318-june!H318","v":-21208},null,0,309,171.5,995489,{"$f":"S318-june!G318","v":-12.219999999999999},{"$f":"T318-june!H318","v":-62480}]
[310,"WAREHAM                      ",36.499999999999986,226728,161.47999999999999,1004176,null,310,5,8,null,{"$f":"C319-june!E319","v":9.5499999999999865},{"$f":"D319-june!F319","v":80670},{"$f":"E319-june!G319","v":-23.650000000000034},{"$f":"F319-june!H319","v":-184524},null,0,310,152.60999999999999,944747,{"$f":"S319-june!G319","v":-32.520000000000039},{"$f":"T319-june!H319","v":-243953}]
[311,"WARREN                       ",0,0,0,0,null,311,null,null,null,{"$f":"C320-june!E320","v":0},{"$f":"D320-june!F320","v":0},{"$f":"E320-june!G320","v":0},{"$f":"F320-june!H320","v":0},null,0,311,null,null,{"$f":"S320-june!G320","v":0},{"$f":"T320-june!H320","v":0}]
[312,"WARWICK                      ",0,0,0,0,null,312,null,null,null,{"$f":"C321-june!E321","v":0},{"$f":"D321-june!F321","v":0},{"$f":"E321-june!G321","v":0},{"$f":"F321-june!H321","v":0},null,0,312,null,null,{"$f":"S321-june!G321","v":0},{"$f":"T321-june!H321","v":0}]
[313,"WASHINGTON                   ",0,0,0,0,null,313,null,null,null,{"$f":"C322-june!E322","v":0},{"$f":"D322-june!F322","v":0},{"$f":"E322-june!G322","v":0},{"$f":"F322-june!H322","v":0},null,0,313,null,null,{"$f":"S322-june!G322","v":0},{"$f":"T322-june!H322","v":0}]
[314,"WATERTOWN                    ",0,0,5.4399999999999995,36448,null,314,3,5,null,{"$f":"C323-june!E323","v":0},{"$f":"D323-june!F323","v":0},{"$f":"E323-june!G323","v":-2.8800000000000008},{"$f":"F323-june!H323","v":-20636},null,0,314,null,null,{"$f":"S323-june!G323","v":-8.32},{"$f":"T323-june!H323","v":-57084}]
[315,"WAYLAND                      ",0,0,1,5000,null,315,null,null,null,{"$f":"C324-june!E324","v":0},{"$f":"D324-june!F324","v":0},{"$f":"E324-june!G324","v":-2.95},{"$f":"F324-june!H324","v":-77023},null,0,315,1,5000,{"$f":"S324-june!G324","v":-2.95},{"$f":"T324-june!H324","v":-77023}]
[316,"WEBSTER                      ",28.019999999999996,153939,119.03000000000002,674450,null,316,1,3,null,{"$f":"C325-june!E325","v":-0.65000000000000568},{"$f":"D325-june!F325","v":7958},{"$f":"E325-june!G325","v":5.7700000000000102},{"$f":"F325-june!H325","v":43511},null,0,316,116.43000000000002,657030,{"$f":"S325-june!G325","v":3.1700000000000159},{"$f":"T325-june!H325","v":26091}]
[317,"WELLESLEY                    ",0,0,1,5000,null,317,null,null,null,{"$f":"C326-june!E326","v":0},{"$f":"D326-june!F326","v":0},{"$f":"E326-june!G326","v":0.89},{"$f":"F326-june!H326","v":4450},null,0,317,1,5000,{"$f":"S326-june!G326","v":0.89},{"$f":"T326-june!H326","v":4450}]
[318,"WELLFLEET                    ",0,0,12.99,178480,null,318,null,null,null,{"$f":"C327-june!E327","v":0},{"$f":"D327-june!F327","v":0},{"$f":"E327-june!G327","v":2.9700000000000006},{"$f":"F327-june!H327","v":110893},null,0,318,12.99,178480,{"$f":"S327-june!G327","v":2.9700000000000006},{"$f":"T327-june!H327","v":110893}]
[319,"WENDELL                      ",0,0,0,0,null,319,null,null,null,{"$f":"C328-june!E328","v":0},{"$f":"D328-june!F328","v":0},{"$f":"E328-june!G328","v":0},{"$f":"F328-june!H328","v":0},null,0,319,null,null,{"$f":"S328-june!G328","v":0},{"$f":"T328-june!H328","v":0}]
[320,"WENHAM                       ",0,0,0,0,null,320,null,null,null,{"$f":"C329-june!E329","v":0},{"$f":"D329-june!F329","v":0},{"$f":"E329-june!G329","v":0},{"$f":"F329-june!H329","v":0},null,0,320,null,null,{"$f":"S329-june!G329","v":0},{"$f":"T329-june!H329","v":0}]
[321,"WESTBOROUGH                  ",0,0,11.55,58753,null,321,null,1,null,{"$f":"C330-june!E330","v":0},{"$f":"D330-june!F330","v":0},{"$f":"E330-june!G330","v":5.0300000000000011},{"$f":"F330-june!H330","v":18996},null,0,321,10.96,54800,{"$f":"S330-june!G330","v":4.4400000000000013},{"$f":"T330-june!H330","v":15043}]
[322,"WEST BOYLSTON                ",152.79000000000002,835110,{"$f":"S331+(0.83*I331)+0.59*J331","v":34.39},{"$f":"T331+(0.83*I331)*6700+0.59*J331*6700","v":219763},null,322,2,1,null,{"$f":"C331-june!E331","v":-8.4499999999999886},{"$f":"D331-june!F331","v":-62167},{"$f":"E331-june!G331","v":2.4400000000000013},{"$f":"F331-june!H331","v":24528},null,{"$f":"R331-A331","v":0},322,32.14,204688,{"$f":"S331-june!G331","v":0.19000000000000128},{"$f":"T331-june!H331","v":9453}]
[323,"WEST BRIDGEWATER             ",229.93000000000006,1346309,9.6,55021,null,323,null,7,null,{"$f":"C332-june!E332","v":-16.299999999999926},{"$f":"D332-june!F332","v":-79530},{"$f":"E332-june!G332","v":2.1599999999999993},{"$f":"F332-june!H332","v":13281},null,0,323,5.47,27350,{"$f":"S332-june!G332","v":-1.9700000000000006},{"$f":"T332-june!H332","v":-14390}]
[324,"WEST BROOKFIELD              ",0,0,8.33,48896,null,324,null,null,null,{"$f":"C333-june!E333","v":0},{"$f":"D333-june!F333","v":0},{"$f":"E333-june!G333","v":-2.7199999999999989},{"$f":"F333-june!H333","v":-12407},null,0,324,8.33,48896,{"$f":"S333-june!G333","v":-2.7199999999999989},{"$f":"T333-june!H333","v":-12407}]
[325,"WESTFIELD                    ",136.07,765759,97.31,537529,null,325,3,6,null,{"$f":"C334-june!E334","v":6.2599999999999909},{"$f":"D334-june!F334","v":-10740},{"$f":"E334-june!G334","v":-36.649999999999949},{"$f":"F334-june!H334","v":-248902},null,0,325,91.28,497128,{"$f":"S334-june!G334","v":-42.67999999999995},{"$f":"T334-june!H334","v":-289303}]
[326,"WESTFORD                     ",64.44,381375,4.59,34765,null,326,null,1,null,{"$f":"C335-june!E335","v":-4.0500000000000114},{"$f":"D335-june!F335","v":-35307},{"$f":"E335-june!G335","v":-7.92},{"$f":"F335-june!H335","v":-51962},null,0,326,4,30812,{"$f":"S335-june!G335","v":-8.51},{"$f":"T335-june!H335","v":-55915}]
[327,"WESTHAMPTON                  ",16,118455,5,38649,null,327,null,null,null,{"$f":"C336-june!E336","v":-2.6000000000000014},{"$f":"D336-june!F336","v":-30124},{"$f":"E336-june!G336","v":-2},{"$f":"F336-june!H336","v":-7378},null,0,327,5,38649,{"$f":"S336-june!G336","v":-2},{"$f":"T336-june!H336","v":-7378}]
[328,"WESTMINSTER                  ",0,0,0,0,null,328,null,null,null,{"$f":"C337-june!E337","v":0},{"$f":"D337-june!F337","v":0},{"$f":"E337-june!G337","v":0},{"$f":"F337-june!H337","v":0},null,0,328,null,null,{"$f":"S337-june!G337","v":0},{"$f":"T337-june!H337","v":0}]
[329,"WEST NEWBURY                 ",0,0,0,0,null,329,null,null,null,{"$f":"C338-june!E338","v":0},{"$f":"D338-june!F338","v":0},{"$f":"E338-june!G338","v":0},{"$f":"F338-june!H338","v":0},null,0,329,null,null,{"$f":"S338-june!G338","v":0},{"$f":"T338-june!H338","v":0}]
[330,"WESTON                       ",0,0,1.18,7906,null,330,null,2,null,{"$f":"C339-june!E339","v":0},{"$f":"D339-june!F339","v":0},{"$f":"E339-june!G339","v":-1.82},{"$f":"F339-june!H339","v":-14647},null,0,330,null,null,{"$f":"S339-june!G339","v":-3},{"$f":"T339-june!H339","v":-22553}]
[331,"WESTPORT                     ",0,0,9.5500000000000007,54998,null,331,null,2,null,{"$f":"C340-june!E340","v":0},{"$f":"D340-june!F340","v":0},{"$f":"E340-june!G340","v":-4.4599999999999991},{"$f":"F340-june!H340","v":-23079},null,0,331,8.370000000000001,47092,{"$f":"S340-june!G340","v":-5.6399999999999988},{"$f":"T340-june!H340","v":-30985}]
[332,"WEST SPRINGFIELD             ",112.25999999999999,664836,31.980000000000004,188884,null,332,8,3,null,{"$f":"C341-june!E341","v":4.1599999999999966},{"$f":"D341-june!F341","v":40005},{"$f":"E341-june!G341","v":-10.079999999999998},{"$f":"F341-june!H341","v":-78512},null,0,332,23.570000000000004,132537,{"$f":"S341-june!G341","v":-18.489999999999998},{"$f":"T341-june!H341","v":-134859}]
[333,"WEST STOCKBRIDGE             ",0,0,0,0,null,333,null,null,null,{"$f":"C342-june!E342","v":0},{"$f":"D342-june!F342","v":0},{"$f":"E342-june!G342","v":0},{"$f":"F342-june!H342","v":0},null,0,333,null,null,{"$f":"S342-june!G342","v":0},{"$f":"T342-june!H342","v":0}]
[334,"WEST TISBURY                 ",0,0,0,0,null,334,null,null,null,{"$f":"C343-june!E343","v":0},{"$f":"D343-june!F343","v":0},{"$f":"E343-june!G343","v":0},{"$f":"F343-june!H343","v":0},null,0,334,null,null,{"$f":"S343-june!G343","v":0},{"$f":"T343-june!H343","v":0}]
[335,"WESTWOOD                     ",0,0,0,0,null,335,null,null,null,{"$f":"C344-june!E344","v":0},{"$f":"D344-june!F344","v":0},{"$f":"E344-june!G344","v":0},{"$f":"F344-june!H344","v":0},null,0,335,null,null,{"$f":"S344-june!G344","v":0},{"$f":"T344-june!H344","v":0}]
[336,"WEYMOUTH                     ",0,0,16.639999999999997,101288,null,336,5,11,null,{"$f":"C345-june!E345","v":0},{"$f":"D345-june!F345","v":0},{"$f":"E345-june!G345","v":-2.5700000000000038},{"$f":"F345-june!H345","v":-21886},null,0,336,6,30000,{"$f":"S345-june!G345","v":-13.21},{"$f":"T345-june!H345","v":-93174}]
[337,"WHATELY                      ",48.91,261836,11.32,100380,null,337,null,null,null,{"$f":"C346-june!E346","v":4.0499999999999972},{"$f":"D346-june!F346","v":-2377},{"$f":"E346-june!G346","v":6.32},{"$f":"F346-june!H346","v":34169},null,0,337,11.32,100380,{"$f":"S346-june!G346","v":6.32},{"$f":"T346-june!H346","v":34169}]
[338,"WHITMAN                      ",0,0,0,0,null,338,null,null,null,{"$f":"C347-june!E347","v":0},{"$f":"D347-june!F347","v":0},{"$f":"E347-june!G347","v":0},{"$f":"F347-june!H347","v":0},null,0,338,null,null,{"$f":"S347-june!G347","v":0},{"$f":"T347-june!H347","v":0}]
[339,"WILBRAHAM                    ",0,0,0,0,null,339,null,null,null,{"$f":"C348-june!E348","v":0},{"$f":"D348-june!F348","v":0},{"$f":"E348-june!G348","v":0},{"$f":"F348-june!H348","v":0},null,0,339,null,null,{"$f":"S348-june!G348","v":0},{"$f":"T348-june!H348","v":0}]
[340,"WILLIAMSBURG                 ",11.85,65223,{"$f":"S349+(0.83*I349)+0.59*J349-1","v":19.690000000000001},{"$f":"T349+(0.83*I349)*6700+0.59*J349*6700-5000","v":118318},null,340,null,null,null,{"$f":"C349-june!E349","v":-6.5600000000000005},{"$f":"D349-june!F349","v":-37582},{"$f":"E349-june!G349","v":2.5000000000000036},{"$f":"F349-june!H349","v":22342},null,0,340,20.69,123318,{"$f":"S349-june!G349","v":3.5000000000000036},{"$f":"T349-june!H349","v":27342}]
[341,"WILLIAMSTOWN                 ",42.1,237644,5.59,30061,null,341,null,2,null,{"$f":"C350-june!E350","v":10.18},{"$f":"D350-june!F350","v":68140},{"$f":"E350-june!G350","v":3.59},{"$f":"F350-june!H350","v":20061},null,0,341,4.41,22155,{"$f":"S350-june!G350","v":2.41},{"$f":"T350-june!H350","v":12155}]
[342,"WILMINGTON                   ",0,0,1,5000,null,342,null,null,null,{"$f":"C351-june!E351","v":0},{"$f":"D351-june!F351","v":0},{"$f":"E351-june!G351","v":-8.0000000000000071E-2},{"$f":"F351-june!H351","v":-3041},null,0,342,1,5000,{"$f":"S351-june!G351","v":-8.0000000000000071E-2},{"$f":"T351-june!H351","v":-3041}]
[343,"WINCHENDON                   ",40.42,305721,125.74999999999997,702304,null,343,5,1,null,{"$f":"C352-june!E352","v":11.420000000000002},{"$f":"D352-june!F352","v":160721},{"$f":"E352-june!G352","v":-14.530000000000086},{"$f":"F352-june!H352","v":-103239},null,0,343,121.00999999999996,670546,{"$f":"S352-june!G352","v":-19.270000000000095},{"$f":"T352-june!H352","v":-134997}]
[344,"WINCHESTER                   ",0,0,1.66,11122,null,344,2,null,null,{"$f":"C353-june!E353","v":0},{"$f":"D353-june!F353","v":0},{"$f":"E353-june!G353","v":-2.1399999999999997},{"$f":"F353-june!H353","v":-17061},null,0,344,null,null,{"$f":"S353-june!G353","v":-3.8},{"$f":"T353-june!H353","v":-28183}]
[345,"WINDSOR                      ",0,0,0,0,null,345,null,null,null,{"$f":"C354-june!E354","v":0},{"$f":"D354-june!F354","v":0},{"$f":"E354-june!G354","v":0},{"$f":"F354-june!H354","v":0},null,0,345,null,null,{"$f":"S354-june!G354","v":0},{"$f":"T354-june!H354","v":0}]
[346,"WINTHROP                     ",12,60000,1.42,9514,null,346,1,1,null,{"$f":"C355-june!E355","v":-4},{"$f":"D355-june!F355","v":-27223},{"$f":"E355-june!G355","v":-2.4299999999999997},{"$f":"F355-june!H355","v":-14668},null,0,346,null,null,{"$f":"S355-june!G355","v":-3.8499999999999996},{"$f":"T355-june!H355","v":-24182}]
[347,"WOBURN",0,0,13.219999999999999,71115,null,347,null,5,null,{"$f":"C356-june!E356","v":0},{"$f":"D356-june!F356","v":0},{"$f":"E356-june!G356","v":-2.8000000000000043},{"$f":"F356-june!H356","v":-15917},null,0,347,10.27,51350,{"$f":"S356-june!G356","v":-5.7500000000000036},{"$f":"T356-june!H356","v":-35682}]
[348,"WORCESTER                    ",66.81,373775,461.87,2651386,null,348,12,42,null,{"$f":"C357-june!E357","v":-2.3400000000000034},{"$f":"D357-june!F357","v":-17552},{"$f":"E357-june!G357","v":-12.090000000000089},{"$f":"F357-june!H357","v":-18510},null,0,348,427.13000000000005,2418628,{"$f":"S357-june!G357","v":-46.830000000000041},{"$f":"T357-june!H357","v":-251268}]
[349,"WORTHINGTON                  ",0,0,0,0,null,349,null,null,null,{"$f":"C358-june!E358","v":-5.37},{"$f":"D358-june!F358","v":-26850},{"$f":"E358-june!G358","v":-54.339999999999996},{"$f":"F358-june!H358","v":-467624},null,0,349,null,null,{"$f":"S358-june!G358","v":-54.339999999999996},{"$f":"T358-june!H358","v":-467624}]
[350,"WRENTHAM                     ",0,0,6.9499999999999993,39765,null,350,null,5,null,{"$f":"C359-june!E359","v":0},{"$f":"D359-june!F359","v":0},{"$f":"E359-june!G359","v":2.7799999999999994},{"$f":"F359-june!H359","v":18915},null,0,350,4,20000,{"$f":"S359-june!G359","v":-0.16999999999999993},{"$f":"T359-june!H359","v":-850}]
[351,"YARMOUTH                     ",0,0,0,0,null,351,null,null,null,{"$f":"C360-june!E360","v":0},{"$f":"D360-june!F360","v":0},{"$f":"E360-june!G360","v":0},{"$f":"F360-june!H360","v":0},null,0,351,null,null,{"$f":"S360-june!G360","v":0},{"$f":"T360-june!H360","v":0}]
[352,"DEVENS",0,0,4.8,30834,null,352,null,null,null,{"$f":"C361-june!E361","v":0},{"$f":"D361-june!F361","v":0},{"$f":"E361-june!G361","v":-0.20000000000000018},{"$f":"F361-june!H361","v":4131},null,0,352,4.8,30834,{"$f":"S361-june!G361","v":-0.20000000000000018},{"$f":"T361-june!H361","v":4131}]
[406,"NORTHAMPTON SMITH            ",0,0,0,0,null,406,null,null,null,{"$f":"C362-june!E362","v":0},{"$f":"D362-june!F362","v":0},{"$f":"E362-june!G362","v":0},{"$f":"F362-june!H362","v":0},null,0,406,null,null,{"$f":"S362-june!G362","v":0},{"$f":"T362-june!H362","v":0}]
[600,"ACTON BOXBOROUGH             ",42.5,261263,12.07,103482,null,600,null,null,null,{"$f":"C363-june!E363","v":3.5},{"$f":"D363-june!F363","v":37072},{"$f":"E363-june!G363","v":-2.1999999999999993},{"$f":"F363-june!H363","v":4427},null,0,600,12.07,103482,{"$f":"S363-june!G363","v":-2.1999999999999993},{"$f":"T363-june!H363","v":4427}]
[603,"ADAMS CHESHIRE               ",58.20000000000001,372017,81.139999999999986,506180,null,603,null,3,null,{"$f":"C364-june!E364","v":3.6500000000000057},{"$f":"D364-june!F364","v":62628},{"$f":"E364-june!G364","v":1.9799999999999898},{"$f":"F364-june!H364","v":9939},null,0,603,79.36999999999999,494321,{"$f":"S364-june!G364","v":0.20999999999999375},{"$f":"T364-june!H364","v":-1920}]
[605,"AMHERST PELHAM               ",88.46,631941,31,227771,null,605,null,1,null,{"$f":"C365-june!E365","v":19.059999999999988},{"$f":"D365-june!F365","v":146339},{"$f":"E365-june!G365","v":-3.470000000000006},{"$f":"F365-june!H365","v":-46808},null,0,605,30.41,223818,{"$f":"S365-june!G365","v":-4.0600000000000058},{"$f":"T365-june!H365","v":-50761}]
[610,"ASHBURNHAM WESTMINSTER       ",147.49,788699,54.690000000000005,295110,null,610,1,5,null,{"$f":"C366-june!E366","v":-52.72999999999999},{"$f":"D366-june!F366","v":-277596},{"$f":"E366-june!G366","v":-6.259999999999998},{"$f":"F366-june!H366","v":-30880},null,0,610,50.910000000000004,269784,{"$f":"S366-june!G366","v":-10.039999999999999},{"$f":"T366-june!H366","v":-56206}]
[615,"ATHOL ROYALSTON              ",58.019999999999996,372175,356.21999999999997,2109562,null,615,5,5,null,{"$f":"C367-june!E367","v":-8.0500000000000114},{"$f":"D367-june!F367","v":-14475},{"$f":"E367-june!G367","v":-8.3200000000001069},{"$f":"F367-june!H367","v":-134347},null,0,615,349.12,2061992,{"$f":"S367-june!G367","v":-15.420000000000073},{"$f":"T367-june!H367","v":-181917}]
[616,"AYER SHIRLEY",119.33999999999997,779951,123.43999999999998,713575,null,616,1,3,null,{"$f":"C368-june!E368","v":-16.000000000000028},{"$f":"D368-june!F368","v":-17927},{"$f":"E368-june!G368","v":-4.2999999999999972},{"$f":"F368-june!H368","v":1486},null,0,616,120.83999999999999,696155,{"$f":"S368-june!G368","v":-6.8999999999999915},{"$f":"T368-june!H368","v":-15934}]
[618,"BERKSHIRE HILLS              ",242.14999999999998,1298303,101.46,580163,null,618,null,null,null,{"$f":"C369-june!E369","v":16.949999999999989},{"$f":"D369-june!F369","v":25667},{"$f":"E369-june!G369","v":-1.730000000000004},{"$f":"F369-june!H369","v":-8681},null,0,618,101.46,580163,{"$f":"S369-june!G369","v":-1.730000000000004},{"$f":"T369-june!H369","v":-8681}]
[620,"BERLIN BOYLSTON              ",93.44,528640,31.59,161890,null,620,null,1,null,{"$f":"C370-june!E370","v":3.4399999999999977},{"$f":"D370-june!F370","v":-3384},{"$f":"E370-june!G370","v":3.9000000000000021},{"$f":"F370-june!H370","v":5823},null,0,620,31,157937,{"$f":"S370-june!G370","v":3.3100000000000023},{"$f":"T370-june!H370","v":1870}]
[622,"BLACKSTONE MILLVILLE         ",39.47,197350,80.649999999999991,455181,null,622,null,5,null,{"$f":"C371-june!E371","v":-6.3300000000000125},{"$f":"D371-june!F371","v":-48997},{"$f":"E371-june!G371","v":-9.89},{"$f":"F371-june!H371","v":-52341},null,0,622,77.699999999999989,435416,{"$f":"S371-june!G371","v":-12.840000000000003},{"$f":"T371-june!H371","v":-72106}]
[625,"BRIDGEWATER RAYNHAM          ",28.82,154726,161.51,936066,null,625,2,1,null,{"$f":"C372-june!E372","v":0.73000000000000043},{"$f":"D372-june!F372","v":-222},{"$f":"E372-june!G372","v":5.6299999999999955},{"$f":"F372-june!H372","v":33005},null,0,625,159.26,920991,{"$f":"S372-june!G372","v":3.3799999999999955},{"$f":"T372-june!H372","v":17930}]
[632,"CHESTERFIELD GOSHEN",20.22,103289,{"$f":"S373+(0.83*I373)+0.59*J373-2","v":7.26},{"$f":"T373+(0.83*I373)*6700+0.59*J373*6700-10000","v":36300},null,632,null,null,null,{"$f":"C373-june!E373","v":-3.3599999999999994},{"$f":"D373-june!F373","v":-52225},{"$f":"E373-june!G373","v":-3.74},{"$f":"F373-june!H373","v":-26461},null,0,632,9.26,46300,{"$f":"S373-june!G373","v":-1.7400000000000002},{"$f":"T373-june!H373","v":-16461}]
[635,"CENTRAL BERKSHIRE            ",152.82000000000002,978043,148.17000000000002,808367,null,635,3,2,null,{"$f":"C374-june!E374","v":-10.069999999999993},{"$f":"D374-june!F374","v":-57082},{"$f":"E374-june!G374","v":-19.249999999999943},{"$f":"F374-june!H374","v":-157184},null,0,635,144.5,783778,{"$f":"S374-june!G374","v":-22.919999999999959},{"$f":"T374-june!H374","v":-181773}]
[640,"CONCORD CARLISLE             ",0,0,0,0,null,640,null,null,null,{"$f":"C375-june!E375","v":0},{"$f":"D375-june!F375","v":0},{"$f":"E375-june!G375","v":-1.88},{"$f":"F375-june!H375","v":-12742},null,0,640,null,null,{"$f":"S375-june!G375","v":-1.88},{"$f":"T375-june!H375","v":-12742}]
[645,"DENNIS YARMOUTH              ",102.25,686441,356.43000000000012,2187117,null,645,2,4,null,{"$f":"C376-june!E376","v":-19.730000000000004},{"$f":"D376-june!F376","v":-106283},{"$f":"E376-june!G376","v":3.6099999999999},{"$f":"F376-june!H376","v":44152},null,0,645,352.41000000000008,2160183,{"$f":"S376-june!G376","v":-0.4100000000001387},{"$f":"T376-june!H376","v":17218}]
[650,"DIGHTON REHOBOTH             ",0,0,15.790000000000001,86107,null,650,2,null,null,{"$f":"C377-june!E377","v":-10},{"$f":"D377-june!F377","v":-50000},{"$f":"E377-june!G377","v":-9.0000000000000018},{"$f":"F377-june!H377","v":-47859},null,0,650,14.13,74985,{"$f":"S377-june!G377","v":-10.660000000000002},{"$f":"T377-june!H377","v":-58981}]
[655,"DOVER SHERBORN               ",0,0,0,0,null,655,null,null,null,{"$f":"C378-june!E378","v":0},{"$f":"D378-june!F378","v":0},{"$f":"E378-june!G378","v":-5.43},{"$f":"F378-june!H378","v":-33203},null,0,655,null,null,{"$f":"S378-june!G378","v":-5.43},{"$f":"T378-june!H378","v":-33203}]
[658,"DUDLEY CHARLTON              ",136.45000000000002,765916,41.65,255560,null,658,1,11,null,{"$f":"C379-june!E379","v":-8.0900000000000034},{"$f":"D379-june!F379","v":-43925},{"$f":"E379-june!G379","v":-14.430000000000007},{"$f":"F379-june!H379","v":-61809},null,0,658,34.33,206516,{"$f":"S379-june!G379","v":-21.750000000000007},{"$f":"T379-june!H379","v":-110853}]
[660,"NAUSET                       ",266.25999999999993,1551954,33.930000000000007,263166,null,660,null,1,null,{"$f":"C380-june!E380","v":-13.28000000000003},{"$f":"D380-june!F380","v":-59124},{"$f":"E380-june!G380","v":1.6700000000000088},{"$f":"F380-june!H380","v":10547},null,0,660,33.340000000000003,259213,{"$f":"S380-june!G380","v":1.0800000000000054},{"$f":"T380-june!H380","v":6594}]
[662,"FARMINGTON RIVER",16,88364,52.989999999999995,285231,null,662,null,null,null,{"$f":"C381-june!E381","v":1},{"$f":"D381-june!F381","v":6284},{"$f":"E381-june!G381","v":8.0799999999999983},{"$f":"F381-june!H381","v":41356},null,0,662,52.989999999999995,285231,{"$f":"S381-june!G381","v":8.0799999999999983},{"$f":"T381-june!H381","v":41356}]
[665,"FREETOWN LAKEVILLE           ",21.28,118202,24.79,144453,null,665,2,7,null,{"$f":"C382-june!E382","v":-19.689999999999998},{"$f":"D382-june!F382","v":-94061},{"$f":"E382-june!G382","v":-2.4600000000000044},{"$f":"F382-june!H382","v":-359},null,0,665,19,105660,{"$f":"S382-june!G382","v":-8.2500000000000036},{"$f":"T382-june!H382","v":-39152}]
[670,"FRONTIER                     ",120.59000000000002,901451,44.620000000000005,287679,null,670,null,null,null,{"$f":"C383-june!E383","v":-8.5799999999999983},{"$f":"D383-june!F383","v":-144721},{"$f":"E383-june!G383","v":-10.469999999999999},{"$f":"F383-june!H383","v":-38158},null,0,670,44.620000000000005,287679,{"$f":"S383-june!G383","v":-10.469999999999999},{"$f":"T383-june!H383","v":-38158}]
[672,"GATEWAY                      ",26,145799,122.08999999999997,791316,null,672,null,null,null,{"$f":"C384-june!E384","v":-19.799999999999997},{"$f":"D384-june!F384","v":-163554},{"$f":"E384-june!G384","v":49.069999999999979},{"$f":"F384-june!H384","v":302296},null,0,672,122.08999999999997,791316,{"$f":"S384-june!G384","v":49.069999999999979},{"$f":"T384-june!H384","v":302296}]
[673,"GROTON DUNSTABLE             ",55,296230,15.41,92732,null,673,1,2,null,{"$f":"C385-june!E385","v":10.130000000000003},{"$f":"D385-june!F385","v":48238},{"$f":"E385-june!G385","v":-8.57},{"$f":"F385-june!H385","v":-45673},null,0,673,13.4,79265,{"$f":"S385-june!G385","v":-10.58},{"$f":"T385-june!H385","v":-59140}]
[674,"GILL MONTAGUE                ",106.04,819041,225.35,1416848,null,674,null,null,null,{"$f":"C386-june!E386","v":11.230000000000004},{"$f":"D386-june!F386","v":15943},{"$f":"E386-june!G386","v":-13.770000000000039},{"$f":"F386-june!H386","v":-85680},null,0,674,225.35,1416848,{"$f":"S386-june!G386","v":-13.770000000000039},{"$f":"T386-june!H386","v":-85680}]
[675,"HAMILTON WENHAM              ",97.95,506976,4.74,26114,null,675,1,1,null,{"$f":"C387-june!E387","v":7.9500000000000028},{"$f":"D387-june!F387","v":38252},{"$f":"E387-june!G387","v":-4.2899999999999991},{"$f":"F387-june!H387","v":-24867},null,0,675,3.3200000000000003,16600,{"$f":"S387-june!G387","v":-5.7099999999999991},{"$f":"T387-june!H387","v":-34381}]
[680,"HAMPDEN WILBRAHAM            ",119.47,664668,11.049999999999999,69443,null,680,4,2,null,{"$f":"C388-june!E388","v":8.1200000000000045},{"$f":"D388-june!F388","v":-38404},{"$f":"E388-june!G388","v":-0.48000000000000043},{"$f":"F388-june!H388","v":6807},null,0,680,6.55,39293,{"$f":"S388-june!G388","v":-4.9799999999999995},{"$f":"T388-june!H388","v":-23343}]
[683,"HAMPSHIRE                    ",107.78999999999998,760858,58.44,351891,null,683,null,null,null,{"$f":"C389-june!E389","v":10.439999999999984},{"$f":"D389-june!F389","v":-8159},{"$f":"E389-june!G389","v":-4.6000000000000085},{"$f":"F389-june!H389","v":-11002},null,0,683,58.44,351891,{"$f":"S389-june!G389","v":-4.6000000000000085},{"$f":"T389-june!H389","v":-11002}]
[685,"HAWLEMONT                    ",13.790000000000001,91352,20.509999999999998,120243,null,685,null,null,null,{"$f":"C390-june!E390","v":-1.9599999999999991},{"$f":"D390-june!F390","v":-16412},{"$f":"E390-june!G390","v":-4.4000000000000021},{"$f":"F390-june!H390","v":-21736},null,0,685,20.509999999999998,120243,{"$f":"S390-june!G390","v":-4.4000000000000021},{"$f":"T390-june!H390","v":-21736}]
[690,"KING PHILIP                  ",0,0,10.950000000000001,70582,null,690,null,null,null,{"$f":"C391-june!E391","v":0},{"$f":"D391-june!F391","v":0},{"$f":"E391-june!G391","v":-5.7599999999999962},{"$f":"F391-june!H391","v":-45321},null,0,690,10.950000000000001,70582,{"$f":"S391-june!G391","v":-5.7599999999999962},{"$f":"T391-june!H391","v":-45321}]
[695,"LINCOLN SUDBURY              ",0,0,0,0,null,695,null,null,null,{"$f":"C392-june!E392","v":0},{"$f":"D392-june!F392","v":0},{"$f":"E392-june!G392","v":-2.14},{"$f":"F392-june!H392","v":-15500},null,0,695,null,null,{"$f":"S392-june!G392","v":-2.14},{"$f":"T392-june!H392","v":-15500}]
[698,"MANCHESTER ESSEX",71,359525,9.4,51702,null,698,null,null,null,{"$f":"C393-june!E393","v":0},{"$f":"D393-june!F393","v":-97772},{"$f":"E393-june!G393","v":-0.24000000000000199},{"$f":"F393-june!H393","v":-685},null,0,698,9.4,51702,{"$f":"S393-june!G393","v":-0.24000000000000199},{"$f":"T393-june!H393","v":-685}]
[700,"MARTHAS VINEYARD             ",0,0,0,0,null,700,null,null,null,{"$f":"C394-june!E394","v":0},{"$f":"D394-june!F394","v":0},{"$f":"E394-june!G394","v":-2.48},{"$f":"F394-june!H394","v":-17852},null,0,700,null,null,{"$f":"S394-june!G394","v":-2.48},{"$f":"T394-june!H394","v":-17852}]
[705,"MASCONOMET                   ",0,0,{"$f":"S395+(0.83*I395)+0.59*J395","v":0},{"$f":"T395+(0.83*I395)*6700+0.59*J395*6700","v":0},null,705,null,null,null,{"$f":"C395-june!E395","v":0},{"$f":"D395-june!F395","v":0},{"$f":"E395-june!G395","v":-3},{"$f":"F395-june!H395","v":-16700},null,{"$f":"R395-A395","v":0},705,null,null,{"$f":"S395-june!G395","v":-3},{"$f":"T395-june!H395","v":-16700}]
[710,"MENDON UPTON                 ",139.26000000000002,814955,59.339999999999989,351234,null,710,2,1,null,{"$f":"C396-june!E396","v":-3.9999999999999716},{"$f":"D396-june!F396","v":4340},{"$f":"E396-june!G396","v":4.9899999999999878},{"$f":"F396-june!H396","v":25073},null,0,710,57.089999999999989,336159,{"$f":"S396-june!G396","v":2.7399999999999878},{"$f":"T396-june!H396","v":9998}]
[712,"MONOMOY",271.62999999999994,1683336,178.9,1037154,null,712,1,null,null,{"$f":"C397-june!E397","v":14.509999999999934},{"$f":"D397-june!F397","v":171812},{"$f":"E397-june!G397","v":-18.169999999999987},{"$f":"F397-june!H397","v":-110571},null,0,712,178.07,1031593,{"$f":"S397-june!G397","v":-19},{"$f":"T397-june!H397","v":-116132}]
[715,"MOUNT GREYLOCK               ",61.430000000000007,352222,15.99,85256,null,715,null,null,null,{"$f":"C398-june!E398","v":-1.2099999999999866},{"$f":"D398-june!F398","v":8564},{"$f":"E398-june!G398","v":-6.5199999999999978},{"$f":"F398-june!H398","v":-36269},null,0,715,15.99,85256,{"$f":"S398-june!G398","v":-6.5199999999999978},{"$f":"T398-june!H398","v":-36269}]
[717,"MOHAWK TRAIL                 ",73.989999999999981,500473,71.23,642946,null,717,2,null,null,{"$f":"C399-june!E399","v":-16.330000000000027},{"$f":"D399-june!F399","v":-164486},{"$f":"E399-june!G399","v":-2.6000000000000085},{"$f":"F399-june!H399","v":-95161},null,0,717,69.570000000000007,631824,{"$f":"S399-june!G399","v":-4.2600000000000051},{"$f":"T399-june!H399","v":-106283}]
[720,"NARRAGANSETT                 ",150.20999999999998,862803,138.12000000000003,859797,null,720,null,1,null,{"$f":"C400-june!E400","v":-35.470000000000027},{"$f":"D400-june!F400","v":-226798},{"$f":"E400-june!G400","v":-3.5199999999998965},{"$f":"F400-june!H400","v":64815},null,0,720,137.53000000000003,855844,{"$f":"S400-june!G400","v":-4.1099999999999},{"$f":"T400-june!H400","v":60862}]
[725,"NASHOBA                      ",166.60000000000002,881656,72.009999999999991,452128,null,725,null,4,null,{"$f":"C401-june!E401","v":32.230000000000018},{"$f":"D401-june!F401","v":161502},{"$f":"E401-june!G401","v":2.6299999999999812},{"$f":"F401-june!H401","v":25047},null,0,725,69.649999999999991,436316,{"$f":"S401-june!G401","v":0.26999999999998181},{"$f":"T401-june!H401","v":9235}]
[728,"NEW SALEM WENDELL            ",26.4,144319,8.18,44469,null,728,null,null,null,{"$f":"C402-june!E402","v":-0.56000000000000227},{"$f":"D402-june!F402","v":782},{"$f":"E402-june!G402","v":-4.4500000000000011},{"$f":"F402-june!H402","v":-29080},null,0,728,8.18,44469,{"$f":"S402-june!G402","v":-4.4500000000000011},{"$f":"T402-june!H402","v":-29080}]
[730,"NORTHBORO SOUTHBORO          ",0,0,3,15000,null,730,null,null,null,{"$f":"C403-june!E403","v":0},{"$f":"D403-june!F403","v":0},{"$f":"E403-june!G403","v":-2.34},{"$f":"F403-june!H403","v":-82558},null,0,730,3,15000,{"$f":"S403-june!G403","v":-2.34},{"$f":"T403-june!H403","v":-82558}]
[735,"NORTH MIDDLESEX              ",76.849999999999994,460730,91.45,497359,null,735,2,3,null,{"$f":"C404-june!E404","v":-10.209999999999994},{"$f":"D404-june!F404","v":-30643},{"$f":"E404-june!G404","v":-3.1800000000000068},{"$f":"F404-june!H404","v":-26177},null,0,735,88.02000000000001,474378,{"$f":"S404-june!G404","v":-6.6099999999999994},{"$f":"T404-june!H404","v":-49158}]
[740,"OLD ROCHESTER                ",82.5,440646,6.76,38884,null,740,null,2,null,{"$f":"C405-june!E405","v":9.6500000000000057},{"$f":"D405-june!F405","v":59330},{"$f":"E405-june!G405","v":-1.0600000000000005},{"$f":"F405-june!H405","v":-8820},null,0,740,5.58,30978,{"$f":"S405-june!G405","v":-2.2400000000000002},{"$f":"T405-june!H405","v":-16726}]
[745,"PENTUCKET                    ",126.55000000000001,672571,36.919999999999995,231315,null,745,2,3,null,{"$f":"C406-june!E406","v":18.010000000000019},{"$f":"D406-june!F406","v":72803},{"$f":"E406-june!G406","v":7.9799999999999933},{"$f":"F406-june!H406","v":46783},null,0,745,33.489999999999995,208334,{"$f":"S406-june!G406","v":4.5499999999999936},{"$f":"T406-june!H406","v":23802}]
[750,"PIONEER                      ",171.10999999999999,1050984,45.81,333731,null,750,1,1,null,{"$f":"C407-june!E407","v":18.259999999999991},{"$f":"D407-june!F407","v":193911},{"$f":"E407-june!G407","v":-2.0899999999999963},{"$f":"F407-june!H407","v":-46668},null,0,750,44.39,324217,{"$f":"S407-june!G407","v":-3.509999999999998},{"$f":"T407-june!H407","v":-56182}]
[753,"QUABBIN                      ",345.84999999999991,1925967,95.529999999999987,570414,null,753,3,4,null,{"$f":"C408-june!E408","v":20.589999999999918},{"$f":"D408-june!F408","v":64238},{"$f":"E408-june!G408","v":-14.650000000000063},{"$f":"F408-june!H408","v":-146895},null,0,753,90.679999999999993,537919,{"$f":"S408-june!G408","v":-19.500000000000057},{"$f":"T408-june!H408","v":-179390}]
[755,"RALPH C MAHAR                ",222.35999999999987,1260687,58.52,364504,null,755,null,1,null,{"$f":"C409-june!E409","v":-23.300000000000125},{"$f":"D409-june!F409","v":-182030},{"$f":"E409-june!G409","v":4.4699999999999989},{"$f":"F409-june!H409","v":43125},null,0,755,57.93,360551,{"$f":"S409-june!G409","v":3.8799999999999955},{"$f":"T409-june!H409","v":39172}]
[760,"SILVER LAKE                  ",0,0,2,10000,null,760,null,null,null,{"$f":"C410-june!E410","v":0},{"$f":"D410-june!F410","v":0},{"$f":"E410-june!G410","v":-4.9799999999999995},{"$f":"F410-june!H410","v":-34856},null,0,760,2,10000,{"$f":"S410-june!G410","v":-4.9799999999999995},{"$f":"T410-june!H410","v":-34856}]
[763,"SOMERSET BERKLEY",23.519999999999996,164871,6.8599999999999994,35879,null,763,null,null,null,{"$f":"C411-june!E411","v":-27.340000000000003},{"$f":"D411-june!F411","v":-128862},{"$f":"E411-june!G411","v":0.35999999999999943},{"$f":"F411-june!H411","v":873},null,0,763,6.8599999999999994,35879,{"$f":"S411-june!G411","v":0.35999999999999943},{"$f":"T411-june!H411","v":873}]
[765,"SOUTHERN BERKSHIRE           ",123.58999999999997,689770,130.49,665880,null,765,1,null,null,{"$f":"C412-june!E412","v":2.0599999999999739},{"$f":"D412-june!F412","v":-25029},{"$f":"E412-june!G412","v":16.75},{"$f":"F412-june!H412","v":65648},null,0,765,129.66,660319,{"$f":"S412-june!G412","v":15.919999999999987},{"$f":"T412-june!H412","v":60087}]
[766,"SOUTHWICK TOLLAND",102.59,590457,53.25,280907,null,766,2,1,null,{"$f":"C413-june!E413","v":-24.469999999999985},{"$f":"D413-june!F413","v":-113639},{"$f":"E413-june!G413","v":1.5},{"$f":"F413-june!H413","v":-13322},null,0,766,51,265832,{"$f":"S413-june!G413","v":-0.75},{"$f":"T413-june!H413","v":-28397}]
[767,"SPENCER EAST BROOKFIELD      ",54.51,333107,186.70000000000005,1072219,null,767,1,3,null,{"$f":"C414-june!E414","v":10.310000000000002},{"$f":"D414-june!F414","v":53621},{"$f":"E414-june!G414","v":-23.449999999999932},{"$f":"F414-june!H414","v":-95560},null,0,767,184.10000000000002,1054799,{"$f":"S414-june!G414","v":-26.049999999999955},{"$f":"T414-june!H414","v":-112980}]
[770,"TANTASQUA                    ",162.22999999999999,932098,30.13,188462,null,770,null,6,null,{"$f":"C415-june!E415","v":4.460000000000008},{"$f":"D415-june!F415","v":-1089},{"$f":"E415-june!G415","v":4.639999999999997},{"$f":"F415-june!H415","v":24640},null,0,770,26.59,164744,{"$f":"S415-june!G415","v":1.0999999999999979},{"$f":"T415-june!H415","v":922}]
[773,"TRITON                       ",181.52999999999994,1209512,98.11999999999999,943249,null,773,null,4,null,{"$f":"C416-june!E416","v":25.189999999999941},{"$f":"D416-june!F416","v":213337},{"$f":"E416-june!G416","v":14.11999999999999},{"$f":"F416-june!H416","v":91754},null,0,773,95.759999999999991,927437,{"$f":"S416-june!G416","v":11.759999999999991},{"$f":"T416-june!H416","v":75942}]
[774,"UPISLAND",51,315995,16.36,113764,null,774,null,null,null,{"$f":"C417-june!E417","v":-5},{"$f":"D417-june!F417","v":-60923},{"$f":"E417-june!G417","v":5.42},{"$f":"F417-june!H417","v":59064},null,0,774,16.36,113764,{"$f":"S417-june!G417","v":5.42},{"$f":"T417-june!H417","v":59064}]
[775,"WACHUSETT                    ",203.84,1068886,106.44000000000001,587867,null,775,11,12,null,{"$f":"C418-june!E418","v":29.840000000000003},{"$f":"D418-june!F418","v":56097},{"$f":"E418-june!G418","v":-5.4299999999999926},{"$f":"F418-june!H418","v":-74265},null,0,775,90.230000000000018,479260,{"$f":"S418-june!G418","v":-21.639999999999986},{"$f":"T418-june!H418","v":-182872}]
[778,"QUABOAG",186.26,1031030,84.84,519822,null,778,null,3,null,{"$f":"C419-june!E419","v":-7.0799999999999841},{"$f":"D419-june!F419","v":-4871},{"$f":"E419-june!G419","v":-5.3300000000000125},{"$f":"F419-june!H419","v":-35850},null,0,778,83.070000000000007,507963,{"$f":"S419-june!G419","v":-7.1000000000000085},{"$f":"T419-june!H419","v":-47709}]
[780,"WHITMAN HANSON               ",15.7,78500,13.73,75076,null,780,1,5,null,{"$f":"C420-june!E420","v":-14.060000000000002},{"$f":"D420-june!F420","v":-107573},{"$f":"E420-june!G420","v":-4.0500000000000007},{"$f":"F420-june!H420","v":-23174},null,0,780,9.9500000000000011,49750,{"$f":"S420-june!G420","v":-7.83},{"$f":"T420-june!H420","v":-48500}]
[801,"ASSABET VALLEY               ",0,0,2.59,13953,null,801,null,1,null,{"$f":"C421-june!E421","v":0},{"$f":"D421-june!F421","v":0},{"$f":"E421-june!G421","v":2.59},{"$f":"F421-june!H421","v":13953},null,0,801,2,10000,{"$f":"S421-june!G421","v":2},{"$f":"T421-june!H421","v":10000}]
[805,"BLACKSTONE VALLEY            ",0,0,0,0,null,805,null,null,null,{"$f":"C422-june!E422","v":0},{"$f":"D422-june!F422","v":0},{"$f":"E422-june!G422","v":0},{"$f":"F422-june!H422","v":0},null,0,805,null,null,{"$f":"S422-june!G422","v":0},{"$f":"T422-june!H422","v":0}]
[806,"BLUE HILLS                   ",0,0,1,5000,null,806,null,null,null,{"$f":"C423-june!E423","v":0},{"$f":"D423-june!F423","v":0},{"$f":"E423-june!G423","v":1},{"$f":"F423-june!H423","v":5000},null,0,806,1,5000,{"$f":"S423-june!G423","v":1},{"$f":"T423-june!H423","v":5000}]
[810,"BRISTOL PLYMOUTH             ",0,0,5.3599999999999994,26800,null,810,null,null,null,{"$f":"C424-june!E424","v":0},{"$f":"D424-june!F424","v":0},{"$f":"E424-june!G424","v":-1.4700000000000006},{"$f":"F424-june!H424","v":-7350},null,0,810,5.3599999999999994,26800,{"$f":"S424-june!G424","v":-1.4700000000000006},{"$f":"T424-june!H424","v":-7350}]
[815,"CAPE COD                     ",0,0,2,10000,null,815,null,null,null,{"$f":"C425-june!E425","v":0},{"$f":"D425-june!F425","v":0},{"$f":"E425-june!G425","v":-1.7800000000000002},{"$f":"F425-june!H425","v":-16261},null,0,815,2,10000,{"$f":"S425-june!G425","v":-1.7800000000000002},{"$f":"T425-june!H425","v":-16261}]
[817,"ESSEX NORTH SHORE",2,10000,16.990000000000002,92274,null,817,null,null,null,{"$f":"C426-june!E426","v":1},{"$f":"D426-june!F426","v":5000},{"$f":"E426-june!G426","v":-4.25},{"$f":"F426-june!H426","v":-26787},null,0,817,16.990000000000002,92274,{"$f":"S426-june!G426","v":-4.25},{"$f":"T426-june!H426","v":-26787}]
[818,"FRANKLIN COUNTY              ",0,0,2.38,11900,null,818,null,null,null,{"$f":"C427-june!E427","v":0},{"$f":"D427-june!F427","v":0},{"$f":"E427-june!G427","v":0.85999999999999988},{"$f":"F427-june!H427","v":4300},null,0,818,2.38,11900,{"$f":"S427-june!G427","v":0.85999999999999988},{"$f":"T427-june!H427","v":4300}]
[821,"GREATER FALL RIVER           ",0,0,1.51,7550,null,821,null,null,null,{"$f":"C428-june!E428","v":0},{"$f":"D428-june!F428","v":0},{"$f":"E428-june!G428","v":-6.34},{"$f":"F428-june!H428","v":-82409},null,0,821,1.51,7550,{"$f":"S428-june!G428","v":-6.34},{"$f":"T428-june!H428","v":-82409}]
[823,"GREATER LAWRENCE             ",5.5,27500,142.82,764958,null,823,null,null,null,{"$f":"C429-june!E429","v":-0.71999999999999975},{"$f":"D429-june!F429","v":-4491},{"$f":"E429-june!G429","v":27.239999999999995},{"$f":"F429-june!H429","v":133455},null,0,823,142.82,764958,{"$f":"S429-june!G429","v":27.239999999999995},{"$f":"T429-june!H429","v":133455}]
[825,"GREATER NEW BEDFORD          ",0,0,2,10000,null,825,null,null,null,{"$f":"C430-june!E430","v":0},{"$f":"D430-june!F430","v":0},{"$f":"E430-june!G430","v":-3},{"$f":"F430-june!H430","v":-15000},null,0,825,2,10000,{"$f":"S430-june!G430","v":-3},{"$f":"T430-june!H430","v":-15000}]
[828,"GREATER LOWELL               ",3.36,25070,27.8,146589,null,828,null,null,null,{"$f":"C431-june!E431","v":3.36},{"$f":"D431-june!F431","v":25070},{"$f":"E431-june!G431","v":2.4699999999999989},{"$f":"F431-june!H431","v":13389},null,0,828,27.8,146589,{"$f":"S431-june!G431","v":2.4699999999999989},{"$f":"T431-june!H431","v":13389}]
[829,"SOUTH MIDDLESEX              ",0,0,0.59,3953,null,829,null,1,null,{"$f":"C432-june!E432","v":0},{"$f":"D432-june!F432","v":0},{"$f":"E432-june!G432","v":0.59},{"$f":"F432-june!H432","v":3953},null,0,829,null,null,{"$f":"S432-june!G432","v":0},{"$f":"T432-june!H432","v":0}]
[830,"MINUTEMAN                    ",0,0,1.83,9150,null,830,null,null,null,{"$f":"C433-june!E433","v":0},{"$f":"D433-june!F433","v":0},{"$f":"E433-june!G433","v":0.20999999999999996},{"$f":"F433-june!H433","v":1050},null,0,830,1.83,9150,{"$f":"S433-june!G433","v":0.20999999999999996},{"$f":"T433-june!H433","v":1050}]
[832,"MONTACHUSETT                 ",24.84,128988,49.39,280442,null,832,null,null,null,{"$f":"C434-june!E434","v":3.7500000000000036},{"$f":"D434-june!F434","v":19427},{"$f":"E434-june!G434","v":-15.719999999999999},{"$f":"F434-june!H434","v":-84974},null,0,832,49.39,280442,{"$f":"S434-june!G434","v":-15.719999999999999},{"$f":"T434-june!H434","v":-84974}]
[851,"NORTHERN BERKSHIRE           ",0,0,4,20000,null,851,null,null,null,{"$f":"C435-june!E435","v":0},{"$f":"D435-june!F435","v":0},{"$f":"E435-june!G435","v":4},{"$f":"F435-june!H435","v":20000},null,0,851,4,20000,{"$f":"S435-june!G435","v":4},{"$f":"T435-june!H435","v":20000}]
[852,"NASHOBA VALLEY               ",68.02000000000001,365249,6.8100000000000005,56788,null,852,null,null,null,{"$f":"C436-june!E436","v":5.5100000000000051},{"$f":"D436-june!F436","v":29523},{"$f":"E436-june!G436","v":4.7},{"$f":"F436-june!H436","v":37821},null,0,852,6.8100000000000005,56788,{"$f":"S436-june!G436","v":4.7},{"$f":"T436-june!H436","v":37821}]
[853,"NORTHEAST METROPOLITAN       ",36.6,218436,0,0,null,853,null,null,null,{"$f":"C437-june!E437","v":7.7700000000000031},{"$f":"D437-june!F437","v":55333},{"$f":"E437-june!G437","v":-2},{"$f":"F437-june!H437","v":-10748},null,0,853,null,null,{"$f":"S437-june!G437","v":-2},{"$f":"T437-june!H437","v":-10748}]
[855,"OLD COLONY                   ",0,0,0,0,null,855,null,null,null,{"$f":"C438-june!E438","v":0},{"$f":"D438-june!F438","v":0},{"$f":"E438-june!G438","v":-0.81},{"$f":"F438-june!H438","v":-4050},null,0,855,null,null,{"$f":"S438-june!G438","v":-0.81},{"$f":"T438-june!H438","v":-4050}]
[860,"PATHFINDER                   ",22.54,127081,13,83687,null,860,null,null,null,{"$f":"C439-june!E439","v":-11.160000000000004},{"$f":"D439-june!F439","v":-56277},{"$f":"E439-june!G439","v":2},{"$f":"F439-june!H439","v":24525},null,0,860,13,83687,{"$f":"S439-june!G439","v":2},{"$f":"T439-june!H439","v":24525}]
[871,"SHAWSHEEN VALLEY             ",0,0,20.98,117766,null,871,null,null,null,{"$f":"C440-june!E440","v":0},{"$f":"D440-june!F440","v":0},{"$f":"E440-june!G440","v":2.7600000000000016},{"$f":"F440-june!H440","v":18315},null,0,871,20.98,117766,{"$f":"S440-june!G440","v":2.7600000000000016},{"$f":"T440-june!H440","v":18315}]
[872,"SOUTHEASTERN                 ",0,0,4,27181,null,872,null,null,null,{"$f":"C441-june!E441","v":0},{"$f":"D441-june!F441","v":0},{"$f":"E441-june!G441","v":0},{"$f":"F441-june!H441","v":7181},null,0,872,4,27181,{"$f":"S441-june!G441","v":0},{"$f":"T441-june!H441","v":7181}]
[873,"SOUTH SHORE                  ",0,0,1,5000,null,873,null,null,null,{"$f":"C442-june!E442","v":0},{"$f":"D442-june!F442","v":0},{"$f":"E442-june!G442","v":0},{"$f":"F442-june!H442","v":0},null,0,873,1,5000,{"$f":"S442-june!G442","v":0},{"$f":"T442-june!H442","v":0}]
[876,"SOUTHERN WORCESTER           ",0,0,29.86,174114,null,876,null,null,null,{"$f":"C443-june!E443","v":0},{"$f":"D443-june!F443","v":0},{"$f":"E443-june!G443","v":-0.62999999999999901},{"$f":"F443-june!H443","v":-7317},null,0,876,29.86,174114,{"$f":"S443-june!G443","v":-0.62999999999999901},{"$f":"T443-june!H443","v":-7317}]
[878,"TRI COUNTY                   ",0,0,0,0,null,878,null,null,null,{"$f":"C444-june!E444","v":0},{"$f":"D444-june!F444","v":0},{"$f":"E444-june!G444","v":-0.69},{"$f":"F444-june!H444","v":-3450},null,0,878,null,null,{"$f":"S444-june!G444","v":-0.69},{"$f":"T444-june!H444","v":-3450}]
[879,"UPPER CAPE COD               ",0,0,4,20000,null,879,null,null,null,{"$f":"C445-june!E445","v":0},{"$f":"D445-june!F445","v":0},{"$f":"E445-june!G445","v":2.6799999999999997},{"$f":"F445-june!H445","v":13400},null,0,879,4,20000,{"$f":"S445-june!G445","v":2.6799999999999997},{"$f":"T445-june!H445","v":13400}]
[885,"WHITTIER                     ",139.66999999999999,749436,5.86,33338,null,885,null,null,null,{"$f":"C446-june!E446","v":25.089999999999989},{"$f":"D446-june!F446","v":121373},{"$f":"E446-june!G446","v":1.0500000000000007},{"$f":"F446-june!H446","v":8397},null,0,885,5.86,33338,{"$f":"S446-june!G446","v":1.0500000000000007},{"$f":"T446-june!H446","v":8397}]
[910,"BRISTOL COUNTY               ",0,0,0,0,null,910,null,null,null,{"$f":"C447-june!E447","v":0},{"$f":"D447-june!F447","v":0},{"$f":"E447-june!G447","v":0},{"$f":"F447-june!H447","v":0},null,0,910,null,null,{"$f":"S447-june!G447","v":0},{"$f":"T447-june!H447","v":0}]
[915,"NORFOLK COUNTY               ",0,0,0,0,null,915,null,null,null,{"$f":"C448-june!E448","v":0},{"$f":"D448-june!F448","v":0},{"$f":"E448-june!G448","v":0},{"$f":"F448-june!H448","v":0},null,0,915,null,null,{"$f":"S448-june!G448","v":0},{"$f":"T448-june!H448","v":0}]
[3901,"MAVA",{"$f":"SUM(I10:I450)*0.83","v":389.27},{"$f":"C449*6625","v":2578913.75},0,0,null,3901,null,null,null,{"$f":"C449-june!E449","v":-232.83999999999992},{"$f":"D449-june!F449","v":-1728394.25},{"$f":"E449-june!G449","v":0},{"$f":"F449-june!H449","v":0},null,0,3901,null,null,{"$f":"S449-june!G449","v":0},{"$f":"T449-june!H449","v":0}]
[3902,"TECCA",{"$f":"SUM(J10:J450)*0.59","v":584.1},{"$f":"C450*6625","v":3869662.5},0,0,null,3902,null,null,null,{"$f":"C450-june!E450","v":-311.05000000000246},{"$f":"D450-june!F450","v":-2267290.5},{"$f":"E450-june!G450","v":0},{"$f":"F450-june!H450","v":0},null,0,3902,null,null,{"$f":"S450-june!G450","v":0},{"$f":"T450-june!H450","v":0}]
[9999,"State Total",{"$f":"SUM(C10:C450)","v":14710.990000000009},{"$f":"SUM(D10:D450)","v":87705649.25},{"$f":"SUM(E10:E450)","v":14707.990000000003},{"$f":"SUM(F10:F450)","v":87763652},null,null,{"$f":"SUM(I10:I450)","v":469},990,null,{"$f":"SUM(L10:L450)","v":-924.55000000000291},{"$f":"SUM(M10:M450)","v":-7039530.75},{"$f":"SUM(N10:N450)","v":-927.55000000000132},{"$f":"SUM(O10:O450)","v":-7136403}]
[null,null,null,null,null,null,null,null,{"$f":"I451*0.83","v":389.27},{"$f":"J451*0.59","v":584.1}]
[null,null,13737.620000000008,81257073,14846.899999999994,88941607]
[]
[null,"june",14846.900000000009,88822732,14846.899999999994,88941607]

{"sheet":"proj16aug","index":5,"n_rows":452,"n_cols":30,"rows_kept":452,"cut":false,"hidden":true,"merged":[]}
[null,null,null,null,null,null,null,null,null,"choicecalc15final, aug 7 2015"]
["Massachusetts Department of Elementary and Secondary Education"]
["Office of School Finance"]
[]
["School Choice Pupils and Tuition, Projected FY16, Aug 2015"]
["reflecting Worthington and Gateway adjustments",null,null,null,null,null,null,null,null,"adjustment","adjustment",null,"net","net"]
[null,null,null,null,"FY16","FY16","FY16","FY16",null,"FY15","FY15",null,"FY16","FY16",null,null,null,null,null,null,null,null,null,null,null,null,"choicecalc15jun, after removing mava and tecca"]
[null,null,null,null,"receiving ","receiving","sending","sending",null,"receiving","receiving",null,"receiving","receiving",null,null,"mava",null,null,"ffte chg","tuition chg","ffte chg","tuition chg"]
["LEA","district","dor",null,"fte","tuition","fte","tuition",null,"tuition","tuition",null,"tuition","tuition",null,"lea","n of kids","tecca",null,"june to proj","proj to june","june to proj","proj to june"]
[1,"ABINGTON                     ",1,null,2,10000,{"$f":"AA10+(0.83*Q10)+0.59*R10","v":26.249999999999996},{"$f":"AB10+(0.83*Q10)*6700+0.59*R10*6700","v":141707},null,0,0,null,{"$f":"F10+J10","v":10000},{"$f":"H10+K10","v":141707},null,1,3,4,null,{"$f":"E10-june!E10","v":1},{"$f":"F10-june!F10","v":5000},{"$f":"G10-june!G10","v":-7.2399999999999984},{"$f":"H10-june!H10","v":-60914},null,{"$f":"Z10-A10","v":0},1,21.4,109212,{"$f":"AA10-june!G10","v":-12.089999999999996},{"$f":"AB10-june!H10","v":-93409}]
[2,"ACTON                        ",2,null,0,0,{"$f":"AA11+(0.83*Q11)+0.59*R11","v":0.83},{"$f":"AB11+(0.83*Q11)*6700+0.59*R11*6700","v":5561},null,0,0,null,{"$f":"F11+J11","v":0},{"$f":"H11+K11","v":5561},null,2,1,null,null,{"$f":"E11-june!E11","v":0},{"$f":"F11-june!F11","v":0},{"$f":"G11-june!G11","v":0.83},{"$f":"H11-june!H11","v":5561},null,0,2,null,null,{"$f":"AA11-june!G11","v":0},{"$f":"AB11-june!H11","v":0}]
[3,"ACUSHNET                     ",3,null,0,0,11.120000000000001,62652,null,0,0,null,0,62652,null,3,null,null,null,{"$f":"E12-june!E12","v":0},{"$f":"F12-june!F12","v":0},{"$f":"G12-june!G12","v":-7.509999999999998},{"$f":"H12-june!H12","v":-35933},null,0,3,11.120000000000001,62652,{"$f":"AA12-june!G12","v":-7.509999999999998},{"$f":"AB12-june!H12","v":-35933}]
[4,"ADAMS                        ",4,null,0,0,0,0,null,0,0,null,0,0,null,4,null,null,null,{"$f":"E13-june!E13","v":0},{"$f":"F13-june!F13","v":0},{"$f":"G13-june!G13","v":0},{"$f":"H13-june!H13","v":0},null,0,4,null,null,{"$f":"AA13-june!G13","v":0},{"$f":"AB13-june!H13","v":0}]
[5,"AGAWAM                       ",5,null,80.569999999999993,425326,42.49,290838,null,0,0,null,425326,290838,null,5,3,2,null,{"$f":"E14-june!E14","v":4.5499999999999972},{"$f":"F14-june!F14","v":-12590},{"$f":"G14-june!G14","v":-3.6099999999999994},{"$f":"H14-june!H14","v":-1221},null,0,5,38.82,266249,{"$f":"AA14-june!G14","v":-7.2800000000000011},{"$f":"AB14-june!H14","v":-25810}]
[6,"ALFORD                       ",6,null,0,0,0,0,null,0,0,null,0,0,null,6,null,null,null,{"$f":"E15-june!E15","v":0},{"$f":"F15-june!F15","v":0},{"$f":"G15-june!G15","v":0},{"$f":"H15-june!H15","v":0},null,0,6,null,null,{"$f":"AA15-june!G15","v":0},{"$f":"AB15-june!H15","v":0}]
[7,"AMESBURY                     ",7,null,30,196514,74.48,494598,null,0,0,null,196514,494598,null,7,2,8,null,{"$f":"E16-june!E16","v":17.64},{"$f":"F16-june!F16","v":102001},{"$f":"G16-june!G16","v":14.790000000000006},{"$f":"H16-june!H16","v":115117},null,0,7,68.100000000000009,451852,{"$f":"AA16-june!G16","v":8.4100000000000108},{"$f":"AB16-june!H16","v":72371}]
[8,"AMHERST                      ",8,null,53.849999999999994,338073,23.909999999999997,157400,null,0,0,null,338073,157400,null,8,2,1,null,{"$f":"E17-june!E17","v":3.8899999999999935},{"$f":"F17-june!F17","v":1940},{"$f":"G17-june!G17","v":-1.1600000000000037},{"$f":"H17-june!H17","v":-81488},null,0,8,21.659999999999997,142325,{"$f":"AA17-june!G17","v":-3.4100000000000037},{"$f":"AB17-june!H17","v":-96563}]
[9,"ANDOVER                      ",9,null,0,0,3.78,25326,null,0,0,null,0,25326,null,9,1,5,null,{"$f":"E18-june!E18","v":0},{"$f":"F18-june!F18","v":0},{"$f":"G18-june!G18","v":-0.2200000000000002},{"$f":"H18-june!H18","v":-1141},null,0,9,null,null,{"$f":"AA18-june!G18","v":-4},{"$f":"AB18-june!H18","v":-26467}]
[10,"ARLINGTON                    ",10,null,0,0,0.83,5561,null,0,0,null,0,5561,null,10,1,null,null,{"$f":"E19-june!E19","v":0},{"$f":"F19-june!F19","v":0},{"$f":"G19-june!G19","v":-1.1299999999999999},{"$f":"H19-june!H19","v":-9245},null,0,10,null,null,{"$f":"AA19-june!G19","v":-1.96},{"$f":"AB19-june!H19","v":-14806}]
[11,"ASHBURNHAM                   ",11,null,0,0,0,0,null,0,0,null,0,0,null,11,null,null,null,{"$f":"E20-june!E20","v":0},{"$f":"F20-june!F20","v":0},{"$f":"G20-june!G20","v":0},{"$f":"H20-june!H20","v":0},null,0,11,null,null,{"$f":"AA20-june!G20","v":0},{"$f":"AB20-june!H20","v":0}]
[12,"ASHBY                        ",12,null,0,0,0,0,null,0,0,null,0,0,null,12,null,null,null,{"$f":"E21-june!E21","v":0},{"$f":"F21-june!F21","v":0},{"$f":"G21-june!G21","v":0},{"$f":"H21-june!H21","v":0},null,0,12,null,null,{"$f":"AA21-june!G21","v":0},{"$f":"AB21-june!H21","v":0}]
[13,"ASHFIELD                     ",13,null,0,0,0,0,null,0,0,null,0,0,null,13,null,null,null,{"$f":"E22-june!E22","v":0},{"$f":"F22-june!F22","v":0},{"$f":"G22-june!G22","v":0},{"$f":"H22-june!H22","v":0},null,0,13,null,null,{"$f":"AA22-june!G22","v":0},{"$f":"AB22-june!H22","v":0}]
[14,"ASHLAND                      ",14,null,31.759999999999998,212748,15.370000000000003,91418,null,0,0,null,212748,91418,null,14,null,1,null,{"$f":"E23-june!E23","v":-11.670000000000002},{"$f":"F23-june!F23","v":-53867},{"$f":"G23-june!G23","v":1.5100000000000016},{"$f":"H23-june!H23","v":1487},null,0,14,14.780000000000003,87465,{"$f":"AA23-june!G23","v":0.92000000000000171},{"$f":"AB23-june!H23","v":-2466}]
[15,"ATHOL                        ",15,null,0,0,0,0,null,0,0,null,0,0,null,15,null,null,null,{"$f":"E24-june!E24","v":0},{"$f":"F24-june!F24","v":0},{"$f":"G24-june!G24","v":0},{"$f":"H24-june!H24","v":0},null,0,15,null,null,{"$f":"AA24-june!G24","v":0},{"$f":"AB24-june!H24","v":0}]
[16,"ATTLEBORO                    ",16,null,0,0,16.89,98305,null,0,0,null,0,98305,null,16,2,11,null,{"$f":"E25-june!E25","v":0},{"$f":"F25-june!F25","v":0},{"$f":"G25-june!G25","v":-9.4400000000000013},{"$f":"H25-june!H25","v":-65086},null,0,16,8.74,43700,{"$f":"AA25-june!G25","v":-17.590000000000003},{"$f":"AB25-june!H25","v":-119691}]
[17,"AUBURN                       ",17,null,46.910000000000004,249438,20.36,127289,null,0,0,null,249438,127289,null,17,null,null,null,{"$f":"E26-june!E26","v":-15.179999999999993},{"$f":"F26-june!F26","v":-78172},{"$f":"G26-june!G26","v":2.5600000000000023},{"$f":"H26-june!H26","v":24866},null,0,17,20.36,127289,{"$f":"AA26-june!G26","v":2.5600000000000023},{"$f":"AB26-june!H26","v":24866}]
[18,"AVON                         ",18,null,182.16,949225,5,25000,null,0,0,null,949225,25000,null,18,null,null,null,{"$f":"E27-june!E27","v":-6.0200000000000102},{"$f":"F27-june!F27","v":-31445},{"$f":"G27-june!G27","v":3.31},{"$f":"H27-june!H27","v":14933},null,0,18,5,25000,{"$f":"AA27-june!G27","v":3.31},{"$f":"AB27-june!H27","v":14933}]
[19,"AYER                         ",19,null,0,0,0,0,null,0,0,null,0,0,null,19,null,null,null,{"$f":"E28-june!E28","v":0},{"$f":"F28-june!F28","v":0},{"$f":"G28-june!G28","v":0},{"$f":"H28-june!H28","v":0},null,0,19,null,null,{"$f":"AA28-june!G28","v":0},{"$f":"AB28-june!H28","v":0}]
[20,"BARNSTABLE                   ",20,null,104.86,616894,155.75000000000003,918231,null,0,0,null,616894,918231,null,20,1,14,null,{"$f":"E29-june!E29","v":3.0799999999999841},{"$f":"F29-june!F29","v":-33824},{"$f":"G29-june!G29","v":0.29999999999998295},{"$f":"H29-june!H29","v":13338},null,0,20,146.66000000000003,857328,{"$f":"AA29-june!G29","v":-8.7900000000000205},{"$f":"AB29-june!H29","v":-47565}]
[21,"BARRE                        ",21,null,0,0,0,0,null,0,0,null,0,0,null,21,null,null,null,{"$f":"E30-june!E30","v":0},{"$f":"F30-june!F30","v":0},{"$f":"G30-june!G30","v":0},{"$f":"H30-june!H30","v":0},null,0,21,null,null,{"$f":"AA30-june!G30","v":0},{"$f":"AB30-june!H30","v":0}]
[22,"BECKET                       ",22,null,0,0,2,10000,null,0,0,null,0,10000,null,22,null,null,null,{"$f":"E31-june!E31","v":0},{"$f":"F31-june!F31","v":0},{"$f":"G31-june!G31","v":-1},{"$f":"H31-june!H31","v":-5000},null,0,22,2,10000,{"$f":"AA31-june!G31","v":-1},{"$f":"AB31-june!H31","v":-5000}]
[23,"BEDFORD                      ",23,null,0,0,1,5000,null,0,0,null,0,5000,null,23,null,null,null,{"$f":"E32-june!E32","v":0},{"$f":"F32-june!F32","v":0},{"$f":"G32-june!G32","v":-3.16},{"$f":"H32-june!H32","v":-21665},null,0,23,1,5000,{"$f":"AA32-june!G32","v":-3.16},{"$f":"AB32-june!H32","v":-21665}]
[24,"BELCHERTOWN                  ",24,null,99.509999999999991,580989,82.72999999999999,544940,null,0,0,null,580989,544940,null,24,null,4,null,{"$f":"E33-june!E33","v":-23.97999999999999},{"$f":"F33-june!F33","v":-168322},{"$f":"G33-june!G33","v":-12.960000000000008},{"$f":"H33-june!H33","v":-116779},null,0,24,80.36999999999999,529128,{"$f":"AA33-june!G33","v":-15.320000000000007},{"$f":"AB33-june!H33","v":-132591}]
[25,"BELLINGHAM                   ",25,null,45.33,257806,115.13999999999999,703458,null,0,12500,null,257806,715958,null,25,null,8,null,{"$f":"E34-june!E34","v":6.1400000000000006},{"$f":"F34-june!F34","v":39136},{"$f":"G34-june!G34","v":-20.70999999999998},{"$f":"H34-june!H34","v":-140935},null,0,25,110.41999999999999,671834,{"$f":"AA34-june!G34","v":-25.429999999999978},{"$f":"AB34-june!H34","v":-172559}]
[26,"BELMONT                      ",26,null,0,0,0.73,4653,null,0,0,null,0,4653,null,26,null,1,null,{"$f":"E35-june!E35","v":0},{"$f":"F35-june!F35","v":0},{"$f":"G35-june!G35","v":-0.57000000000000006},{"$f":"H35-june!H35","v":-4267},null,0,26,0.14000000000000001,700,{"$f":"AA35-june!G35","v":-1.1600000000000001},{"$f":"AB35-june!H35","v":-8220}]
[27,"BERKLEY                      ",27,null,78.599999999999994,396688,2,10000,null,0,0,null,396688,10000,null,27,null,null,null,{"$f":"E36-june!E36","v":-25.559999999999974},{"$f":"F36-june!F36","v":-124112},{"$f":"G36-june!G36","v":0.15000000000000013},{"$f":"H36-june!H36","v":750},null,0,27,2,10000,{"$f":"AA36-june!G36","v":0.15000000000000013},{"$f":"AB36-june!H36","v":750}]
[28,"BERLIN                       ",28,null,18,145629,0,0,null,0,0,null,145629,0,null,28,null,null,null,{"$f":"E37-june!E37","v":-1.4100000000000001},{"$f":"F37-june!F37","v":-2192},{"$f":"G37-june!G37","v":-1},{"$f":"H37-june!H37","v":-5000},null,0,28,null,null,{"$f":"AA37-june!G37","v":-1},{"$f":"AB37-june!H37","v":-5000}]
[29,"BERNARDSTON                  ",29,null,0,0,0,0,null,0,0,null,0,0,null,29,null,null,null,{"$f":"E38-june!E38","v":0},{"$f":"F38-june!F38","v":0},{"$f":"G38-june!G38","v":0},{"$f":"H38-june!H38","v":0},null,0,29,null,null,{"$f":"AA38-june!G38","v":0},{"$f":"AB38-june!H38","v":0}]
[30,"BEVERLY                      ",30,null,95.320000000000007,524477,62.120000000000005,336687,null,0,0,null,524477,336687,null,30,7,9,null,{"$f":"E39-june!E39","v":-7.9799999999999898},{"$f":"F39-june!F39","v":-71601},{"$f":"G39-june!G39","v":2.7800000000000082},{"$f":"H39-june!H39","v":-1997},null,0,30,51,262183,{"$f":"AA39-june!G39","v":-8.3399999999999963},{"$f":"AB39-june!H39","v":-76501}]
[31,"BILLERICA                    ",31,null,0,0,13.559999999999999,74634,null,0,0,null,0,74634,null,31,2,4,null,{"$f":"E40-june!E40","v":0},{"$f":"F40-june!F40","v":0},{"$f":"G40-june!G40","v":-4.41},{"$f":"H40-june!H40","v":-42618},null,0,31,9.5399999999999991,47700,{"$f":"AA40-june!G40","v":-8.43},{"$f":"AB40-june!H40","v":-69552}]
[32,"BLACKSTONE                   ",32,null,0,0,0,0,null,0,0,null,0,0,null,32,null,null,null,{"$f":"E41-june!E41","v":0},{"$f":"F41-june!F41","v":0},{"$f":"G41-june!G41","v":0},{"$f":"H41-june!H41","v":0},null,0,32,null,null,{"$f":"AA41-june!G41","v":0},{"$f":"AB41-june!H41","v":0}]
[33,"BLANDFORD                    ",33,null,0,0,0,0,null,0,0,null,0,0,null,33,null,null,null,{"$f":"E42-june!E42","v":0},{"$f":"F42-june!F42","v":0},{"$f":"G42-june!G42","v":-2},{"$f":"H42-june!H42","v":-11951},null,0,33,null,null,{"$f":"AA42-june!G42","v":-2},{"$f":"AB42-june!H42","v":-11951}]
[34,"BOLTON                       ",34,null,0,0,0,0,null,0,0,null,0,0,null,34,null,null,null,{"$f":"E43-june!E43","v":0},{"$f":"F43-june!F43","v":0},{"$f":"G43-june!G43","v":0},{"$f":"H43-june!H43","v":0},null,0,34,null,null,{"$f":"AA43-june!G43","v":0},{"$f":"AB43-june!H43","v":0}]
[35,"BOSTON                       ",35,null,0,0,86.539999999999992,555312,null,0,0,null,0,555312,null,35,24,76,null,{"$f":"E44-june!E44","v":0},{"$f":"F44-june!F44","v":0},{"$f":"G44-june!G44","v":-6.5400000000000063},{"$f":"H44-june!H44","v":-61463},null,0,35,21.78,121420,{"$f":"AA44-june!G44","v":-71.3},{"$f":"AB44-june!H44","v":-495355}]
[36,"BOURNE                       ",36,null,126.46000000000001,723869,91.77,622519,null,0,0,null,723869,622519,null,36,2,1,null,{"$f":"E45-june!E45","v":-8.4399999999999977},{"$f":"F45-june!F45","v":-76651},{"$f":"G45-june!G45","v":-3.8100000000000165},{"$f":"H45-june!H45","v":57602},null,0,36,89.52,607444,{"$f":"AA45-june!G45","v":-6.0600000000000165},{"$f":"AB45-june!H45","v":42527}]
[37,"BOXBOROUGH                   ",37,null,0,0,0,0,null,0,0,null,0,0,null,37,null,null,null,{"$f":"E46-june!E46","v":0},{"$f":"F46-june!F46","v":0},{"$f":"G46-june!G46","v":0},{"$f":"H46-june!H46","v":0},null,0,37,null,null,{"$f":"AA46-june!G46","v":0},{"$f":"AB46-june!H46","v":0}]
[38,"BOXFORD                      ",38,null,0,0,0.83,5561,null,0,0,null,0,5561,null,38,1,null,null,{"$f":"E47-june!E47","v":0},{"$f":"F47-june!F47","v":0},{"$f":"G47-june!G47","v":-2.17},{"$f":"H47-june!H47","v":-11139},null,0,38,null,null,{"$f":"AA47-june!G47","v":-3},{"$f":"AB47-june!H47","v":-16700}]
[39,"BOYLSTON                     ",39,null,13,70513,7.4,83867,null,0,0,null,70513,83867,null,39,2,null,null,{"$f":"E48-june!E48","v":-4},{"$f":"F48-june!F48","v":-24252},{"$f":"G48-june!G48","v":1.7999999999999998},{"$f":"H48-june!H48","v":10179},null,0,39,5.74,72745,{"$f":"AA48-june!G48","v":0.13999999999999968},{"$f":"AB48-june!H48","v":-943}]
[40,"BRAINTREE                    ",40,null,0,0,4.5999999999999996,27420,null,0,0,null,0,27420,null,40,1,3,null,{"$f":"E49-june!E49","v":0},{"$f":"F49-june!F49","v":0},{"$f":"G49-june!G49","v":-0.59000000000000075},{"$f":"H49-june!H49","v":-5910},null,0,40,2,10000,{"$f":"AA49-june!G49","v":-3.1900000000000004},{"$f":"AB49-june!H49","v":-23330}]
[41,"BREWSTER                     ",41,null,0,0,23.39,158226,null,0,0,null,0,158226,null,41,null,1,null,{"$f":"E50-june!E50","v":0},{"$f":"F50-june!F50","v":0},{"$f":"G50-june!G50","v":-8.86},{"$f":"H50-june!H50","v":-37170},null,0,41,22.8,154273,{"$f":"AA50-june!G50","v":-9.4499999999999993},{"$f":"AB50-june!H50","v":-41123}]
[42,"BRIDGEWATER                  ",42,null,0,0,0,0,null,0,0,null,0,0,null,42,null,null,null,{"$f":"E51-june!E51","v":0},{"$f":"F51-june!F51","v":0},{"$f":"G51-june!G51","v":0},{"$f":"H51-june!H51","v":0},null,0,42,null,null,{"$f":"AA51-june!G51","v":0},{"$f":"AB51-june!H51","v":0}]
[43,"BRIMFIELD                    ",43,null,0,0,9.370000000000001,102550,null,0,0,null,0,102550,null,43,null,null,null,{"$f":"E52-june!E52","v":0},{"$f":"F52-june!F52","v":0},{"$f":"G52-june!G52","v":2.2400000000000011},{"$f":"H52-june!H52","v":39790},null,0,43,9.370000000000001,102550,{"$f":"AA52-june!G52","v":2.2400000000000011},{"$f":"AB52-june!H52","v":39790}]
[44,"BROCKTON                     ",44,null,23,115000,188.57000000000005,1037038,null,0,0,null,115000,1037038,null,44,10,24,null,{"$f":"E53-june!E53","v":-0.42999999999999972},{"$f":"F53-june!F53","v":-112944},{"$f":"G53-june!G53","v":-47.099999999999937},{"$f":"H53-june!H53","v":-231930},null,0,44,166.11000000000004,886556,{"$f":"AA53-june!G53","v":-69.559999999999945},{"$f":"AB53-june!H53","v":-382412}]
[45,"BROOKFIELD                   ",45,null,60.86,389284,2.2800000000000002,14677,null,0,0,null,389284,14677,null,45,null,null,null,{"$f":"E54-june!E54","v":3.9500000000000028},{"$f":"F54-june!F54","v":34511},{"$f":"G54-june!G54","v":-0.34999999999999964},{"$f":"H54-june!H54","v":-8107},null,0,45,2.2800000000000002,14677,{"$f":"AA54-june!G54","v":-0.34999999999999964},{"$f":"AB54-june!H54","v":-8107}]
[46,"BROOKLINE                    ",46,null,0,0,0.59,3953,null,0,0,null,0,3953,null,46,null,1,null,{"$f":"E55-june!E55","v":0},{"$f":"F55-june!F55","v":0},{"$f":"G55-june!G55","v":-0.72000000000000008},{"$f":"H55-june!H55","v":-4876},null,0,46,null,null,{"$f":"AA55-june!G55","v":-1.31},{"$f":"AB55-june!H55","v":-8829}]
[47,"BUCKLAND                     ",47,null,0,0,0,0,null,0,0,null,0,0,null,47,null,null,null,{"$f":"E56-june!E56","v":0},{"$f":"F56-june!F56","v":0},{"$f":"G56-june!G56","v":0},{"$f":"H56-june!H56","v":0},null,0,47,null,null,{"$f":"AA56-june!G56","v":0},{"$f":"AB56-june!H56","v":0}]
[48,"BURLINGTON                   ",48,null,25.019999999999996,125100,2.36,15812,null,0,0,null,125100,15812,null,48,null,4,null,{"$f":"E57-june!E57","v":-3.9100000000000037},{"$f":"F57-june!F57","v":-19550},{"$f":"G57-june!G57","v":-1.52},{"$f":"H57-june!H57","v":-10193},null,0,48,null,null,{"$f":"AA57-june!G57","v":-3.88},{"$f":"AB57-june!H57","v":-26005}]
[49,"CAMBRIDGE                    ",49,null,0,0,2.84,19028,null,0,0,null,0,19028,null,49,2,2,null,{"$f":"E58-june!E58","v":0},{"$f":"F58-june!F58","v":0},{"$f":"G58-june!G58","v":-2.5700000000000003},{"$f":"H58-june!H58","v":-17263},null,0,49,null,null,{"$f":"AA58-june!G58","v":-5.41},{"$f":"AB58-june!H58","v":-36291}]
[50,"CANTON                       ",50,null,0,0,1.18,7906,null,0,0,null,0,7906,null,50,null,2,null,{"$f":"E59-june!E59","v":0},{"$f":"F59-june!F59","v":0},{"$f":"G59-june!G59","v":-0.21999999999999997},{"$f":"H59-june!H59","v":-1930},null,0,50,null,null,{"$f":"AA59-june!G59","v":-1.4},{"$f":"AB59-june!H59","v":-9836}]
[51,"CARLISLE                     ",51,null,0,0,0,0,null,0,0,null,0,0,null,51,null,null,null,{"$f":"E60-june!E60","v":0},{"$f":"F60-june!F60","v":0},{"$f":"G60-june!G60","v":0},{"$f":"H60-june!H60","v":0},null,0,51,null,null,{"$f":"AA60-june!G60","v":0},{"$f":"AB60-june!H60","v":0}]
[52,"CARVER                       ",52,null,20.64,155991,5.25,30075,null,0,0,null,155991,30075,null,52,2,1,null,{"$f":"E61-june!E61","v":-1.9200000000000017},{"$f":"F61-june!F61","v":-18151},{"$f":"G61-june!G61","v":0.44000000000000039},{"$f":"H61-june!H61","v":24},null,0,52,3,15000,{"$f":"AA61-june!G61","v":-1.8099999999999996},{"$f":"AB61-june!H61","v":-15051}]
[53,"CHARLEMONT                   ",53,null,0,0,0,0,null,0,0,null,0,0,null,53,null,null,null,{"$f":"E62-june!E62","v":0},{"$f":"F62-june!F62","v":0},{"$f":"G62-june!G62","v":0},{"$f":"H62-june!H62","v":0},null,0,53,null,null,{"$f":"AA62-june!G62","v":0},{"$f":"AB62-june!H62","v":0}]
[54,"CHARLTON                     ",54,null,0,0,0,0,null,0,0,null,0,0,null,54,null,null,null,{"$f":"E63-june!E63","v":0},{"$f":"F63-june!F63","v":0},{"$f":"G63-june!G63","v":0},{"$f":"H63-june!H63","v":0},null,0,54,null,null,{"$f":"AA63-june!G63","v":0},{"$f":"AB63-june!H63","v":0}]
[55,"CHATHAM                      ",55,null,0,0,0,0,null,0,0,null,0,0,null,55,null,null,null,{"$f":"E64-june!E64","v":0},{"$f":"F64-june!F64","v":0},{"$f":"G64-june!G64","v":0},{"$f":"H64-june!H64","v":0},null,0,55,null,null,{"$f":"AA64-june!G64","v":0},{"$f":"AB64-june!H64","v":0}]
[56,"CHELMSFORD                   ",56,null,44,326523,27.68,193494,null,0,0,null,326523,193494,null,56,2,4,null,{"$f":"E65-june!E65","v":-13.89},{"$f":"F65-june!F65","v":-99198},{"$f":"G65-june!G65","v":-1.9800000000000004},{"$f":"H65-june!H65","v":-21435},null,0,56,23.66,166560,{"$f":"AA65-june!G65","v":-6},{"$f":"AB65-june!H65","v":-48369}]
[57,"CHELSEA                      ",57,null,0,0,4.26,28542,null,0,0,null,0,28542,null,57,3,3,null,{"$f":"E66-june!E66","v":0},{"$f":"F66-june!F66","v":0},{"$f":"G66-june!G66","v":-6.01},{"$f":"H66-june!H66","v":-38848},null,0,57,null,null,{"$f":"AA66-june!G66","v":-10.27},{"$f":"AB66-june!H66","v":-67390}]
[58,"CHESHIRE                     ",58,null,0,0,0,0,null,0,0,null,0,0,null,58,null,null,null,{"$f":"E67-june!E67","v":0},{"$f":"F67-june!F67","v":0},{"$f":"G67-june!G67","v":0},{"$f":"H67-june!H67","v":0},null,0,58,null,null,{"$f":"AA67-june!G67","v":0},{"$f":"AB67-june!H67","v":0}]
[59,"CHESTER                      ",59,null,0,0,0,0,null,0,0,null,0,0,null,59,null,null,null,{"$f":"E68-june!E68","v":0},{"$f":"F68-june!F68","v":0},{"$f":"G68-june!G68","v":0},{"$f":"H68-june!H68","v":0},null,0,59,null,null,{"$f":"AA68-june!G68","v":0},{"$f":"AB68-june!H68","v":0}]
[60,"CHESTERFIELD                 ",60,null,0,0,0,0,null,0,0,null,0,0,null,60,null,null,null,{"$f":"E69-june!E69","v":0},{"$f":"F69-june!F69","v":0},{"$f":"G69-june!G69","v":0},{"$f":"H69-june!H69","v":0},null,0,60,null,null,{"$f":"AA69-june!G69","v":0},{"$f":"AB69-june!H69","v":0}]
[61,"CHICOPEE                     ",61,null,179.17000000000002,941627,130.28,754391,null,0,0,null,941627,754391,null,61,6,11,null,{"$f":"E70-june!E70","v":-11.269999999999982},{"$f":"F70-june!F70","v":-47282},{"$f":"G70-june!G70","v":-9.3900000000000148},{"$f":"H70-june!H70","v":-84583},null,0,61,118.81,677542,{"$f":"AA70-june!G70","v":-20.860000000000014},{"$f":"AB70-june!H70","v":-161432}]
[62,"CHILMARK                     ",62,null,0,0,0,0,null,0,0,null,0,0,null,62,null,null,null,{"$f":"E71-june!E71","v":0},{"$f":"F71-june!F71","v":0},{"$f":"G71-june!G71","v":0},{"$f":"H71-june!H71","v":0},null,0,62,null,null,{"$f":"AA71-june!G71","v":0},{"$f":"AB71-june!H71","v":0}]
[63,"CLARKSBURG                   ",63,null,26.96,159657,13.03,90681,null,0,0,null,159657,90681,null,63,null,null,null,{"$f":"E72-june!E72","v":-8.43},{"$f":"F72-june!F72","v":-43356},{"$f":"G72-june!G72","v":-4.7500000000000018},{"$f":"H72-june!H72","v":-43253},null,0,63,13.03,90681,{"$f":"AA72-june!G72","v":-4.7500000000000018},{"$f":"AB72-june!H72","v":-43253}]
[64,"CLINTON                      ",64,null,115.24999999999996,843868,113.69999999999999,637998,null,0,0,null,843868,637998,null,64,4,3,null,{"$f":"E73-june!E73","v":32.819999999999922},{"$f":"F73-june!F73","v":203716},{"$f":"G73-june!G73","v":-3.6700000000000159},{"$f":"H73-june!H73","v":-47599},null,0,64,108.61,603895,{"$f":"AA73-june!G73","v":-8.7600000000000051},{"$f":"AB73-june!H73","v":-81702}]
[65,"COHASSET                     ",65,null,0,0,0,0,null,0,0,null,0,0,null,65,null,null,null,{"$f":"E74-june!E74","v":0},{"$f":"F74-june!F74","v":0},{"$f":"G74-june!G74","v":0},{"$f":"H74-june!H74","v":0},null,{"$f":"Z74-A74","v":0},65,null,null,{"$f":"AA74-june!G74","v":0},{"$f":"AB74-june!H74","v":0}]
[66,"COLRAIN                      ",66,null,0,0,{"$f":"AA75+(0.83*Q75)+0.59*R75","v":0},{"$f":"AB75+(0.83*Q75)*6700+0.59*R75*6700","v":0},null,0,0,null,{"$f":"F75+J75","v":0},{"$f":"H75+K75","v":0},null,66,null,null,null,{"$f":"E75-june!E75","v":0},{"$f":"F75-june!F75","v":0},{"$f":"G75-june!G75","v":0},{"$f":"H75-june!H75","v":0},null,0,66,null,null,{"$f":"AA75-june!G75","v":0},{"$f":"AB75-june!H75","v":0}]
[67,"CONCORD                      ",67,null,0,0,3.36,20812,null,0,0,null,0,20812,null,67,null,4,null,{"$f":"E76-june!E76","v":0},{"$f":"F76-june!F76","v":0},{"$f":"G76-june!G76","v":1.3599999999999999},{"$f":"H76-june!H76","v":7412},null,0,67,1,5000,{"$f":"AA76-june!G76","v":-1},{"$f":"AB76-june!H76","v":-8400}]
[68,"CONWAY                       ",68,null,19.82,126837,8,76433,null,0,0,null,126837,76433,null,68,null,null,null,{"$f":"E77-june!E77","v":0.60999999999999943},{"$f":"F77-june!F77","v":2742},{"$f":"G77-june!G77","v":-2.58},{"$f":"H77-june!H77","v":-10760},null,0,68,8,76433,{"$f":"AA77-june!G77","v":-2.58},{"$f":"AB77-june!H77","v":-10760}]
[69,"CUMMINGTON                   ",69,null,0,0,0,0,null,0,0,null,0,0,null,69,null,null,null,{"$f":"E78-june!E78","v":0},{"$f":"F78-june!F78","v":0},{"$f":"G78-june!G78","v":0},{"$f":"H78-june!H78","v":0},null,0,69,null,null,{"$f":"AA78-june!G78","v":0},{"$f":"AB78-june!H78","v":0}]
[70,"DALTON                       ",70,null,0,0,0,0,null,0,0,null,0,0,null,70,null,null,null,{"$f":"E79-june!E79","v":0},{"$f":"F79-june!F79","v":0},{"$f":"G79-june!G79","v":0},{"$f":"H79-june!H79","v":0},null,0,70,null,null,{"$f":"AA79-june!G79","v":0},{"$f":"AB79-june!H79","v":0}]
[71,"DANVERS                      ",71,null,0,0,42.83,223719,null,0,0,null,0,223719,null,71,null,6,null,{"$f":"E80-june!E80","v":0},{"$f":"F80-june!F80","v":0},{"$f":"G80-june!G80","v":-12.270000000000003},{"$f":"H80-june!H80","v":-79756},null,0,71,39.29,200001,{"$f":"AA80-june!G80","v":-15.810000000000002},{"$f":"AB80-june!H80","v":-103474}]
[72,"DARTMOUTH                    ",72,null,0,0,3.6,22420,null,0,0,null,0,22420,null,72,1,3,null,{"$f":"E81-june!E81","v":0},{"$f":"F81-june!F81","v":0},{"$f":"G81-june!G81","v":-1.8699999999999988},{"$f":"H81-june!H81","v":-12644},null,0,72,1,5000,{"$f":"AA81-june!G81","v":-4.4699999999999989},{"$f":"AB81-june!H81","v":-30064}]
[73,"DEDHAM                       ",73,null,0,0,1.42,9514,null,0,0,null,0,9514,null,73,1,1,null,{"$f":"E82-june!E82","v":0},{"$f":"F82-june!F82","v":0},{"$f":"G82-june!G82","v":-1.75},{"$f":"H82-june!H82","v":-8339},null,0,73,null,null,{"$f":"AA82-june!G82","v":-3.17},{"$f":"AB82-june!H82","v":-17853}]
[74,"DEERFIELD                    ",74,null,100.67,711861,19.619999999999997,114130,null,0,0,null,711861,114130,null,74,2,1,null,{"$f":"E83-june!E83","v":10.879999999999995},{"$f":"F83-june!F83","v":64237},{"$f":"G83-june!G83","v":-2.7900000000000027},{"$f":"H83-june!H83","v":-13809},null,0,74,17.369999999999997,99055,{"$f":"AA83-june!G83","v":-5.0400000000000027},{"$f":"AB83-june!H83","v":-28884}]
[75,"DENNIS                       ",75,null,0,0,0,0,null,0,0,null,0,0,null,75,null,null,null,{"$f":"E84-june!E84","v":0},{"$f":"F84-june!F84","v":0},{"$f":"G84-june!G84","v":0},{"$f":"H84-june!H84","v":0},null,0,75,null,null,{"$f":"AA84-june!G84","v":0},{"$f":"AB84-june!H84","v":0}]
[76,"DIGHTON                      ",76,null,0,0,0,0,null,0,0,null,0,0,null,76,null,null,null,{"$f":"E85-june!E85","v":0},{"$f":"F85-june!F85","v":0},{"$f":"G85-june!G85","v":0},{"$f":"H85-june!H85","v":0},null,0,76,null,null,{"$f":"AA85-june!G85","v":0},{"$f":"AB85-june!H85","v":0}]
[77,"DOUGLAS                      ",77,null,121.81,677565,47.39,265630,null,0,0,null,677565,265630,null,77,3,2,null,{"$f":"E86-june!E86","v":5.1999999999999886},{"$f":"F86-june!F86","v":21277},{"$f":"G86-june!G86","v":0.27000000000000313},{"$f":"H86-june!H86","v":-11623},null,0,77,43.72,241041,{"$f":"AA86-june!G86","v":-3.3999999999999986},{"$f":"AB86-june!H86","v":-36212}]
[78,"DOVER                        ",78,null,0,0,1.42,9514,null,0,0,null,0,9514,null,78,1,1,null,{"$f":"E87-june!E87","v":0},{"$f":"F87-june!F87","v":0},{"$f":"G87-june!G87","v":1.42},{"$f":"H87-june!H87","v":9514},null,0,78,null,null,{"$f":"AA87-june!G87","v":0},{"$f":"AB87-june!H87","v":0}]
[79,"DRACUT                       ",79,null,26.939999999999998,140340,19.599999999999998,108837,null,0,0,null,140340,108837,null,79,1,3,null,{"$f":"E88-june!E88","v":-8.9099999999999966},{"$f":"F88-june!F88","v":-61030},{"$f":"G88-june!G88","v":-6.0100000000000016},{"$f":"H88-june!H88","v":-60658},null,0,79,17,91417,{"$f":"AA88-june!G88","v":-8.61},{"$f":"AB88-june!H88","v":-78078}]
[80,"DUDLEY                       ",80,null,0,0,0,0,null,0,0,null,0,0,null,80,null,null,null,{"$f":"E89-june!E89","v":0},{"$f":"F89-june!F89","v":0},{"$f":"G89-june!G89","v":0},{"$f":"H89-june!H89","v":0},null,0,80,null,null,{"$f":"AA89-june!G89","v":0},{"$f":"AB89-june!H89","v":0}]
[81,"DUNSTABLE                    ",81,null,0,0,0,0,null,0,0,null,0,0,null,81,null,null,null,{"$f":"E90-june!E90","v":0},{"$f":"F90-june!F90","v":0},{"$f":"G90-june!G90","v":0},{"$f":"H90-june!H90","v":0},null,0,81,null,null,{"$f":"AA90-june!G90","v":0},{"$f":"AB90-june!H90","v":0}]
[82,"DUXBURY                      ",82,null,0,0,1.18,7906,null,0,0,null,0,7906,null,82,null,2,null,{"$f":"E91-june!E91","v":0},{"$f":"F91-june!F91","v":0},{"$f":"G91-june!G91","v":-0.59000000000000008},{"$f":"H91-june!H91","v":-4571},null,0,82,null,null,{"$f":"AA91-june!G91","v":-1.77},{"$f":"AB91-june!H91","v":-12477}]
[83,"EAST BRIDGEWATER             ",83,null,14.690000000000001,73450,22.44,167141,null,0,0,null,73450,167141,null,83,3,2,null,{"$f":"E92-june!E92","v":-11.319999999999997},{"$f":"F92-june!F92","v":-56600},{"$f":"G92-june!G92","v":2.7600000000000016},{"$f":"H92-june!H92","v":14364},null,0,83,18.770000000000003,142552,{"$f":"AA92-june!G92","v":-0.90999999999999659},{"$f":"AB92-june!H92","v":-10225}]
[84,"EAST BROOKFIELD              ",84,null,0,0,6,30000,null,0,0,null,0,30000,null,84,null,null,null,{"$f":"E93-june!E93","v":0},{"$f":"F93-june!F93","v":0},{"$f":"G93-june!G93","v":1},{"$f":"H93-june!H93","v":5000},null,0,84,6,30000,{"$f":"AA93-june!G93","v":1},{"$f":"AB93-june!H93","v":5000}]
[85,"EASTHAM                      ",86,null,0,0,6.14,36124,null,0,0,null,0,36124,null,85,null,null,null,{"$f":"E94-june!E94","v":0},{"$f":"F94-june!F94","v":0},{"$f":"G94-june!G94","v":-1.7700000000000005},{"$f":"H94-june!H94","v":-10155},null,0,85,6.14,36124,{"$f":"AA94-june!G94","v":-1.7700000000000005},{"$f":"AB94-june!H94","v":-10155}]
[86,"EASTHAMPTON                  ",87,null,84.16,429763,189.24000000000004,1291064,null,0,0,null,429763,1291064,null,86,3,2,null,{"$f":"E95-june!E95","v":-1.9400000000000119},{"$f":"F95-june!F95","v":-61001},{"$f":"G95-june!G95","v":14.260000000000048},{"$f":"H95-june!H95","v":107888},null,0,86,185.57000000000002,1266475,{"$f":"AA95-june!G95","v":10.590000000000032},{"$f":"AB95-june!H95","v":83299}]
[87,"EAST LONGMEADOW              ",85,null,0,0,6.01,33467,null,0,0,null,0,33467,null,87,1,2,null,{"$f":"E96-june!E96","v":0},{"$f":"F96-june!F96","v":0},{"$f":"G96-june!G96","v":-3.9600000000000009},{"$f":"H96-june!H96","v":-58058},null,0,87,4,20000,{"$f":"AA96-june!G96","v":-5.9700000000000006},{"$f":"AB96-june!H96","v":-71525}]
[88,"EASTON                       ",88,null,0,0,4.8999999999999995,26914,null,0,0,null,0,26914,null,88,1,1,null,{"$f":"E97-june!E97","v":0},{"$f":"F97-june!F97","v":0},{"$f":"G97-june!G97","v":-3.7400000000000011},{"$f":"H97-june!H97","v":-26869},null,0,88,3.48,17400,{"$f":"AA97-june!G97","v":-5.16},{"$f":"AB97-june!H97","v":-36383}]
[89,"EDGARTOWN                    ",89,null,12.64,74997,32.450000000000003,180161,null,0,0,null,74997,180161,null,89,null,null,null,{"$f":"E98-june!E98","v":4.6400000000000006},{"$f":"F98-june!F98","v":11185},{"$f":"G98-june!G98","v":-0.54999999999999716},{"$f":"H98-june!H98","v":-9103},null,0,89,32.450000000000003,180161,{"$f":"AA98-june!G98","v":-0.54999999999999716},{"$f":"AB98-june!H98","v":-9103}]
[90,"EGREMONT                     ",90,null,0,0,0,0,null,0,0,null,0,0,null,90,null,null,null,{"$f":"E99-june!E99","v":0},{"$f":"F99-june!F99","v":0},{"$f":"G99-june!G99","v":0},{"$f":"H99-june!H99","v":0},null,0,90,null,null,{"$f":"AA99-june!G99","v":0},{"$f":"AB99-june!H99","v":0}]
[91,"ERVING                       ",91,null,0,0,40.840000000000003,289481,null,0,0,null,0,289481,null,91,1,null,null,{"$f":"E100-june!E100","v":0},{"$f":"F100-june!F100","v":0},{"$f":"G100-june!G100","v":5.6800000000000068},{"$f":"H100-june!H100","v":97683},null,0,91,40.010000000000005,283920,{"$f":"AA100-june!G100","v":4.8500000000000085},{"$f":"AB100-june!H100","v":92122}]
[92,"ESSEX                        ",92,null,0,0,0,0,null,0,0,null,0,0,null,92,null,null,null,{"$f":"E101-june!E101","v":0},{"$f":"F101-june!F101","v":0},{"$f":"G101-june!G101","v":0},{"$f":"H101-june!H101","v":0},null,0,92,null,null,{"$f":"AA101-june!G101","v":0},{"$f":"AB101-june!H101","v":0}]
[93,"EVERETT                      ",93,null,0,0,15.809999999999999,93873,null,0,0,null,0,93873,null,93,null,5,null,{"$f":"E102-june!E102","v":0},{"$f":"F102-june!F102","v":0},{"$f":"G102-june!G102","v":-0.41000000000000014},{"$f":"H102-june!H102","v":-5603},null,0,93,12.86,74108,{"$f":"AA102-june!G102","v":-3.3599999999999994},{"$f":"AB102-june!H102","v":-25368}]
[94,"FAIRHAVEN                    ",94,null,0,0,12.78,75861,null,0,0,null,0,75861,null,94,null,5,null,{"$f":"E103-june!E103","v":0},{"$f":"F103-june!F103","v":0},{"$f":"G103-june!G103","v":-0.57000000000000028},{"$f":"H103-june!H103","v":-272},null,0,94,9.83,56096,{"$f":"AA103-june!G103","v":-3.5199999999999996},{"$f":"AB103-june!H103","v":-20037}]
[95,"FALL RIVER                   ",95,null,16.41,82050,67.86,394695,null,0,0,null,82050,394695,null,95,7,11,null,{"$f":"E104-june!E104","v":-9.9399999999999977},{"$f":"F104-june!F104","v":-49700},{"$f":"G104-june!G104","v":-34.479999999999976},{"$f":"H104-june!H104","v":-212989},null,0,95,55.56,312285,{"$f":"AA104-june!G104","v":-46.779999999999973},{"$f":"AB104-june!H104","v":-295399}]
[96,"FALMOUTH                     ",96,null,91.44999999999996,581601,46.58,261955,null,0,0,null,581601,261955,null,96,null,3,null,{"$f":"E105-june!E105","v":-20.700000000000031},{"$f":"F105-june!F105","v":-80748},{"$f":"G105-june!G105","v":6.3900000000000006},{"$f":"H105-june!H105","v":22606},null,0,96,44.809999999999995,250096,{"$f":"AA105-june!G105","v":4.6199999999999974},{"$f":"AB105-june!H105","v":10747}]
[97,"FITCHBURG                    ",97,null,180.11999999999995,1048411,419.84999999999991,2451589,null,0,0,null,1048411,2451589,null,97,4,12,null,{"$f":"E106-june!E106","v":4.3700000000001182},{"$f":"F106-june!F106","v":33853},{"$f":"G106-june!G106","v":-10.759999999999991},{"$f":"H106-june!H106","v":863},null,0,97,409.44999999999993,2381909,{"$f":"AA106-june!G106","v":-21.159999999999968},{"$f":"AB106-june!H106","v":-68817}]
[98,"FLORIDA                      ",98,null,2,11708,4,20000,null,0,0,null,11708,20000,null,98,null,null,null,{"$f":"E107-june!E107","v":-1.42},{"$f":"F107-june!F107","v":-7798},{"$f":"G107-june!G107","v":-3},{"$f":"H107-june!H107","v":-19198},null,0,98,4,20000,{"$f":"AA107-june!G107","v":-3},{"$f":"AB107-june!H107","v":-19198}]
[99,"FOXBOROUGH                   ",99,null,0,0,0.59,3953,null,0,0,null,0,3953,null,99,null,1,null,{"$f":"E108-june!E108","v":0},{"$f":"F108-june!F108","v":0},{"$f":"G108-june!G108","v":-4.1100000000000003},{"$f":"H108-june!H108","v":-24436},null,0,99,null,null,{"$f":"AA108-june!G108","v":-4.7},{"$f":"AB108-june!H108","v":-28389}]
[100,"FRAMINGHAM                   ",100,null,0,0,52.199999999999996,312643,null,0,0,null,0,312643,null,100,null,19,null,{"$f":"E109-june!E109","v":0},{"$f":"F109-june!F109","v":0},{"$f":"G109-june!G109","v":-2.4899999999999949},{"$f":"H109-june!H109","v":-15245},null,0,100,40.989999999999995,237536,{"$f":"AA109-june!G109","v":-13.699999999999996},{"$f":"AB109-june!H109","v":-90352}]
[101,"FRANKLIN                     ",101,null,10,50468,26.060000000000002,141344,null,0,10000,null,50468,151344,null,101,null,8,null,{"$f":"E110-june!E110","v":3},{"$f":"F110-june!F110","v":10451},{"$f":"G110-june!G110","v":-8.2299999999999898},{"$f":"H110-june!H110","v":-67321},null,0,101,21.340000000000003,109720,{"$f":"AA110-june!G110","v":-12.949999999999989},{"$f":"AB110-june!H110","v":-98945}]
[102,"FREETOWN                     ",102,null,0,0,0,0,null,0,0,null,0,0,null,102,null,null,null,{"$f":"E111-june!E111","v":0},{"$f":"F111-june!F111","v":0},{"$f":"G111-june!G111","v":-2},{"$f":"H111-june!H111","v":-10000},null,0,102,null,null,{"$f":"AA111-june!G111","v":-2},{"$f":"AB111-june!H111","v":-10000}]
[103,"GARDNER                      ",103,null,140.22999999999996,773133,188.06999999999994,1002576,null,0,0,null,773133,1002576,null,103,7,4,null,{"$f":"E112-june!E112","v":18.249999999999929},{"$f":"F112-june!F112","v":91184},{"$f":"G112-june!G112","v":-64.330000000000041},{"$f":"H112-june!H112","v":-431869},null,0,103,179.89999999999992,947837,{"$f":"AA112-june!G112","v":-72.500000000000057},{"$f":"AB112-june!H112","v":-486608}]
[104,"GAY HEAD                     ",104,null,0,0,0,0,null,0,0,null,0,0,null,104,null,null,null,{"$f":"E113-june!E113","v":0},{"$f":"F113-june!F113","v":0},{"$f":"G113-june!G113","v":0},{"$f":"H113-june!H113","v":0},null,0,104,null,null,{"$f":"AA113-june!G113","v":0},{"$f":"AB113-june!H113","v":0}]
[105,"GEORGETOWN                   ",105,null,38,196130,22.77,197267,null,0,0,null,196130,197267,null,105,null,3,null,{"$f":"E114-june!E114","v":-2},{"$f":"F114-june!F114","v":-7693},{"$f":"G114-june!G114","v":-1.1000000000000014},{"$f":"H114-june!H114","v":7069},null,0,105,21,185408,{"$f":"AA114-june!G114","v":-2.870000000000001},{"$f":"AB114-june!H114","v":-4790}]
[106,"GILL                         ",106,null,0,0,0,0,null,0,0,null,0,0,null,106,null,null,null,{"$f":"E115-june!E115","v":0},{"$f":"F115-june!F115","v":0},{"$f":"G115-june!G115","v":0},{"$f":"H115-june!H115","v":0},null,0,106,null,null,{"$f":"AA115-june!G115","v":0},{"$f":"AB115-june!H115","v":0}]
[107,"GLOUCESTER                   ",107,null,39.200000000000003,214791,303.85999999999996,1651567,null,0,0,null,214791,1651567,null,107,1,3,null,{"$f":"E116-june!E116","v":0.66000000000000369},{"$f":"F116-june!F116","v":12916},{"$f":"G116-june!G116","v":-8.2800000000000864},{"$f":"H116-june!H116","v":-222109},null,0,107,301.26,1634147,{"$f":"AA116-june!G116","v":-10.880000000000052},{"$f":"AB116-june!H116","v":-239529}]
[108,"GOSHEN                       ",108,null,0,0,0,0,null,0,0,null,0,0,null,108,null,null,null,{"$f":"E117-june!E117","v":0},{"$f":"F117-june!F117","v":0},{"$f":"G117-june!G117","v":0},{"$f":"H117-june!H117","v":0},null,0,108,null,null,{"$f":"AA117-june!G117","v":0},{"$f":"AB117-june!H117","v":0}]
[109,"GOSNOLD                      ",109,null,0,0,0,0,null,0,0,null,0,0,null,109,null,null,null,{"$f":"E118-june!E118","v":0},{"$f":"F118-june!F118","v":0},{"$f":"G118-june!G118","v":0},{"$f":"H118-june!H118","v":0},null,0,109,null,null,{"$f":"AA118-june!G118","v":0},{"$f":"AB118-june!H118","v":0}]
[110,"GRAFTON                      ",110,null,31.53,191757,25.52,143393,null,0,0,null,191757,143393,null,110,1,5,null,{"$f":"E119-june!E119","v":-11.029999999999994},{"$f":"F119-june!F119","v":-94423},{"$f":"G119-june!G119","v":-11.580000000000002},{"$f":"H119-june!H119","v":-65901},null,0,110,21.740000000000002,118067,{"$f":"AA119-june!G119","v":-15.36},{"$f":"AB119-june!H119","v":-91227}]
[111,"GRANBY                       ",111,null,132.75,750306,48.22,286171,null,0,0,null,750306,286171,null,111,null,1,null,{"$f":"E120-june!E120","v":15.659999999999997},{"$f":"F120-june!F120","v":87493},{"$f":"G120-june!G120","v":-3.8699999999999903},{"$f":"H120-june!H120","v":-24688},null,0,111,47.629999999999995,282218,{"$f":"AA120-june!G120","v":-4.4599999999999937},{"$f":"AB120-june!H120","v":-28641}]
[112,"GRANVILLE                    ",112,null,0,0,0,0,null,0,0,null,0,0,null,112,null,null,null,{"$f":"E121-june!E121","v":0},{"$f":"F121-june!F121","v":0},{"$f":"G121-june!G121","v":0},{"$f":"H121-june!H121","v":0},null,0,112,null,null,{"$f":"AA121-june!G121","v":0},{"$f":"AB121-june!H121","v":0}]
[113,"GREAT BARRINGTON             ",113,null,0,0,0,0,null,0,0,null,0,0,null,113,null,null,null,{"$f":"E122-june!E122","v":0},{"$f":"F122-june!F122","v":0},{"$f":"G122-june!G122","v":0},{"$f":"H122-june!H122","v":0},null,0,113,null,null,{"$f":"AA122-june!G122","v":0},{"$f":"AB122-june!H122","v":0}]
[114,"GREENFIELD                   ",114,null,92.589999999999989,578152,326.21999999999991,2309748,null,0,0,null,578152,2309748,null,114,13,3,null,{"$f":"E123-june!E123","v":-23.95999999999998},{"$f":"F123-june!F123","v":-132783},{"$f":"G123-june!G123","v":3.0599999999998886},{"$f":"H123-june!H123","v":-193701},null,0,114,313.65999999999991,2225596,{"$f":"AA123-june!G123","v":-9.5000000000001137},{"$f":"AB123-june!H123","v":-277853}]
[115,"GROTON                       ",115,null,0,0,0,0,null,0,0,null,0,0,null,115,null,null,null,{"$f":"E124-june!E124","v":0},{"$f":"F124-june!F124","v":0},{"$f":"G124-june!G124","v":0},{"$f":"H124-june!H124","v":0},null,0,115,null,null,{"$f":"AA124-june!G124","v":0},{"$f":"AB124-june!H124","v":0}]
[116,"GROVELAND                    ",116,null,0,0,0,0,null,0,0,null,0,0,null,116,null,null,null,{"$f":"E125-june!E125","v":0},{"$f":"F125-june!F125","v":0},{"$f":"G125-june!G125","v":0},{"$f":"H125-june!H125","v":0},null,0,116,null,null,{"$f":"AA125-june!G125","v":0},{"$f":"AB125-june!H125","v":0}]
[117,"HADLEY                       ",117,null,102.42999999999999,589766,57.59,385346,null,0,0,null,589766,385346,null,117,null,4,null,{"$f":"E126-june!E126","v":3.960000000000008},{"$f":"F126-june!F126","v":-32913},{"$f":"G126-june!G126","v":10.11},{"$f":"H126-june!H126","v":82369},null,0,117,55.230000000000004,369534,{"$f":"AA126-june!G126","v":7.75},{"$f":"AB126-june!H126","v":66557}]
[118,"HALIFAX                      ",118,null,0,0,1,5000,null,0,0,null,0,5000,null,118,null,null,null,{"$f":"E127-june!E127","v":0},{"$f":"F127-june!F127","v":0},{"$f":"G127-june!G127","v":0},{"$f":"H127-june!H127","v":0},null,0,118,1,5000,{"$f":"AA127-june!G127","v":0},{"$f":"AB127-june!H127","v":0}]
[119,"HAMILTON                     ",119,null,0,0,0,0,null,0,0,null,0,0,null,119,null,null,null,{"$f":"E128-june!E128","v":0},{"$f":"F128-june!F128","v":0},{"$f":"G128-june!G128","v":0},{"$f":"H128-june!H128","v":0},null,0,119,null,null,{"$f":"AA128-june!G128","v":0},{"$f":"AB128-june!H128","v":0}]
[120,"HAMPDEN                      ",120,null,0,0,0,0,null,0,0,null,0,0,null,120,null,null,null,{"$f":"E129-june!E129","v":0},{"$f":"F129-june!F129","v":0},{"$f":"G129-june!G129","v":0},{"$f":"H129-june!H129","v":0},null,0,120,null,null,{"$f":"AA129-june!G129","v":0},{"$f":"AB129-june!H129","v":0}]
[121,"HANCOCK                      ",121,null,3,15000,11,55000,null,0,0,null,15000,55000,null,121,null,null,null,{"$f":"E130-june!E130","v":-2},{"$f":"F130-june!F130","v":-13564},{"$f":"G130-june!G130","v":6.3100000000000005},{"$f":"H130-june!H130","v":31550},null,0,121,11,55000,{"$f":"AA130-june!G130","v":6.3100000000000005},{"$f":"AB130-june!H130","v":31550}]
[122,"HANOVER                      ",122,null,0,0,0,0,null,0,0,null,0,0,null,122,null,null,null,{"$f":"E131-june!E131","v":0},{"$f":"F131-june!F131","v":0},{"$f":"G131-june!G131","v":-2.74},{"$f":"H131-june!H131","v":-13700},null,0,122,null,null,{"$f":"AA131-june!G131","v":-2.74},{"$f":"AB131-june!H131","v":-13700}]
[123,"HANSON                       ",123,null,0,0,0,0,null,0,0,null,0,0,null,123,null,null,null,{"$f":"E132-june!E132","v":0},{"$f":"F132-june!F132","v":0},{"$f":"G132-june!G132","v":0},{"$f":"H132-june!H132","v":0},null,0,123,null,null,{"$f":"AA132-june!G132","v":0},{"$f":"AB132-june!H132","v":0}]
[124,"HARDWICK                     ",124,null,0,0,0,0,null,0,0,null,0,0,null,124,null,null,null,{"$f":"E133-june!E133","v":0},{"$f":"F133-june!F133","v":0},{"$f":"G133-june!G133","v":0},{"$f":"H133-june!H133","v":0},null,0,124,null,null,{"$f":"AA133-june!G133","v":0},{"$f":"AB133-june!H133","v":0}]
[125,"HARVARD                      ",125,null,70,368354,5,31314,null,0,0,null,368354,31314,null,125,null,null,null,{"$f":"E134-june!E134","v":2.6200000000000045},{"$f":"F134-june!F134","v":12462},{"$f":"G134-june!G134","v":2},{"$f":"H134-june!H134","v":16314},null,0,125,5,31314,{"$f":"AA134-june!G134","v":2},{"$f":"AB134-june!H134","v":16314}]
[126,"HARWICH                      ",126,null,0,0,1.18,7906,null,0,0,null,0,7906,null,126,null,2,null,{"$f":"E135-june!E135","v":0},{"$f":"F135-june!F135","v":0},{"$f":"G135-june!G135","v":1.18},{"$f":"H135-june!H135","v":7906},null,0,126,null,null,{"$f":"AA135-june!G135","v":0},{"$f":"AB135-june!H135","v":0}]
[127,"HATFIELD                     ",127,null,123.99999999999999,838623,28.3,202217,null,0,0,null,838623,202217,null,127,6,null,null,{"$f":"E136-june!E136","v":-6.8000000000000256},{"$f":"F136-june!F136","v":-80568},{"$f":"G136-june!G136","v":-2.4800000000000004},{"$f":"H136-june!H136","v":7303},null,0,127,23.32,168851,{"$f":"AA136-june!G136","v":-7.4600000000000009},{"$f":"AB136-june!H136","v":-26063}]
[128,"HAVERHILL                    ",128,null,42.49,247501,211.74,1190061,null,0,0,null,247501,1190061,null,128,3,16,null,{"$f":"E137-june!E137","v":5.8900000000000006},{"$f":"F137-june!F137","v":40726},{"$f":"G137-june!G137","v":21.920000000000016},{"$f":"H137-june!H137","v":105922},null,0,128,199.81,1110130,{"$f":"AA137-june!G137","v":9.9900000000000091},{"$f":"AB137-june!H137","v":25991}]
[129,"HAWLEY                       ",129,null,0,0,0,0,null,0,0,null,0,0,null,129,null,null,null,{"$f":"E138-june!E138","v":0},{"$f":"F138-june!F138","v":0},{"$f":"G138-june!G138","v":0},{"$f":"H138-june!H138","v":0},null,{"$f":"Z138-A138","v":0},129,null,null,{"$f":"AA138-june!G138","v":0},{"$f":"AB138-june!H138","v":0}]
[130,"HEATH                        ",130,null,0,0,{"$f":"AA139+(0.83*Q139)+0.59*R139","v":0},{"$f":"AB139+(0.83*Q139)*6700+0.59*R139*6700","v":0},null,0,0,null,{"$f":"F139+J139","v":0},{"$f":"H139+K139","v":0},null,130,null,null,null,{"$f":"E139-june!E139","v":0},{"$f":"F139-june!F139","v":0},{"$f":"G139-june!G139","v":0},{"$f":"H139-june!H139","v":0},null,0,130,null,null,{"$f":"AA139-june!G139","v":0},{"$f":"AB139-june!H139","v":0}]
[131,"HINGHAM                      ",131,null,0,0,0,0,null,0,0,null,0,0,null,131,null,null,null,{"$f":"E140-june!E140","v":0},{"$f":"F140-june!F140","v":0},{"$f":"G140-june!G140","v":-3.48},{"$f":"H140-june!H140","v":-24172},null,0,131,null,null,{"$f":"AA140-june!G140","v":-3.48},{"$f":"AB140-june!H140","v":-24172}]
[132,"HINSDALE                     ",132,null,0,0,0,0,null,0,0,null,0,0,null,132,null,null,null,{"$f":"E141-june!E141","v":0},{"$f":"F141-june!F141","v":0},{"$f":"G141-june!G141","v":0},{"$f":"H141-june!H141","v":0},null,0,132,null,null,{"$f":"AA141-june!G141","v":0},{"$f":"AB141-june!H141","v":0}]
[133,"HOLBROOK                     ",133,null,57.480000000000004,305871,14.07,76997,null,0,0,null,305871,76997,null,133,4,1,null,{"$f":"E142-june!E142","v":-0.38999999999999346},{"$f":"F142-june!F142","v":-10225},{"$f":"G142-june!G142","v":-3.4299999999999962},{"$f":"H142-june!H142","v":-43807},null,0,133,10.16,50800,{"$f":"AA142-june!G142","v":-7.3399999999999963},{"$f":"AB142-june!H142","v":-70004}]
[134,"HOLDEN                       ",134,null,0,0,0,0,null,0,0,null,0,0,null,134,null,null,null,{"$f":"E143-june!E143","v":0},{"$f":"F143-june!F143","v":0},{"$f":"G143-june!G143","v":0},{"$f":"H143-june!H143","v":0},null,0,134,null,null,{"$f":"AA143-june!G143","v":0},{"$f":"AB143-june!H143","v":0}]
[135,"HOLLAND                      ",135,null,40.31,246248,1.5899999999999999,8953,null,0,0,null,246248,8953,null,135,null,1,null,{"$f":"E144-june!E144","v":-12.619999999999997},{"$f":"F144-june!F144","v":-53033},{"$f":"G144-june!G144","v":-0.93000000000000016},{"$f":"H144-june!H144","v":-4567},null,0,135,1,5000,{"$f":"AA144-june!G144","v":-1.52},{"$f":"AB144-june!H144","v":-8520}]
[136,"HOLLISTON                    ",136,null,158.83000000000001,1038241,7.41,49554,null,0,0,null,1038241,49554,null,136,null,3,null,{"$f":"E145-june!E145","v":0.37000000000000455},{"$f":"F145-june!F145","v":-39186},{"$f":"G145-june!G145","v":-6.9200000000000017},{"$f":"H145-june!H145","v":-34660},null,0,136,5.6400000000000006,37695,{"$f":"AA145-june!G145","v":-8.6900000000000013},{"$f":"AB145-june!H145","v":-46519}]
[137,"HOLYOKE                      ",137,null,51.699999999999996,274673,337.20000000000005,2055893,null,0,0,null,274673,2055893,null,137,3,8,null,{"$f":"E146-june!E146","v":-0.99000000000000909},{"$f":"F146-june!F146","v":-18393},{"$f":"G146-june!G146","v":0.18000000000006366},{"$f":"H146-june!H146","v":-78684},null,0,137,329.99,2007586,{"$f":"AA146-june!G146","v":-7.0299999999999727},{"$f":"AB146-june!H146","v":-126991}]
[138,"HOPEDALE                     ",138,null,129.57999999999998,709439,48.32,290034,null,0,0,null,709439,290034,null,138,null,3,null,{"$f":"E147-june!E147","v":6.8099999999999881},{"$f":"F147-june!F147","v":14905},{"$f":"G147-june!G147","v":-0.24000000000000199},{"$f":"H147-june!H147","v":-3769},null,0,138,46.55,278175,{"$f":"AA147-june!G147","v":-2.0100000000000051},{"$f":"AB147-june!H147","v":-15628}]
[139,"HOPKINTON                    ",139,null,0,0,16.64,88021,null,0,0,null,0,88021,null,139,null,2,null,{"$f":"E148-june!E148","v":0},{"$f":"F148-june!F148","v":0},{"$f":"G148-june!G148","v":-1.7299999999999969},{"$f":"H148-june!H148","v":-23443},null,0,139,15.46,80115,{"$f":"AA148-june!G148","v":-2.9099999999999966},{"$f":"AB148-june!H148","v":-31349}]
[140,"HUBBARDSTON                  ",140,null,0,0,0,0,null,0,0,null,0,0,null,140,null,null,null,{"$f":"E149-june!E149","v":0},{"$f":"F149-june!F149","v":0},{"$f":"G149-june!G149","v":0},{"$f":"H149-june!H149","v":0},null,0,140,null,null,{"$f":"AA149-june!G149","v":0},{"$f":"AB149-june!H149","v":0}]
[141,"HUDSON                       ",141,null,101.62,546944,19.649999999999999,111154,null,0,0,null,546944,111154,null,141,null,6,null,{"$f":"E150-june!E150","v":5.4799999999999898},{"$f":"F150-june!F150","v":-70539},{"$f":"G150-june!G150","v":-1.6099999999999994},{"$f":"H150-june!H150","v":-29086},null,0,141,16.11,87436,{"$f":"AA150-june!G150","v":-5.1499999999999986},{"$f":"AB150-june!H150","v":-52804}]
[142,"HULL                         ",142,null,0,0,3.4299999999999997,22981,null,0,0,null,0,22981,null,142,2,3,null,{"$f":"E151-june!E151","v":0},{"$f":"F151-june!F151","v":0},{"$f":"G151-june!G151","v":-2.5700000000000003},{"$f":"H151-june!H151","v":-19297},null,0,142,null,null,{"$f":"AA151-june!G151","v":-6},{"$f":"AB151-june!H151","v":-42278}]
[143,"HUNTINGTON                   ",143,null,0,0,0,0,null,0,0,null,0,0,null,143,null,null,null,{"$f":"E152-june!E152","v":0},{"$f":"F152-june!F152","v":0},{"$f":"G152-june!G152","v":0},{"$f":"H152-june!H152","v":0},null,0,143,null,null,{"$f":"AA152-june!G152","v":0},{"$f":"AB152-june!H152","v":0}]
[144,"IPSWICH                      ",144,null,70,383036,19.43,109839,null,0,0,null,383036,109839,null,144,null,2,null,{"$f":"E153-june!E153","v":2.0300000000000011},{"$f":"F153-june!F153","v":15962},{"$f":"G153-june!G153","v":2.7699999999999996},{"$f":"H153-june!H153","v":14600},null,0,144,18.25,101933,{"$f":"AA153-june!G153","v":1.5899999999999999},{"$f":"AB153-june!H153","v":6694}]
[145,"KINGSTON                     ",145,null,0,0,0.59,3953,null,0,0,null,0,3953,null,145,null,1,null,{"$f":"E154-june!E154","v":0},{"$f":"F154-june!F154","v":0},{"$f":"G154-june!G154","v":0.59},{"$f":"H154-june!H154","v":3953},null,0,145,null,null,{"$f":"AA154-june!G154","v":0},{"$f":"AB154-june!H154","v":0}]
[146,"LAKEVILLE                    ",146,null,0,0,0,0,null,0,0,null,0,0,null,146,null,null,null,{"$f":"E155-june!E155","v":0},{"$f":"F155-june!F155","v":0},{"$f":"G155-june!G155","v":0},{"$f":"H155-june!H155","v":0},null,0,146,null,null,{"$f":"AA155-june!G155","v":0},{"$f":"AB155-june!H155","v":0}]
[147,"LANCASTER                    ",147,null,0,0,0,0,null,0,0,null,0,0,null,147,null,null,null,{"$f":"E156-june!E156","v":0},{"$f":"F156-june!F156","v":0},{"$f":"G156-june!G156","v":0},{"$f":"H156-june!H156","v":0},null,0,147,null,null,{"$f":"AA156-june!G156","v":0},{"$f":"AB156-june!H156","v":0}]
[148,"LANESBOROUGH                 ",148,null,20,120999,22.109999999999996,114496,null,0,0,null,120999,114496,null,148,1,null,null,{"$f":"E157-june!E157","v":1},{"$f":"F157-june!F157","v":11195},{"$f":"G157-june!G157","v":-1.980000000000004},{"$f":"H157-june!H157","v":-17612},null,0,148,21.279999999999998,108935,{"$f":"AA157-june!G157","v":-2.8100000000000023},{"$f":"AB157-june!H157","v":-23173}]
[149,"LAWRENCE                     ",149,null,0,0,59.06,372271,null,0,0,null,0,372271,null,149,7,14,null,{"$f":"E158-june!E158","v":0},{"$f":"F158-june!F158","v":0},{"$f":"G158-june!G158","v":-6.8700000000000045},{"$f":"H158-june!H158","v":-53756},null,0,149,44.99,278002,{"$f":"AA158-june!G158","v":-20.940000000000005},{"$f":"AB158-june!H158","v":-148025}]
[150,"LEE                          ",150,null,127.97999999999999,731075,89.25,482824,null,0,0,null,731075,482824,null,150,1,1,null,{"$f":"E159-june!E159","v":-0.5600000000000307},{"$f":"F159-june!F159","v":-12379},{"$f":"G159-june!G159","v":-9.1299999999999955},{"$f":"H159-june!H159","v":-76559},null,0,150,87.83,473310,{"$f":"AA159-june!G159","v":-10.549999999999997},{"$f":"AB159-june!H159","v":-86073}]
[151,"LEICESTER                    ",151,null,92,544663,31.58,162376,null,0,0,null,544663,162376,null,151,null,1,null,{"$f":"E160-june!E160","v":-11.14},{"$f":"F160-june!F160","v":-20218},{"$f":"G160-june!G160","v":-3.7600000000000051},{"$f":"H160-june!H160","v":-37414},null,0,151,30.99,158423,{"$f":"AA160-june!G160","v":-4.350000000000005},{"$f":"AB160-june!H160","v":-41367}]
[152,"LENOX                        ",152,null,246.78999999999996,1279101,50.230000000000004,308326,null,0,-1050,null,1279101,307276,null,152,null,1,null,{"$f":"E161-june!E161","v":-6.370000000000033},{"$f":"F161-june!F161","v":-31093},{"$f":"G161-june!G161","v":3.210000000000008},{"$f":"H161-june!H161","v":41967},null,0,152,49.64,304373,{"$f":"AA161-june!G161","v":2.6200000000000045},{"$f":"AB161-june!H161","v":38014}]
[153,"LEOMINSTER                   ",153,null,246.87999999999997,1401012,324.63000000000005,1875141,null,0,0,null,1401012,1875141,null,153,2,8,null,{"$f":"E162-june!E162","v":0.71999999999999886},{"$f":"F162-june!F162","v":50516},{"$f":"G162-june!G162","v":0.93000000000000682},{"$f":"H162-june!H162","v":-3793},null,0,153,318.25,1832395,{"$f":"AA162-june!G162","v":-5.4500000000000455},{"$f":"AB162-june!H162","v":-46539}]
[154,"LEVERETT                     ",154,null,20.490000000000002,163072,7,35971,null,0,0,null,163072,35971,null,154,null,null,null,{"$f":"E163-june!E163","v":-0.7099999999999973},{"$f":"F163-june!F163","v":17912},{"$f":"G163-june!G163","v":1.63},{"$f":"H163-june!H163","v":8445},null,0,154,7,35971,{"$f":"AA163-june!G163","v":1.63},{"$f":"AB163-june!H163","v":8445}]
[155,"LEXINGTON                    ",155,null,0,0,2.77,16859,null,0,0,null,0,16859,null,155,null,3,null,{"$f":"E164-june!E164","v":0},{"$f":"F164-june!F164","v":0},{"$f":"G164-june!G164","v":-3.57},{"$f":"H164-june!H164","v":-23969},null,0,155,1,5000,{"$f":"AA164-june!G164","v":-5.34},{"$f":"AB164-june!H164","v":-35828}]
[156,"LEYDEN                       ",156,null,0,0,0,0,null,0,0,null,0,0,null,156,null,null,null,{"$f":"E165-june!E165","v":0},{"$f":"F165-june!F165","v":0},{"$f":"G165-june!G165","v":0},{"$f":"H165-june!H165","v":0},null,0,156,null,null,{"$f":"AA165-june!G165","v":0},{"$f":"AB165-june!H165","v":0}]
[157,"LINCOLN                      ",157,null,0,0,0,0,null,0,0,null,0,0,null,157,null,null,null,{"$f":"E166-june!E166","v":0},{"$f":"F166-june!F166","v":0},{"$f":"G166-june!G166","v":-2.2200000000000002},{"$f":"H166-june!H166","v":-14933},null,0,157,null,null,{"$f":"AA166-june!G166","v":-2.2200000000000002},{"$f":"AB166-june!H166","v":-14933}]
[158,"LITTLETON                    ",158,null,68.490000000000009,373331,19.009999999999998,102084,null,0,0,null,373331,102084,null,158,1,null,null,{"$f":"E167-june!E167","v":-9.8999999999999915},{"$f":"F167-june!F167","v":-58241},{"$f":"G167-june!G167","v":-3.1500000000000021},{"$f":"H167-june!H167","v":-41790},null,0,158,18.18,96523,{"$f":"AA167-june!G167","v":-3.9800000000000004},{"$f":"AB167-june!H167","v":-47351}]
[159,"LONGMEADOW                   ",159,null,45,364404,1.5899999999999999,8953,null,0,0,null,364404,8953,null,159,null,1,null,{"$f":"E168-june!E168","v":5.3699999999999974},{"$f":"F168-june!F168","v":36248},{"$f":"G168-june!G168","v":-0.4700000000000002},{"$f":"H168-june!H168","v":-3295},null,0,159,1,5000,{"$f":"AA168-june!G168","v":-1.06},{"$f":"AB168-june!H168","v":-7248}]
[160,"LOWELL                       ",160,null,0,0,102.58999999999999,685289,null,0,0,null,0,685289,null,160,10,9,null,{"$f":"E169-june!E169","v":0},{"$f":"F169-june!F169","v":0},{"$f":"G169-june!G169","v":-39.359999999999971},{"$f":"H169-june!H169","v":-259786},null,0,160,88.97999999999999,594102,{"$f":"AA169-june!G169","v":-52.96999999999997},{"$f":"AB169-june!H169","v":-350973}]
[161,"LUDLOW                       ",161,null,80.17,499229,38.589999999999996,204660,null,0,0,null,499229,204660,null,161,1,3,null,{"$f":"E170-june!E170","v":-13.819999999999993},{"$f":"F170-june!F170","v":-63175},{"$f":"G170-june!G170","v":-1.490000000000002},{"$f":"H170-june!H170","v":-15180},null,0,161,35.989999999999995,187240,{"$f":"AA170-june!G170","v":-4.0900000000000034},{"$f":"AB170-june!H170","v":-32600}]
[162,"LUNENBURG                    ",162,null,38.94,227741,84.480000000000018,517649,null,0,0,null,227741,517649,null,162,null,null,null,{"$f":"E171-june!E171","v":-12.329999999999998},{"$f":"F171-june!F171","v":-58932},{"$f":"G171-june!G171","v":4.3000000000000114},{"$f":"H171-june!H171","v":40747},null,0,162,84.480000000000018,517649,{"$f":"AA171-june!G171","v":4.3000000000000114},{"$f":"AB171-june!H171","v":40747}]
[163,"LYNN                         ",163,null,0,0,78.77,457634,null,0,0,null,0,457634,null,163,9,28,null,{"$f":"E172-june!E172","v":0},{"$f":"F172-june!F172","v":0},{"$f":"G172-june!G172","v":-20.480000000000004},{"$f":"H172-june!H172","v":-146579},null,0,163,54.78,296901,{"$f":"AA172-june!G172","v":-44.47},{"$f":"AB172-june!H172","v":-307312}]
[164,"LYNNFIELD                    ",164,null,0,0,0,0,null,0,0,null,0,0,null,164,null,null,null,{"$f":"E173-june!E173","v":0},{"$f":"F173-june!F173","v":0},{"$f":"G173-june!G173","v":0},{"$f":"H173-june!H173","v":0},null,0,164,null,null,{"$f":"AA173-june!G173","v":0},{"$f":"AB173-june!H173","v":0}]
[165,"MALDEN                       ",165,null,0,0,5.43,32981,null,0,0,null,0,32981,null,165,2,3,null,{"$f":"E174-june!E174","v":0},{"$f":"F174-june!F174","v":0},{"$f":"G174-june!G174","v":-4.5100000000000016},{"$f":"H174-june!H174","v":-28416},null,0,165,2,10000,{"$f":"AA174-june!G174","v":-7.9400000000000013},{"$f":"AB174-june!H174","v":-51397}]
[166,"MANCHESTER                   ",166,null,0,0,0,0,null,0,0,null,0,0,null,166,null,null,null,{"$f":"E175-june!E175","v":0},{"$f":"F175-june!F175","v":0},{"$f":"G175-june!G175","v":0},{"$f":"H175-june!H175","v":0},null,0,166,null,null,{"$f":"AA175-june!G175","v":0},{"$f":"AB175-june!H175","v":0}]
[167,"MANSFIELD                    ",167,null,0,0,5.84,34028,null,0,0,null,0,34028,null,167,2,2,null,{"$f":"E176-june!E176","v":0},{"$f":"F176-june!F176","v":0},{"$f":"G176-june!G176","v":-0.58999999999999986},{"$f":"H176-june!H176","v":-3222},null,0,167,3,15000,{"$f":"AA176-june!G176","v":-3.4299999999999997},{"$f":"AB176-june!H176","v":-22250}]
[168,"MARBLEHEAD                   ",168,null,0,0,2.0099999999999998,13467,null,0,0,null,0,13467,null,168,1,2,null,{"$f":"E177-june!E177","v":0},{"$f":"F177-june!F177","v":0},{"$f":"G177-june!G177","v":-3.4000000000000004},{"$f":"H177-june!H177","v":-20657},null,0,168,null,null,{"$f":"AA177-june!G177","v":-5.41},{"$f":"AB177-june!H177","v":-34124}]
[169,"MARION                       ",169,null,0,0,1.42,9514,null,0,0,null,0,9514,null,169,1,1,null,{"$f":"E178-june!E178","v":0},{"$f":"F178-june!F178","v":0},{"$f":"G178-june!G178","v":0.7},{"$f":"H178-june!H178","v":4418},null,0,169,null,null,{"$f":"AA178-june!G178","v":-0.72},{"$f":"AB178-june!H178","v":-5096}]
[170,"MARLBOROUGH                  ",170,null,0,0,93.310000000000016,560509,null,0,0,null,0,560509,null,170,5,7,null,{"$f":"E179-june!E179","v":0},{"$f":"F179-june!F179","v":0},{"$f":"G179-june!G179","v":1.9500000000000171},{"$f":"H179-june!H179","v":27562},null,0,170,85.030000000000015,505033,{"$f":"AA179-june!G179","v":-6.3299999999999841},{"$f":"AB179-june!H179","v":-27914}]
[171,"MARSHFIELD                   ",171,null,6,34000,6.1899999999999995,37942,null,0,0,null,34000,37942,null,171,1,4,null,{"$f":"E180-june!E180","v":1},{"$f":"F180-june!F180","v":9000},{"$f":"G180-june!G180","v":4.9999999999999822E-2},{"$f":"H180-june!H180","v":-5180},null,0,171,3,16569,{"$f":"AA180-june!G180","v":-3.1399999999999997},{"$f":"AB180-june!H180","v":-26553}]
[172,"MASHPEE                      ",172,null,72.42,442050,65.45,389807,null,0,0,null,442050,389807,null,172,2,1,null,{"$f":"E181-june!E181","v":7.6700000000000017},{"$f":"F181-june!F181","v":57030},{"$f":"G181-june!G181","v":-15.65000000000002},{"$f":"H181-june!H181","v":-53979},null,0,172,63.199999999999996,374732,{"$f":"AA181-june!G181","v":-17.900000000000027},{"$f":"AB181-june!H181","v":-69054}]
[173,"MATTAPOISETT                 ",173,null,3,42512,1.77,11859,null,0,0,null,42512,11859,null,173,null,3,null,{"$f":"E182-june!E182","v":1},{"$f":"F182-june!F182","v":3935},{"$f":"G182-june!G182","v":0.43999999999999995},{"$f":"H182-june!H182","v":1651},null,0,173,null,null,{"$f":"AA182-june!G182","v":-1.33},{"$f":"AB182-june!H182","v":-10208}]
[174,"MAYNARD                      ",174,null,35.159999999999997,264647,15.629999999999999,80595,null,0,0,null,264647,80595,null,174,null,null,null,{"$f":"E183-june!E183","v":-4.3600000000000065},{"$f":"F183-june!F183","v":-23476},{"$f":"G183-june!G183","v":6.629999999999999},{"$f":"H183-june!H183","v":34123},null,0,174,15.629999999999999,80595,{"$f":"AA183-june!G183","v":6.629999999999999},{"$f":"AB183-june!H183","v":34123}]
[175,"MEDFIELD                     ",175,null,0,0,5.6899999999999995,28450,null,0,0,null,0,28450,null,175,null,null,null,{"$f":"E184-june!E184","v":0},{"$f":"F184-june!F184","v":0},{"$f":"G184-june!G184","v":-1.7600000000000016},{"$f":"H184-june!H184","v":-18352},null,0,175,5.6899999999999995,28450,{"$f":"AA184-june!G184","v":-1.7600000000000016},{"$f":"AB184-june!H184","v":-18352}]
[176,"MEDFORD                      ",176,null,0,0,2.54,16712,null,0,0,null,0,16712,null,176,null,4,null,{"$f":"E185-june!E185","v":0},{"$f":"F185-june!F185","v":0},{"$f":"G185-june!G185","v":-4.8699999999999992},{"$f":"H185-june!H185","v":-35659},null,0,176,0.18,900,{"$f":"AA185-june!G185","v":-7.2299999999999995},{"$f":"AB185-june!H185","v":-51471}]
[177,"MEDWAY                       ",177,null,61.65,347095,43.68,265066,null,47500,0,null,394595,265066,null,177,null,4,null,{"$f":"E186-june!E186","v":-27.530000000000022},{"$f":"F186-june!F186","v":-152135},{"$f":"G186-june!G186","v":-5.9499999999999957},{"$f":"H186-june!H186","v":-51399},null,0,177,41.32,249254,{"$f":"AA186-june!G186","v":-8.3099999999999952},{"$f":"AB186-june!H186","v":-67211}]
[178,"MELROSE                      ",178,null,10.629999999999999,53150,2.42,14514,null,0,0,null,53150,14514,null,178,1,1,null,{"$f":"E187-june!E187","v":-14.66},{"$f":"F187-june!F187","v":-86905},{"$f":"G187-june!G187","v":0.33999999999999986},{"$f":"H187-june!H187","v":413},null,0,178,1,5000,{"$f":"AA187-june!G187","v":-1.08},{"$f":"AB187-june!H187","v":-9101}]
[179,"MENDON                       ",179,null,0,0,0,0,null,0,0,null,0,0,null,179,null,null,null,{"$f":"E188-june!E188","v":0},{"$f":"F188-june!F188","v":0},{"$f":"G188-june!G188","v":0},{"$f":"H188-june!H188","v":0},null,0,179,null,null,{"$f":"AA188-june!G188","v":0},{"$f":"AB188-june!H188","v":0}]
[180,"MERRIMAC                     ",180,null,0,0,0,0,null,0,0,null,0,0,null,180,null,null,null,{"$f":"E189-june!E189","v":0},{"$f":"F189-june!F189","v":0},{"$f":"G189-june!G189","v":0},{"$f":"H189-june!H189","v":0},null,0,180,null,null,{"$f":"AA189-june!G189","v":0},{"$f":"AB189-june!H189","v":0}]
[181,"METHUEN                      ",181,null,0,0,17.010000000000002,95709,null,0,0,null,0,95709,null,181,4,5,null,{"$f":"E190-june!E190","v":0},{"$f":"F190-june!F190","v":0},{"$f":"G190-june!G190","v":-7.68},{"$f":"H190-june!H190","v":-53629},null,0,181,10.74,53700,{"$f":"AA190-june!G190","v":-13.950000000000001},{"$f":"AB190-june!H190","v":-95638}]
[182,"MIDDLEBOROUGH                ",182,null,3,15000,43.78,231623,null,0,0,null,15000,231623,null,182,2,4,null,{"$f":"E191-june!E191","v":0},{"$f":"F191-june!F191","v":0},{"$f":"G191-june!G191","v":-7.9499999999999957},{"$f":"H191-june!H191","v":-66503},null,0,182,39.760000000000005,204689,{"$f":"AA191-june!G191","v":-11.969999999999992},{"$f":"AB191-june!H191","v":-93437}]
[183,"MIDDLEFIELD                  ",183,null,0,0,0,0,null,0,0,null,0,0,null,183,null,null,null,{"$f":"E192-june!E192","v":0},{"$f":"F192-june!F192","v":0},{"$f":"G192-june!G192","v":0},{"$f":"H192-june!H192","v":0},null,0,183,null,null,{"$f":"AA192-june!G192","v":0},{"$f":"AB192-june!H192","v":0}]
[184,"MIDDLETON                    ",184,null,0,0,0.83,5561,null,0,0,null,0,5561,null,184,1,null,null,{"$f":"E193-june!E193","v":0},{"$f":"F193-june!F193","v":0},{"$f":"G193-june!G193","v":-0.17000000000000004},{"$f":"H193-june!H193","v":-1139},null,0,184,null,null,{"$f":"AA193-june!G193","v":-1},{"$f":"AB193-june!H193","v":-6700}]
[185,"MILFORD                      ",185,null,82.649999999999991,459014,182.01000000000002,1042782,null,0,10000,null,459014,1052782,null,185,1,9,null,{"$f":"E194-june!E194","v":-4.1499999999999915},{"$f":"F194-june!F194","v":-54094},{"$f":"G194-june!G194","v":-16.75},{"$f":"H194-june!H194","v":-139467},null,0,185,175.87,1001644,{"$f":"AA194-june!G194","v":-22.890000000000015},{"$f":"AB194-june!H194","v":-180605}]
[186,"MILLBURY                     ",186,null,0,0,19.5,118671,null,0,0,null,0,118671,null,186,2,3,null,{"$f":"E195-june!E195","v":0},{"$f":"F195-june!F195","v":0},{"$f":"G195-june!G195","v":-4.84},{"$f":"H195-june!H195","v":-38958},null,0,186,16.07,95690,{"$f":"AA195-june!G195","v":-8.27},{"$f":"AB195-june!H195","v":-61939}]
[187,"MILLIS                       ",187,null,76.029999999999973,419555,28.34,168883,null,0,15000,null,419555,183883,null,187,null,2,null,{"$f":"E196-june!E196","v":-3.2300000000000182},{"$f":"F196-june!F196","v":-4365},{"$f":"G196-june!G196","v":-0.26999999999999957},{"$f":"H196-june!H196","v":-1900},null,0,187,27.16,160977,{"$f":"AA196-june!G196","v":-1.4499999999999993},{"$f":"AB196-june!H196","v":-9806}]
[188,"MILLVILLE                    ",188,null,0,0,0,0,null,0,0,null,0,0,null,188,null,null,null,{"$f":"E197-june!E197","v":0},{"$f":"F197-june!F197","v":0},{"$f":"G197-june!G197","v":0},{"$f":"H197-june!H197","v":0},null,0,188,null,null,{"$f":"AA197-june!G197","v":0},{"$f":"AB197-june!H197","v":0}]
[189,"MILTON                       ",189,null,0,0,2.84,19028,null,0,0,null,0,19028,null,189,2,2,null,{"$f":"E198-june!E198","v":0},{"$f":"F198-june!F198","v":0},{"$f":"G198-june!G198","v":-1.1600000000000001},{"$f":"H198-june!H198","v":-7772},null,0,189,null,null,{"$f":"AA198-june!G198","v":-4},{"$f":"AB198-june!H198","v":-26800}]
[190,"MONROE                       ",190,null,0,0,0.37,1850,null,0,0,null,0,1850,null,190,null,null,null,{"$f":"E199-june!E199","v":0},{"$f":"F199-june!F199","v":0},{"$f":"G199-june!G199","v":-0.37},{"$f":"H199-june!H199","v":-2134},null,0,190,0.37,1850,{"$f":"AA199-june!G199","v":-0.37},{"$f":"AB199-june!H199","v":-2134}]
[191,"MONSON                       ",191,null,42.96,239656,31.33,170503,null,0,0,null,239656,170503,null,191,6,null,null,{"$f":"E200-june!E200","v":-9.0399999999999991},{"$f":"F200-june!F200","v":-84072},{"$f":"G200-june!G200","v":-5.3500000000000085},{"$f":"H200-june!H200","v":-31474},null,0,191,26.349999999999998,137137,{"$f":"AA200-june!G200","v":-10.330000000000009},{"$f":"AB200-june!H200","v":-64840}]
[192,"MONTAGUE                     ",192,null,0,0,0,0,null,0,0,null,0,0,null,192,null,null,null,{"$f":"E201-june!E201","v":0},{"$f":"F201-june!F201","v":0},{"$f":"G201-june!G201","v":0},{"$f":"H201-june!H201","v":0},null,0,192,null,null,{"$f":"AA201-june!G201","v":0},{"$f":"AB201-june!H201","v":0}]
[193,"MONTEREY                     ",193,null,0,0,0,0,null,0,0,null,0,0,null,193,null,null,null,{"$f":"E202-june!E202","v":0},{"$f":"F202-june!F202","v":0},{"$f":"G202-june!G202","v":0},{"$f":"H202-june!H202","v":0},null,{"$f":"Z202-A202","v":0},193,null,null,{"$f":"AA202-june!G202","v":0},{"$f":"AB202-june!H202","v":0}]
[194,"MONTGOMERY                   ",194,null,0,0,{"$f":"AA203+(0.83*Q203)+0.59*R203","v":0},{"$f":"AB203+(0.83*Q203)*6700+0.59*R203*6700","v":0},null,0,0,null,{"$f":"F203+J203","v":0},{"$f":"H203+K203","v":0},null,194,null,null,null,{"$f":"E203-june!E203","v":0},{"$f":"F203-june!F203","v":0},{"$f":"G203-june!G203","v":0},{"$f":"H203-june!H203","v":0},null,0,194,null,null,{"$f":"AA203-june!G203","v":0},{"$f":"AB203-june!H203","v":0}]
[195,"MOUNT WASHINGTON             ",195,null,0,0,1,5000,null,0,0,null,0,5000,null,195,null,null,null,{"$f":"E204-june!E204","v":0},{"$f":"F204-june!F204","v":0},{"$f":"G204-june!G204","v":0},{"$f":"H204-june!H204","v":0},null,0,195,1,5000,{"$f":"AA204-june!G204","v":0},{"$f":"AB204-june!H204","v":0}]
[196,"NAHANT                       ",196,null,0,0,0,0,null,0,0,null,0,0,null,196,null,null,null,{"$f":"E205-june!E205","v":0},{"$f":"F205-june!F205","v":0},{"$f":"G205-june!G205","v":-1.48},{"$f":"H205-june!H205","v":-7400},null,0,196,null,null,{"$f":"AA205-june!G205","v":-1.48},{"$f":"AB205-june!H205","v":-7400}]
[197,"NANTUCKET                    ",197,null,0,0,0,0,null,0,0,null,0,0,null,197,null,null,null,{"$f":"E206-june!E206","v":0},{"$f":"F206-june!F206","v":0},{"$f":"G206-june!G206","v":-1.17},{"$f":"H206-june!H206","v":-7902},null,0,197,null,null,{"$f":"AA206-june!G206","v":-1.17},{"$f":"AB206-june!H206","v":-7902}]
[198,"NATICK                       ",198,null,40.06,245600,11.319999999999999,70718,null,0,0,null,245600,70718,null,198,3,4,null,{"$f":"E207-june!E207","v":1.1700000000000017},{"$f":"F207-june!F207","v":-61042},{"$f":"G207-june!G207","v":-0.45000000000000462},{"$f":"H207-june!H207","v":-7125},null,0,198,6.47,38223,{"$f":"AA207-june!G207","v":-5.3000000000000034},{"$f":"AB207-june!H207","v":-39620}]
[199,"NEEDHAM                      ",199,null,0,0,4.9499999999999993,30663,null,0,0,null,0,30663,null,199,null,5,null,{"$f":"E208-june!E208","v":0},{"$f":"F208-june!F208","v":0},{"$f":"G208-june!G208","v":-0.96},{"$f":"H208-june!H208","v":-7542},null,0,199,2,10898,{"$f":"AA208-june!G208","v":-3.9099999999999993},{"$f":"AB208-june!H208","v":-27307}]
[200,"NEW ASHFORD                  ",200,null,0,0,3,17406,null,0,0,null,0,17406,null,200,null,null,null,{"$f":"E209-june!E209","v":0},{"$f":"F209-june!F209","v":0},{"$f":"G209-june!G209","v":2},{"$f":"H209-june!H209","v":12406},null,0,200,3,17406,{"$f":"AA209-june!G209","v":2},{"$f":"AB209-june!H209","v":12406}]
[201,"NEW BEDFORD                  ",201,null,0,0,56.099999999999994,364593,null,0,0,null,0,364593,null,201,19,12,null,{"$f":"E210-june!E210","v":0},{"$f":"F210-june!F210","v":0},{"$f":"G210-june!G210","v":-34.290000000000006},{"$f":"H210-june!H210","v":-193999},null,0,201,33.25,211498,{"$f":"AA210-june!G210","v":-57.14},{"$f":"AB210-june!H210","v":-347094}]
[202,"NEW BRAINTREE                ",202,null,0,0,0,0,null,0,0,null,0,0,null,202,null,null,null,{"$f":"E211-june!E211","v":0},{"$f":"F211-june!F211","v":0},{"$f":"G211-june!G211","v":0},{"$f":"H211-june!H211","v":0},null,0,202,null,null,{"$f":"AA211-june!G211","v":0},{"$f":"AB211-june!H211","v":0}]
[203,"NEWBURY                      ",205,null,0,0,0,0,null,0,0,null,0,0,null,203,null,null,null,{"$f":"E212-june!E212","v":0},{"$f":"F212-june!F212","v":0},{"$f":"G212-june!G212","v":0},{"$f":"H212-june!H212","v":0},null,0,203,null,null,{"$f":"AA212-june!G212","v":0},{"$f":"AB212-june!H212","v":0}]
[204,"NEWBURYPORT                  ",206,null,56.16,727472,49.449999999999996,311607,null,0,0,null,727472,311607,null,204,null,null,null,{"$f":"E213-june!E213","v":14.14},{"$f":"F213-june!F213","v":85663},{"$f":"G213-june!G213","v":6.7199999999999989},{"$f":"H213-june!H213","v":46999},null,0,204,49.449999999999996,311607,{"$f":"AA213-june!G213","v":6.7199999999999989},{"$f":"AB213-june!H213","v":46999}]
[205,"NEW MARLBOROUGH              ",203,null,0,0,0,0,null,0,0,null,0,0,null,205,null,null,null,{"$f":"E214-june!E214","v":0},{"$f":"F214-june!F214","v":0},{"$f":"G214-june!G214","v":0},{"$f":"H214-june!H214","v":0},null,0,205,null,null,{"$f":"AA214-june!G214","v":0},{"$f":"AB214-june!H214","v":0}]
[206,"NEW SALEM                    ",204,null,0,0,0,0,null,0,0,null,0,0,null,206,null,null,null,{"$f":"E215-june!E215","v":0},{"$f":"F215-june!F215","v":0},{"$f":"G215-june!G215","v":0},{"$f":"H215-june!H215","v":0},null,0,206,null,null,{"$f":"AA215-june!G215","v":0},{"$f":"AB215-june!H215","v":0}]
[207,"NEWTON                       ",207,null,0,0,6.18,37326,null,0,0,null,0,37326,null,207,1,5,null,{"$f":"E216-june!E216","v":0},{"$f":"F216-june!F216","v":0},{"$f":"G216-june!G216","v":1.62},{"$f":"H216-june!H216","v":6515},null,0,207,2.4000000000000004,12000,{"$f":"AA216-june!G216","v":-2.1599999999999993},{"$f":"AB216-june!H216","v":-18811}]
[208,"NORFOLK                      ",208,null,0,0,5.67,34589,null,0,0,null,0,34589,null,208,3,2,null,{"$f":"E217-june!E217","v":0},{"$f":"F217-june!F217","v":0},{"$f":"G217-june!G217","v":2.67},{"$f":"H217-june!H217","v":17889},null,0,208,2,10000,{"$f":"AA217-june!G217","v":-1},{"$f":"AB217-june!H217","v":-6700}]
[209,"NORTH ADAMS                  ",209,null,44.21,290526,118.86000000000001,714238,null,0,0,null,290526,714238,null,209,1,8,null,{"$f":"E218-june!E218","v":4.0000000000006253E-2},{"$f":"F218-june!F218","v":-33233},{"$f":"G218-june!G218","v":5.960000000000008},{"$f":"H218-june!H218","v":61595},null,0,209,113.31000000000002,677053,{"$f":"AA218-june!G218","v":0.4100000000000108},{"$f":"AB218-june!H218","v":24410}]
[210,"NORTHAMPTON                  ",214,null,224.03,1827864,68.62,515576,null,0,0,null,1827864,515576,null,210,1,1,null,{"$f":"E219-june!E219","v":2.6699999999999875},{"$f":"F219-june!F219","v":-1188},{"$f":"G219-june!G219","v":-14.799999999999997},{"$f":"H219-june!H219","v":-121771},null,0,210,67.2,506062,{"$f":"AA219-june!G219","v":-16.22},{"$f":"AB219-june!H219","v":-131285}]
[211,"NORTH ANDOVER                ",210,null,0,0,0,0,null,0,0,null,0,0,null,211,null,null,null,{"$f":"E220-june!E220","v":0},{"$f":"F220-june!F220","v":0},{"$f":"G220-june!G220","v":0},{"$f":"H220-june!H220","v":0},null,0,211,null,null,{"$f":"AA220-june!G220","v":0},{"$f":"AB220-june!H220","v":0}]
[212,"NORTH ATTLEBOROUGH           ",211,null,0,0,8.3099999999999987,51427,null,0,0,null,0,51427,null,212,7,null,null,{"$f":"E221-june!E221","v":0},{"$f":"F221-june!F221","v":0},{"$f":"G221-june!G221","v":-4.8600000000000012},{"$f":"H221-june!H221","v":-35212},null,0,212,2.5,12500,{"$f":"AA221-june!G221","v":-10.67},{"$f":"AB221-june!H221","v":-74139}]
[213,"NORTHBOROUGH                 ",215,null,0,0,5.59,28953,null,0,0,null,0,28953,null,213,null,1,null,{"$f":"E222-june!E222","v":0},{"$f":"F222-june!F222","v":0},{"$f":"G222-june!G222","v":3.61},{"$f":"H222-june!H222","v":15685},null,0,213,5,25000,{"$f":"AA222-june!G222","v":3.02},{"$f":"AB222-june!H222","v":11732}]
[214,"NORTHBRIDGE                  ",216,null,108.41000000000001,597709,113.07999999999998,702739,null,0,0,null,597709,702739,null,214,1,3,null,{"$f":"E223-june!E223","v":4.210000000000008},{"$f":"F223-june!F223","v":29331},{"$f":"G223-june!G223","v":-14.510000000000048},{"$f":"H223-june!H223","v":-178239},null,0,214,110.47999999999999,685319,{"$f":"AA223-june!G223","v":-17.110000000000042},{"$f":"AB223-june!H223","v":-195659}]
[215,"NORTH BROOKFIELD             ",212,null,64.87,367210,123.61,712941,null,0,0,null,367210,712941,null,215,2,4,null,{"$f":"E224-june!E224","v":0.28999999999999204},{"$f":"F224-june!F224","v":19630},{"$f":"G224-june!G224","v":11},{"$f":"H224-june!H224","v":57326},null,0,215,119.59,686007,{"$f":"AA224-june!G224","v":6.980000000000004},{"$f":"AB224-june!H224","v":30392}]
[216,"NORTHFIELD                   ",217,null,0,0,0,0,null,0,0,null,0,0,null,216,null,null,null,{"$f":"E225-june!E225","v":0},{"$f":"F225-june!F225","v":0},{"$f":"G225-june!G225","v":0},{"$f":"H225-june!H225","v":0},null,0,216,null,null,{"$f":"AA225-june!G225","v":0},{"$f":"AB225-june!H225","v":0}]
[217,"NORTH READING                ",213,null,0,0,2.9499999999999997,19765,null,0,0,null,0,19765,null,217,null,5,null,{"$f":"E226-june!E226","v":0},{"$f":"F226-june!F226","v":0},{"$f":"G226-june!G226","v":-2.77},{"$f":"H226-june!H226","v":-15181},null,0,217,null,null,{"$f":"AA226-june!G226","v":-5.72},{"$f":"AB226-june!H226","v":-34946}]
[218,"NORTON                       ",218,null,11,64700,17.829999999999998,107342,null,0,0,null,64700,107342,null,218,6,3,null,{"$f":"E227-june!E227","v":-23.950000000000003},{"$f":"F227-june!F227","v":-110050},{"$f":"G227-june!G227","v":-1.1499999999999986},{"$f":"H227-june!H227","v":-10100},null,0,218,11.08,62117,{"$f":"AA227-june!G227","v":-7.8999999999999968},{"$f":"AB227-june!H227","v":-55325}]
[219,"NORWELL                      ",219,null,0,0,1,9000,null,0,0,null,0,9000,null,219,null,null,null,{"$f":"E228-june!E228","v":0},{"$f":"F228-june!F228","v":0},{"$f":"G228-june!G228","v":0},{"$f":"H228-june!H228","v":2059},null,0,219,1,9000,{"$f":"AA228-june!G228","v":0},{"$f":"AB228-june!H228","v":2059}]
[220,"NORWOOD                      ",220,null,0,0,3.4299999999999997,22981,null,0,0,null,0,22981,null,220,2,3,null,{"$f":"E229-june!E229","v":0},{"$f":"F229-june!F229","v":0},{"$f":"G229-june!G229","v":-5.9400000000000013},{"$f":"H229-june!H229","v":-39634},null,0,220,null,null,{"$f":"AA229-june!G229","v":-9.370000000000001},{"$f":"AB229-june!H229","v":-62615}]
[221,"OAK BLUFFS                   ",221,null,35.269999999999996,226153,31.240000000000002,189652,null,0,0,null,226153,189652,null,221,null,null,null,{"$f":"E230-june!E230","v":-0.18000000000000682},{"$f":"F230-june!F230","v":48903},{"$f":"G230-june!G230","v":0.15000000000000568},{"$f":"H230-june!H230","v":-45478},null,0,221,31.240000000000002,189652,{"$f":"AA230-june!G230","v":0.15000000000000568},{"$f":"AB230-june!H230","v":-45478}]
[222,"OAKHAM                       ",222,null,0,0,0,0,null,0,0,null,0,0,null,222,null,null,null,{"$f":"E231-june!E231","v":0},{"$f":"F231-june!F231","v":0},{"$f":"G231-june!G231","v":0},{"$f":"H231-june!H231","v":0},null,0,222,null,null,{"$f":"AA231-june!G231","v":0},{"$f":"AB231-june!H231","v":0}]
[223,"ORANGE                       ",223,null,53.11,344380,65.14,419776,null,0,0,null,344380,419776,null,223,1,1,null,{"$f":"E232-june!E232","v":-8.1199999999999974},{"$f":"F232-june!F232","v":-69763},{"$f":"G232-june!G232","v":-1.2999999999999972},{"$f":"H232-june!H232","v":28218},null,0,223,63.72,410262,{"$f":"AA232-june!G232","v":-2.7199999999999989},{"$f":"AB232-june!H232","v":18704}]
[224,"ORLEANS                      ",224,null,1,5000,2,10000,null,0,0,null,5000,10000,null,224,null,null,null,{"$f":"E233-june!E233","v":0},{"$f":"F233-june!F233","v":0},{"$f":"G233-june!G233","v":-0.49000000000000021},{"$f":"H233-june!H233","v":-3321},null,0,224,2,10000,{"$f":"AA233-june!G233","v":-0.49000000000000021},{"$f":"AB233-june!H233","v":-3321}]
[225,"OTIS                         ",225,null,0,0,0,0,null,0,0,null,0,0,null,225,null,null,null,{"$f":"E234-june!E234","v":0},{"$f":"F234-june!F234","v":0},{"$f":"G234-june!G234","v":0},{"$f":"H234-june!H234","v":0},null,0,225,null,null,{"$f":"AA234-june!G234","v":0},{"$f":"AB234-june!H234","v":0}]
[226,"OXFORD                       ",226,null,4,25129,69.580000000000013,381920,null,0,0,null,25129,381920,null,226,5,6,null,{"$f":"E235-june!E235","v":-1.9299999999999997},{"$f":"F235-june!F235","v":-4521},{"$f":"G235-june!G235","v":-9.8199999999999505},{"$f":"H235-june!H235","v":-68408},null,0,226,61.89,330397,{"$f":"AA235-june!G235","v":-17.509999999999962},{"$f":"AB235-june!H235","v":-119931}]
[227,"PALMER                       ",227,null,19.439999999999998,103206,74.960000000000008,415637,null,0,0,null,103206,415637,null,227,2,5,null,{"$f":"E236-june!E236","v":-7.9000000000000057},{"$f":"F236-june!F236","v":-45676},{"$f":"G236-june!G236","v":-9.0700000000000074},{"$f":"H236-june!H236","v":-103956},null,0,227,70.350000000000009,384750,{"$f":"AA236-june!G236","v":-13.680000000000007},{"$f":"AB236-june!H236","v":-134843}]
[228,"PAXTON                       ",228,null,0,0,0,0,null,0,0,null,0,0,null,228,null,null,null,{"$f":"E237-june!E237","v":0},{"$f":"F237-june!F237","v":0},{"$f":"G237-june!G237","v":0},{"$f":"H237-june!H237","v":0},null,0,228,null,null,{"$f":"AA237-june!G237","v":0},{"$f":"AB237-june!H237","v":0}]
[229,"PEABODY                      ",229,null,71.850000000000009,365942,50.04,262846,null,0,0,null,365942,262846,null,229,1,5,null,{"$f":"E238-june!E238","v":-19.240000000000038},{"$f":"F238-june!F238","v":-120653},{"$f":"G238-june!G238","v":2.0300000000000011},{"$f":"H238-june!H238","v":8832},null,0,229,46.26,237520,{"$f":"AA238-june!G238","v":-1.75},{"$f":"AB238-june!H238","v":-16494}]
[230,"PELHAM                       ",230,null,49.61999999999999,358484,2,34025,null,0,0,null,358484,34025,null,230,null,null,null,{"$f":"E239-june!E239","v":-3.3000000000000043},{"$f":"F239-june!F239","v":-23753},{"$f":"G239-june!G239","v":0},{"$f":"H239-june!H239","v":24025},null,0,230,2,34025,{"$f":"AA239-june!G239","v":0},{"$f":"AB239-june!H239","v":24025}]
[231,"PEMBROKE                     ",231,null,0,0,4.66,26717,null,0,0,null,0,26717,null,231,1,2,null,{"$f":"E240-june!E240","v":0},{"$f":"F240-june!F240","v":0},{"$f":"G240-june!G240","v":-2.8499999999999996},{"$f":"H240-june!H240","v":-16912},null,0,231,2.65,13250,{"$f":"AA240-june!G240","v":-4.8599999999999994},{"$f":"AB240-june!H240","v":-30379}]
[232,"PEPPERELL                    ",232,null,0,0,0,0,null,0,0,null,0,0,null,232,null,null,null,{"$f":"E241-june!E241","v":0},{"$f":"F241-june!F241","v":0},{"$f":"G241-june!G241","v":0},{"$f":"H241-june!H241","v":0},null,0,232,null,null,{"$f":"AA241-june!G241","v":0},{"$f":"AB241-june!H241","v":0}]
[233,"PERU                         ",233,null,0,0,0,0,null,0,0,null,0,0,null,233,null,null,null,{"$f":"E242-june!E242","v":0},{"$f":"F242-june!F242","v":0},{"$f":"G242-june!G242","v":0},{"$f":"H242-june!H242","v":0},null,0,233,null,null,{"$f":"AA242-june!G242","v":0},{"$f":"AB242-june!H242","v":0}]
[234,"PETERSHAM                    ",234,null,66.39,383945,10,50000,null,0,0,null,383945,50000,null,234,null,null,null,{"$f":"E243-june!E243","v":-0.28000000000001535},{"$f":"F243-june!F243","v":-19830},{"$f":"G243-june!G243","v":2},{"$f":"H243-june!H243","v":10000},null,0,234,10,50000,{"$f":"AA243-june!G243","v":2},{"$f":"AB243-june!H243","v":10000}]
[235,"PHILLIPSTON                  ",235,null,0,0,0,0,null,0,0,null,0,0,null,235,null,null,null,{"$f":"E244-june!E244","v":0},{"$f":"F244-june!F244","v":0},{"$f":"G244-june!G244","v":0},{"$f":"H244-june!H244","v":0},null,0,235,null,null,{"$f":"AA244-june!G244","v":0},{"$f":"AB244-june!H244","v":0}]
[236,"PITTSFIELD                   ",236,null,99.089999999999989,534879,441.93000000000006,2452955,null,0,0,null,534879,2452955,null,236,6,8,null,{"$f":"E245-june!E245","v":-2.5699999999999932},{"$f":"F245-june!F245","v":-29220},{"$f":"G245-june!G245","v":-35.800000000000068},{"$f":"H245-june!H245","v":-266572},null,0,236,432.23,2387965,{"$f":"AA245-june!G245","v":-45.500000000000114},{"$f":"AB245-june!H245","v":-331562}]
[237,"PLAINFIELD                   ",237,null,0,0,0,0,null,0,0,null,0,0,null,237,null,null,null,{"$f":"E246-june!E246","v":0},{"$f":"F246-june!F246","v":0},{"$f":"G246-june!G246","v":0},{"$f":"H246-june!H246","v":0},null,0,237,null,null,{"$f":"AA246-june!G246","v":0},{"$f":"AB246-june!H246","v":0}]
[238,"PLAINVILLE                   ",238,null,0,0,0,0,null,0,0,null,0,0,null,238,null,null,null,{"$f":"E247-june!E247","v":0},{"$f":"F247-june!F247","v":0},{"$f":"G247-june!G247","v":0},{"$f":"H247-june!H247","v":0},null,0,238,null,null,{"$f":"AA247-june!G247","v":0},{"$f":"AB247-june!H247","v":0}]
[239,"PLYMOUTH                     ",239,null,0,0,50.06,280378,null,0,0,null,0,280378,null,239,null,5,null,{"$f":"E248-june!E248","v":0},{"$f":"F248-june!F248","v":0},{"$f":"G248-june!G248","v":-3.0000000000000071},{"$f":"H248-june!H248","v":-9259},null,0,239,47.11,260613,{"$f":"AA248-june!G248","v":-5.9500000000000099},{"$f":"AB248-june!H248","v":-29024}]
[240,"PLYMPTON                     ",240,null,4,20000,1,5000,null,0,0,null,20000,5000,null,240,null,null,null,{"$f":"E249-june!E249","v":-2},{"$f":"F249-june!F249","v":-10000},{"$f":"G249-june!G249","v":0},{"$f":"H249-june!H249","v":0},null,0,240,1,5000,{"$f":"AA249-june!G249","v":0},{"$f":"AB249-june!H249","v":0}]
[241,"PRINCETON                    ",241,null,0,0,0,0,null,0,0,null,0,0,null,241,null,null,null,{"$f":"E250-june!E250","v":0},{"$f":"F250-june!F250","v":0},{"$f":"G250-june!G250","v":0},{"$f":"H250-june!H250","v":0},null,0,241,null,null,{"$f":"AA250-june!G250","v":0},{"$f":"AB250-june!H250","v":0}]
[242,"PROVINCETOWN                 ",242,null,27.849999999999998,300338,20,124934,null,0,0,null,300338,124934,null,242,null,null,null,{"$f":"E251-june!E251","v":-14.680000000000003},{"$f":"F251-june!F251","v":-68594},{"$f":"G251-june!G251","v":1},{"$f":"H251-june!H251","v":18280},null,0,242,20,124934,{"$f":"AA251-june!G251","v":1},{"$f":"AB251-june!H251","v":18280}]
[243,"QUINCY                       ",243,null,0,0,10.629999999999999,71352,null,0,0,null,0,71352,null,243,4,9,null,{"$f":"E252-june!E252","v":0},{"$f":"F252-june!F252","v":0},{"$f":"G252-june!G252","v":0.74000000000000021},{"$f":"H252-june!H252","v":-1478},null,0,243,2,13531,{"$f":"AA252-june!G252","v":-7.8899999999999988},{"$f":"AB252-june!H252","v":-59299}]
[244,"RANDOLPH                     ",244,null,5.330000000000001,47279,153.69,819586,null,0,0,null,47279,819586,null,244,null,10,null,{"$f":"E253-june!E253","v":-1.669999999999999},{"$f":"F253-june!F253","v":8760},{"$f":"G253-june!G253","v":-5.2700000000000387},{"$f":"H253-june!H253","v":-30144},null,0,244,147.79,780056,{"$f":"AA253-june!G253","v":-11.170000000000044},{"$f":"AB253-june!H253","v":-69674}]
[245,"RAYNHAM                      ",245,null,0,0,0,0,null,0,0,null,0,0,null,245,null,null,null,{"$f":"E254-june!E254","v":0},{"$f":"F254-june!F254","v":0},{"$f":"G254-june!G254","v":0},{"$f":"H254-june!H254","v":0},null,0,245,null,null,{"$f":"AA254-june!G254","v":0},{"$f":"AB254-june!H254","v":0}]
[246,"READING                      ",246,null,0,0,2.91,19369,null,0,0,null,0,19369,null,246,2,null,null,{"$f":"E255-june!E255","v":0},{"$f":"F255-june!F255","v":0},{"$f":"G255-june!G255","v":-4.1899999999999995},{"$f":"H255-june!H255","v":-28780},null,0,246,1.25,8247,{"$f":"AA255-june!G255","v":-5.85},{"$f":"AB255-june!H255","v":-39902}]
[247,"REHOBOTH                     ",247,null,0,0,0,0,null,0,0,null,0,0,null,247,null,null,null,{"$f":"E256-june!E256","v":0},{"$f":"F256-june!F256","v":0},{"$f":"G256-june!G256","v":0},{"$f":"H256-june!H256","v":0},null,0,247,null,null,{"$f":"AA256-june!G256","v":0},{"$f":"AB256-june!H256","v":0}]
[248,"REVERE                       ",248,null,0,0,12.44,71448,null,0,0,null,0,71448,null,248,3,5,null,{"$f":"E257-june!E257","v":0},{"$f":"F257-june!F257","v":0},{"$f":"G257-june!G257","v":-1.1199999999999992},{"$f":"H257-june!H257","v":-8265},null,0,248,7,35000,{"$f":"AA257-june!G257","v":-6.5599999999999987},{"$f":"AB257-june!H257","v":-44713}]
[249,"RICHMOND                     ",249,null,76,380000,16.170000000000002,86852,null,0,0,null,380000,86852,null,249,null,null,null,{"$f":"E258-june!E258","v":-3.5},{"$f":"F258-june!F258","v":-24770},{"$f":"G258-june!G258","v":0.43000000000000327},{"$f":"H258-june!H258","v":2337},null,0,249,16.170000000000002,86852,{"$f":"AA258-june!G258","v":0.43000000000000327},{"$f":"AB258-june!H258","v":2337}]
[250,"ROCHESTER                    ",250,null,0,0,2,10000,null,0,0,null,0,10000,null,250,null,null,null,{"$f":"E259-june!E259","v":0},{"$f":"F259-june!F259","v":0},{"$f":"G259-june!G259","v":1},{"$f":"H259-june!H259","v":5000},null,0,250,2,10000,{"$f":"AA259-june!G259","v":1},{"$f":"AB259-june!H259","v":5000}]
[251,"ROCKLAND                     ",251,null,36.28,185181,11.52,67851,null,0,0,null,185181,67851,null,251,3,6,null,{"$f":"E260-june!E260","v":-0.84000000000000341},{"$f":"F260-june!F260","v":-7638},{"$f":"G260-june!G260","v":-2.3900000000000023},{"$f":"H260-june!H260","v":-19952},null,0,251,5.49,27450,{"$f":"AA260-june!G260","v":-8.4200000000000017},{"$f":"AB260-june!H260","v":-60353}]
[252,"ROCKPORT                     ",252,null,224.25999999999993,1245557,27.849999999999998,152910,null,0,0,null,1245557,152910,null,252,null,null,null,{"$f":"E261-june!E261","v":-13.570000000000078},{"$f":"F261-june!F261","v":-140687},{"$f":"G261-june!G261","v":0.36999999999999744},{"$f":"H261-june!H261","v":14400},null,0,252,27.849999999999998,152910,{"$f":"AA261-june!G261","v":0.36999999999999744},{"$f":"AB261-june!H261","v":14400}]
[253,"ROWE                         ",253,null,18.38,93768,2,16970,null,0,0,null,93768,16970,null,253,null,null,null,{"$f":"E262-june!E262","v":-0.62000000000000099},{"$f":"F262-june!F262","v":-3586},{"$f":"G262-june!G262","v":-1},{"$f":"H262-june!H262","v":-4987},null,0,253,2,16970,{"$f":"AA262-june!G262","v":-1},{"$f":"AB262-june!H262","v":-4987}]
[254,"ROWLEY                       ",254,null,0,0,0,0,null,0,0,null,0,0,null,254,null,null,null,{"$f":"E263-june!E263","v":0},{"$f":"F263-june!F263","v":0},{"$f":"G263-june!G263","v":0},{"$f":"H263-june!H263","v":0},null,0,254,null,null,{"$f":"AA263-june!G263","v":0},{"$f":"AB263-june!H263","v":0}]
[255,"ROYALSTON                    ",255,null,0,0,0,0,null,0,0,null,0,0,null,255,null,null,null,{"$f":"E264-june!E264","v":0},{"$f":"F264-june!F264","v":0},{"$f":"G264-june!G264","v":0},{"$f":"H264-june!H264","v":0},null,0,255,null,null,{"$f":"AA264-june!G264","v":0},{"$f":"AB264-june!H264","v":0}]
[256,"RUSSELL                      ",256,null,0,0,0,0,null,0,0,null,0,0,null,256,null,null,null,{"$f":"E265-june!E265","v":0},{"$f":"F265-june!F265","v":0},{"$f":"G265-june!G265","v":0},{"$f":"H265-june!H265","v":0},null,0,256,null,null,{"$f":"AA265-june!G265","v":0},{"$f":"AB265-june!H265","v":0}]
[257,"RUTLAND                      ",257,null,0,0,0,0,null,0,0,null,0,0,null,257,null,null,null,{"$f":"E266-june!E266","v":0},{"$f":"F266-june!F266","v":0},{"$f":"G266-june!G266","v":0},{"$f":"H266-june!H266","v":0},null,{"$f":"Z266-A266","v":0},257,null,null,{"$f":"AA266-june!G266","v":0},{"$f":"AB266-june!H266","v":0}]
[258,"SALEM                        ",258,null,0,0,{"$f":"AA267+(0.83*Q267)+0.59*R267","v":73.719999999999985},{"$f":"AB267+(0.83*Q267)*6700+0.59*R267*6700","v":400142},null,0,0,null,{"$f":"F267+J267","v":0},{"$f":"H267+K267","v":400142},null,258,3,7,null,{"$f":"E267-june!E267","v":0},{"$f":"F267-june!F267","v":0},{"$f":"G267-june!G267","v":-0.74000000000000909},{"$f":"H267-june!H267","v":-19396},null,0,258,67.099999999999994,355788,{"$f":"AA267-june!G267","v":-7.3599999999999994},{"$f":"AB267-june!H267","v":-63750}]
[259,"SALISBURY                    ",259,null,0,0,0,0,null,0,0,null,0,0,null,259,null,null,null,{"$f":"E268-june!E268","v":0},{"$f":"F268-june!F268","v":0},{"$f":"G268-june!G268","v":0},{"$f":"H268-june!H268","v":0},null,0,259,null,null,{"$f":"AA268-june!G268","v":0},{"$f":"AB268-june!H268","v":0}]
[260,"SANDISFIELD                  ",260,null,0,0,0,0,null,0,0,null,0,0,null,260,null,null,null,{"$f":"E269-june!E269","v":0},{"$f":"F269-june!F269","v":0},{"$f":"G269-june!G269","v":0},{"$f":"H269-june!H269","v":0},null,0,260,null,null,{"$f":"AA269-june!G269","v":0},{"$f":"AB269-june!H269","v":0}]
[261,"SANDWICH                     ",261,null,82.5,458438,64.48,344631,null,0,0,null,458438,344631,null,261,null,6,null,{"$f":"E270-june!E270","v":6.0999999999999943},{"$f":"F270-june!F270","v":46400},{"$f":"G270-june!G270","v":0.45000000000000284},{"$f":"H270-june!H270","v":-28000},null,0,261,60.940000000000005,320913,{"$f":"AA270-june!G270","v":-3.0899999999999963},{"$f":"AB270-june!H270","v":-51718}]
[262,"SAUGUS                       ",262,null,0,0,10.85,62495,null,0,0,null,0,62495,null,262,3,4,null,{"$f":"E271-june!E271","v":0},{"$f":"F271-june!F271","v":0},{"$f":"G271-june!G271","v":-5.120000000000001},{"$f":"H271-june!H271","v":-34949},null,0,262,6,30000,{"$f":"AA271-june!G271","v":-9.9700000000000006},{"$f":"AB271-june!H271","v":-67444}]
[263,"SAVOY                        ",263,null,14,74998,25.48,166742,null,0,0,null,74998,166742,null,263,null,null,null,{"$f":"E272-june!E272","v":3},{"$f":"F272-june!F272","v":17693},{"$f":"G272-june!G272","v":1.3300000000000018},{"$f":"H272-june!H272","v":35861},null,0,263,25.48,166742,{"$f":"AA272-june!G272","v":1.3300000000000018},{"$f":"AB272-june!H272","v":35861}]
[264,"SCITUATE                     ",264,null,0,0,1.18,7906,null,0,0,null,0,7906,null,264,null,2,null,{"$f":"E273-june!E273","v":0},{"$f":"F273-june!F273","v":0},{"$f":"G273-june!G273","v":-0.12000000000000011},{"$f":"H273-june!H273","v":-1175},null,0,264,null,null,{"$f":"AA273-june!G273","v":-1.3},{"$f":"AB273-june!H273","v":-9081}]
[265,"SEEKONK                      ",265,null,0,0,4.0199999999999996,26934,null,0,0,null,0,26934,null,265,2,4,null,{"$f":"E274-june!E274","v":0},{"$f":"F274-june!F274","v":0},{"$f":"G274-june!G274","v":-1.2800000000000002},{"$f":"H274-june!H274","v":-9697},null,0,265,null,null,{"$f":"AA274-june!G274","v":-5.3},{"$f":"AB274-june!H274","v":-36631}]
[266,"SHARON                       ",266,null,0,0,0.59,3953,null,0,0,null,0,3953,null,266,null,1,null,{"$f":"E275-june!E275","v":0},{"$f":"F275-june!F275","v":0},{"$f":"G275-june!G275","v":-2.41},{"$f":"H275-june!H275","v":-13903},null,0,266,null,null,{"$f":"AA275-june!G275","v":-3},{"$f":"AB275-june!H275","v":-17856}]
[267,"SHEFFIELD                    ",267,null,0,0,0,0,null,0,0,null,0,0,null,267,null,null,null,{"$f":"E276-june!E276","v":0},{"$f":"F276-june!F276","v":0},{"$f":"G276-june!G276","v":0},{"$f":"H276-june!H276","v":0},null,0,267,null,null,{"$f":"AA276-june!G276","v":0},{"$f":"AB276-june!H276","v":0}]
[268,"SHELBURNE                    ",268,null,0,0,0,0,null,0,0,null,0,0,null,268,null,null,null,{"$f":"E277-june!E277","v":0},{"$f":"F277-june!F277","v":0},{"$f":"G277-june!G277","v":0},{"$f":"H277-june!H277","v":0},null,0,268,null,null,{"$f":"AA277-june!G277","v":0},{"$f":"AB277-june!H277","v":0}]
[269,"SHERBORN                     ",269,null,0,0,0,0,null,0,0,null,0,0,null,269,null,null,null,{"$f":"E278-june!E278","v":0},{"$f":"F278-june!F278","v":0},{"$f":"G278-june!G278","v":0},{"$f":"H278-june!H278","v":0},null,0,269,null,null,{"$f":"AA278-june!G278","v":0},{"$f":"AB278-june!H278","v":0}]
[270,"SHIRLEY                      ",270,null,0,0,0,0,null,0,0,null,0,0,null,270,null,null,null,{"$f":"E279-june!E279","v":0},{"$f":"F279-june!F279","v":0},{"$f":"G279-june!G279","v":0},{"$f":"H279-june!H279","v":0},null,0,270,null,null,{"$f":"AA279-june!G279","v":0},{"$f":"AB279-june!H279","v":0}]
[271,"SHREWSBURY                   ",271,null,0.81,4989,36.79,211728,null,0,0,null,4989,211728,null,271,1,8,null,{"$f":"E280-june!E280","v":0.81},{"$f":"F280-june!F280","v":4989},{"$f":"G280-june!G280","v":10.100000000000001},{"$f":"H280-june!H280","v":48873},null,0,271,31.240000000000002,174543,{"$f":"AA280-june!G280","v":4.5500000000000043},{"$f":"AB280-june!H280","v":11688}]
[272,"SHUTESBURY                   ",272,null,0,0,8,40000,null,0,0,null,0,40000,null,272,null,null,null,{"$f":"E281-june!E281","v":0},{"$f":"F281-june!F281","v":0},{"$f":"G281-june!G281","v":-3.4599999999999991},{"$f":"H281-june!H281","v":-21092},null,0,272,8,40000,{"$f":"AA281-june!G281","v":-3.4599999999999991},{"$f":"AB281-june!H281","v":-21092}]
[273,"SOMERSET                     ",273,null,0,0,5.2299999999999995,29567,null,0,0,null,0,29567,null,273,1,2,null,{"$f":"E282-june!E282","v":0},{"$f":"F282-june!F282","v":0},{"$f":"G282-june!G282","v":-8.4499999999999993},{"$f":"H282-june!H282","v":-43609},null,0,273,3.2199999999999998,16100,{"$f":"AA282-june!G282","v":-10.46},{"$f":"AB282-june!H282","v":-57076}]
[274,"SOMERVILLE                   ",274,null,0,0,1.42,9514,null,0,0,null,0,9514,null,274,1,1,null,{"$f":"E283-june!E283","v":0},{"$f":"F283-june!F283","v":0},{"$f":"G283-june!G283","v":-3.58},{"$f":"H283-june!H283","v":-18886},null,0,274,null,null,{"$f":"AA283-june!G283","v":-5},{"$f":"AB283-june!H283","v":-28400}]
[275,"SOUTHAMPTON                  ",276,null,65,394230,15.939999999999998,113346,null,0,0,null,394230,113346,null,275,5,null,null,{"$f":"E284-june!E284","v":-5.8799999999999955},{"$f":"F284-june!F284","v":-40796},{"$f":"G284-june!G284","v":5.9899999999999984},{"$f":"H284-june!H284","v":38143},null,0,275,11.79,85541,{"$f":"AA284-june!G284","v":1.8399999999999999},{"$f":"AB284-june!H284","v":10338}]
[276,"SOUTHBOROUGH                 ",277,null,0,0,2.4,16812,null,0,0,null,0,16812,null,276,2,1,null,{"$f":"E285-june!E285","v":0},{"$f":"F285-june!F285","v":0},{"$f":"G285-june!G285","v":-1.77},{"$f":"H285-june!H285","v":-13006},null,0,276,0.15,1737,{"$f":"AA285-june!G285","v":-4.0199999999999996},{"$f":"AB285-june!H285","v":-28081}]
[277,"SOUTHBRIDGE                  ",278,null,6.33,71119,231.83,1301647,null,0,0,null,71119,1301647,null,277,4,8,null,{"$f":"E286-june!E286","v":-0.98000000000000043},{"$f":"F286-june!F286","v":34569},{"$f":"G286-june!G286","v":-30.499999999999915},{"$f":"H286-june!H286","v":-187855},null,0,277,223.79000000000002,1247779,{"$f":"AA286-june!G286","v":-38.539999999999907},{"$f":"AB286-june!H286","v":-241723}]
[278,"SOUTH HADLEY                 ",275,null,168.47000000000006,960997,115.37,738717,null,0,0,null,960997,738717,null,278,4,3,null,{"$f":"E287-june!E287","v":6.0800000000000693},{"$f":"F287-june!F287","v":57851},{"$f":"G287-june!G287","v":2.0099999999999767},{"$f":"H287-june!H287","v":-3850},null,0,278,110.28000000000002,704614,{"$f":"AA287-june!G287","v":-3.0800000000000125},{"$f":"AB287-june!H287","v":-37953}]
[279,"SOUTHWICK                    ",279,null,0,0,0,0,null,0,0,null,0,0,null,279,null,null,null,{"$f":"E288-june!E288","v":0},{"$f":"F288-june!F288","v":0},{"$f":"G288-june!G288","v":0},{"$f":"H288-june!H288","v":0},null,0,279,null,null,{"$f":"AA288-june!G288","v":0},{"$f":"AB288-june!H288","v":0}]
[280,"SPENCER                      ",280,null,0,0,0,0,null,0,0,null,0,0,null,280,null,null,null,{"$f":"E289-june!E289","v":0},{"$f":"F289-june!F289","v":0},{"$f":"G289-june!G289","v":0},{"$f":"H289-june!H289","v":0},null,0,280,null,null,{"$f":"AA289-june!G289","v":0},{"$f":"AB289-june!H289","v":0}]
[281,"SPRINGFIELD                  ",281,null,8.41,45904,740.96999999999991,4294860,null,0,0,null,45904,4294860,null,281,30,56,null,{"$f":"E290-june!E290","v":-5.59},{"$f":"F290-june!F290","v":-32448},{"$f":"G290-june!G290","v":-16.35000000000025},{"$f":"H290-june!H290","v":-185285},null,0,281,683.03,3906662,{"$f":"AA290-june!G290","v":-74.290000000000191},{"$f":"AB290-june!H290","v":-573483}]
[282,"STERLING                     ",282,null,0,0,0,0,null,0,0,null,0,0,null,282,null,null,null,{"$f":"E291-june!E291","v":0},{"$f":"F291-june!F291","v":0},{"$f":"G291-june!G291","v":0},{"$f":"H291-june!H291","v":0},null,0,282,null,null,{"$f":"AA291-june!G291","v":0},{"$f":"AB291-june!H291","v":0}]
[283,"STOCKBRIDGE                  ",283,null,0,0,0,0,null,0,0,null,0,0,null,283,null,null,null,{"$f":"E292-june!E292","v":0},{"$f":"F292-june!F292","v":0},{"$f":"G292-june!G292","v":0},{"$f":"H292-june!H292","v":0},null,0,283,null,null,{"$f":"AA292-june!G292","v":0},{"$f":"AB292-june!H292","v":0}]
[284,"STONEHAM                     ",284,null,0,0,2.48,21674,null,0,0,null,0,21674,null,284,null,null,null,{"$f":"E293-june!E293","v":0},{"$f":"F293-june!F293","v":0},{"$f":"G293-june!G293","v":-5.01},{"$f":"H293-june!H293","v":-30162},null,0,284,2.48,21674,{"$f":"AA293-june!G293","v":-5.01},{"$f":"AB293-june!H293","v":-30162}]
[285,"STOUGHTON                    ",285,null,0,0,13.14,76138,null,0,0,null,0,76138,null,285,1,9,null,{"$f":"E294-june!E294","v":0},{"$f":"F294-june!F294","v":0},{"$f":"G294-june!G294","v":-3.490000000000002},{"$f":"H294-june!H294","v":-67497},null,0,285,7,35000,{"$f":"AA294-june!G294","v":-9.6300000000000026},{"$f":"AB294-june!H294","v":-108635}]
[286,"STOW                         ",286,null,0,0,0,0,null,0,0,null,0,0,null,286,null,null,null,{"$f":"E295-june!E295","v":0},{"$f":"F295-june!F295","v":0},{"$f":"G295-june!G295","v":0},{"$f":"H295-june!H295","v":0},null,0,286,null,null,{"$f":"AA295-june!G295","v":0},{"$f":"AB295-june!H295","v":0}]
[287,"STURBRIDGE                   ",287,null,0,0,4.4800000000000004,25222,null,0,0,null,0,25222,null,287,2,null,null,{"$f":"E296-june!E296","v":0},{"$f":"F296-june!F296","v":0},{"$f":"G296-june!G296","v":-2.5299999999999994},{"$f":"H296-june!H296","v":-24863},null,0,287,2.8200000000000003,14100,{"$f":"AA296-june!G296","v":-4.1899999999999995},{"$f":"AB296-june!H296","v":-35985}]
[288,"SUDBURY                      ",288,null,0,0,2.98,23284,null,0,0,null,0,23284,null,288,null,null,null,{"$f":"E297-june!E297","v":0},{"$f":"F297-june!F297","v":0},{"$f":"G297-june!G297","v":1.48},{"$f":"H297-june!H297","v":8172},null,0,288,2.98,23284,{"$f":"AA297-june!G297","v":1.48},{"$f":"AB297-june!H297","v":8172}]
[289,"SUNDERLAND                   ",289,null,35.769999999999996,262071,18.59,93953,null,0,0,null,262071,93953,null,289,null,1,null,{"$f":"E298-june!E298","v":-5.740000000000002},{"$f":"F298-june!F298","v":-41286},{"$f":"G298-june!G298","v":10.59},{"$f":"H298-june!H298","v":53953},null,0,289,18,90000,{"$f":"AA298-june!G298","v":10},{"$f":"AB298-june!H298","v":50000}]
[290,"SUTTON                       ",290,null,52,292239,19.409999999999997,106098,null,0,0,null,292239,106098,null,290,1,2,null,{"$f":"E299-june!E299","v":13},{"$f":"F299-june!F299","v":73156},{"$f":"G299-june!G299","v":1.509999999999998},{"$f":"H299-june!H299","v":9668},null,0,290,17.399999999999999,92631,{"$f":"AA299-june!G299","v":-0.5},{"$f":"AB299-june!H299","v":-3799}]
[291,"SWAMPSCOTT                   ",291,null,0,0,3.36,20812,null,0,0,null,0,20812,null,291,null,4,null,{"$f":"E300-june!E300","v":0},{"$f":"F300-june!F300","v":0},{"$f":"G300-june!G300","v":-1.9},{"$f":"H300-june!H300","v":-12925},null,0,291,1,5000,{"$f":"AA300-june!G300","v":-4.26},{"$f":"AB300-june!H300","v":-28737}]
[292,"SWANSEA                      ",292,null,0,0,9.09,47456,null,0,0,null,0,47456,null,292,null,2,null,{"$f":"E301-june!E301","v":0},{"$f":"F301-june!F301","v":0},{"$f":"G301-june!G301","v":-4.91},{"$f":"H301-june!H301","v":-29745},null,0,292,7.91,39550,{"$f":"AA301-june!G301","v":-6.09},{"$f":"AB301-june!H301","v":-37651}]
[293,"TAUNTON                      ",293,null,84.230000000000018,444565,64.11,361081,null,0,0,null,444565,361081,null,293,3,6,null,{"$f":"E302-june!E302","v":-6.3899999999999864},{"$f":"F302-june!F302","v":-29153},{"$f":"G302-june!G302","v":-48.459999999999994},{"$f":"H302-june!H302","v":-268261},null,0,293,58.08,320680,{"$f":"AA302-june!G302","v":-54.489999999999995},{"$f":"AB302-june!H302","v":-308662}]
[294,"TEMPLETON                    ",294,null,0,0,0,0,null,0,0,null,0,0,null,294,null,null,null,{"$f":"E303-june!E303","v":0},{"$f":"F303-june!F303","v":0},{"$f":"G303-june!G303","v":0},{"$f":"H303-june!H303","v":0},null,0,294,null,null,{"$f":"AA303-june!G303","v":0},{"$f":"AB303-june!H303","v":0}]
[295,"TEWKSBURY                    ",295,null,0,0,5.13,32671,null,0,0,null,0,32671,null,295,null,7,null,{"$f":"E304-june!E304","v":0},{"$f":"F304-june!F304","v":0},{"$f":"G304-june!G304","v":-1.2199999999999998},{"$f":"H304-june!H304","v":-8108},null,0,295,1,5000,{"$f":"AA304-june!G304","v":-5.35},{"$f":"AB304-june!H304","v":-35779}]
[296,"TISBURY                      ",296,null,21.14,114178,40.590000000000003,251699,null,0,0,null,114178,251699,null,296,null,1,null,{"$f":"E305-june!E305","v":0.10999999999999943},{"$f":"F305-june!F305","v":3517},{"$f":"G305-june!G305","v":-4.8599999999999994},{"$f":"H305-june!H305","v":2152},null,0,296,40,247746,{"$f":"AA305-june!G305","v":-5.4500000000000028},{"$f":"AB305-june!H305","v":-1801}]
[297,"TOLLAND                      ",297,null,0,0,0,0,null,0,0,null,0,0,null,297,null,null,null,{"$f":"E306-june!E306","v":0},{"$f":"F306-june!F306","v":0},{"$f":"G306-june!G306","v":0},{"$f":"H306-june!H306","v":0},null,0,297,null,null,{"$f":"AA306-june!G306","v":0},{"$f":"AB306-june!H306","v":0}]
[298,"TOPSFIELD                    ",298,null,0,0,1.2999999999999998,7503,null,0,0,null,0,7503,null,298,null,1,null,{"$f":"E307-june!E307","v":0},{"$f":"F307-june!F307","v":0},{"$f":"G307-june!G307","v":1.2999999999999998},{"$f":"H307-june!H307","v":7503},null,0,298,0.71,3550,{"$f":"AA307-june!G307","v":0.71},{"$f":"AB307-june!H307","v":3550}]
[299,"TOWNSEND                     ",299,null,0,0,0,0,null,0,0,null,0,0,null,299,null,null,null,{"$f":"E308-june!E308","v":0},{"$f":"F308-june!F308","v":0},{"$f":"G308-june!G308","v":0},{"$f":"H308-june!H308","v":0},null,0,299,null,null,{"$f":"AA308-june!G308","v":0},{"$f":"AB308-june!H308","v":0}]
[300,"TRURO                        ",300,null,19.98,121623,16.770000000000003,107940,null,0,0,null,121623,107940,null,300,null,null,null,{"$f":"E309-june!E309","v":5.1099999999999994},{"$f":"F309-june!F309","v":41340},{"$f":"G309-june!G309","v":-6.2399999999999949},{"$f":"H309-june!H309","v":-145167},null,0,300,16.770000000000003,107940,{"$f":"AA309-june!G309","v":-6.2399999999999949},{"$f":"AB309-june!H309","v":-145167}]
[301,"TYNGSBOROUGH                 ",301,null,39.64,223965,21.799999999999997,112513,null,0,0,null,223965,112513,null,301,1,1,null,{"$f":"E310-june!E310","v":-3.1400000000000006},{"$f":"F310-june!F310","v":-19426},{"$f":"G310-june!G310","v":-4.8300000000000018},{"$f":"H310-june!H310","v":-26653},null,0,301,20.38,102999,{"$f":"AA310-june!G310","v":-6.25},{"$f":"AB310-june!H310","v":-36167}]
[302,"TYRINGHAM                    ",302,null,0,0,14,72960,null,0,0,null,0,72960,null,302,null,null,null,{"$f":"E311-june!E311","v":0},{"$f":"F311-june!F311","v":0},{"$f":"G311-june!G311","v":1},{"$f":"H311-june!H311","v":5785},null,0,302,14,72960,{"$f":"AA311-june!G311","v":1},{"$f":"AB311-june!H311","v":5785}]
[303,"UPTON                        ",303,null,0,0,0,0,null,0,0,null,0,0,null,303,null,null,null,{"$f":"E312-june!E312","v":0},{"$f":"F312-june!F312","v":0},{"$f":"G312-june!G312","v":0},{"$f":"H312-june!H312","v":0},null,0,303,null,null,{"$f":"AA312-june!G312","v":0},{"$f":"AB312-june!H312","v":0}]
[304,"UXBRIDGE                     ",304,null,90.930000000000021,563983,196.76000000000005,1100081,null,0,0,null,563983,1100081,null,304,3,5,null,{"$f":"E313-june!E313","v":-45.14},{"$f":"F313-june!F313","v":-305590},{"$f":"G313-june!G313","v":18.29000000000002},{"$f":"H313-june!H313","v":114774},null,0,304,191.32000000000005,1063633,{"$f":"AA313-june!G313","v":12.850000000000023},{"$f":"AB313-june!H313","v":78326}]
[305,"WAKEFIELD                    ",305,null,0,0,4.49,25459,null,0,0,null,0,25459,null,305,null,3,null,{"$f":"E314-june!E314","v":0},{"$f":"F314-june!F314","v":0},{"$f":"G314-june!G314","v":-7.9600000000000026},{"$f":"H314-june!H314","v":-52501},null,0,305,2.7199999999999998,13600,{"$f":"AA314-june!G314","v":-9.730000000000004},{"$f":"AB314-june!H314","v":-64360}]
[306,"WALES                        ",306,null,10.219999999999999,53738,15,86382,null,0,0,null,53738,86382,null,306,null,null,null,{"$f":"E315-june!E315","v":4.0499999999999989},{"$f":"F315-june!F315","v":22888},{"$f":"G315-june!G315","v":1},{"$f":"H315-june!H315","v":10987},null,0,306,15,86382,{"$f":"AA315-june!G315","v":1},{"$f":"AB315-june!H315","v":10987}]
[307,"WALPOLE                      ",307,null,0,0,9.5399999999999991,57919,null,0,0,null,0,57919,null,307,null,6,null,{"$f":"E316-june!E316","v":0},{"$f":"F316-june!F316","v":0},{"$f":"G316-june!G316","v":-0.33999999999999986},{"$f":"H316-june!H316","v":-3235},null,0,307,6,34201,{"$f":"AA316-june!G316","v":-3.879999999999999},{"$f":"AB316-june!H316","v":-26953}]
[308,"WALTHAM                      ",308,null,0,0,5.8699999999999992,37595,null,0,0,null,0,37595,null,308,3,4,null,{"$f":"E317-june!E317","v":0},{"$f":"F317-june!F317","v":0},{"$f":"G317-june!G317","v":-2.4600000000000009},{"$f":"H317-june!H317","v":-18417},null,0,308,1.02,5100,{"$f":"AA317-june!G317","v":-7.3100000000000005},{"$f":"AB317-june!H317","v":-50912}]
[309,"WARE                         ",309,null,36.72,238934,177.66,1036761,null,0,0,null,238934,1036761,null,309,6,2,null,{"$f":"E318-june!E318","v":-13.090000000000011},{"$f":"F318-june!F318","v":-73869},{"$f":"G318-june!G318","v":-6.0600000000000023},{"$f":"H318-june!H318","v":-21208},null,0,309,171.5,995489,{"$f":"AA318-june!G318","v":-12.219999999999999},{"$f":"AB318-june!H318","v":-62480}]
[310,"WAREHAM                      ",310,null,36.499999999999986,226728,161.47999999999999,1004176,null,0,0,null,226728,1004176,null,310,5,8,null,{"$f":"E319-june!E319","v":9.5499999999999865},{"$f":"F319-june!F319","v":80670},{"$f":"G319-june!G319","v":-23.650000000000034},{"$f":"H319-june!H319","v":-184524},null,0,310,152.60999999999999,944747,{"$f":"AA319-june!G319","v":-32.520000000000039},{"$f":"AB319-june!H319","v":-243953}]
[311,"WARREN                       ",311,null,0,0,0,0,null,0,0,null,0,0,null,311,null,null,null,{"$f":"E320-june!E320","v":0},{"$f":"F320-june!F320","v":0},{"$f":"G320-june!G320","v":0},{"$f":"H320-june!H320","v":0},null,0,311,null,null,{"$f":"AA320-june!G320","v":0},{"$f":"AB320-june!H320","v":0}]
[312,"WARWICK                      ",312,null,0,0,0,0,null,0,0,null,0,0,null,312,null,null,null,{"$f":"E321-june!E321","v":0},{"$f":"F321-june!F321","v":0},{"$f":"G321-june!G321","v":0},{"$f":"H321-june!H321","v":0},null,0,312,null,null,{"$f":"AA321-june!G321","v":0},{"$f":"AB321-june!H321","v":0}]
[313,"WASHINGTON                   ",313,null,0,0,0,0,null,0,0,null,0,0,null,313,null,null,null,{"$f":"E322-june!E322","v":0},{"$f":"F322-june!F322","v":0},{"$f":"G322-june!G322","v":0},{"$f":"H322-june!H322","v":0},null,0,313,null,null,{"$f":"AA322-june!G322","v":0},{"$f":"AB322-june!H322","v":0}]
[314,"WATERTOWN                    ",314,null,0,0,5.4399999999999995,36448,null,0,0,null,0,36448,null,314,3,5,null,{"$f":"E323-june!E323","v":0},{"$f":"F323-june!F323","v":0},{"$f":"G323-june!G323","v":-2.8800000000000008},{"$f":"H323-june!H323","v":-20636},null,0,314,null,null,{"$f":"AA323-june!G323","v":-8.32},{"$f":"AB323-june!H323","v":-57084}]
[315,"WAYLAND                      ",315,null,0,0,1,5000,null,0,0,null,0,5000,null,315,null,null,null,{"$f":"E324-june!E324","v":0},{"$f":"F324-june!F324","v":0},{"$f":"G324-june!G324","v":-2.95},{"$f":"H324-june!H324","v":-77023},null,0,315,1,5000,{"$f":"AA324-june!G324","v":-2.95},{"$f":"AB324-june!H324","v":-77023}]
[316,"WEBSTER                      ",316,null,28.019999999999996,153939,119.03000000000002,674450,null,0,0,null,153939,674450,null,316,1,3,null,{"$f":"E325-june!E325","v":-0.65000000000000568},{"$f":"F325-june!F325","v":7958},{"$f":"G325-june!G325","v":5.7700000000000102},{"$f":"H325-june!H325","v":43511},null,0,316,116.43000000000002,657030,{"$f":"AA325-june!G325","v":3.1700000000000159},{"$f":"AB325-june!H325","v":26091}]
[317,"WELLESLEY                    ",317,null,0,0,1,5000,null,0,0,null,0,5000,null,317,null,null,null,{"$f":"E326-june!E326","v":0},{"$f":"F326-june!F326","v":0},{"$f":"G326-june!G326","v":0.89},{"$f":"H326-june!H326","v":4450},null,0,317,1,5000,{"$f":"AA326-june!G326","v":0.89},{"$f":"AB326-june!H326","v":4450}]
[318,"WELLFLEET                    ",318,null,0,0,12.99,178480,null,0,0,null,0,178480,null,318,null,null,null,{"$f":"E327-june!E327","v":0},{"$f":"F327-june!F327","v":0},{"$f":"G327-june!G327","v":2.9700000000000006},{"$f":"H327-june!H327","v":110893},null,0,318,12.99,178480,{"$f":"AA327-june!G327","v":2.9700000000000006},{"$f":"AB327-june!H327","v":110893}]
[319,"WENDELL                      ",319,null,0,0,0,0,null,0,0,null,0,0,null,319,null,null,null,{"$f":"E328-june!E328","v":0},{"$f":"F328-june!F328","v":0},{"$f":"G328-june!G328","v":0},{"$f":"H328-june!H328","v":0},null,0,319,null,null,{"$f":"AA328-june!G328","v":0},{"$f":"AB328-june!H328","v":0}]
[320,"WENHAM                       ",320,null,0,0,0,0,null,0,0,null,0,0,null,320,null,null,null,{"$f":"E329-june!E329","v":0},{"$f":"F329-june!F329","v":0},{"$f":"G329-june!G329","v":0},{"$f":"H329-june!H329","v":0},null,0,320,null,null,{"$f":"AA329-june!G329","v":0},{"$f":"AB329-june!H329","v":0}]
[321,"WESTBOROUGH                  ",328,null,0,0,11.55,58753,null,0,0,null,0,58753,null,321,null,1,null,{"$f":"E330-june!E330","v":0},{"$f":"F330-june!F330","v":0},{"$f":"G330-june!G330","v":5.0300000000000011},{"$f":"H330-june!H330","v":18996},null,{"$f":"Z330-A330","v":0},321,10.96,54800,{"$f":"AA330-june!G330","v":4.4400000000000013},{"$f":"AB330-june!H330","v":15043}]
[322,"WEST BOYLSTON                ",321,null,152.79000000000002,835110,{"$f":"AA331+(0.83*Q331)+0.59*R331","v":34.39},{"$f":"AB331+(0.83*Q331)*6700+0.59*R331*6700","v":219763},null,0,0,null,{"$f":"F331+J331","v":835110},{"$f":"H331+K331","v":219763},null,322,2,1,null,{"$f":"E331-june!E331","v":-8.4499999999999886},{"$f":"F331-june!F331","v":-62167},{"$f":"G331-june!G331","v":2.4400000000000013},{"$f":"H331-june!H331","v":24528},null,0,322,32.14,204688,{"$f":"AA331-june!G331","v":0.19000000000000128},{"$f":"AB331-june!H331","v":9453}]
[323,"WEST BRIDGEWATER             ",322,null,229.93000000000006,1346309,9.6,55021,null,0,0,null,1346309,55021,null,323,null,7,null,{"$f":"E332-june!E332","v":-16.299999999999926},{"$f":"F332-june!F332","v":-79530},{"$f":"G332-june!G332","v":2.1599999999999993},{"$f":"H332-june!H332","v":13281},null,0,323,5.47,27350,{"$f":"AA332-june!G332","v":-1.9700000000000006},{"$f":"AB332-june!H332","v":-14390}]
[324,"WEST BROOKFIELD              ",323,null,0,0,8.33,48896,null,0,0,null,0,48896,null,324,null,null,null,{"$f":"E333-june!E333","v":0},{"$f":"F333-june!F333","v":0},{"$f":"G333-june!G333","v":-2.7199999999999989},{"$f":"H333-june!H333","v":-12407},null,0,324,8.33,48896,{"$f":"AA333-june!G333","v":-2.7199999999999989},{"$f":"AB333-june!H333","v":-12407}]
[325,"WESTFIELD                    ",329,null,136.07,765759,97.31,537529,null,0,0,null,765759,537529,null,325,3,6,null,{"$f":"E334-june!E334","v":6.2599999999999909},{"$f":"F334-june!F334","v":-10740},{"$f":"G334-june!G334","v":-36.649999999999949},{"$f":"H334-june!H334","v":-248902},null,0,325,91.28,497128,{"$f":"AA334-june!G334","v":-42.67999999999995},{"$f":"AB334-june!H334","v":-289303}]
[326,"WESTFORD                     ",330,null,64.44,381375,4.59,34765,null,0,0,null,381375,34765,null,326,null,1,null,{"$f":"E335-june!E335","v":-4.0500000000000114},{"$f":"F335-june!F335","v":-35307},{"$f":"G335-june!G335","v":-7.92},{"$f":"H335-june!H335","v":-51962},null,0,326,4,30812,{"$f":"AA335-june!G335","v":-8.51},{"$f":"AB335-june!H335","v":-55915}]
[327,"WESTHAMPTON                  ",331,null,16,118455,5,38649,null,0,0,null,118455,38649,null,327,null,null,null,{"$f":"E336-june!E336","v":-2.6000000000000014},{"$f":"F336-june!F336","v":-30124},{"$f":"G336-june!G336","v":-2},{"$f":"H336-june!H336","v":-7378},null,0,327,5,38649,{"$f":"AA336-june!G336","v":-2},{"$f":"AB336-june!H336","v":-7378}]
[328,"WESTMINSTER                  ",332,null,0,0,0,0,null,0,0,null,0,0,null,328,null,null,null,{"$f":"E337-june!E337","v":0},{"$f":"F337-june!F337","v":0},{"$f":"G337-june!G337","v":0},{"$f":"H337-june!H337","v":0},null,0,328,null,null,{"$f":"AA337-june!G337","v":0},{"$f":"AB337-june!H337","v":0}]
[329,"WEST NEWBURY                 ",324,null,0,0,0,0,null,0,0,null,0,0,null,329,null,null,null,{"$f":"E338-june!E338","v":0},{"$f":"F338-june!F338","v":0},{"$f":"G338-june!G338","v":0},{"$f":"H338-june!H338","v":0},null,0,329,null,null,{"$f":"AA338-june!G338","v":0},{"$f":"AB338-june!H338","v":0}]
[330,"WESTON                       ",333,null,0,0,1.18,7906,null,0,0,null,0,7906,null,330,null,2,null,{"$f":"E339-june!E339","v":0},{"$f":"F339-june!F339","v":0},{"$f":"G339-june!G339","v":-1.82},{"$f":"H339-june!H339","v":-14647},null,0,330,null,null,{"$f":"AA339-june!G339","v":-3},{"$f":"AB339-june!H339","v":-22553}]
[331,"WESTPORT                     ",334,null,0,0,9.5500000000000007,54998,null,0,0,null,0,54998,null,331,null,2,null,{"$f":"E340-june!E340","v":0},{"$f":"F340-june!F340","v":0},{"$f":"G340-june!G340","v":-4.4599999999999991},{"$f":"H340-june!H340","v":-23079},null,0,331,8.370000000000001,47092,{"$f":"AA340-june!G340","v":-5.6399999999999988},{"$f":"AB340-june!H340","v":-30985}]
[332,"WEST SPRINGFIELD             ",325,null,112.25999999999999,664836,31.980000000000004,188884,null,0,0,null,664836,188884,null,332,8,3,null,{"$f":"E341-june!E341","v":4.1599999999999966},{"$f":"F341-june!F341","v":40005},{"$f":"G341-june!G341","v":-10.079999999999998},{"$f":"H341-june!H341","v":-78512},null,0,332,23.570000000000004,132537,{"$f":"AA341-june!G341","v":-18.489999999999998},{"$f":"AB341-june!H341","v":-134859}]
[333,"WEST STOCKBRIDGE             ",326,null,0,0,0,0,null,0,0,null,0,0,null,333,null,null,null,{"$f":"E342-june!E342","v":0},{"$f":"F342-june!F342","v":0},{"$f":"G342-june!G342","v":0},{"$f":"H342-june!H342","v":0},null,0,333,null,null,{"$f":"AA342-june!G342","v":0},{"$f":"AB342-june!H342","v":0}]
[334,"WEST TISBURY                 ",327,null,0,0,0,0,null,0,0,null,0,0,null,334,null,null,null,{"$f":"E343-june!E343","v":0},{"$f":"F343-june!F343","v":0},{"$f":"G343-june!G343","v":0},{"$f":"H343-june!H343","v":0},null,0,334,null,null,{"$f":"AA343-june!G343","v":0},{"$f":"AB343-june!H343","v":0}]
[335,"WESTWOOD                     ",335,null,0,0,0,0,null,0,0,null,0,0,null,335,null,null,null,{"$f":"E344-june!E344","v":0},{"$f":"F344-june!F344","v":0},{"$f":"G344-june!G344","v":0},{"$f":"H344-june!H344","v":0},null,0,335,null,null,{"$f":"AA344-june!G344","v":0},{"$f":"AB344-june!H344","v":0}]
[336,"WEYMOUTH                     ",336,null,0,0,16.639999999999997,101288,null,0,0,null,0,101288,null,336,5,11,null,{"$f":"E345-june!E345","v":0},{"$f":"F345-june!F345","v":0},{"$f":"G345-june!G345","v":-2.5700000000000038},{"$f":"H345-june!H345","v":-21886},null,0,336,6,30000,{"$f":"AA345-june!G345","v":-13.21},{"$f":"AB345-june!H345","v":-93174}]
[337,"WHATELY                      ",337,null,48.91,261836,11.32,100380,null,0,0,null,261836,100380,null,337,null,null,null,{"$f":"E346-june!E346","v":4.0499999999999972},{"$f":"F346-june!F346","v":-2377},{"$f":"G346-june!G346","v":6.32},{"$f":"H346-june!H346","v":34169},null,0,337,11.32,100380,{"$f":"AA346-june!G346","v":6.32},{"$f":"AB346-june!H346","v":34169}]
[338,"WHITMAN                      ",338,null,0,0,0,0,null,0,0,null,0,0,null,338,null,null,null,{"$f":"E347-june!E347","v":0},{"$f":"F347-june!F347","v":0},{"$f":"G347-june!G347","v":0},{"$f":"H347-june!H347","v":0},null,0,338,null,null,{"$f":"AA347-june!G347","v":0},{"$f":"AB347-june!H347","v":0}]
[339,"WILBRAHAM                    ",339,null,0,0,0,0,null,0,0,null,0,0,null,339,null,null,null,{"$f":"E348-june!E348","v":0},{"$f":"F348-june!F348","v":0},{"$f":"G348-june!G348","v":0},{"$f":"H348-june!H348","v":0},null,0,339,null,null,{"$f":"AA348-june!G348","v":0},{"$f":"AB348-june!H348","v":0}]
[340,"WILLIAMSBURG                 ",340,null,11.85,65223,{"$f":"AA349+(0.83*Q349)+0.59*R349-1","v":19.690000000000001},{"$f":"AB349+(0.83*Q349)*6700+0.59*R349*6700-5000","v":118318},null,0,0,null,65223,118318,null,340,null,null,null,{"$f":"E349-june!E349","v":-6.5600000000000005},{"$f":"F349-june!F349","v":-37582},{"$f":"G349-june!G349","v":2.5000000000000036},{"$f":"H349-june!H349","v":22342},null,0,340,20.69,123318,{"$f":"AA349-june!G349","v":3.5000000000000036},{"$f":"AB349-june!H349","v":27342}]
[341,"WILLIAMSTOWN                 ",341,null,42.1,237644,5.59,30061,null,0,0,null,237644,30061,null,341,null,2,null,{"$f":"E350-june!E350","v":10.18},{"$f":"F350-june!F350","v":68140},{"$f":"G350-june!G350","v":3.59},{"$f":"H350-june!H350","v":20061},null,0,341,4.41,22155,{"$f":"AA350-june!G350","v":2.41},{"$f":"AB350-june!H350","v":12155}]
[342,"WILMINGTON                   ",342,null,0,0,1,5000,null,0,0,null,0,5000,null,342,null,null,null,{"$f":"E351-june!E351","v":0},{"$f":"F351-june!F351","v":0},{"$f":"G351-june!G351","v":-8.0000000000000071E-2},{"$f":"H351-june!H351","v":-3041},null,0,342,1,5000,{"$f":"AA351-june!G351","v":-8.0000000000000071E-2},{"$f":"AB351-june!H351","v":-3041}]
[343,"WINCHENDON                   ",343,null,40.42,305721,125.74999999999997,702304,null,0,0,null,305721,702304,null,343,5,1,null,{"$f":"E352-june!E352","v":11.420000000000002},{"$f":"F352-june!F352","v":160721},{"$f":"G352-june!G352","v":-14.530000000000086},{"$f":"H352-june!H352","v":-103239},null,0,343,121.00999999999996,670546,{"$f":"AA352-june!G352","v":-19.270000000000095},{"$f":"AB352-june!H352","v":-134997}]
[344,"WINCHESTER                   ",344,null,0,0,1.66,11122,null,0,0,null,0,11122,null,344,2,null,null,{"$f":"E353-june!E353","v":0},{"$f":"F353-june!F353","v":0},{"$f":"G353-june!G353","v":-2.1399999999999997},{"$f":"H353-june!H353","v":-17061},null,0,344,null,null,{"$f":"AA353-june!G353","v":-3.8},{"$f":"AB353-june!H353","v":-28183}]
[345,"WINDSOR                      ",345,null,0,0,0,0,null,0,0,null,0,0,null,345,null,null,null,{"$f":"E354-june!E354","v":0},{"$f":"F354-june!F354","v":0},{"$f":"G354-june!G354","v":0},{"$f":"H354-june!H354","v":0},null,0,345,null,null,{"$f":"AA354-june!G354","v":0},{"$f":"AB354-june!H354","v":0}]
[346,"WINTHROP                     ",346,null,12,60000,1.42,9514,null,0,0,null,60000,9514,null,346,1,1,null,{"$f":"E355-june!E355","v":-4},{"$f":"F355-june!F355","v":-27223},{"$f":"G355-june!G355","v":-2.4299999999999997},{"$f":"H355-june!H355","v":-14668},null,0,346,null,null,{"$f":"AA355-june!G355","v":-3.8499999999999996},{"$f":"AB355-june!H355","v":-24182}]
[347,"WOBURN",347,null,0,0,13.219999999999999,71115,null,0,0,null,0,71115,null,347,null,5,null,{"$f":"E356-june!E356","v":0},{"$f":"F356-june!F356","v":0},{"$f":"G356-june!G356","v":-2.8000000000000043},{"$f":"H356-june!H356","v":-15917},null,0,347,10.27,51350,{"$f":"AA356-june!G356","v":-5.7500000000000036},{"$f":"AB356-june!H356","v":-35682}]
[348,"WORCESTER                    ",348,null,66.81,373775,461.87,2651386,null,0,0,null,373775,2651386,null,348,12,42,null,{"$f":"E357-june!E357","v":-2.3400000000000034},{"$f":"F357-june!F357","v":-17552},{"$f":"G357-june!G357","v":-12.090000000000089},{"$f":"H357-june!H357","v":-18510},null,0,348,427.13000000000005,2418628,{"$f":"AA357-june!G357","v":-46.830000000000041},{"$f":"AB357-june!H357","v":-251268}]
[349,"WORTHINGTON                  ",349,null,16,80000,{"$f":"57.2-12","v":45.2},370520,null,0,0,null,80000,370520,null,349,null,null,null,{"$f":"E358-june!E358","v":10.629999999999999},{"$f":"F358-june!F358","v":53150},{"$f":"G358-june!G358","v":-9.1399999999999935},{"$f":"H358-june!H358","v":-97104},null,0,349,null,null,{"$f":"AA358-june!G358","v":-54.339999999999996},{"$f":"AB358-june!H358","v":-467624}]
[350,"WRENTHAM                     ",350,null,0,0,6.9499999999999993,39765,null,0,0,null,0,39765,null,350,null,5,null,{"$f":"E359-june!E359","v":0},{"$f":"F359-june!F359","v":0},{"$f":"G359-june!G359","v":2.7799999999999994},{"$f":"H359-june!H359","v":18915},null,0,350,4,20000,{"$f":"AA359-june!G359","v":-0.16999999999999993},{"$f":"AB359-june!H359","v":-850}]
[351,"YARMOUTH                     ",351,null,0,0,0,0,null,0,0,null,0,0,null,351,null,null,null,{"$f":"E360-june!E360","v":0},{"$f":"F360-june!F360","v":0},{"$f":"G360-june!G360","v":0},{"$f":"H360-june!H360","v":0},null,0,351,null,null,{"$f":"AA360-june!G360","v":0},{"$f":"AB360-june!H360","v":0}]
[352,"DEVENS",352,null,0,0,4.8,30834,null,0,0,null,0,30834,null,352,null,null,null,{"$f":"E361-june!E361","v":0},{"$f":"F361-june!F361","v":0},{"$f":"G361-june!G361","v":-0.20000000000000018},{"$f":"H361-june!H361","v":4131},null,0,352,4.8,30834,{"$f":"AA361-june!G361","v":-0.20000000000000018},{"$f":"AB361-june!H361","v":4131}]
[406,"NORTHAMPTON SMITH            ",406,null,0,0,0,0,null,0,0,null,0,0,null,406,null,null,null,{"$f":"E362-june!E362","v":0},{"$f":"F362-june!F362","v":0},{"$f":"G362-june!G362","v":0},{"$f":"H362-june!H362","v":0},null,0,406,null,null,{"$f":"AA362-june!G362","v":0},{"$f":"AB362-june!H362","v":0}]
[600,"ACTON BOXBOROUGH             ",701,null,42.5,261263,12.07,103482,null,0,0,null,261263,103482,null,600,null,null,null,{"$f":"E363-june!E363","v":3.5},{"$f":"F363-june!F363","v":37072},{"$f":"G363-june!G363","v":-2.1999999999999993},{"$f":"H363-june!H363","v":4427},null,0,600,12.07,103482,{"$f":"AA363-june!G363","v":-2.1999999999999993},{"$f":"AB363-june!H363","v":4427}]
[603,"ADAMS CHESHIRE               ",702,null,58.20000000000001,372017,81.139999999999986,506180,null,0,0,null,372017,506180,null,603,null,3,null,{"$f":"E364-june!E364","v":3.6500000000000057},{"$f":"F364-june!F364","v":62628},{"$f":"G364-june!G364","v":1.9799999999999898},{"$f":"H364-june!H364","v":9939},null,0,603,79.36999999999999,494321,{"$f":"AA364-june!G364","v":0.20999999999999375},{"$f":"AB364-june!H364","v":-1920}]
[605,"AMHERST PELHAM               ",703,null,88.46,631941,31,227771,null,0,0,null,631941,227771,null,605,null,1,null,{"$f":"E365-june!E365","v":19.059999999999988},{"$f":"F365-june!F365","v":146339},{"$f":"G365-june!G365","v":-3.470000000000006},{"$f":"H365-june!H365","v":-46808},null,0,605,30.41,223818,{"$f":"AA365-june!G365","v":-4.0600000000000058},{"$f":"AB365-june!H365","v":-50761}]
[610,"ASHBURNHAM WESTMINSTER       ",704,null,147.49,788699,54.690000000000005,295110,null,0,0,null,788699,295110,null,610,1,5,null,{"$f":"E366-june!E366","v":-52.72999999999999},{"$f":"F366-june!F366","v":-277596},{"$f":"G366-june!G366","v":-6.259999999999998},{"$f":"H366-june!H366","v":-30880},null,0,610,50.910000000000004,269784,{"$f":"AA366-june!G366","v":-10.039999999999999},{"$f":"AB366-june!H366","v":-56206}]
[615,"ATHOL ROYALSTON              ",705,null,58.019999999999996,372175,356.21999999999997,2109562,null,0,0,null,372175,2109562,null,615,5,5,null,{"$f":"E367-june!E367","v":-8.0500000000000114},{"$f":"F367-june!F367","v":-14475},{"$f":"G367-june!G367","v":-8.3200000000001069},{"$f":"H367-june!H367","v":-134347},null,0,615,349.12,2061992,{"$f":"AA367-june!G367","v":-15.420000000000073},{"$f":"AB367-june!H367","v":-181917}]
[616,"AYER SHIRLEY",616,null,119.33999999999997,779951,123.43999999999998,713575,null,0,0,null,779951,713575,null,616,1,3,null,{"$f":"E368-june!E368","v":-16.000000000000028},{"$f":"F368-june!F368","v":-17927},{"$f":"G368-june!G368","v":-4.2999999999999972},{"$f":"H368-june!H368","v":1486},null,0,616,120.83999999999999,696155,{"$f":"AA368-june!G368","v":-6.8999999999999915},{"$f":"AB368-june!H368","v":-15934}]
[618,"BERKSHIRE HILLS              ",706,null,242.14999999999998,1298303,101.46,580163,null,-1050,0,null,1297253,580163,null,618,null,null,null,{"$f":"E369-june!E369","v":16.949999999999989},{"$f":"F369-june!F369","v":25667},{"$f":"G369-june!G369","v":-1.730000000000004},{"$f":"H369-june!H369","v":-8681},null,0,618,101.46,580163,{"$f":"AA369-june!G369","v":-1.730000000000004},{"$f":"AB369-june!H369","v":-8681}]
[620,"BERLIN BOYLSTON              ",707,null,93.44,528640,31.59,161890,null,0,0,null,528640,161890,null,620,null,1,null,{"$f":"E370-june!E370","v":3.4399999999999977},{"$f":"F370-june!F370","v":-3384},{"$f":"G370-june!G370","v":3.9000000000000021},{"$f":"H370-june!H370","v":5823},null,0,620,31,157937,{"$f":"AA370-june!G370","v":3.3100000000000023},{"$f":"AB370-june!H370","v":1870}]
[622,"BLACKSTONE MILLVILLE         ",765,null,39.47,197350,80.649999999999991,455181,null,0,0,null,197350,455181,null,622,null,5,null,{"$f":"E371-june!E371","v":-6.3300000000000125},{"$f":"F371-june!F371","v":-48997},{"$f":"G371-june!G371","v":-9.89},{"$f":"H371-june!H371","v":-52341},null,0,622,77.699999999999989,435416,{"$f":"AA371-june!G371","v":-12.840000000000003},{"$f":"AB371-june!H371","v":-72106}]
[625,"BRIDGEWATER RAYNHAM          ",710,null,28.82,154726,161.51,936066,null,0,0,null,154726,936066,null,625,2,1,null,{"$f":"E372-june!E372","v":0.73000000000000043},{"$f":"F372-june!F372","v":-222},{"$f":"G372-june!G372","v":5.6299999999999955},{"$f":"H372-june!H372","v":33005},null,0,625,159.26,920991,{"$f":"AA372-june!G372","v":3.3799999999999955},{"$f":"AB372-june!H372","v":17930}]
[632,"CHESTERFIELD GOSHEN",632,null,20.22,103289,{"$f":"AA373+(0.83*Q373)+0.59*R373-2","v":7.26},{"$f":"AB373+(0.83*Q373)*6700+0.59*R373*6700-10000","v":36300},null,0,0,null,103289,36300,null,632,null,null,null,{"$f":"E373-june!E373","v":-3.3599999999999994},{"$f":"F373-june!F373","v":-52225},{"$f":"G373-june!G373","v":-3.74},{"$f":"H373-june!H373","v":-26461},null,0,632,9.26,46300,{"$f":"AA373-june!G373","v":-1.7400000000000002},{"$f":"AB373-june!H373","v":-16461}]
[635,"CENTRAL BERKSHIRE            ",712,null,152.82000000000002,978043,148.17000000000002,808367,null,0,0,null,978043,808367,null,635,3,2,null,{"$f":"E374-june!E374","v":-10.069999999999993},{"$f":"F374-june!F374","v":-57082},{"$f":"G374-june!G374","v":-19.249999999999943},{"$f":"H374-june!H374","v":-157184},null,0,635,144.5,783778,{"$f":"AA374-june!G374","v":-22.919999999999959},{"$f":"AB374-june!H374","v":-181773}]
[640,"CONCORD CARLISLE             ",713,null,0,0,0,0,null,0,0,null,0,0,null,640,null,null,null,{"$f":"E375-june!E375","v":0},{"$f":"F375-june!F375","v":0},{"$f":"G375-june!G375","v":-1.88},{"$f":"H375-june!H375","v":-12742},null,0,640,null,null,{"$f":"AA375-june!G375","v":-1.88},{"$f":"AB375-june!H375","v":-12742}]
[645,"DENNIS YARMOUTH              ",714,null,102.25,686441,356.43000000000012,2187117,null,0,0,null,686441,2187117,null,645,2,4,null,{"$f":"E376-june!E376","v":-19.730000000000004},{"$f":"F376-june!F376","v":-106283},{"$f":"G376-june!G376","v":3.6099999999999},{"$f":"H376-june!H376","v":44152},null,0,645,352.41000000000008,2160183,{"$f":"AA376-june!G376","v":-0.4100000000001387},{"$f":"AB376-june!H376","v":17218}]
[650,"DIGHTON REHOBOTH             ",715,null,0,0,15.790000000000001,86107,null,0,0,null,0,86107,null,650,2,null,null,{"$f":"E377-june!E377","v":-10},{"$f":"F377-june!F377","v":-50000},{"$f":"G377-june!G377","v":-9.0000000000000018},{"$f":"H377-june!H377","v":-47859},null,0,650,14.13,74985,{"$f":"AA377-june!G377","v":-10.660000000000002},{"$f":"AB377-june!H377","v":-58981}]
[655,"DOVER SHERBORN               ",716,null,0,0,0,0,null,0,0,null,0,0,null,655,null,null,null,{"$f":"E378-june!E378","v":0},{"$f":"F378-june!F378","v":0},{"$f":"G378-june!G378","v":-5.43},{"$f":"H378-june!H378","v":-33203},null,0,655,null,null,{"$f":"AA378-june!G378","v":-5.43},{"$f":"AB378-june!H378","v":-33203}]
[658,"DUDLEY CHARLTON              ",780,null,136.45000000000002,765916,41.65,255560,null,0,0,null,765916,255560,null,658,1,11,null,{"$f":"E379-june!E379","v":-8.0900000000000034},{"$f":"F379-june!F379","v":-43925},{"$f":"G379-june!G379","v":-14.430000000000007},{"$f":"H379-june!H379","v":-61809},null,0,658,34.33,206516,{"$f":"AA379-june!G379","v":-21.750000000000007},{"$f":"AB379-june!H379","v":-110853}]
[660,"NAUSET                       ",776,null,266.25999999999993,1551954,33.930000000000007,263166,null,0,0,null,1551954,263166,null,660,null,1,null,{"$f":"E380-june!E380","v":-13.28000000000003},{"$f":"F380-june!F380","v":-59124},{"$f":"G380-june!G380","v":1.6700000000000088},{"$f":"H380-june!H380","v":10547},null,0,660,33.340000000000003,259213,{"$f":"AA380-june!G380","v":1.0800000000000054},{"$f":"AB380-june!H380","v":6594}]
[662,"FARMINGTON RIVER",788,null,16,88364,52.989999999999995,285231,null,0,0,null,88364,285231,null,662,null,null,null,{"$f":"E381-june!E381","v":1},{"$f":"F381-june!F381","v":6284},{"$f":"G381-june!G381","v":8.0799999999999983},{"$f":"H381-june!H381","v":41356},null,0,662,52.989999999999995,285231,{"$f":"AA381-june!G381","v":8.0799999999999983},{"$f":"AB381-june!H381","v":41356}]
[665,"FREETOWN LAKEVILLE           ",718,null,21.28,118202,24.79,144453,null,0,0,null,118202,144453,null,665,2,7,null,{"$f":"E382-june!E382","v":-19.689999999999998},{"$f":"F382-june!F382","v":-94061},{"$f":"G382-june!G382","v":-2.4600000000000044},{"$f":"H382-june!H382","v":-359},null,0,665,19,105660,{"$f":"AA382-june!G382","v":-8.2500000000000036},{"$f":"AB382-june!H382","v":-39152}]
[670,"FRONTIER                     ",720,null,120.59000000000002,901451,44.620000000000005,287679,null,0,0,null,901451,287679,null,670,null,null,null,{"$f":"E383-june!E383","v":-8.5799999999999983},{"$f":"F383-june!F383","v":-144721},{"$f":"G383-june!G383","v":-10.469999999999999},{"$f":"H383-june!H383","v":-38158},null,0,670,44.620000000000005,287679,{"$f":"AA383-june!G383","v":-10.469999999999999},{"$f":"AB383-june!H383","v":-38158}]
[672,"GATEWAY                      ",721,null,26,145799,{"$f":"AA384-57.2+(0.83*Q384)+0.59*R384","v":64.889999999999972},{"$f":"AB384-430520+(0.83*Q384)*6700+0.59*R384*6700","v":360796},null,0,0,null,145799,360796,null,672,null,null,null,{"$f":"E384-june!E384","v":-19.799999999999997},{"$f":"F384-june!F384","v":-163554},{"$f":"G384-june!G384","v":-8.1300000000000239},{"$f":"H384-june!H384","v":-128224},null,0,672,122.08999999999997,791316,{"$f":"AA384-june!G384","v":49.069999999999979},{"$f":"AB384-june!H384","v":302296}]
[673,"GROTON DUNSTABLE             ",772,null,55,296230,15.41,92732,null,0,0,null,296230,92732,null,673,1,2,null,{"$f":"E385-june!E385","v":10.130000000000003},{"$f":"F385-june!F385","v":48238},{"$f":"G385-june!G385","v":-8.57},{"$f":"H385-june!H385","v":-45673},null,0,673,13.4,79265,{"$f":"AA385-june!G385","v":-10.58},{"$f":"AB385-june!H385","v":-59140}]
[674,"GILL MONTAGUE                ",764,null,106.04,819041,225.35,1416848,null,0,0,null,819041,1416848,null,674,null,null,null,{"$f":"E386-june!E386","v":11.230000000000004},{"$f":"F386-june!F386","v":15943},{"$f":"G386-june!G386","v":-13.770000000000039},{"$f":"H386-june!H386","v":-85680},null,0,674,225.35,1416848,{"$f":"AA386-june!G386","v":-13.770000000000039},{"$f":"AB386-june!H386","v":-85680}]
[675,"HAMILTON WENHAM              ",724,null,97.95,506976,4.74,26114,null,0,0,null,506976,26114,null,675,1,1,null,{"$f":"E387-june!E387","v":7.9500000000000028},{"$f":"F387-june!F387","v":38252},{"$f":"G387-june!G387","v":-4.2899999999999991},{"$f":"H387-june!H387","v":-24867},null,0,675,3.3200000000000003,16600,{"$f":"AA387-june!G387","v":-5.7099999999999991},{"$f":"AB387-june!H387","v":-34381}]
[680,"HAMPDEN WILBRAHAM            ",725,null,119.47,664668,11.049999999999999,69443,null,0,0,null,664668,69443,null,680,4,2,null,{"$f":"E388-june!E388","v":8.1200000000000045},{"$f":"F388-june!F388","v":-38404},{"$f":"G388-june!G388","v":-0.48000000000000043},{"$f":"H388-june!H388","v":6807},null,0,680,6.55,39293,{"$f":"AA388-june!G388","v":-4.9799999999999995},{"$f":"AB388-june!H388","v":-23343}]
[683,"HAMPSHIRE                    ",726,null,107.78999999999998,760858,58.44,351891,null,0,0,null,760858,351891,null,683,null,null,null,{"$f":"E389-june!E389","v":10.439999999999984},{"$f":"F389-june!F389","v":-8159},{"$f":"G389-june!G389","v":-4.6000000000000085},{"$f":"H389-june!H389","v":-11002},null,0,683,58.44,351891,{"$f":"AA389-june!G389","v":-4.6000000000000085},{"$f":"AB389-june!H389","v":-11002}]
[685,"HAWLEMONT                    ",727,null,13.790000000000001,91352,20.509999999999998,120243,null,0,0,null,91352,120243,null,685,null,null,null,{"$f":"E390-june!E390","v":-1.9599999999999991},{"$f":"F390-june!F390","v":-16412},{"$f":"G390-june!G390","v":-4.4000000000000021},{"$f":"H390-june!H390","v":-21736},null,0,685,20.509999999999998,120243,{"$f":"AA390-june!G390","v":-4.4000000000000021},{"$f":"AB390-june!H390","v":-21736}]
[690,"KING PHILIP                  ",728,null,0,0,10.950000000000001,70582,null,0,0,null,0,70582,null,690,null,null,null,{"$f":"E391-june!E391","v":0},{"$f":"F391-june!F391","v":0},{"$f":"G391-june!G391","v":-5.7599999999999962},{"$f":"H391-june!H391","v":-45321},null,0,690,10.950000000000001,70582,{"$f":"AA391-june!G391","v":-5.7599999999999962},{"$f":"AB391-june!H391","v":-45321}]
[695,"LINCOLN SUDBURY              ",729,null,0,0,0,0,null,0,0,null,0,0,null,695,null,null,null,{"$f":"E392-june!E392","v":0},{"$f":"F392-june!F392","v":0},{"$f":"G392-june!G392","v":-2.14},{"$f":"H392-june!H392","v":-15500},null,0,695,null,null,{"$f":"AA392-june!G392","v":-2.14},{"$f":"AB392-june!H392","v":-15500}]
[698,"MANCHESTER ESSEX",698,null,71,359525,9.4,51702,null,0,0,null,359525,51702,null,698,null,null,null,{"$f":"E393-june!E393","v":0},{"$f":"F393-june!F393","v":-97772},{"$f":"G393-june!G393","v":-0.24000000000000199},{"$f":"H393-june!H393","v":-685},null,0,698,9.4,51702,{"$f":"AA393-june!G393","v":-0.24000000000000199},{"$f":"AB393-june!H393","v":-685}]
[700,"MARTHAS VINEYARD             ",731,null,0,0,0,0,null,0,0,null,0,0,null,700,null,null,null,{"$f":"E394-june!E394","v":0},{"$f":"F394-june!F394","v":0},{"$f":"G394-june!G394","v":-2.48},{"$f":"H394-june!H394","v":-17852},null,{"$f":"Z394-A394","v":0},700,null,null,{"$f":"AA394-june!G394","v":-2.48},{"$f":"AB394-june!H394","v":-17852}]
[705,"MASCONOMET                   ",732,null,0,0,{"$f":"AA395+(0.83*Q395)+0.59*R395","v":0},{"$f":"AB395+(0.83*Q395)*6700+0.59*R395*6700","v":0},null,0,0,null,{"$f":"F395+J395","v":0},{"$f":"H395+K395","v":0},null,705,null,null,null,{"$f":"E395-june!E395","v":0},{"$f":"F395-june!F395","v":0},{"$f":"G395-june!G395","v":-3},{"$f":"H395-june!H395","v":-16700},null,0,705,null,null,{"$f":"AA395-june!G395","v":-3},{"$f":"AB395-june!H395","v":-16700}]
[710,"MENDON UPTON                 ",733,null,139.26000000000002,814955,59.339999999999989,351234,null,0,0,null,814955,351234,null,710,2,1,null,{"$f":"E396-june!E396","v":-3.9999999999999716},{"$f":"F396-june!F396","v":4340},{"$f":"G396-june!G396","v":4.9899999999999878},{"$f":"H396-june!H396","v":25073},null,0,710,57.089999999999989,336159,{"$f":"AA396-june!G396","v":2.7399999999999878},{"$f":"AB396-june!H396","v":9998}]
[712,"MONOMOY",811,null,271.62999999999994,1683336,178.9,1037154,null,0,0,null,1683336,1037154,null,712,1,null,null,{"$f":"E397-june!E397","v":14.509999999999934},{"$f":"F397-june!F397","v":171812},{"$f":"G397-june!G397","v":-18.169999999999987},{"$f":"H397-june!H397","v":-110571},null,0,712,178.07,1031593,{"$f":"AA397-june!G397","v":-19},{"$f":"AB397-june!H397","v":-116132}]
[715,"MOUNT GREYLOCK               ",736,null,61.430000000000007,352222,15.99,85256,null,0,0,null,352222,85256,null,715,null,null,null,{"$f":"E398-june!E398","v":-1.2099999999999866},{"$f":"F398-june!F398","v":8564},{"$f":"G398-june!G398","v":-6.5199999999999978},{"$f":"H398-june!H398","v":-36269},null,0,715,15.99,85256,{"$f":"AA398-june!G398","v":-6.5199999999999978},{"$f":"AB398-june!H398","v":-36269}]
[717,"MOHAWK TRAIL                 ",734,null,73.989999999999981,500473,71.23,642946,null,0,0,null,500473,642946,null,717,2,null,null,{"$f":"E399-june!E399","v":-16.330000000000027},{"$f":"F399-june!F399","v":-164486},{"$f":"G399-june!G399","v":-2.6000000000000085},{"$f":"H399-june!H399","v":-95161},null,0,717,69.570000000000007,631824,{"$f":"AA399-june!G399","v":-4.2600000000000051},{"$f":"AB399-june!H399","v":-106283}]
[720,"NARRAGANSETT                 ",737,null,150.20999999999998,862803,138.12000000000003,859797,null,0,0,null,862803,859797,null,720,null,1,null,{"$f":"E400-june!E400","v":-35.470000000000027},{"$f":"F400-june!F400","v":-226798},{"$f":"G400-june!G400","v":-3.5199999999998965},{"$f":"H400-june!H400","v":64815},null,0,720,137.53000000000003,855844,{"$f":"AA400-june!G400","v":-4.1099999999999},{"$f":"AB400-june!H400","v":60862}]
[725,"NASHOBA                      ",738,null,166.60000000000002,881656,72.009999999999991,452128,null,0,0,null,881656,452128,null,725,null,4,null,{"$f":"E401-june!E401","v":32.230000000000018},{"$f":"F401-june!F401","v":161502},{"$f":"G401-june!G401","v":2.6299999999999812},{"$f":"H401-june!H401","v":25047},null,0,725,69.649999999999991,436316,{"$f":"AA401-june!G401","v":0.26999999999998181},{"$f":"AB401-june!H401","v":9235}]
[728,"NEW SALEM WENDELL            ",787,null,26.4,144319,8.18,44469,null,0,0,null,144319,44469,null,728,null,null,null,{"$f":"E402-june!E402","v":-0.56000000000000227},{"$f":"F402-june!F402","v":782},{"$f":"G402-june!G402","v":-4.4500000000000011},{"$f":"H402-june!H402","v":-29080},null,0,728,8.18,44469,{"$f":"AA402-june!G402","v":-4.4500000000000011},{"$f":"AB402-june!H402","v":-29080}]
[730,"NORTHBORO SOUTHBORO          ",741,null,0,0,3,15000,null,0,0,null,0,15000,null,730,null,null,null,{"$f":"E403-june!E403","v":0},{"$f":"F403-june!F403","v":0},{"$f":"G403-june!G403","v":-2.34},{"$f":"H403-june!H403","v":-82558},null,0,730,3,15000,{"$f":"AA403-june!G403","v":-2.34},{"$f":"AB403-june!H403","v":-82558}]
[735,"NORTH MIDDLESEX              ",740,null,76.849999999999994,460730,91.45,497359,null,0,0,null,460730,497359,null,735,2,3,null,{"$f":"E404-june!E404","v":-10.209999999999994},{"$f":"F404-june!F404","v":-30643},{"$f":"G404-june!G404","v":-3.1800000000000068},{"$f":"H404-june!H404","v":-26177},null,0,735,88.02000000000001,474378,{"$f":"AA404-june!G404","v":-6.6099999999999994},{"$f":"AB404-june!H404","v":-49158}]
[740,"OLD ROCHESTER                ",745,null,82.5,440646,6.76,38884,null,0,0,null,440646,38884,null,740,null,2,null,{"$f":"E405-june!E405","v":9.6500000000000057},{"$f":"F405-june!F405","v":59330},{"$f":"G405-june!G405","v":-1.0600000000000005},{"$f":"H405-june!H405","v":-8820},null,0,740,5.58,30978,{"$f":"AA405-june!G405","v":-2.2400000000000002},{"$f":"AB405-june!H405","v":-16726}]
[745,"PENTUCKET                    ",746,null,126.55000000000001,672571,36.919999999999995,231315,null,0,0,null,672571,231315,null,745,2,3,null,{"$f":"E406-june!E406","v":18.010000000000019},{"$f":"F406-june!F406","v":72803},{"$f":"G406-june!G406","v":7.9799999999999933},{"$f":"H406-june!H406","v":46783},null,0,745,33.489999999999995,208334,{"$f":"AA406-june!G406","v":4.5499999999999936},{"$f":"AB406-june!H406","v":23802}]
[750,"PIONEER                      ",747,null,171.10999999999999,1050984,45.81,333731,null,0,0,null,1050984,333731,null,750,1,1,null,{"$f":"E407-june!E407","v":18.259999999999991},{"$f":"F407-june!F407","v":193911},{"$f":"G407-june!G407","v":-2.0899999999999963},{"$f":"H407-june!H407","v":-46668},null,0,750,44.39,324217,{"$f":"AA407-june!G407","v":-3.509999999999998},{"$f":"AB407-june!H407","v":-56182}]
[753,"QUABBIN                      ",749,null,345.84999999999991,1925967,95.529999999999987,570414,null,0,0,null,1925967,570414,null,753,3,4,null,{"$f":"E408-june!E408","v":20.589999999999918},{"$f":"F408-june!F408","v":64238},{"$f":"G408-june!G408","v":-14.650000000000063},{"$f":"H408-june!H408","v":-146895},null,0,753,90.679999999999993,537919,{"$f":"AA408-june!G408","v":-19.500000000000057},{"$f":"AB408-june!H408","v":-179390}]
[755,"RALPH C MAHAR                ",730,null,222.35999999999987,1260687,58.52,364504,null,0,0,null,1260687,364504,null,755,null,1,null,{"$f":"E409-june!E409","v":-23.300000000000125},{"$f":"F409-june!F409","v":-182030},{"$f":"G409-june!G409","v":4.4699999999999989},{"$f":"H409-june!H409","v":43125},null,0,755,57.93,360551,{"$f":"AA409-june!G409","v":3.8799999999999955},{"$f":"AB409-june!H409","v":39172}]
[760,"SILVER LAKE                  ",752,null,0,0,2,10000,null,0,0,null,0,10000,null,760,null,null,null,{"$f":"E410-june!E410","v":0},{"$f":"F410-june!F410","v":0},{"$f":"G410-june!G410","v":-4.9799999999999995},{"$f":"H410-june!H410","v":-34856},null,0,760,2,10000,{"$f":"AA410-june!G410","v":-4.9799999999999995},{"$f":"AB410-june!H410","v":-34856}]
[763,"SOMERSET BERKLEY",790,null,23.519999999999996,164871,6.8599999999999994,35879,null,0,0,null,164871,35879,null,763,null,null,null,{"$f":"E411-june!E411","v":-27.340000000000003},{"$f":"F411-june!F411","v":-128862},{"$f":"G411-june!G411","v":0.35999999999999943},{"$f":"H411-june!H411","v":873},null,0,763,6.8599999999999994,35879,{"$f":"AA411-june!G411","v":0.35999999999999943},{"$f":"AB411-june!H411","v":873}]
[765,"SOUTHERN BERKSHIRE           ",755,null,123.58999999999997,689770,130.49,665880,null,0,0,null,689770,665880,null,765,1,null,null,{"$f":"E412-june!E412","v":2.0599999999999739},{"$f":"F412-june!F412","v":-25029},{"$f":"G412-june!G412","v":16.75},{"$f":"H412-june!H412","v":65648},null,0,765,129.66,660319,{"$f":"AA412-june!G412","v":15.919999999999987},{"$f":"AB412-june!H412","v":60087}]
[766,"SOUTHWICK TOLLAND",766,null,102.59,590457,53.25,280907,null,0,0,null,590457,280907,null,766,2,1,null,{"$f":"E413-june!E413","v":-24.469999999999985},{"$f":"F413-june!F413","v":-113639},{"$f":"G413-june!G413","v":1.5},{"$f":"H413-june!H413","v":-13322},null,0,766,51,265832,{"$f":"AA413-june!G413","v":-0.75},{"$f":"AB413-june!H413","v":-28397}]
[767,"SPENCER EAST BROOKFIELD      ",756,null,54.51,333107,186.70000000000005,1072219,null,0,0,null,333107,1072219,null,767,1,3,null,{"$f":"E414-june!E414","v":10.310000000000002},{"$f":"F414-june!F414","v":53621},{"$f":"G414-june!G414","v":-23.449999999999932},{"$f":"H414-june!H414","v":-95560},null,0,767,184.10000000000002,1054799,{"$f":"AA414-june!G414","v":-26.049999999999955},{"$f":"AB414-june!H414","v":-112980}]
[770,"TANTASQUA                    ",757,null,162.22999999999999,932098,30.13,188462,null,0,0,null,932098,188462,null,770,null,6,null,{"$f":"E415-june!E415","v":4.460000000000008},{"$f":"F415-june!F415","v":-1089},{"$f":"G415-june!G415","v":4.639999999999997},{"$f":"H415-june!H415","v":24640},null,0,770,26.59,164744,{"$f":"AA415-june!G415","v":1.0999999999999979},{"$f":"AB415-june!H415","v":922}]
[773,"TRITON                       ",763,null,181.52999999999994,1209512,98.11999999999999,943249,null,0,0,null,1209512,943249,null,773,null,4,null,{"$f":"E416-june!E416","v":25.189999999999941},{"$f":"F416-june!F416","v":213337},{"$f":"G416-june!G416","v":14.11999999999999},{"$f":"H416-june!H416","v":91754},null,0,773,95.759999999999991,927437,{"$f":"AA416-june!G416","v":11.759999999999991},{"$f":"AB416-june!H416","v":75942}]
[774,"UPISLAND",789,null,51,315995,16.36,113764,null,0,0,null,315995,113764,null,774,null,null,null,{"$f":"E417-june!E417","v":-5},{"$f":"F417-june!F417","v":-60923},{"$f":"G417-june!G417","v":5.42},{"$f":"H417-june!H417","v":59064},null,0,774,16.36,113764,{"$f":"AA417-june!G417","v":5.42},{"$f":"AB417-june!H417","v":59064}]
[775,"WACHUSETT                    ",759,null,203.84,1068886,106.44000000000001,587867,null,0,0,null,1068886,587867,null,775,11,12,null,{"$f":"E418-june!E418","v":29.840000000000003},{"$f":"F418-june!F418","v":56097},{"$f":"G418-june!G418","v":-5.4299999999999926},{"$f":"H418-june!H418","v":-74265},null,0,775,90.230000000000018,479260,{"$f":"AA418-june!G418","v":-21.639999999999986},{"$f":"AB418-june!H418","v":-182872}]
[778,"QUABOAG",750,null,186.26,1031030,84.84,519822,null,0,0,null,1031030,519822,null,778,null,3,null,{"$f":"E419-june!E419","v":-7.0799999999999841},{"$f":"F419-june!F419","v":-4871},{"$f":"G419-june!G419","v":-5.3300000000000125},{"$f":"H419-june!H419","v":-35850},null,0,778,83.070000000000007,507963,{"$f":"AA419-june!G419","v":-7.1000000000000085},{"$f":"AB419-june!H419","v":-47709}]
[780,"WHITMAN HANSON               ",761,null,15.7,78500,13.73,75076,null,0,0,null,78500,75076,null,780,1,5,null,{"$f":"E420-june!E420","v":-14.060000000000002},{"$f":"F420-june!F420","v":-107573},{"$f":"G420-june!G420","v":-4.0500000000000007},{"$f":"H420-june!H420","v":-23174},null,0,780,9.9500000000000011,49750,{"$f":"AA420-june!G420","v":-7.83},{"$f":"AB420-june!H420","v":-48500}]
[801,"ASSABET VALLEY               ",770,null,0,0,2.59,13953,null,0,0,null,0,13953,null,801,null,1,null,{"$f":"E421-june!E421","v":0},{"$f":"F421-june!F421","v":0},{"$f":"G421-june!G421","v":2.59},{"$f":"H421-june!H421","v":13953},null,0,801,2,10000,{"$f":"AA421-june!G421","v":2},{"$f":"AB421-june!H421","v":10000}]
[805,"BLACKSTONE VALLEY            ",708,null,0,0,0,0,null,0,0,null,0,0,null,805,null,null,null,{"$f":"E422-june!E422","v":0},{"$f":"F422-june!F422","v":0},{"$f":"G422-june!G422","v":0},{"$f":"H422-june!H422","v":0},null,0,805,null,null,{"$f":"AA422-june!G422","v":0},{"$f":"AB422-june!H422","v":0}]
[806,"BLUE HILLS                   ",709,null,0,0,1,5000,null,0,0,null,0,5000,null,806,null,null,null,{"$f":"E423-june!E423","v":0},{"$f":"F423-june!F423","v":0},{"$f":"G423-june!G423","v":1},{"$f":"H423-june!H423","v":5000},null,0,806,1,5000,{"$f":"AA423-june!G423","v":1},{"$f":"AB423-june!H423","v":5000}]
[810,"BRISTOL PLYMOUTH             ",771,null,0,0,5.3599999999999994,26800,null,0,0,null,0,26800,null,810,null,null,null,{"$f":"E424-june!E424","v":0},{"$f":"F424-june!F424","v":0},{"$f":"G424-june!G424","v":-1.4700000000000006},{"$f":"H424-june!H424","v":-7350},null,0,810,5.3599999999999994,26800,{"$f":"AA424-june!G424","v":-1.4700000000000006},{"$f":"AB424-june!H424","v":-7350}]
[815,"CAPE COD                     ",779,null,0,0,2,10000,null,0,0,null,0,10000,null,815,null,null,null,{"$f":"E425-june!E425","v":0},{"$f":"F425-june!F425","v":0},{"$f":"G425-june!G425","v":-1.7800000000000002},{"$f":"H425-june!H425","v":-16261},null,0,815,2,10000,{"$f":"AA425-june!G425","v":-1.7800000000000002},{"$f":"AB425-june!H425","v":-16261}]
[817,"ESSEX NORTH SHORE",783,null,2,10000,16.990000000000002,92274,null,0,0,null,10000,92274,null,817,null,null,null,{"$f":"E426-june!E426","v":1},{"$f":"F426-june!F426","v":5000},{"$f":"G426-june!G426","v":-4.25},{"$f":"H426-june!H426","v":-26787},null,0,817,16.990000000000002,92274,{"$f":"AA426-june!G426","v":-4.25},{"$f":"AB426-june!H426","v":-26787}]
[818,"FRANKLIN COUNTY              ",782,null,0,0,2.38,11900,null,0,0,null,0,11900,null,818,null,null,null,{"$f":"E427-june!E427","v":0},{"$f":"F427-june!F427","v":0},{"$f":"G427-june!G427","v":0.85999999999999988},{"$f":"H427-june!H427","v":4300},null,0,818,2.38,11900,{"$f":"AA427-june!G427","v":0.85999999999999988},{"$f":"AB427-june!H427","v":4300}]
[821,"GREATER FALL RIVER           ",722,null,0,0,1.51,7550,null,0,0,null,0,7550,null,821,null,null,null,{"$f":"E428-june!E428","v":0},{"$f":"F428-june!F428","v":0},{"$f":"G428-june!G428","v":-6.34},{"$f":"H428-june!H428","v":-82409},null,0,821,1.51,7550,{"$f":"AA428-june!G428","v":-6.34},{"$f":"AB428-june!H428","v":-82409}]
[823,"GREATER LAWRENCE             ",723,null,5.5,27500,142.82,764958,null,0,0,null,27500,764958,null,823,null,null,null,{"$f":"E429-june!E429","v":-0.71999999999999975},{"$f":"F429-june!F429","v":-4491},{"$f":"G429-june!G429","v":27.239999999999995},{"$f":"H429-june!H429","v":133455},null,0,823,142.82,764958,{"$f":"AA429-june!G429","v":27.239999999999995},{"$f":"AB429-june!H429","v":133455}]
[825,"GREATER NEW BEDFORD          ",786,null,0,0,2,10000,null,0,0,null,0,10000,null,825,null,null,null,{"$f":"E430-june!E430","v":0},{"$f":"F430-june!F430","v":0},{"$f":"G430-june!G430","v":-3},{"$f":"H430-june!H430","v":-15000},null,0,825,2,10000,{"$f":"AA430-june!G430","v":-3},{"$f":"AB430-june!H430","v":-15000}]
[828,"GREATER LOWELL               ",767,null,3.36,25070,27.8,146589,null,0,0,null,25070,146589,null,828,null,null,null,{"$f":"E431-june!E431","v":3.36},{"$f":"F431-june!F431","v":25070},{"$f":"G431-june!G431","v":2.4699999999999989},{"$f":"H431-june!H431","v":13389},null,0,828,27.8,146589,{"$f":"AA431-june!G431","v":2.4699999999999989},{"$f":"AB431-june!H431","v":13389}]
[829,"SOUTH MIDDLESEX              ",778,null,0,0,0.59,3953,null,0,0,null,0,3953,null,829,null,1,null,{"$f":"E432-june!E432","v":0},{"$f":"F432-june!F432","v":0},{"$f":"G432-june!G432","v":0.59},{"$f":"H432-june!H432","v":3953},null,0,829,null,null,{"$f":"AA432-june!G432","v":0},{"$f":"AB432-june!H432","v":0}]
[830,"MINUTEMAN                    ",781,null,0,0,1.83,9150,null,0,0,null,0,9150,null,830,null,null,null,{"$f":"E433-june!E433","v":0},{"$f":"F433-june!F433","v":0},{"$f":"G433-june!G433","v":0.20999999999999996},{"$f":"H433-june!H433","v":1050},null,0,830,1.83,9150,{"$f":"AA433-june!G433","v":0.20999999999999996},{"$f":"AB433-june!H433","v":1050}]
[832,"MONTACHUSETT                 ",735,null,24.84,128988,49.39,280442,null,0,0,null,128988,280442,null,832,null,null,null,{"$f":"E434-june!E434","v":3.7500000000000036},{"$f":"F434-june!F434","v":19427},{"$f":"G434-june!G434","v":-15.719999999999999},{"$f":"H434-june!H434","v":-84974},null,0,832,49.39,280442,{"$f":"AA434-june!G434","v":-15.719999999999999},{"$f":"AB434-june!H434","v":-84974}]
[851,"NORTHERN BERKSHIRE           ",743,null,0,0,4,20000,null,0,0,null,0,20000,null,851,null,null,null,{"$f":"E435-june!E435","v":0},{"$f":"F435-june!F435","v":0},{"$f":"G435-june!G435","v":4},{"$f":"H435-june!H435","v":20000},null,0,851,4,20000,{"$f":"AA435-june!G435","v":4},{"$f":"AB435-june!H435","v":20000}]
[852,"NASHOBA VALLEY               ",739,null,68.02000000000001,365249,6.8100000000000005,56788,null,0,0,null,365249,56788,null,852,null,null,null,{"$f":"E436-june!E436","v":5.5100000000000051},{"$f":"F436-june!F436","v":29523},{"$f":"G436-june!G436","v":4.7},{"$f":"H436-june!H436","v":37821},null,0,852,6.8100000000000005,56788,{"$f":"AA436-june!G436","v":4.7},{"$f":"AB436-june!H436","v":37821}]
[853,"NORTHEAST METROPOLITAN       ",742,null,36.6,218436,0,0,null,0,0,null,218436,0,null,853,null,null,null,{"$f":"E437-june!E437","v":7.7700000000000031},{"$f":"F437-june!F437","v":55333},{"$f":"G437-june!G437","v":-2},{"$f":"H437-june!H437","v":-10748},null,0,853,null,null,{"$f":"AA437-june!G437","v":-2},{"$f":"AB437-june!H437","v":-10748}]
[855,"OLD COLONY                   ",784,null,0,0,0,0,null,0,0,null,0,0,null,855,null,null,null,{"$f":"E438-june!E438","v":0},{"$f":"F438-june!F438","v":0},{"$f":"G438-june!G438","v":-0.81},{"$f":"H438-june!H438","v":-4050},null,0,855,null,null,{"$f":"AA438-june!G438","v":-0.81},{"$f":"AB438-june!H438","v":-4050}]
[860,"PATHFINDER                   ",773,null,22.54,127081,13,83687,null,0,0,null,127081,83687,null,860,null,null,null,{"$f":"E439-june!E439","v":-11.160000000000004},{"$f":"F439-june!F439","v":-56277},{"$f":"G439-june!G439","v":2},{"$f":"H439-june!H439","v":24525},null,0,860,13,83687,{"$f":"AA439-june!G439","v":2},{"$f":"AB439-june!H439","v":24525}]
[871,"SHAWSHEEN VALLEY             ",751,null,0,0,20.98,117766,null,0,0,null,0,117766,null,871,null,null,null,{"$f":"E440-june!E440","v":0},{"$f":"F440-june!F440","v":0},{"$f":"G440-june!G440","v":2.7600000000000016},{"$f":"H440-june!H440","v":18315},null,0,871,20.98,117766,{"$f":"AA440-june!G440","v":2.7600000000000016},{"$f":"AB440-june!H440","v":18315}]
[872,"SOUTHEASTERN                 ",754,null,0,0,4,27181,null,0,0,null,0,27181,null,872,null,null,null,{"$f":"E441-june!E441","v":0},{"$f":"F441-june!F441","v":0},{"$f":"G441-june!G441","v":0},{"$f":"H441-june!H441","v":7181},null,0,872,4,27181,{"$f":"AA441-june!G441","v":0},{"$f":"AB441-june!H441","v":7181}]
[873,"SOUTH SHORE                  ",753,null,0,0,1,5000,null,0,0,null,0,5000,null,873,null,null,null,{"$f":"E442-june!E442","v":0},{"$f":"F442-june!F442","v":0},{"$f":"G442-june!G442","v":0},{"$f":"H442-june!H442","v":0},null,0,873,1,5000,{"$f":"AA442-june!G442","v":0},{"$f":"AB442-june!H442","v":0}]
[876,"SOUTHERN WORCESTER           ",762,null,0,0,29.86,174114,null,0,0,null,0,174114,null,876,null,null,null,{"$f":"E443-june!E443","v":0},{"$f":"F443-june!F443","v":0},{"$f":"G443-june!G443","v":-0.62999999999999901},{"$f":"H443-june!H443","v":-7317},null,0,876,29.86,174114,{"$f":"AA443-june!G443","v":-0.62999999999999901},{"$f":"AB443-june!H443","v":-7317}]
[878,"TRI COUNTY                   ",785,null,0,0,0,0,null,0,0,null,0,0,null,878,null,null,null,{"$f":"E444-june!E444","v":0},{"$f":"F444-june!F444","v":0},{"$f":"G444-june!G444","v":-0.69},{"$f":"H444-june!H444","v":-3450},null,0,878,null,null,{"$f":"AA444-june!G444","v":-0.69},{"$f":"AB444-june!H444","v":-3450}]
[879,"UPPER CAPE COD               ",758,null,0,0,4,20000,null,0,0,null,0,20000,null,879,null,null,null,{"$f":"E445-june!E445","v":0},{"$f":"F445-june!F445","v":0},{"$f":"G445-june!G445","v":2.6799999999999997},{"$f":"H445-june!H445","v":13400},null,0,879,4,20000,{"$f":"AA445-june!G445","v":2.6799999999999997},{"$f":"AB445-june!H445","v":13400}]
[885,"WHITTIER                     ",774,null,139.66999999999999,749436,5.86,33338,null,0,0,null,749436,33338,null,885,null,null,null,{"$f":"E446-june!E446","v":25.089999999999989},{"$f":"F446-june!F446","v":121373},{"$f":"G446-june!G446","v":1.0500000000000007},{"$f":"H446-june!H446","v":8397},null,0,885,5.86,33338,{"$f":"AA446-june!G446","v":1.0500000000000007},{"$f":"AB446-june!H446","v":8397}]
[910,"BRISTOL COUNTY               ",810,null,0,0,0,0,null,0,0,null,0,0,null,910,null,null,null,{"$f":"E447-june!E447","v":0},{"$f":"F447-june!F447","v":0},{"$f":"G447-june!G447","v":0},{"$f":"H447-june!H447","v":0},null,0,910,null,null,{"$f":"AA447-june!G447","v":0},{"$f":"AB447-june!H447","v":0}]
[915,"NORFOLK COUNTY               ",830,null,0,0,0,0,null,0,0,null,0,0,null,915,null,null,null,{"$f":"E448-june!E448","v":0},{"$f":"F448-june!F448","v":0},{"$f":"G448-june!G448","v":0},{"$f":"H448-june!H448","v":0},null,0,915,null,null,{"$f":"AA448-june!G448","v":0},{"$f":"AB448-june!H448","v":0}]
[3901,"MAVA",950,null,{"$f":"SUM(Q10:Q450)*0.83","v":389.27},{"$f":"E449*6625","v":2578913.75},0,0,null,0,0,null,2578913.75,0,null,3901,null,null,null,{"$f":"E449-june!E449","v":-232.83999999999992},{"$f":"F449-june!F449","v":-1728394.25},{"$f":"G449-june!G449","v":0},{"$f":"H449-june!H449","v":0},null,0,3901,null,null,{"$f":"AA449-june!G449","v":0},{"$f":"AB449-june!H449","v":0}]
[3902,"TECCA",null,null,{"$f":"SUM(R10:R450)*0.59","v":584.1},{"$f":"E450*6625","v":3869662.5},0,0,null,0,0,null,3869662.5,0,null,3902,null,null,null,{"$f":"E450-june!E450","v":-311.05000000000246},{"$f":"F450-june!F450","v":-2267290.5},{"$f":"G450-june!G450","v":0},{"$f":"H450-june!H450","v":0},null,0,3902,null,null,{"$f":"AA450-june!G450","v":0},{"$f":"AB450-june!H450","v":0}]
[9999,"State Total",null,null,{"$f":"SUM(E10:E450)","v":14726.990000000009},{"$f":"SUM(F10:F450)","v":87785649.25},{"$f":"SUM(G10:G450)","v":14695.990000000003},{"$f":"SUM(H10:H450)","v":87703652},null,{"$f":"SUM(J10:J450)","v":46450},46450,null,{"$f":"SUM(M10:M450)","v":87832099.25},{"$f":"SUM(N10:N450)","v":87750102},null,null,{"$f":"SUM(Q10:Q450)","v":469},990,null,{"$f":"SUM(T10:T450)","v":-908.55000000000291},{"$f":"SUM(U10:U450)","v":-6959530.75},{"$f":"SUM(V10:V450)","v":-939.55000000000109},{"$f":"SUM(W10:W450)","v":-7196403}]
[null,null,null,null,null,null,null,null,null,null,null,null,null,null,null,null,{"$f":"Q451*0.83","v":389.27},{"$f":"R451*0.59","v":584.1}]

{"sheet":"dec","index":6,"n_rows":451,"n_cols":42,"rows_kept":451,"cut":false,"hidden":true,"merged":[[1,0,1,14],[2,0,2,14],[4,0,4,14]]}
[null,null,null,null,null,null,null,null,null,"choicefinal15aug, through proj16aug",null,null,null,null,null,null,null,null,null,"choicecalc15dec dec7 700pm",null,null,null,null,null,"choicecalc15dec dec7 730pm",null,null,null,null,null,null,null,null,null,"choicecalc15nov dec7 715pm",null,null,null,"choicecalc15nov dec7 815pm"]
["Massachusetts Department of Elementary and Secondary Education",null,null,null,null,null,null,null,null,null,null,null,null,null,null,null,null,null,null,null,null,null,null,null,null,null,null,null,null,null,null,null,null,null,null,"no sped tuition yet",null,null,null,"no sped tuition yet"]
["Office of School Finance"]
[]
["School Choice Pupils and Tuition, FY16 Preliminary as of December 2015"]
[null,null,null,null,null,null,null,null,null,"Adjustment","Adjustment",null,null,"Net ","Net ",null,null,null,null,null,null,null,null,null,null,null,null,null,null,null,null,null,null,null,null,"nov","nov",null,null,"nov","nov"]
[null,null,null,null,"FY16","FY16","FY16","FY16",null,"FY15","FY15",null,null,"Receiving","Sending",null,null,null,null,"incoming","incoming","jun proj","jun proj",null,null,null,"incoming","incoming","jun proj","jun proj","chg",null,null,null,null,"incoming","incoming",null,null,"incoming","incoming"]
[null,null,null,null,"Receiving","Receiving","Sending","Sending",null,"Receiving","Sending",null,null,"Tuition","Tuition",null,null,null,null,"Receiving","Receiving","receiving","receiving","change in",null,null,"Sending","Sending","sending","sending","sending",null,null,null,null,"Receiving","Receiving",null,null,"Sending","Sending"]
["LEA","district","dor",null,"FTE","Tuition","FTE","Tuition",null,"Tuition","Tuition",null,null,"FY16","FY16",null,null,{"$f":"SUM(R10:R450)","v":0},"lea","FTE","Tuition","fte","tuition","tuition",{"$f":"SUM(Y10:Y450)","v":0},"lea","FTE","Tuition","fte","Tuition","Tuition",null,null,null,null,"FTE","Tuition",null,null,"FTE","Tuition"]
[1,"ABINGTON                     ",1,null,{"$f":"T10","v":1},{"$f":"U10","v":5000},{"$f":"AA10","v":36},{"$f":"AB10","v":231077},null,{"$f":"proj16aug!J10","v":0},{"$f":"proj16aug!K10","v":0},null,null,{"$f":"F10+J10","v":5000},{"$f":"H10+K10","v":231077},null,{"$f":"SUM(E10:O10)","v":472191},{"$f":"ABS(A10-S10)","v":0},1,1,5000,{"$f":"proj16jul!C10","v":2},{"$f":"proj16jul!D10","v":10000},{"$f":"U10-W10","v":-5000},{"$f":"ABS(Z10-A10)","v":0},1,36,231077,{"$f":"proj16jul!E10","v":26.249999999999996},{"$f":"proj16jul!F10","v":141707},{"$f":"AB10-AD10","v":89370},null,{"$f":"AI10-A10","v":0},null,1,2,10000,{"$f":"AJ10-T10","v":1},1,36,190200,{"$f":"AN10-AA10","v":0}]
[2,"ACTON                        ",2,null,{"$f":"T11","v":0},{"$f":"U11","v":0},{"$f":"AA11","v":0},{"$f":"AB11","v":0},null,{"$f":"proj16aug!J11","v":0},{"$f":"proj16aug!K11","v":0},null,null,{"$f":"F11+J11","v":0},{"$f":"H11+K11","v":0},null,{"$f":"SUM(E11:O11)","v":0},0,2,null,null,{"$f":"proj16jul!C11","v":0},{"$f":"proj16jul!D11","v":0},{"$f":"U11-W11","v":0},0,2,null,null,{"$f":"proj16jul!E11","v":0.83},{"$f":"proj16jul!F11","v":5561},-5561,null,{"$f":"AI11-A11","v":0},null,2,null,null,{"$f":"AJ11-T11","v":0},2,null,null,{"$f":"AN11-AA11","v":0}]
[3,"ACUSHNET                     ",3,null,0,0,15,76700,null,{"$f":"proj16aug!J12","v":0},{"$f":"proj16aug!K12","v":0},null,null,0,76700,null,153415,0,3,null,null,{"$f":"proj16jul!C12","v":0},{"$f":"proj16jul!D12","v":0},0,0,3,15,76700,{"$f":"proj16jul!E12","v":11.120000000000001},{"$f":"proj16jul!F12","v":62652},14048,null,0,null,3,null,null,0,3,15,76700,0]
[4,"ADAMS                        ",4,null,0,0,0,0,null,{"$f":"proj16aug!J13","v":0},{"$f":"proj16aug!K13","v":0},null,null,0,0,null,0,0,4,null,null,{"$f":"proj16jul!C13","v":0},{"$f":"proj16jul!D13","v":0},0,0,4,null,null,{"$f":"proj16jul!E13","v":0},{"$f":"proj16jul!F13","v":0},0,null,0,null,4,null,null,0,4,null,null,0]
[5,"AGAWAM                       ",5,null,79,429476,45,294983,null,{"$f":"proj16aug!J14","v":0},{"$f":"proj16aug!K14","v":0},null,null,429476,294983,null,1449042,0,5,79,429476,{"$f":"proj16jul!C14","v":80.569999999999993},{"$f":"proj16jul!D14","v":425326},4150,0,5,45,294983,{"$f":"proj16jul!E14","v":42.49},{"$f":"proj16jul!F14","v":290838},4145,null,0,null,5,79,395000,0,5,45,233500,0]
[6,"ALFORD                       ",6,null,0,0,0,0,null,{"$f":"proj16aug!J15","v":0},{"$f":"proj16aug!K15","v":0},null,null,0,0,null,0,0,6,null,null,{"$f":"proj16jul!C15","v":0},{"$f":"proj16jul!D15","v":0},0,0,6,null,null,{"$f":"proj16jul!E15","v":0},{"$f":"proj16jul!F15","v":0},0,null,0,null,6,null,null,0,6,null,null,0]
[7,"AMESBURY                     ",7,null,16,121524,63,394457,null,{"$f":"proj16aug!J16","v":0},{"$f":"proj16aug!K16","v":0},null,null,121524,394457,null,1032041,0,7,16,121524,{"$f":"proj16jul!C16","v":30},{"$f":"proj16jul!D16","v":196514},-74990,0,7,63,394457,{"$f":"proj16jul!E16","v":74.48},{"$f":"proj16jul!F16","v":494598},-100141,null,0,null,7,16,80000,0,7,63,332000,0]
[8,"AMHERST                      ",8,null,49,319432,21,134194,null,{"$f":"proj16aug!J17","v":0},{"$f":"proj16aug!K17","v":0},null,null,319432,134194,null,907322,0,8,49,319432,{"$f":"proj16jul!C17","v":53.849999999999994},{"$f":"proj16jul!D17","v":338073},-18641,0,8,21,134194,{"$f":"proj16jul!E17","v":23.909999999999997},{"$f":"proj16jul!F17","v":157400},-23206,null,0,null,8,49,245000,0,8,21,105000,0]
[9,"ANDOVER                      ",9,null,0,0,4,29100,null,{"$f":"proj16aug!J18","v":0},{"$f":"proj16aug!K18","v":0},null,null,0,29100,null,58204,0,9,null,null,{"$f":"proj16jul!C18","v":0},{"$f":"proj16jul!D18","v":0},0,0,9,4,29100,{"$f":"proj16jul!E18","v":3.78},{"$f":"proj16jul!F18","v":25326},3774,null,0,null,9,null,null,0,9,4,25100,0]
[10,"ARLINGTON                    ",10,null,0,0,2,21400,null,{"$f":"proj16aug!J19","v":0},{"$f":"proj16aug!K19","v":0},null,null,0,21400,null,42802,0,10,null,null,{"$f":"proj16jul!C19","v":0},{"$f":"proj16jul!D19","v":0},0,0,10,2,21400,{"$f":"proj16jul!E19","v":0.83},{"$f":"proj16jul!F19","v":5561},15839,null,0,null,10,null,null,0,10,3,13400,1]
[11,"ASHBURNHAM                   ",11,null,0,0,0,0,null,{"$f":"proj16aug!J20","v":0},{"$f":"proj16aug!K20","v":0},null,null,0,0,null,0,0,11,null,null,{"$f":"proj16jul!C20","v":0},{"$f":"proj16jul!D20","v":0},0,0,11,null,null,{"$f":"proj16jul!E20","v":0},{"$f":"proj16jul!F20","v":0},0,null,0,null,11,null,null,0,11,null,null,0]
[12,"ASHBY                        ",12,null,0,0,0,0,null,{"$f":"proj16aug!J21","v":0},{"$f":"proj16aug!K21","v":0},null,null,0,0,null,0,0,12,null,null,{"$f":"proj16jul!C21","v":0},{"$f":"proj16jul!D21","v":0},0,0,12,null,null,{"$f":"proj16jul!E21","v":0},{"$f":"proj16jul!F21","v":0},0,null,0,null,12,null,null,0,12,null,null,0]
[13,"ASHFIELD                     ",13,null,0,0,0,0,null,{"$f":"proj16aug!J22","v":0},{"$f":"proj16aug!K22","v":0},null,null,0,0,null,0,0,13,null,null,{"$f":"proj16jul!C22","v":0},{"$f":"proj16jul!D22","v":0},0,0,13,null,null,{"$f":"proj16jul!E22","v":0},{"$f":"proj16jul!F22","v":0},0,null,0,null,13,null,null,0,13,null,null,0]
[14,"ASHLAND                      ",14,null,45,287724,12.5,84632,null,{"$f":"proj16aug!J23","v":0},{"$f":"proj16aug!K23","v":0},null,null,287724,84632,null,744769.5,0,14,45,287724,{"$f":"proj16jul!C23","v":31.759999999999998},{"$f":"proj16jul!D23","v":212748},74976,0,14,12.5,84632,{"$f":"proj16jul!E23","v":15.370000000000003},{"$f":"proj16jul!F23","v":91418},-6786,null,0,null,14,45,225000,0,14,12.5,63388,0]
[15,"ATHOL                        ",15,null,0,0,0,0,null,{"$f":"proj16aug!J24","v":0},{"$f":"proj16aug!K24","v":0},null,null,0,0,null,0,0,15,null,null,{"$f":"proj16jul!C24","v":0},{"$f":"proj16jul!D24","v":0},0,0,15,null,null,{"$f":"proj16jul!E24","v":0},{"$f":"proj16jul!F24","v":0},0,null,0,null,15,null,null,0,15,null,null,0]
[16,"ATTLEBORO                    ",16,null,0,0,28,183900,null,{"$f":"proj16aug!J25","v":0},{"$f":"proj16aug!K25","v":0},null,null,0,183900,null,367828,0,16,null,null,{"$f":"proj16jul!C25","v":0},{"$f":"proj16jul!D25","v":0},0,0,16,28,183900,{"$f":"proj16jul!E25","v":16.89},{"$f":"proj16jul!F25","v":98305},85595,null,0,null,16,null,null,0,16,28,168900,0]
[17,"AUBURN                       ",17,null,63,327404,20,112071,null,{"$f":"proj16aug!J26","v":0},{"$f":"proj16aug!K26","v":0},null,null,327404,112071,null,879033,0,17,63,327404,{"$f":"proj16jul!C26","v":46.910000000000004},{"$f":"proj16jul!D26","v":249438},77966,0,17,20,112071,{"$f":"proj16jul!E26","v":20.36},{"$f":"proj16jul!F26","v":127289},-15218,null,0,null,17,63,315000,0,17,20,105100,0]
[18,"AVON                         ",18,null,193,1024920,2,10000,null,{"$f":"proj16aug!J27","v":0},{"$f":"proj16aug!K27","v":0},null,null,1024920,10000,null,2070035,0,18,193,1024920,{"$f":"proj16jul!C27","v":182.16},{"$f":"proj16jul!D27","v":949225},75695,0,18,2,10000,{"$f":"proj16jul!E27","v":5},{"$f":"proj16jul!F27","v":25000},-15000,null,0,null,18,193,965000,0,18,2,10000,0]
[19,"AYER                         ",19,null,0,0,0,0,null,{"$f":"proj16aug!J28","v":0},{"$f":"proj16aug!K28","v":0},null,null,0,0,null,0,0,19,null,null,{"$f":"proj16jul!C28","v":0},{"$f":"proj16jul!D28","v":0},0,0,19,null,null,{"$f":"proj16jul!E28","v":0},{"$f":"proj16jul!F28","v":0},0,null,0,null,19,null,null,0,19,null,null,0]
[20,"BARNSTABLE                   ",20,null,104,658306,155,934327,null,{"$f":"proj16aug!J29","v":0},{"$f":"proj16aug!K29","v":0},null,null,658306,934327,null,3185525,0,20,104,658306,{"$f":"proj16jul!C29","v":104.86},{"$f":"proj16jul!D29","v":616894},41412,0,20,155,934327,{"$f":"proj16jul!E29","v":155.75000000000003},{"$f":"proj16jul!F29","v":918231},16096,null,0,null,20,104,520000,0,20,155,795400,0]
[21,"BARRE                        ",21,null,0,0,0,0,null,{"$f":"proj16aug!J30","v":0},{"$f":"proj16aug!K30","v":0},null,null,0,0,null,0,0,21,null,null,{"$f":"proj16jul!C30","v":0},{"$f":"proj16jul!D30","v":0},0,0,21,null,null,{"$f":"proj16jul!E30","v":0},{"$f":"proj16jul!F30","v":0},0,null,0,null,21,null,null,0,21,null,null,0]
[22,"BECKET                       ",22,null,0,0,3,15000,null,{"$f":"proj16aug!J31","v":0},{"$f":"proj16aug!K31","v":0},null,null,0,15000,null,30003,0,22,null,null,{"$f":"proj16jul!C31","v":0},{"$f":"proj16jul!D31","v":0},0,0,22,3,15000,{"$f":"proj16jul!E31","v":2},{"$f":"proj16jul!F31","v":10000},5000,null,0,null,22,null,null,0,22,3,15000,0]
[23,"BEDFORD                      ",23,null,0,0,4,23400,null,{"$f":"proj16aug!J32","v":0},{"$f":"proj16aug!K32","v":0},null,null,0,23400,null,46804,0,23,null,null,{"$f":"proj16jul!C32","v":0},{"$f":"proj16jul!D32","v":0},0,0,23,4,23400,{"$f":"proj16jul!E32","v":1},{"$f":"proj16jul!F32","v":5000},18400,null,0,null,23,null,null,0,23,4.5,25900,0.5]
[24,"BELCHERTOWN                  ",24,null,122,760087,96,659834,null,{"$f":"proj16aug!J33","v":0},{"$f":"proj16aug!K33","v":0},null,null,760087,659834,null,2840060,0,24,122,760087,{"$f":"proj16jul!C33","v":99.509999999999991},{"$f":"proj16jul!D33","v":580989},179098,0,24,96,659834,{"$f":"proj16jul!E33","v":82.72999999999999},{"$f":"proj16jul!F33","v":544940},114894,null,0,null,24,122,605000,0,24,94.5,486100,-1.5]
[25,"BELLINGHAM                   ",25,null,33,202459,132.5,818894,null,{"$f":"proj16aug!J34","v":0},{"$f":"proj16aug!K34","v":12500},null,null,202459,831394,null,2067871.5,0,25,33,202459,{"$f":"proj16jul!C34","v":45.33},{"$f":"proj16jul!D34","v":257806},-55347,0,25,132.5,818894,{"$f":"proj16jul!E34","v":115.13999999999999},{"$f":"proj16jul!F34","v":703458},115436,null,0,null,25,33,165000,0,25,133.5,684500,1]
[26,"BELMONT                      ",26,null,0,0,0,0,null,{"$f":"proj16aug!J35","v":0},{"$f":"proj16aug!K35","v":0},null,null,0,0,null,0,0,26,null,null,{"$f":"proj16jul!C35","v":0},{"$f":"proj16jul!D35","v":0},0,0,26,null,null,{"$f":"proj16jul!E35","v":0.73},{"$f":"proj16jul!F35","v":4653},-4653,null,0,null,26,null,null,0,26,null,null,0]
[27,"BERKLEY                      ",27,null,108,582114,2,10000,null,{"$f":"proj16aug!J36","v":0},{"$f":"proj16aug!K36","v":0},null,null,582114,10000,null,1184338,0,27,108,582114,{"$f":"proj16jul!C36","v":78.599999999999994},{"$f":"proj16jul!D36","v":396688},185426,0,27,2,10000,{"$f":"proj16jul!E36","v":2},{"$f":"proj16jul!F36","v":10000},0,null,0,null,27,108.5,542500,0.5,27,2,10000,0]
[28,"BERLIN                       ",28,null,20,149051,0,0,null,{"$f":"proj16aug!J37","v":0},{"$f":"proj16aug!K37","v":0},null,null,149051,0,null,298122,0,28,20,149051,{"$f":"proj16jul!C37","v":18},{"$f":"proj16jul!D37","v":145629},3422,0,28,null,null,{"$f":"proj16jul!E37","v":0},{"$f":"proj16jul!F37","v":0},0,null,0,null,28,20,100000,0,28,null,null,0]
[29,"BERNARDSTON                  ",29,null,0,0,0,0,null,{"$f":"proj16aug!J38","v":0},{"$f":"proj16aug!K38","v":0},null,null,0,0,null,0,0,29,null,null,{"$f":"proj16jul!C38","v":0},{"$f":"proj16jul!D38","v":0},0,0,29,null,null,{"$f":"proj16jul!E38","v":0},{"$f":"proj16jul!F38","v":0},0,null,0,null,29,null,null,0,29,null,null,0]
[30,"BEVERLY                      ",30,null,106,601926,60,340184,null,{"$f":"proj16aug!J39","v":0},{"$f":"proj16aug!K39","v":0},null,null,601926,340184,null,1884386,0,30,106,601926,{"$f":"proj16jul!C39","v":95.320000000000007},{"$f":"proj16jul!D39","v":524477},77449,0,30,60,340184,{"$f":"proj16jul!E39","v":62.120000000000005},{"$f":"proj16jul!F39","v":336687},3497,null,0,null,30,106,530000,0,30,60,330600,0]
[31,"BILLERICA                    ",31,null,0,0,16,105600,null,{"$f":"proj16aug!J40","v":0},{"$f":"proj16aug!K40","v":0},null,null,0,105600,null,211216,0,31,null,null,{"$f":"proj16jul!C40","v":0},{"$f":"proj16jul!D40","v":0},0,0,31,16,105600,{"$f":"proj16jul!E40","v":13.559999999999999},{"$f":"proj16jul!F40","v":74634},30966,null,0,null,31,null,null,0,31,16.5,96100,0.5]
[32,"BLACKSTONE                   ",32,null,0,0,0,0,null,{"$f":"proj16aug!J41","v":0},{"$f":"proj16aug!K41","v":0},null,null,0,0,null,0,0,32,null,null,{"$f":"proj16jul!C41","v":0},{"$f":"proj16jul!D41","v":0},0,0,32,null,null,{"$f":"proj16jul!E41","v":0},{"$f":"proj16jul!F41","v":0},0,null,0,null,32,null,null,0,32,null,null,0]
[33,"BLANDFORD                    ",33,null,0,0,2,12120,null,{"$f":"proj16aug!J42","v":0},{"$f":"proj16aug!K42","v":0},null,null,0,12120,null,24242,0,33,null,null,{"$f":"proj16jul!C42","v":0},{"$f":"proj16jul!D42","v":0},0,0,33,2,12120,{"$f":"proj16jul!E42","v":0},{"$f":"proj16jul!F42","v":0},12120,null,0,null,33,null,null,0,33,2,10000,0]
[34,"BOLTON                       ",34,null,0,0,0,0,null,{"$f":"proj16aug!J43","v":0},{"$f":"proj16aug!K43","v":0},null,null,0,0,null,0,0,34,null,null,{"$f":"proj16jul!C43","v":0},{"$f":"proj16jul!D43","v":0},0,0,34,null,null,{"$f":"proj16jul!E43","v":0},{"$f":"proj16jul!F43","v":0},0,null,0,null,34,null,null,0,34,null,null,0]
[35,"BOSTON                       ",35,null,0,0,88,608120,null,{"$f":"proj16aug!J44","v":0},{"$f":"proj16aug!K44","v":0},null,null,0,608120,null,1216328,0,35,null,null,{"$f":"proj16jul!C44","v":0},{"$f":"proj16jul!D44","v":0},0,0,35,88,608120,{"$f":"proj16jul!E44","v":86.539999999999992},{"$f":"proj16jul!F44","v":555312},52808,null,0,null,35,null,null,0,35,90,572552,2]
[36,"BOURNE                       ",36,null,118.5,696677,98,584253,null,{"$f":"proj16aug!J45","v":0},{"$f":"proj16aug!K45","v":0},null,null,696677,584253,null,2562076.5,0,36,118.5,696677,{"$f":"proj16jul!C45","v":126.46000000000001},{"$f":"proj16jul!D45","v":723869},-27192,0,36,98,584253,{"$f":"proj16jul!E45","v":91.77},{"$f":"proj16jul!F45","v":622519},-38266,null,0,null,36,119,595000,0.5,36,98,491700,0]
[37,"BOXBOROUGH                   ",37,null,0,0,0,0,null,{"$f":"proj16aug!J46","v":0},{"$f":"proj16aug!K46","v":0},null,null,0,0,null,0,0,37,null,null,{"$f":"proj16jul!C46","v":0},{"$f":"proj16jul!D46","v":0},0,0,37,null,null,{"$f":"proj16jul!E46","v":0},{"$f":"proj16jul!F46","v":0},0,null,0,null,37,null,null,0,37,null,null,0]
[38,"BOXFORD                      ",38,null,0,0,3,16700,null,{"$f":"proj16aug!J47","v":0},{"$f":"proj16aug!K47","v":0},null,null,0,16700,null,33403,0,38,null,null,{"$f":"proj16jul!C47","v":0},{"$f":"proj16jul!D47","v":0},0,0,38,3,16700,{"$f":"proj16jul!E47","v":0.83},{"$f":"proj16jul!F47","v":5561},11139,null,0,null,38,null,null,0,38,3,16700,0]
[39,"BOYLSTON                     ",39,null,17,90513,8,91045,null,{"$f":"proj16aug!J48","v":0},{"$f":"proj16aug!K48","v":0},null,null,90513,91045,null,363141,0,39,17,90513,{"$f":"proj16jul!C48","v":13},{"$f":"proj16jul!D48","v":70513},20000,0,39,8,91045,{"$f":"proj16jul!E48","v":7.4},{"$f":"proj16jul!F48","v":83867},7178,null,0,null,39,17,85000,0,39,8,40000,0]
[40,"BRAINTREE                    ",40,null,0,0,3,18400,null,{"$f":"proj16aug!J49","v":0},{"$f":"proj16aug!K49","v":0},null,null,0,18400,null,36803,0,40,null,null,{"$f":"proj16jul!C49","v":0},{"$f":"proj16jul!D49","v":0},0,0,40,3,18400,{"$f":"proj16jul!E49","v":4.5999999999999996},{"$f":"proj16jul!F49","v":27420},-9020,null,0,null,40,null,null,0,40,3,18400,0]
[41,"BREWSTER                     ",41,null,0,0,27,166964,null,{"$f":"proj16aug!J50","v":0},{"$f":"proj16aug!K50","v":0},null,null,0,166964,null,333955,0,41,null,null,{"$f":"proj16jul!C50","v":0},{"$f":"proj16jul!D50","v":0},0,0,41,27,166964,{"$f":"proj16jul!E50","v":23.39},{"$f":"proj16jul!F50","v":158226},8738,null,0,null,41,null,null,0,41,27,135000,0]
[42,"BRIDGEWATER                  ",42,null,0,0,0,0,null,{"$f":"proj16aug!J51","v":0},{"$f":"proj16aug!K51","v":0},null,null,0,0,null,0,0,42,null,null,{"$f":"proj16jul!C51","v":0},{"$f":"proj16jul!D51","v":0},0,0,42,null,null,{"$f":"proj16jul!E51","v":0},{"$f":"proj16jul!F51","v":0},0,null,0,null,42,null,null,0,42,null,null,0]
[43,"BRIMFIELD                    ",43,null,0,0,6,64508,null,{"$f":"proj16aug!J52","v":0},{"$f":"proj16aug!K52","v":0},null,null,0,64508,null,129022,0,43,null,null,{"$f":"proj16jul!C52","v":0},{"$f":"proj16jul!D52","v":0},0,0,43,6,64508,{"$f":"proj16jul!E52","v":9.370000000000001},{"$f":"proj16jul!F52","v":102550},-38042,null,0,null,43,null,null,0,43,6,30000,0]
[44,"BROCKTON                     ",44,null,25,136000,239,1328445,null,{"$f":"proj16aug!J53","v":0},{"$f":"proj16aug!K53","v":0},null,null,136000,1328445,null,2929154,0,44,25,136000,{"$f":"proj16jul!C53","v":23},{"$f":"proj16jul!D53","v":115000},21000,0,44,239,1328445,{"$f":"proj16jul!E53","v":188.57000000000005},{"$f":"proj16jul!F53","v":1037038},291407,null,0,null,44,25,125000,0,44,234,1212500,-5]
[45,"BROOKFIELD                   ",45,null,57,350618,1,5000,null,{"$f":"proj16aug!J54","v":0},{"$f":"proj16aug!K54","v":0},null,null,350618,5000,null,711294,0,45,57,350618,{"$f":"proj16jul!C54","v":60.86},{"$f":"proj16jul!D54","v":389284},-38666,0,45,1,5000,{"$f":"proj16jul!E54","v":2.2800000000000002},{"$f":"proj16jul!F54","v":14677},-9677,null,0,null,45,57,285000,0,45,1,5000,0]
[46,"BROOKLINE                    ",46,null,0,0,1,6700,null,{"$f":"proj16aug!J55","v":0},{"$f":"proj16aug!K55","v":0},null,null,0,6700,null,13401,0,46,null,null,{"$f":"proj16jul!C55","v":0},{"$f":"proj16jul!D55","v":0},0,0,46,1,6700,{"$f":"proj16jul!E55","v":0.59},{"$f":"proj16jul!F55","v":3953},2747,null,0,null,46,null,null,0,46,1,6700,0]
[47,"BUCKLAND                     ",47,null,0,0,0,0,null,{"$f":"proj16aug!J56","v":0},{"$f":"proj16aug!K56","v":0},null,null,0,0,null,0,0,47,null,null,{"$f":"proj16jul!C56","v":0},{"$f":"proj16jul!D56","v":0},0,0,47,null,null,{"$f":"proj16jul!E56","v":0},{"$f":"proj16jul!F56","v":0},0,null,0,null,47,null,null,0,47,null,null,0]
[48,"BURLINGTON                   ",48,null,29,153000,3,20100,null,{"$f":"proj16aug!J57","v":0},{"$f":"proj16aug!K57","v":0},null,null,153000,20100,null,346232,0,48,29,153000,{"$f":"proj16jul!C57","v":25.019999999999996},{"$f":"proj16jul!D57","v":125100},27900,0,48,3,20100,{"$f":"proj16jul!E57","v":2.36},{"$f":"proj16jul!F57","v":15812},4288,null,0,null,48,29,145000,0,48,3,20100,0]
[49,"CAMBRIDGE                    ",49,null,0,0,5,33500,null,{"$f":"proj16aug!J58","v":0},{"$f":"proj16aug!K58","v":0},null,null,0,33500,null,67005,0,49,null,null,{"$f":"proj16jul!C58","v":0},{"$f":"proj16jul!D58","v":0},0,0,49,5,33500,{"$f":"proj16jul!E58","v":2.84},{"$f":"proj16jul!F58","v":19028},14472,null,0,null,49,null,null,0,49,5,33500,0]
[50,"CANTON                       ",50,null,0,0,1,6700,null,{"$f":"proj16aug!J59","v":0},{"$f":"proj16aug!K59","v":0},null,null,0,6700,null,13401,0,50,null,null,{"$f":"proj16jul!C59","v":0},{"$f":"proj16jul!D59","v":0},0,0,50,1,6700,{"$f":"proj16jul!E59","v":1.18},{"$f":"proj16jul!F59","v":7906},-1206,null,0,null,50,null,null,0,50,1,6700,0]
[51,"CARLISLE                     ",51,null,0,0,0,0,null,{"$f":"proj16aug!J60","v":0},{"$f":"proj16aug!K60","v":0},null,null,0,0,null,0,0,51,null,null,{"$f":"proj16jul!C60","v":0},{"$f":"proj16jul!D60","v":0},0,0,51,null,null,{"$f":"proj16jul!E60","v":0},{"$f":"proj16jul!F60","v":0},0,null,0,null,51,null,null,0,51,null,null,0]
[52,"CARVER                       ",52,null,23,167791,6,40200,null,{"$f":"proj16aug!J61","v":0},{"$f":"proj16aug!K61","v":0},null,null,167791,40200,null,416011,0,52,23,167791,{"$f":"proj16jul!C61","v":20.64},{"$f":"proj16jul!D61","v":155991},11800,0,52,6,40200,{"$f":"proj16jul!E61","v":5.25},{"$f":"proj16jul!F61","v":30075},10125,null,0,null,52,23,115000,0,52,6,40200,0]
[53,"CHARLEMONT                   ",53,null,0,0,0,0,null,{"$f":"proj16aug!J62","v":0},{"$f":"proj16aug!K62","v":0},null,null,0,0,null,0,0,53,null,null,{"$f":"proj16jul!C62","v":0},{"$f":"proj16jul!D62","v":0},0,0,53,null,null,{"$f":"proj16jul!E62","v":0},{"$f":"proj16jul!F62","v":0},0,null,0,null,53,null,null,0,53,null,null,0]
[54,"CHARLTON                     ",54,null,0,0,0,0,null,{"$f":"proj16aug!J63","v":0},{"$f":"proj16aug!K63","v":0},null,null,0,0,null,0,0,54,null,null,{"$f":"proj16jul!C63","v":0},{"$f":"proj16jul!D63","v":0},0,0,54,null,null,{"$f":"proj16jul!E63","v":0},{"$f":"proj16jul!F63","v":0},0,null,0,null,54,null,null,0,54,null,null,0]
[55,"CHATHAM                      ",55,null,0,0,0,0,null,{"$f":"proj16aug!J64","v":0},{"$f":"proj16aug!K64","v":0},null,null,0,0,null,0,0,55,null,null,{"$f":"proj16jul!C64","v":0},{"$f":"proj16jul!D64","v":0},0,0,55,null,null,{"$f":"proj16jul!E64","v":0},{"$f":"proj16jul!F64","v":0},0,null,0,null,55,null,null,0,55,null,null,0]
[56,"CHELMSFORD                   ",56,null,59,375373,29.5,207601,null,{"$f":"proj16aug!J65","v":0},{"$f":"proj16aug!K65","v":0},null,null,375373,207601,null,1166036.5,0,56,59,375373,{"$f":"proj16jul!C65","v":44},{"$f":"proj16jul!D65","v":326523},48850,0,56,29.5,207601,{"$f":"proj16jul!E65","v":27.68},{"$f":"proj16jul!F65","v":193494},14107,null,0,null,56,59,295000,0,56,31,165300,1.5]
[57,"CHELSEA                      ",57,null,0,0,8,51900,null,{"$f":"proj16aug!J66","v":0},{"$f":"proj16aug!K66","v":0},null,null,0,51900,null,103808,0,57,null,null,{"$f":"proj16jul!C66","v":0},{"$f":"proj16jul!D66","v":0},0,0,57,8,51900,{"$f":"proj16jul!E66","v":4.26},{"$f":"proj16jul!F66","v":28542},23358,null,0,null,57,null,null,0,57,8,51900,0]
[58,"CHESHIRE                     ",58,null,0,0,0,0,null,{"$f":"proj16aug!J67","v":0},{"$f":"proj16aug!K67","v":0},null,null,0,0,null,0,0,58,null,null,{"$f":"proj16jul!C67","v":0},{"$f":"proj16jul!D67","v":0},0,0,58,null,null,{"$f":"proj16jul!E67","v":0},{"$f":"proj16jul!F67","v":0},0,null,0,null,58,null,null,0,58,null,null,0]
[59,"CHESTER                      ",59,null,0,0,0,0,null,{"$f":"proj16aug!J68","v":0},{"$f":"proj16aug!K68","v":0},null,null,0,0,null,0,0,59,null,null,{"$f":"proj16jul!C68","v":0},{"$f":"proj16jul!D68","v":0},0,0,59,null,null,{"$f":"proj16jul!E68","v":0},{"$f":"proj16jul!F68","v":0},0,null,0,null,59,null,null,0,59,null,null,0]
[60,"CHESTERFIELD                 ",60,null,0,0,0,0,null,{"$f":"proj16aug!J69","v":0},{"$f":"proj16aug!K69","v":0},null,null,0,0,null,0,0,60,null,null,{"$f":"proj16jul!C69","v":0},{"$f":"proj16jul!D69","v":0},0,0,60,null,null,{"$f":"proj16jul!E69","v":0},{"$f":"proj16jul!F69","v":0},0,null,0,null,60,null,null,0,60,null,null,0]
[61,"CHICOPEE                     ",61,null,195,1009093,136,777720,null,{"$f":"proj16aug!J70","v":0},{"$f":"proj16aug!K70","v":0},null,null,1009093,777720,null,3573957,0,61,195,1009093,{"$f":"proj16jul!C70","v":179.17000000000002},{"$f":"proj16jul!D70","v":941627},67466,0,61,136,777720,{"$f":"proj16jul!E70","v":130.28},{"$f":"proj16jul!F70","v":754391},23329,null,0,null,61,195,975000,0,61,82.5,447388,-53.5]
[62,"CHILMARK                     ",62,null,0,0,0,0,null,{"$f":"proj16aug!J71","v":0},{"$f":"proj16aug!K71","v":0},null,null,0,0,null,0,0,62,null,null,{"$f":"proj16jul!C71","v":0},{"$f":"proj16jul!D71","v":0},0,0,62,null,null,{"$f":"proj16jul!E71","v":0},{"$f":"proj16jul!F71","v":0},0,null,0,null,62,null,null,0,62,null,null,0]
[63,"CLARKSBURG                   ",63,null,33,203974,16,107823,null,{"$f":"proj16aug!J72","v":0},{"$f":"proj16aug!K72","v":0},null,null,203974,107823,null,623643,0,63,33,203974,{"$f":"proj16jul!C72","v":26.96},{"$f":"proj16jul!D72","v":159657},44317,0,63,16,107823,{"$f":"proj16jul!E72","v":13.03},{"$f":"proj16jul!F72","v":90681},17142,null,0,null,63,33,165000,0,63,16,80000,0]
[64,"CLINTON                      ",64,null,79,585285,121.5,675727,null,{"$f":"proj16aug!J73","v":0},{"$f":"proj16aug!K73","v":0},null,null,585285,675727,null,2522224.5,0,64,79,585285,{"$f":"proj16jul!C73","v":115.24999999999996},{"$f":"proj16jul!D73","v":843868},-258583,0,64,121.5,675727,{"$f":"proj16jul!E73","v":113.69999999999999},{"$f":"proj16jul!F73","v":637998},37729,null,0,null,64,79,395000,0,64,121.5,617700,0]
[65,"COHASSET                     ",65,null,0,0,0,0,null,{"$f":"proj16aug!J74","v":0},{"$f":"proj16aug!K74","v":0},null,null,0,0,null,0,{"$f":"ABS(A74-S74)","v":0},65,null,null,{"$f":"proj16jul!C74","v":0},{"$f":"proj16jul!D74","v":0},0,{"$f":"ABS(Z74-A74)","v":0},65,null,null,{"$f":"proj16jul!E74","v":0},{"$f":"proj16jul!F74","v":0},{"$f":"AB74-AD74","v":0},null,0,null,65,null,null,0,65,null,null,0]
[66,"COLRAIN                      ",66,null,{"$f":"T75","v":0},{"$f":"U75","v":0},{"$f":"AA75","v":0},{"$f":"AB75","v":0},null,{"$f":"proj16aug!J75","v":0},{"$f":"proj16aug!K75","v":0},null,null,{"$f":"F75+J75","v":0},{"$f":"H75+K75","v":0},null,{"$f":"SUM(E75:O75)","v":0},0,66,null,null,{"$f":"proj16jul!C75","v":0},{"$f":"proj16jul!D75","v":0},{"$f":"U75-W75","v":0},0,66,null,null,{"$f":"proj16jul!E75","v":0},{"$f":"proj16jul!F75","v":0},0,null,{"$f":"AI75-A75","v":0},null,66,null,null,{"$f":"AJ75-T75","v":0},66,null,null,{"$f":"AN75-AA75","v":0}]
[67,"CONCORD                      ",67,null,0,0,3,18400,null,{"$f":"proj16aug!J76","v":0},{"$f":"proj16aug!K76","v":0},null,null,0,18400,null,36803,0,67,null,null,{"$f":"proj16jul!C76","v":0},{"$f":"proj16jul!D76","v":0},0,0,67,3,18400,{"$f":"proj16jul!E76","v":3.36},{"$f":"proj16jul!F76","v":20812},-2412,null,0,null,67,null,null,0,67,3,18400,0]
[68,"CONWAY                       ",68,null,21,148737,9,72060,null,{"$f":"proj16aug!J77","v":0},{"$f":"proj16aug!K77","v":0},null,null,148737,72060,null,441624,0,68,21,148737,{"$f":"proj16jul!C77","v":19.82},{"$f":"proj16jul!D77","v":126837},21900,0,68,9,72060,{"$f":"proj16jul!E77","v":8},{"$f":"proj16jul!F77","v":76433},-4373,null,0,null,68,21,105000,0,68,9,45000,0]
[69,"CUMMINGTON                   ",69,null,0,0,0,0,null,{"$f":"proj16aug!J78","v":0},{"$f":"proj16aug!K78","v":0},null,null,0,0,null,0,0,69,null,null,{"$f":"proj16jul!C78","v":0},{"$f":"proj16jul!D78","v":0},0,0,69,null,null,{"$f":"proj16jul!E78","v":0},{"$f":"proj16jul!F78","v":0},0,null,0,null,69,null,null,0,69,null,null,0]
[70,"DALTON                       ",70,null,0,0,0,0,null,{"$f":"proj16aug!J79","v":0},{"$f":"proj16aug!K79","v":0},null,null,0,0,null,0,0,70,null,null,{"$f":"proj16jul!C79","v":0},{"$f":"proj16jul!D79","v":0},0,0,70,null,null,{"$f":"proj16jul!E79","v":0},{"$f":"proj16jul!F79","v":0},0,null,0,null,70,null,null,0,70,null,null,0]
[71,"DANVERS                      ",71,null,0,0,52,278474,null,{"$f":"proj16aug!J80","v":0},{"$f":"proj16aug!K80","v":0},null,null,0,278474,null,557000,0,71,null,null,{"$f":"proj16jul!C80","v":0},{"$f":"proj16jul!D80","v":0},0,0,71,52,278474,{"$f":"proj16jul!E80","v":42.83},{"$f":"proj16jul!F80","v":223719},54755,null,0,null,71,null,null,0,71,52,270200,0]
[72,"DARTMOUTH                    ",72,null,0,0,3,20100,null,{"$f":"proj16aug!J81","v":0},{"$f":"proj16aug!K81","v":0},null,null,0,20100,null,40203,0,72,null,null,{"$f":"proj16jul!C81","v":0},{"$f":"proj16jul!D81","v":0},0,0,72,3,20100,{"$f":"proj16jul!E81","v":3.6},{"$f":"proj16jul!F81","v":22420},-2320,null,0,null,72,null,null,0,72,3,20100,0]
[73,"DEDHAM                       ",73,null,0,0,5,36400,null,{"$f":"proj16aug!J82","v":0},{"$f":"proj16aug!K82","v":0},null,null,0,36400,null,72805,0,73,null,null,{"$f":"proj16jul!C82","v":0},{"$f":"proj16jul!D82","v":0},0,0,73,5,36400,{"$f":"proj16jul!E82","v":1.42},{"$f":"proj16jul!F82","v":9514},26886,null,0,null,73,null,null,0,73,5,28400,0]
[74,"DEERFIELD                    ",74,null,88,572511,22,126100,null,{"$f":"proj16aug!J83","v":0},{"$f":"proj16aug!K83","v":0},null,null,572511,126100,null,1397332,0,74,88,572511,{"$f":"proj16jul!C83","v":100.67},{"$f":"proj16jul!D83","v":711861},-139350,0,74,22,126100,{"$f":"proj16jul!E83","v":19.619999999999997},{"$f":"proj16jul!F83","v":114130},11970,null,0,null,74,88,440000,0,74,22,115100,0]
[75,"DENNIS                       ",75,null,0,0,0,0,null,{"$f":"proj16aug!J84","v":0},{"$f":"proj16aug!K84","v":0},null,null,0,0,null,0,0,75,null,null,{"$f":"proj16jul!C84","v":0},{"$f":"proj16jul!D84","v":0},0,0,75,null,null,{"$f":"proj16jul!E84","v":0},{"$f":"proj16jul!F84","v":0},0,null,0,null,75,null,null,0,75,null,null,0]
[76,"DIGHTON                      ",76,null,0,0,0,0,null,{"$f":"proj16aug!J85","v":0},{"$f":"proj16aug!K85","v":0},null,null,0,0,null,0,0,76,null,null,{"$f":"proj16jul!C85","v":0},{"$f":"proj16jul!D85","v":0},0,0,76,null,null,{"$f":"proj16jul!E85","v":0},{"$f":"proj16jul!F85","v":0},0,null,0,null,76,null,null,0,76,null,null,0]
[77,"DOUGLAS                      ",77,null,111,614852,49,284393,null,{"$f":"proj16aug!J86","v":0},{"$f":"proj16aug!K86","v":0},null,null,614852,284393,null,1798650,0,77,111,614852,{"$f":"proj16jul!C86","v":121.81},{"$f":"proj16jul!D86","v":677565},-62713,0,77,49,284393,{"$f":"proj16jul!E86","v":47.39},{"$f":"proj16jul!F86","v":265630},18763,null,0,null,77,112,560000,1,77,49,253500,0]
[78,"DOVER                        ",78,null,0,0,0,0,null,{"$f":"proj16aug!J87","v":0},{"$f":"proj16aug!K87","v":0},null,null,0,0,null,0,0,78,null,null,{"$f":"proj16jul!C87","v":0},{"$f":"proj16jul!D87","v":0},0,0,78,null,null,{"$f":"proj16jul!E87","v":1.42},{"$f":"proj16jul!F87","v":9514},-9514,null,0,null,78,null,null,0,78,null,null,0]
[79,"DRACUT                       ",79,null,29,157640,26,158017,null,{"$f":"proj16aug!J88","v":0},{"$f":"proj16aug!K88","v":0},null,null,157640,158017,null,631369,0,79,29,157640,{"$f":"proj16jul!C88","v":26.939999999999998},{"$f":"proj16jul!D88","v":140340},17300,0,79,26,158017,{"$f":"proj16jul!E88","v":19.599999999999998},{"$f":"proj16jul!F88","v":108837},49180,null,0,null,79,29,145000,0,79,26,143600,0]
[80,"DUDLEY                       ",80,null,0,0,0,0,null,{"$f":"proj16aug!J89","v":0},{"$f":"proj16aug!K89","v":0},null,null,0,0,null,0,0,80,null,null,{"$f":"proj16jul!C89","v":0},{"$f":"proj16jul!D89","v":0},0,0,80,null,null,{"$f":"proj16jul!E89","v":0},{"$f":"proj16jul!F89","v":0},0,null,0,null,80,null,null,0,80,null,null,0]
[81,"DUNSTABLE                    ",81,null,0,0,0,0,null,{"$f":"proj16aug!J90","v":0},{"$f":"proj16aug!K90","v":0},null,null,0,0,null,0,0,81,null,null,{"$f":"proj16jul!C90","v":0},{"$f":"proj16jul!D90","v":0},0,0,81,null,null,{"$f":"proj16jul!E90","v":0},{"$f":"proj16jul!F90","v":0},0,null,0,null,81,null,null,0,81,null,null,0]
[82,"DUXBURY                      ",82,null,0,0,1,6700,null,{"$f":"proj16aug!J91","v":0},{"$f":"proj16aug!K91","v":0},null,null,0,6700,null,13401,0,82,null,null,{"$f":"proj16jul!C91","v":0},{"$f":"proj16jul!D91","v":0},0,0,82,1,6700,{"$f":"proj16jul!E91","v":1.18},{"$f":"proj16jul!F91","v":7906},-1206,null,0,null,82,null,null,0,82,1,6700,0]
[83,"EAST BRIDGEWATER             ",83,null,27,201000,22,154021,null,{"$f":"proj16aug!J92","v":0},{"$f":"proj16aug!K92","v":0},null,null,201000,154021,null,710091,0,83,27,201000,{"$f":"proj16jul!C92","v":14.690000000000001},{"$f":"proj16jul!D92","v":73450},127550,0,83,22,154021,{"$f":"proj16jul!E92","v":22.44},{"$f":"proj16jul!F92","v":167141},-13120,null,0,null,83,27,135000,0,83,20,96700,-2]
[84,"EAST BROOKFIELD              ",84,null,0,0,6,30000,null,{"$f":"proj16aug!J93","v":0},{"$f":"proj16aug!K93","v":0},null,null,0,30000,null,60006,0,84,null,null,{"$f":"proj16jul!C93","v":0},{"$f":"proj16jul!D93","v":0},0,0,84,6,30000,{"$f":"proj16jul!E93","v":6},{"$f":"proj16jul!F93","v":30000},0,null,0,null,84,null,null,0,84,6,30000,0]
[85,"EASTHAM                      ",86,null,0,0,7,37560,null,{"$f":"proj16aug!J94","v":0},{"$f":"proj16aug!K94","v":0},null,null,0,37560,null,75127,0,85,null,null,{"$f":"proj16jul!C94","v":0},{"$f":"proj16jul!D94","v":0},0,0,85,7,37560,{"$f":"proj16jul!E94","v":6.14},{"$f":"proj16jul!F94","v":36124},1436,null,0,null,85,null,null,0,85,7,35000,0]
[86,"EASTHAMPTON                  ",87,null,86,467402,173,1154611,null,{"$f":"proj16aug!J95","v":0},{"$f":"proj16aug!K95","v":0},null,null,467402,1154611,null,3244285,0,86,86,467402,{"$f":"proj16jul!C95","v":84.16},{"$f":"proj16jul!D95","v":429763},37639,0,86,173,1154611,{"$f":"proj16jul!E95","v":189.24000000000004},{"$f":"proj16jul!F95","v":1291064},-136453,null,0,null,86,86,430000,0,86,169,850100,-4]
[87,"EAST LONGMEADOW              ",85,null,0,0,9,62800,null,{"$f":"proj16aug!J96","v":0},{"$f":"proj16aug!K96","v":0},null,null,0,62800,null,125609,0,87,null,null,{"$f":"proj16jul!C96","v":0},{"$f":"proj16jul!D96","v":0},0,0,87,9,62800,{"$f":"proj16jul!E96","v":6.01},{"$f":"proj16jul!F96","v":33467},29333,null,0,null,87,null,null,0,87,8,46800,-1]
[88,"EASTON                       ",88,null,0,0,9,54921,null,{"$f":"proj16aug!J97","v":0},{"$f":"proj16aug!K97","v":0},null,null,0,54921,null,109851,0,88,null,null,{"$f":"proj16jul!C97","v":0},{"$f":"proj16jul!D97","v":0},0,0,88,9,54921,{"$f":"proj16jul!E97","v":4.8999999999999995},{"$f":"proj16jul!F97","v":26914},28007,null,0,null,88,null,null,0,88,9,50100,0]
[89,"EDGARTOWN                    ",89,null,8,51028,33,189337,null,{"$f":"proj16aug!J98","v":0},{"$f":"proj16aug!K98","v":0},null,null,51028,189337,null,480771,0,89,8,51028,{"$f":"proj16jul!C98","v":12.64},{"$f":"proj16jul!D98","v":74997},-23969,0,89,33,189337,{"$f":"proj16jul!E98","v":32.450000000000003},{"$f":"proj16jul!F98","v":180161},9176,null,0,null,89,9,45000,1,89,33,165000,0]
[90,"EGREMONT                     ",90,null,0,0,0,0,null,{"$f":"proj16aug!J99","v":0},{"$f":"proj16aug!K99","v":0},null,null,0,0,null,0,0,90,null,null,{"$f":"proj16jul!C99","v":0},{"$f":"proj16jul!D99","v":0},0,0,90,null,null,{"$f":"proj16jul!E99","v":0},{"$f":"proj16jul!F99","v":0},0,null,0,null,90,null,null,0,90,null,null,0]
[91,"ERVING                       ",91,null,0,0,34,183768,null,{"$f":"proj16aug!J100","v":0},{"$f":"proj16aug!K100","v":0},null,null,0,183768,null,367570,0,91,null,null,{"$f":"proj16jul!C100","v":0},{"$f":"proj16jul!D100","v":0},0,0,91,34,183768,{"$f":"proj16jul!E100","v":40.840000000000003},{"$f":"proj16jul!F100","v":289481},-105713,null,0,null,91,null,null,0,91,32,160000,-2]
[92,"ESSEX                        ",92,null,0,0,0,0,null,{"$f":"proj16aug!J101","v":0},{"$f":"proj16aug!K101","v":0},null,null,0,0,null,0,0,92,null,null,{"$f":"proj16jul!C101","v":0},{"$f":"proj16jul!D101","v":0},0,0,92,null,null,{"$f":"proj16jul!E101","v":0},{"$f":"proj16jul!F101","v":0},0,null,0,null,92,null,null,0,92,null,null,0]
[93,"EVERETT                      ",93,null,0,0,16,100274,null,{"$f":"proj16aug!J102","v":0},{"$f":"proj16aug!K102","v":0},null,null,0,100274,null,200564,0,93,null,null,{"$f":"proj16jul!C102","v":0},{"$f":"proj16jul!D102","v":0},0,0,93,16,100274,{"$f":"proj16jul!E102","v":15.809999999999999},{"$f":"proj16jul!F102","v":93873},6401,null,0,null,93,null,null,0,93,17,91876,1]
[94,"FAIRHAVEN                    ",94,null,0,0,12,72646,null,{"$f":"proj16aug!J103","v":0},{"$f":"proj16aug!K103","v":0},null,null,0,72646,null,145304,0,94,null,null,{"$f":"proj16jul!C103","v":0},{"$f":"proj16jul!D103","v":0},0,0,94,12,72646,{"$f":"proj16jul!E103","v":12.78},{"$f":"proj16jul!F103","v":75861},-3215,null,0,null,94,null,null,0,94,13,66700,1]
[95,"FALL RIVER                   ",95,null,33,213000,106,633074,null,{"$f":"proj16aug!J104","v":0},{"$f":"proj16aug!K104","v":0},null,null,213000,633074,null,1692287,0,95,33,213000,{"$f":"proj16jul!C104","v":16.41},{"$f":"proj16jul!D104","v":82050},130950,0,95,106,633074,{"$f":"proj16jul!E104","v":67.86},{"$f":"proj16jul!F104","v":394695},238379,null,0,null,95,34.5,172500,1.5,95,106,572500,0]
[96,"FALMOUTH                     ",96,null,112,696289,35,200977,null,{"$f":"proj16aug!J105","v":0},{"$f":"proj16aug!K105","v":0},null,null,696289,200977,null,1794679,0,96,112,696289,{"$f":"proj16jul!C105","v":91.44999999999996},{"$f":"proj16jul!D105","v":581601},114688,0,96,35,200977,{"$f":"proj16jul!E105","v":46.58},{"$f":"proj16jul!F105","v":261955},-60978,null,0,null,96,112,560000,0,96,36,186800,1]
[97,"FITCHBURG                    ",97,null,170,973989,426,2504850,null,{"$f":"proj16aug!J106","v":0},{"$f":"proj16aug!K106","v":0},null,null,973989,2504850,null,6958274,0,97,170,973989,{"$f":"proj16jul!C106","v":180.11999999999995},{"$f":"proj16jul!D106","v":1048411},-74422,0,97,426,2504850,{"$f":"proj16jul!E106","v":419.84999999999991},{"$f":"proj16jul!F106","v":2451589},53261,null,0,null,97,170,850000,0,97,377,1908800,-49]
[98,"FLORIDA                      ",98,null,1,5000,7,47000,null,{"$f":"proj16aug!J107","v":0},{"$f":"proj16aug!K107","v":0},null,null,5000,47000,null,104008,0,98,1,5000,{"$f":"proj16jul!C107","v":2},{"$f":"proj16jul!D107","v":11708},-6708,0,98,7,47000,{"$f":"proj16jul!E107","v":4},{"$f":"proj16jul!F107","v":20000},27000,null,0,null,98,1,5000,0,98,7,35000,0]
[99,"FOXBOROUGH                   ",99,null,0,0,5,28400,null,{"$f":"proj16aug!J108","v":0},{"$f":"proj16aug!K108","v":0},null,null,0,28400,null,56805,0,99,null,null,{"$f":"proj16jul!C108","v":0},{"$f":"proj16jul!D108","v":0},0,0,99,5,28400,{"$f":"proj16jul!E108","v":0.59},{"$f":"proj16jul!F108","v":3953},24447,null,0,null,99,null,null,0,99,5,28400,0]
[100,"FRAMINGHAM                   ",100,null,0,0,61,377803,null,{"$f":"proj16aug!J109","v":0},{"$f":"proj16aug!K109","v":0},null,null,0,377803,null,755667,0,100,null,null,{"$f":"proj16jul!C109","v":0},{"$f":"proj16jul!D109","v":0},0,0,100,61,377803,{"$f":"proj16jul!E109","v":52.199999999999996},{"$f":"proj16jul!F109","v":312643},65160,null,0,null,100,null,null,0,100,61,333900,0]
[101,"FRANKLIN                     ",101,null,7,39000,31.5,193953,null,{"$f":"proj16aug!J110","v":0},{"$f":"proj16aug!K110","v":10000},null,null,39000,203953,null,485944.5,0,101,7,39000,{"$f":"proj16jul!C110","v":10},{"$f":"proj16jul!D110","v":50468},-11468,0,101,31.5,193953,{"$f":"proj16jul!E110","v":26.060000000000002},{"$f":"proj16jul!F110","v":141344},52609,null,0,null,101,7,35000,0,101,31.5,172800,0]
[102,"FREETOWN                     ",102,null,0,0,1,5000,null,{"$f":"proj16aug!J111","v":0},{"$f":"proj16aug!K111","v":0},null,null,0,5000,null,10001,0,102,null,null,{"$f":"proj16jul!C111","v":0},{"$f":"proj16jul!D111","v":0},0,0,102,1,5000,{"$f":"proj16jul!E111","v":0},{"$f":"proj16jul!F111","v":0},5000,null,0,null,102,null,null,0,102,1,5000,0]
[103,"GARDNER                      ",103,null,116,667591,241,1311559,null,{"$f":"proj16aug!J112","v":0},{"$f":"proj16aug!K112","v":0},null,null,667591,1311559,null,3958657,0,103,116,667591,{"$f":"proj16jul!C112","v":140.22999999999996},{"$f":"proj16jul!D112","v":773133},-105542,0,103,241,1311559,{"$f":"proj16jul!E112","v":188.06999999999994},{"$f":"proj16jul!F112","v":1002576},308983,null,0,null,103,117,575000,1,103,130.5,674600,-110.5]
[104,"GAY HEAD                     ",104,null,0,0,0,0,null,{"$f":"proj16aug!J113","v":0},{"$f":"proj16aug!K113","v":0},null,null,0,0,null,0,0,104,null,null,{"$f":"proj16jul!C113","v":0},{"$f":"proj16jul!D113","v":0},0,0,104,null,null,{"$f":"proj16jul!E113","v":0},{"$f":"proj16jul!F113","v":0},0,null,0,null,104,null,null,0,104,null,null,0]
[105,"GEORGETOWN                   ",105,null,37,190439,22,191661,null,{"$f":"proj16aug!J114","v":0},{"$f":"proj16aug!K114","v":0},null,null,190439,191661,null,764259,0,105,37,190439,{"$f":"proj16jul!C114","v":38},{"$f":"proj16jul!D114","v":196130},-5691,0,105,22,191661,{"$f":"proj16jul!E114","v":22.77},{"$f":"proj16jul!F114","v":197267},-5606,null,0,null,105,37,185000,0,105,22.5,112600,0.5]
[106,"GILL                         ",106,null,0,0,0,0,null,{"$f":"proj16aug!J115","v":0},{"$f":"proj16aug!K115","v":0},null,null,0,0,null,0,0,106,null,null,{"$f":"proj16jul!C115","v":0},{"$f":"proj16jul!D115","v":0},0,0,106,null,null,{"$f":"proj16jul!E115","v":0},{"$f":"proj16jul!F115","v":0},0,null,0,null,106,null,null,0,106,null,null,0]
[107,"GLOUCESTER                   ",107,null,36,193525,303,1675296,null,{"$f":"proj16aug!J116","v":0},{"$f":"proj16aug!K116","v":0},null,null,193525,1675296,null,3737981,0,107,36,193525,{"$f":"proj16jul!C116","v":39.200000000000003},{"$f":"proj16jul!D116","v":214791},-21266,0,107,303,1675296,{"$f":"proj16jul!E116","v":303.85999999999996},{"$f":"proj16jul!F116","v":1651567},23729,null,0,null,107,36,180000,0,107,303,1520100,0]
[108,"GOSHEN                       ",108,null,0,0,0,0,null,{"$f":"proj16aug!J117","v":0},{"$f":"proj16aug!K117","v":0},null,null,0,0,null,0,0,108,null,null,{"$f":"proj16jul!C117","v":0},{"$f":"proj16jul!D117","v":0},0,0,108,null,null,{"$f":"proj16jul!E117","v":0},{"$f":"proj16jul!F117","v":0},0,null,0,null,108,null,null,0,108,null,null,0]
[109,"GOSNOLD                      ",109,null,0,0,0,0,null,{"$f":"proj16aug!J118","v":0},{"$f":"proj16aug!K118","v":0},null,null,0,0,null,0,0,109,null,null,{"$f":"proj16jul!C118","v":0},{"$f":"proj16jul!D118","v":0},0,0,109,null,null,{"$f":"proj16jul!E118","v":0},{"$f":"proj16jul!F118","v":0},0,null,0,null,109,null,null,0,109,null,null,0]
[110,"GRAFTON                      ",110,null,42,266367,35,202296,null,{"$f":"proj16aug!J119","v":0},{"$f":"proj16aug!K119","v":0},null,null,266367,202296,null,937403,0,110,42,266367,{"$f":"proj16jul!C119","v":31.53},{"$f":"proj16jul!D119","v":191757},74610,0,110,35,202296,{"$f":"proj16jul!E119","v":25.52},{"$f":"proj16jul!F119","v":143393},58903,null,0,null,110,42,210000,0,110,35,186900,0]
[111,"GRANBY                       ",111,null,116,667038,48,303479,null,{"$f":"proj16aug!J120","v":0},{"$f":"proj16aug!K120","v":0},null,null,667038,303479,null,1941198,0,111,116,667038,{"$f":"proj16jul!C120","v":132.75},{"$f":"proj16jul!D120","v":750306},-83268,0,111,48,303479,{"$f":"proj16jul!E120","v":48.22},{"$f":"proj16jul!F120","v":286171},17308,null,0,null,111,116,580000,0,111,30,148400,-18]
[112,"GRANVILLE                    ",112,null,0,0,0,0,null,{"$f":"proj16aug!J121","v":0},{"$f":"proj16aug!K121","v":0},null,null,0,0,null,0,0,112,null,null,{"$f":"proj16jul!C121","v":0},{"$f":"proj16jul!D121","v":0},0,0,112,null,null,{"$f":"proj16jul!E121","v":0},{"$f":"proj16jul!F121","v":0},0,null,0,null,112,null,null,0,112,null,null,0]
[113,"GREAT BARRINGTON             ",113,null,0,0,0,0,null,{"$f":"proj16aug!J122","v":0},{"$f":"proj16aug!K122","v":0},null,null,0,0,null,0,0,113,null,null,{"$f":"proj16jul!C122","v":0},{"$f":"proj16jul!D122","v":0},0,0,113,null,null,{"$f":"proj16jul!E122","v":0},{"$f":"proj16jul!F122","v":0},0,null,0,null,113,null,null,0,113,null,null,0]
[114,"GREENFIELD                   ",114,null,109,661041,319.5,2219044,null,{"$f":"proj16aug!J123","v":0},{"$f":"proj16aug!K123","v":0},null,null,661041,2219044,null,5760598.5,0,114,109,661041,{"$f":"proj16jul!C123","v":92.589999999999989},{"$f":"proj16jul!D123","v":578152},82889,0,114,319.5,2219044,{"$f":"proj16jul!E123","v":326.21999999999991},{"$f":"proj16jul!F123","v":2309748},-90704,null,0,null,114,109,545000,0,114,319.5,1627388,0]
[115,"GROTON                       ",115,null,0,0,0,0,null,{"$f":"proj16aug!J124","v":0},{"$f":"proj16aug!K124","v":0},null,null,0,0,null,0,0,115,null,null,{"$f":"proj16jul!C124","v":0},{"$f":"proj16jul!D124","v":0},0,0,115,null,null,{"$f":"proj16jul!E124","v":0},{"$f":"proj16jul!F124","v":0},0,null,0,null,115,null,null,0,115,null,null,0]
[116,"GROVELAND                    ",116,null,0,0,0,0,null,{"$f":"proj16aug!J125","v":0},{"$f":"proj16aug!K125","v":0},null,null,0,0,null,0,0,116,null,null,{"$f":"proj16jul!C125","v":0},{"$f":"proj16jul!D125","v":0},0,0,116,null,null,{"$f":"proj16jul!E125","v":0},{"$f":"proj16jul!F125","v":0},0,null,0,null,116,null,null,0,116,null,null,0]
[117,"HADLEY                       ",117,null,97,545205,48,314228,null,{"$f":"proj16aug!J126","v":0},{"$f":"proj16aug!K126","v":0},null,null,545205,314228,null,1719011,0,117,97,545205,{"$f":"proj16jul!C126","v":102.42999999999999},{"$f":"proj16jul!D126","v":589766},-44561,0,117,48,314228,{"$f":"proj16jul!E126","v":57.59},{"$f":"proj16jul!F126","v":385346},-71118,null,0,null,117,98,485000,1,117,48,246800,0]
[118,"HALIFAX                      ",118,null,0,0,1,5000,null,{"$f":"proj16aug!J127","v":0},{"$f":"proj16aug!K127","v":0},null,null,0,5000,null,10001,0,118,null,null,{"$f":"proj16jul!C127","v":0},{"$f":"proj16jul!D127","v":0},0,0,118,1,5000,{"$f":"proj16jul!E127","v":1},{"$f":"proj16jul!F127","v":5000},0,null,0,null,118,null,null,0,118,1,5000,0]
[119,"HAMILTON                     ",119,null,0,0,0,0,null,{"$f":"proj16aug!J128","v":0},{"$f":"proj16aug!K128","v":0},null,null,0,0,null,0,0,119,null,null,{"$f":"proj16jul!C128","v":0},{"$f":"proj16jul!D128","v":0},0,0,119,null,null,{"$f":"proj16jul!E128","v":0},{"$f":"proj16jul!F128","v":0},0,null,0,null,119,null,null,0,119,null,null,0]
[120,"HAMPDEN                      ",120,null,0,0,0,0,null,{"$f":"proj16aug!J129","v":0},{"$f":"proj16aug!K129","v":0},null,null,0,0,null,0,0,120,null,null,{"$f":"proj16jul!C129","v":0},{"$f":"proj16jul!D129","v":0},0,0,120,null,null,{"$f":"proj16jul!E129","v":0},{"$f":"proj16jul!F129","v":0},0,null,0,null,120,null,null,0,120,null,null,0]
[121,"HANCOCK                      ",121,null,4,24000,5,25000,null,{"$f":"proj16aug!J130","v":0},{"$f":"proj16aug!K130","v":0},null,null,24000,25000,null,98009,0,121,4,24000,{"$f":"proj16jul!C130","v":3},{"$f":"proj16jul!D130","v":15000},9000,0,121,5,25000,{"$f":"proj16jul!E130","v":11},{"$f":"proj16jul!F130","v":55000},-30000,null,0,null,121,4,20000,0,121,5,25000,0]
[122,"HANOVER                      ",122,null,0,0,2,10000,null,{"$f":"proj16aug!J131","v":0},{"$f":"proj16aug!K131","v":0},null,null,0,10000,null,20002,0,122,null,null,{"$f":"proj16jul!C131","v":0},{"$f":"proj16jul!D131","v":0},0,0,122,2,10000,{"$f":"proj16jul!E131","v":0},{"$f":"proj16jul!F131","v":0},10000,null,0,null,122,null,null,0,122,2,10000,0]
[123,"HANSON                       ",123,null,0,0,0,0,null,{"$f":"proj16aug!J132","v":0},{"$f":"proj16aug!K132","v":0},null,null,0,0,null,0,0,123,null,null,{"$f":"proj16jul!C132","v":0},{"$f":"proj16jul!D132","v":0},0,0,123,null,null,{"$f":"proj16jul!E132","v":0},{"$f":"proj16jul!F132","v":0},0,null,0,null,123,null,null,0,123,null,null,0]
[124,"HARDWICK                     ",124,null,0,0,0,0,null,{"$f":"proj16aug!J133","v":0},{"$f":"proj16aug!K133","v":0},null,null,0,0,null,0,0,124,null,null,{"$f":"proj16jul!C133","v":0},{"$f":"proj16jul!D133","v":0},0,0,124,null,null,{"$f":"proj16jul!E133","v":0},{"$f":"proj16jul!F133","v":0},0,null,0,null,124,null,null,0,124,null,null,0]
[125,"HARVARD                      ",125,null,68,358354,4,20000,null,{"$f":"proj16aug!J134","v":0},{"$f":"proj16aug!K134","v":0},null,null,358354,20000,null,756780,0,125,68,358354,{"$f":"proj16jul!C134","v":70},{"$f":"proj16jul!D134","v":368354},-10000,0,125,4,20000,{"$f":"proj16jul!E134","v":5},{"$f":"proj16jul!F134","v":31314},-11314,null,0,null,125,68,340000,0,125,4,20000,0]
[126,"HARWICH                      ",126,null,0,0,0,0,null,{"$f":"proj16aug!J135","v":0},{"$f":"proj16aug!K135","v":0},null,null,0,0,null,0,0,126,null,null,{"$f":"proj16jul!C135","v":0},{"$f":"proj16jul!D135","v":0},0,0,126,null,null,{"$f":"proj16jul!E135","v":1.18},{"$f":"proj16jul!F135","v":7906},-7906,null,0,null,126,null,null,0,126,null,null,0]
[127,"HATFIELD                     ",127,null,131,850119,30,205121,null,{"$f":"proj16aug!J136","v":0},{"$f":"proj16aug!K136","v":0},null,null,850119,205121,null,2110641,0,127,131,850119,{"$f":"proj16jul!C136","v":123.99999999999999},{"$f":"proj16jul!D136","v":838623},11496,0,127,30,205121,{"$f":"proj16jul!E136","v":28.3},{"$f":"proj16jul!F136","v":202217},2904,null,0,null,127,131,655000,0,127,30,160200,0]
[128,"HAVERHILL                    ",128,null,36,191343,189,1095599,null,{"$f":"proj16aug!J137","v":0},{"$f":"proj16aug!K137","v":0},null,null,191343,1095599,null,2574109,0,128,36,191343,{"$f":"proj16jul!C137","v":42.49},{"$f":"proj16jul!D137","v":247501},-56158,0,128,189,1095599,{"$f":"proj16jul!E137","v":211.74},{"$f":"proj16jul!F137","v":1190061},-94462,null,0,null,128,36,180000,0,128,189,974788,0]
[129,"HAWLEY                       ",129,null,0,0,0,0,null,{"$f":"proj16aug!J138","v":0},{"$f":"proj16aug!K138","v":0},null,null,0,0,null,0,{"$f":"ABS(A138-S138)","v":0},129,null,null,{"$f":"proj16jul!C138","v":0},{"$f":"proj16jul!D138","v":0},0,{"$f":"ABS(Z138-A138)","v":0},129,null,null,{"$f":"proj16jul!E138","v":0},{"$f":"proj16jul!F138","v":0},{"$f":"AB138-AD138","v":0},null,0,null,129,null,null,0,129,null,null,0]
[130,"HEATH                        ",130,null,{"$f":"T139","v":0},{"$f":"U139","v":0},{"$f":"AA139","v":0},{"$f":"AB139","v":0},null,{"$f":"proj16aug!J139","v":0},{"$f":"proj16aug!K139","v":0},null,null,{"$f":"F139+J139","v":0},{"$f":"H139+K139","v":0},null,{"$f":"SUM(E139:O139)","v":0},0,130,null,null,{"$f":"proj16jul!C139","v":0},{"$f":"proj16jul!D139","v":0},{"$f":"U139-W139","v":0},0,130,null,null,{"$f":"proj16jul!E139","v":0},{"$f":"proj16jul!F139","v":0},0,null,{"$f":"AI139-A139","v":0},null,130,null,null,{"$f":"AJ139-T139","v":0},130,null,null,{"$f":"AN139-AA139","v":0}]
[131,"HINGHAM                      ",131,null,0,0,3,28100,null,{"$f":"proj16aug!J140","v":0},{"$f":"proj16aug!K140","v":0},null,null,0,28100,null,56203,0,131,null,null,{"$f":"proj16jul!C140","v":0},{"$f":"proj16jul!D140","v":0},0,0,131,3,28100,{"$f":"proj16jul!E140","v":0},{"$f":"proj16jul!F140","v":0},28100,null,0,null,131,null,null,0,131,3,20100,0]
[132,"HINSDALE                     ",132,null,0,0,0,0,null,{"$f":"proj16aug!J141","v":0},{"$f":"proj16aug!K141","v":0},null,null,0,0,null,0,0,132,null,null,{"$f":"proj16jul!C141","v":0},{"$f":"proj16jul!D141","v":0},0,0,132,null,null,{"$f":"proj16jul!E141","v":0},{"$f":"proj16jul!F141","v":0},0,null,0,null,132,null,null,0,132,null,null,0]
[133,"HOLBROOK                     ",133,null,57,306291,15,85200,null,{"$f":"proj16aug!J142","v":0},{"$f":"proj16aug!K142","v":0},null,null,306291,85200,null,783054,0,133,57,306291,{"$f":"proj16jul!C142","v":57.480000000000004},{"$f":"proj16jul!D142","v":305871},420,0,133,15,85200,{"$f":"proj16jul!E142","v":14.07},{"$f":"proj16jul!F142","v":76997},8203,null,0,null,133,58,290000,1,133,15,85200,0]
[134,"HOLDEN                       ",134,null,0,0,0,0,null,{"$f":"proj16aug!J143","v":0},{"$f":"proj16aug!K143","v":0},null,null,0,0,null,0,0,134,null,null,{"$f":"proj16jul!C143","v":0},{"$f":"proj16jul!D143","v":0},0,0,134,null,null,{"$f":"proj16jul!E143","v":0},{"$f":"proj16jul!F143","v":0},0,null,0,null,134,null,null,0,134,null,null,0]
[135,"HOLLAND                      ",135,null,50,275872,1,5000,null,{"$f":"proj16aug!J144","v":0},{"$f":"proj16aug!K144","v":0},null,null,275872,5000,null,561795,0,135,50,275872,{"$f":"proj16jul!C144","v":40.31},{"$f":"proj16jul!D144","v":246248},29624,0,135,1,5000,{"$f":"proj16jul!E144","v":1.5899999999999999},{"$f":"proj16jul!F144","v":8953},-3953,null,0,null,135,50,250000,0,135,2,10000,1]
[136,"HOLLISTON                    ",136,null,163,1058438,14,94295,null,{"$f":"proj16aug!J145","v":0},{"$f":"proj16aug!K145","v":0},null,null,1058438,94295,null,2305643,0,136,163,1058438,{"$f":"proj16jul!C145","v":158.83000000000001},{"$f":"proj16jul!D145","v":1038241},20197,0,136,14,94295,{"$f":"proj16jul!E145","v":7.41},{"$f":"proj16jul!F145","v":49554},44741,null,0,null,136,163,815000,0,136,14,76800,0]
[137,"HOLYOKE                      ",137,null,56,316976,339,2020196,null,{"$f":"proj16aug!J146","v":0},{"$f":"proj16aug!K146","v":0},null,null,316976,2020196,null,4674739,0,137,56,316976,{"$f":"proj16jul!C146","v":51.699999999999996},{"$f":"proj16jul!D146","v":274673},42303,0,137,339,2020196,{"$f":"proj16jul!E146","v":337.20000000000005},{"$f":"proj16jul!F146","v":2055893},-35697,null,0,null,137,null,null,-56,137,269,1353700,-70]
[138,"HOPEDALE                     ",138,null,120,666244,43,260019,null,{"$f":"proj16aug!J147","v":0},{"$f":"proj16aug!K147","v":0},null,null,666244,260019,null,1852689,0,138,120,666244,{"$f":"proj16jul!C147","v":129.57999999999998},{"$f":"proj16jul!D147","v":709439},-43195,0,138,43,260019,{"$f":"proj16jul!E147","v":48.32},{"$f":"proj16jul!F147","v":290034},-30015,null,0,null,138,120,600000,0,138,43,223500,0]
[139,"HOPKINTON                    ",139,null,0,0,18.5,104415,null,{"$f":"proj16aug!J148","v":0},{"$f":"proj16aug!K148","v":0},null,null,0,104415,null,208848.5,0,139,null,null,{"$f":"proj16jul!C148","v":0},{"$f":"proj16jul!D148","v":0},0,0,139,18.5,104415,{"$f":"proj16jul!E148","v":16.64},{"$f":"proj16jul!F148","v":88021},16394,null,0,null,139,null,null,0,139,18.5,97600,0]
[140,"HUBBARDSTON                  ",140,null,0,0,0,0,null,{"$f":"proj16aug!J149","v":0},{"$f":"proj16aug!K149","v":0},null,null,0,0,null,0,0,140,null,null,{"$f":"proj16jul!C149","v":0},{"$f":"proj16jul!D149","v":0},0,0,140,null,null,{"$f":"proj16jul!E149","v":0},{"$f":"proj16jul!F149","v":0},0,null,0,null,140,null,null,0,140,null,null,0]
[141,"HUDSON                       ",141,null,92,554577,15,104422,null,{"$f":"proj16aug!J150","v":0},{"$f":"proj16aug!K150","v":0},null,null,554577,104422,null,1318105,0,141,92,554577,{"$f":"proj16jul!C150","v":101.62},{"$f":"proj16jul!D150","v":546944},7633,0,141,15,104422,{"$f":"proj16jul!E150","v":19.649999999999999},{"$f":"proj16jul!F150","v":111154},-6732,null,0,null,141,92,455000,0,141,15,83500,0]
[142,"HULL                         ",142,null,0,0,5,38189,null,{"$f":"proj16aug!J151","v":0},{"$f":"proj16aug!K151","v":0},null,null,0,38189,null,76383,0,142,null,null,{"$f":"proj16jul!C151","v":0},{"$f":"proj16jul!D151","v":0},0,0,142,5,38189,{"$f":"proj16jul!E151","v":3.4299999999999997},{"$f":"proj16jul!F151","v":22981},15208,null,0,null,142,null,null,0,142,5,33500,0]
[143,"HUNTINGTON                   ",143,null,0,0,1,5000,null,{"$f":"proj16aug!J152","v":0},{"$f":"proj16aug!K152","v":0},null,null,0,5000,null,10001,0,143,null,null,{"$f":"proj16jul!C152","v":0},{"$f":"proj16jul!D152","v":0},0,0,143,1,5000,{"$f":"proj16jul!E152","v":0},{"$f":"proj16jul!F152","v":0},5000,null,0,null,143,null,null,0,143,1,5000,0]
[144,"IPSWICH                      ",144,null,66,365038,17,99253,null,{"$f":"proj16aug!J153","v":0},{"$f":"proj16aug!K153","v":0},null,null,365038,99253,null,928665,0,144,66,365038,{"$f":"proj16jul!C153","v":70},{"$f":"proj16jul!D153","v":383036},-17998,0,144,17,99253,{"$f":"proj16jul!E153","v":19.43},{"$f":"proj16jul!F153","v":109839},-10586,null,0,null,144,66,330000,0,144,17,91800,0]
[145,"KINGSTON                     ",145,null,0,0,0,0,null,{"$f":"proj16aug!J154","v":0},{"$f":"proj16aug!K154","v":0},null,null,0,0,null,0,0,145,null,null,{"$f":"proj16jul!C154","v":0},{"$f":"proj16jul!D154","v":0},0,0,145,null,null,{"$f":"proj16jul!E154","v":0.59},{"$f":"proj16jul!F154","v":3953},-3953,null,0,null,145,null,null,0,145,null,null,0]
[146,"LAKEVILLE                    ",146,null,0,0,0,0,null,{"$f":"proj16aug!J155","v":0},{"$f":"proj16aug!K155","v":0},null,null,0,0,null,0,0,146,null,null,{"$f":"proj16jul!C155","v":0},{"$f":"proj16jul!D155","v":0},0,0,146,null,null,{"$f":"proj16jul!E155","v":0},{"$f":"proj16jul!F155","v":0},0,null,0,null,146,null,null,0,146,null,null,0]
[147,"LANCASTER                    ",147,null,0,0,0,0,null,{"$f":"proj16aug!J156","v":0},{"$f":"proj16aug!K156","v":0},null,null,0,0,null,0,0,147,null,null,{"$f":"proj16jul!C156","v":0},{"$f":"proj16jul!D156","v":0},0,0,147,null,null,{"$f":"proj16jul!E156","v":0},{"$f":"proj16jul!F156","v":0},0,null,0,null,147,null,null,0,147,null,null,0]
[148,"LANESBOROUGH                 ",148,null,19,115999,22,111635,null,{"$f":"proj16aug!J157","v":0},{"$f":"proj16aug!K157","v":0},null,null,115999,111635,null,455309,0,148,19,115999,{"$f":"proj16jul!C157","v":20},{"$f":"proj16jul!D157","v":120999},-5000,0,148,22,111635,{"$f":"proj16jul!E157","v":22.109999999999996},{"$f":"proj16jul!F157","v":114496},-2861,null,0,null,148,19,95000,0,148,22,110000,0]
[149,"LAWRENCE                     ",149,null,0,0,70.5,444484,null,{"$f":"proj16aug!J158","v":0},{"$f":"proj16aug!K158","v":0},null,null,0,444484,null,889038.5,0,149,null,null,{"$f":"proj16jul!C158","v":0},{"$f":"proj16jul!D158","v":0},0,0,149,70.5,444484,{"$f":"proj16jul!E158","v":59.06},{"$f":"proj16jul!F158","v":372271},72213,null,0,null,149,null,null,0,149,70.5,387388,0]
[150,"LEE                          ",150,null,128,729588,100,561288,null,{"$f":"proj16aug!J159","v":0},{"$f":"proj16aug!K159","v":0},null,null,729588,561288,null,2581980,0,150,128,729588,{"$f":"proj16jul!C159","v":127.97999999999999},{"$f":"proj16jul!D159","v":731075},-1487,0,150,100,561288,{"$f":"proj16jul!E159","v":89.25},{"$f":"proj16jul!F159","v":482824},78464,null,0,null,150,129,645000,1,150,100,501700,0]
[151,"LEICESTER                    ",151,null,97,558265,34.5,190973,null,{"$f":"proj16aug!J160","v":0},{"$f":"proj16aug!K160","v":0},null,null,558265,190973,null,1498607.5,0,151,97,558265,{"$f":"proj16jul!C160","v":92},{"$f":"proj16jul!D160","v":544663},13602,0,151,34.5,190973,{"$f":"proj16jul!E160","v":31.58},{"$f":"proj16jul!F160","v":162376},28597,null,0,null,151,97,485000,0,151,34.5,172500,0]
[152,"LENOX                        ",152,null,255,1329856,50,286394,null,{"$f":"proj16aug!J161","v":0},{"$f":"proj16aug!K161","v":-1050},null,null,1329856,285344,null,3230705,0,152,255,1329856,{"$f":"proj16jul!C161","v":246.78999999999996},{"$f":"proj16jul!D161","v":1279101},50755,0,152,50,286394,{"$f":"proj16jul!E161","v":50.230000000000004},{"$f":"proj16jul!F161","v":308326},-21932,null,0,null,152,255,1275000,0,152,50,250000,0]
[153,"LEOMINSTER                   ",153,null,246,1367932,322.5,1886475,null,{"$f":"proj16aug!J162","v":0},{"$f":"proj16aug!K162","v":0},null,null,1367932,1886475,null,6509382.5,0,153,246,1367932,{"$f":"proj16jul!C162","v":246.87999999999997},{"$f":"proj16jul!D162","v":1401012},-33080,0,153,322.5,1886475,{"$f":"proj16jul!E162","v":324.63000000000005},{"$f":"proj16jul!F162","v":1875141},11334,null,0,null,153,247,1235000,1,153,318.5,1612900,-4]
[154,"LEVERETT                     ",154,null,21,139816,6,31700,null,{"$f":"proj16aug!J163","v":0},{"$f":"proj16aug!K163","v":0},null,null,139816,31700,null,343059,0,154,21,139816,{"$f":"proj16jul!C163","v":20.490000000000002},{"$f":"proj16jul!D163","v":163072},-23256,0,154,6,31700,{"$f":"proj16jul!E163","v":7},{"$f":"proj16jul!F163","v":35971},-4271,null,0,null,154,21,105000,0,154,6,31700,0]
[155,"LEXINGTON                    ",155,null,0,0,6,38500,null,{"$f":"proj16aug!J164","v":0},{"$f":"proj16aug!K164","v":0},null,null,0,38500,null,77006,0,155,null,null,{"$f":"proj16jul!C164","v":0},{"$f":"proj16jul!D164","v":0},0,0,155,6,38500,{"$f":"proj16jul!E164","v":2.77},{"$f":"proj16jul!F164","v":16859},21641,null,0,null,155,null,null,0,155,6,38500,0]
[156,"LEYDEN                       ",156,null,0,0,0,0,null,{"$f":"proj16aug!J165","v":0},{"$f":"proj16aug!K165","v":0},null,null,0,0,null,0,0,156,null,null,{"$f":"proj16jul!C165","v":0},{"$f":"proj16jul!D165","v":0},0,0,156,null,null,{"$f":"proj16jul!E165","v":0},{"$f":"proj16jul!F165","v":0},0,null,0,null,156,null,null,0,156,null,null,0]
[157,"LINCOLN                      ",157,null,0,0,3,20100,null,{"$f":"proj16aug!J166","v":0},{"$f":"proj16aug!K166","v":0},null,null,0,20100,null,40203,0,157,null,null,{"$f":"proj16jul!C166","v":0},{"$f":"proj16jul!D166","v":0},0,0,157,3,20100,{"$f":"proj16jul!E166","v":0},{"$f":"proj16jul!F166","v":0},20100,null,0,null,157,null,null,0,157,3,20100,0]
[158,"LITTLETON                    ",158,null,79.5,453343,22,145578,null,{"$f":"proj16aug!J167","v":0},{"$f":"proj16aug!K167","v":0},null,null,453343,145578,null,1197943.5,0,158,79.5,453343,{"$f":"proj16jul!C167","v":68.490000000000009},{"$f":"proj16jul!D167","v":373331},80012,0,158,22,145578,{"$f":"proj16jul!E167","v":19.009999999999998},{"$f":"proj16jul!F167","v":102084},43494,null,0,null,158,79.5,397500,0,158,22,113400,0]
[159,"LONGMEADOW                   ",159,null,38,284642,1,5000,null,{"$f":"proj16aug!J168","v":0},{"$f":"proj16aug!K168","v":0},null,null,284642,5000,null,579323,0,159,38,284642,{"$f":"proj16jul!C168","v":45},{"$f":"proj16jul!D168","v":364404},-79762,0,159,1,5000,{"$f":"proj16jul!E168","v":1.5899999999999999},{"$f":"proj16jul!F168","v":8953},-3953,null,0,null,159,38,185000,0,159,1,5000,0]
[160,"LOWELL                       ",160,null,0,0,140,889811,null,{"$f":"proj16aug!J169","v":0},{"$f":"proj16aug!K169","v":0},null,null,0,889811,null,1779762,0,160,null,null,{"$f":"proj16jul!C169","v":0},{"$f":"proj16jul!D169","v":0},0,0,160,140,889811,{"$f":"proj16jul!E169","v":102.58999999999999},{"$f":"proj16jul!F169","v":685289},204522,null,0,null,160,null,null,0,160,141,757700,1]
[161,"LUDLOW                       ",161,null,96,611083,39,212834,null,{"$f":"proj16aug!J170","v":0},{"$f":"proj16aug!K170","v":0},null,null,611083,212834,null,1647969,0,161,96,611083,{"$f":"proj16jul!C170","v":80.17},{"$f":"proj16jul!D170","v":499229},111854,0,161,39,212834,{"$f":"proj16jul!E170","v":38.589999999999996},{"$f":"proj16jul!F170","v":204660},8174,null,0,null,161,96,480000,0,161,36,185100,-3]
[162,"LUNENBURG                    ",162,null,53,303389,75,439103,null,{"$f":"proj16aug!J171","v":0},{"$f":"proj16aug!K171","v":0},null,null,303389,439103,null,1485112,0,162,53,303389,{"$f":"proj16jul!C171","v":38.94},{"$f":"proj16jul!D171","v":227741},75648,0,162,75,439103,{"$f":"proj16jul!E171","v":84.480000000000018},{"$f":"proj16jul!F171","v":517649},-78546,null,0,null,162,53,265000,0,162,73,368400,-2]
[163,"LYNN                         ",163,null,0,0,99,606998,null,{"$f":"proj16aug!J172","v":0},{"$f":"proj16aug!K172","v":0},null,null,0,606998,null,1214095,0,163,null,null,{"$f":"proj16jul!C172","v":0},{"$f":"proj16jul!D172","v":0},0,0,163,99,606998,{"$f":"proj16jul!E172","v":78.77},{"$f":"proj16jul!F172","v":457634},149364,null,0,null,163,null,null,0,163,99.5,543400,0.5]
[164,"LYNNFIELD                    ",164,null,0,0,0,0,null,{"$f":"proj16aug!J173","v":0},{"$f":"proj16aug!K173","v":0},null,null,0,0,null,0,0,164,null,null,{"$f":"proj16jul!C173","v":0},{"$f":"proj16jul!D173","v":0},0,0,164,null,null,{"$f":"proj16jul!E173","v":0},{"$f":"proj16jul!F173","v":0},0,null,0,null,164,null,null,0,164,null,null,0]
[165,"MALDEN                       ",165,null,0,0,8,50800,null,{"$f":"proj16aug!J174","v":0},{"$f":"proj16aug!K174","v":0},null,null,0,50800,null,101608,0,165,null,null,{"$f":"proj16jul!C174","v":0},{"$f":"proj16jul!D174","v":0},0,0,165,8,50800,{"$f":"proj16jul!E174","v":5.43},{"$f":"proj16jul!F174","v":32981},17819,null,0,null,165,null,null,0,165,9,53500,1]
[166,"MANCHESTER                   ",166,null,0,0,0,0,null,{"$f":"proj16aug!J175","v":0},{"$f":"proj16aug!K175","v":0},null,null,0,0,null,0,0,166,null,null,{"$f":"proj16jul!C175","v":0},{"$f":"proj16jul!D175","v":0},0,0,166,null,null,{"$f":"proj16jul!E175","v":0},{"$f":"proj16jul!F175","v":0},0,null,0,null,166,null,null,0,166,null,null,0]
[167,"MANSFIELD                    ",167,null,0,0,6.5,37600,null,{"$f":"proj16aug!J176","v":0},{"$f":"proj16aug!K176","v":0},null,null,0,37600,null,75206.5,0,167,null,null,{"$f":"proj16jul!C176","v":0},{"$f":"proj16jul!D176","v":0},0,0,167,6.5,37600,{"$f":"proj16jul!E176","v":5.84},{"$f":"proj16jul!F176","v":34028},3572,null,0,null,167,null,null,0,167,6.5,37600,0]
[168,"MARBLEHEAD                   ",168,null,0,0,5,34100,null,{"$f":"proj16aug!J177","v":0},{"$f":"proj16aug!K177","v":0},null,null,0,34100,null,68205,0,168,null,null,{"$f":"proj16jul!C177","v":0},{"$f":"proj16jul!D177","v":0},0,0,168,5,34100,{"$f":"proj16jul!E177","v":2.0099999999999998},{"$f":"proj16jul!F177","v":13467},20633,null,0,null,168,null,null,0,168,5,30100,0]
[169,"MARION                       ",169,null,0,0,0,0,null,{"$f":"proj16aug!J178","v":0},{"$f":"proj16aug!K178","v":0},null,null,0,0,null,0,0,169,null,null,{"$f":"proj16jul!C178","v":0},{"$f":"proj16jul!D178","v":0},0,0,169,null,null,{"$f":"proj16jul!E178","v":1.42},{"$f":"proj16jul!F178","v":9514},-9514,null,0,null,169,null,null,0,169,null,null,0]
[170,"MARLBOROUGH                  ",170,null,0,0,87.5,526099,null,{"$f":"proj16aug!J179","v":0},{"$f":"proj16aug!K179","v":0},null,null,0,526099,null,1052285.5,0,170,null,null,{"$f":"proj16jul!C179","v":0},{"$f":"proj16jul!D179","v":0},0,0,170,87.5,526099,{"$f":"proj16jul!E179","v":93.310000000000016},{"$f":"proj16jul!F179","v":560509},-34410,null,0,null,170,null,null,0,170,86.5,448688,-1]
[171,"MARSHFIELD                   ",171,null,5,25000,5,33500,null,{"$f":"proj16aug!J180","v":0},{"$f":"proj16aug!K180","v":0},null,null,25000,33500,null,117010,0,171,5,25000,{"$f":"proj16jul!C180","v":6},{"$f":"proj16jul!D180","v":34000},-9000,0,171,5,33500,{"$f":"proj16jul!E180","v":6.1899999999999995},{"$f":"proj16jul!F180","v":37942},-4442,null,0,null,171,5,25000,0,171,5,33500,0]
[172,"MASHPEE                      ",172,null,68,397671,82,476511,null,{"$f":"proj16aug!J181","v":0},{"$f":"proj16aug!K181","v":0},null,null,397671,476511,null,1748514,0,172,68,397671,{"$f":"proj16jul!C181","v":72.42},{"$f":"proj16jul!D181","v":442050},-44379,0,172,82,476511,{"$f":"proj16jul!E181","v":65.45},{"$f":"proj16jul!F181","v":389807},86704,null,0,null,172,68,340000,0,172,82,410000,0]
[173,"MATTAPOISETT                 ",173,null,2,37512,2,14481,null,{"$f":"proj16aug!J182","v":0},{"$f":"proj16aug!K182","v":0},null,null,37512,14481,null,103990,0,173,2,37512,{"$f":"proj16jul!C182","v":3},{"$f":"proj16jul!D182","v":42512},-5000,0,173,2,14481,{"$f":"proj16jul!E182","v":1.77},{"$f":"proj16jul!F182","v":11859},2622,null,0,null,173,2,10000,0,173,2,13400,0]
[174,"MAYNARD                      ",174,null,40.5,335347,10,52445,null,{"$f":"proj16aug!J183","v":0},{"$f":"proj16aug!K183","v":0},null,null,335347,52445,null,775634.5,0,174,40.5,335347,{"$f":"proj16jul!C183","v":35.159999999999997},{"$f":"proj16jul!D183","v":264647},70700,0,174,10,52445,{"$f":"proj16jul!E183","v":15.629999999999999},{"$f":"proj16jul!F183","v":80595},-28150,null,0,null,174,40.5,202500,0,174,10,50000,0]
[175,"MEDFIELD                     ",175,null,0,0,5,34100,null,{"$f":"proj16aug!J184","v":0},{"$f":"proj16aug!K184","v":0},null,null,0,34100,null,68205,0,175,null,null,{"$f":"proj16jul!C184","v":0},{"$f":"proj16jul!D184","v":0},0,0,175,5,34100,{"$f":"proj16jul!E184","v":5.6899999999999995},{"$f":"proj16jul!F184","v":28450},5650,null,0,null,175,null,null,0,175,5,30100,0]
[176,"MEDFORD                      ",176,null,0,0,9,62200,null,{"$f":"proj16aug!J185","v":0},{"$f":"proj16aug!K185","v":0},null,null,0,62200,null,124409,0,176,null,null,{"$f":"proj16jul!C185","v":0},{"$f":"proj16jul!D185","v":0},0,0,176,9,62200,{"$f":"proj16jul!E185","v":2.54},{"$f":"proj16jul!F185","v":16712},45488,null,0,null,176,null,null,0,176,9,55200,0]
[177,"MEDWAY                       ",177,null,88,501540,46,261598,null,{"$f":"proj16aug!J186","v":47500},{"$f":"proj16aug!K186","v":0},null,null,549040,261598,null,1621410,0,177,88,501540,{"$f":"proj16jul!C186","v":61.65},{"$f":"proj16jul!D186","v":347095},154445,0,177,46,261598,{"$f":"proj16jul!E186","v":43.68},{"$f":"proj16jul!F186","v":265066},-3468,null,0,null,177,89,445000,1,177,46,235100,0]
[178,"MELROSE                      ",178,null,23,130000,3,20103,null,{"$f":"proj16aug!J187","v":0},{"$f":"proj16aug!K187","v":0},null,null,130000,20103,null,300232,0,178,23,130000,{"$f":"proj16jul!C187","v":10.629999999999999},{"$f":"proj16jul!D187","v":53150},76850,0,178,3,20103,{"$f":"proj16jul!E187","v":2.42},{"$f":"proj16jul!F187","v":14514},5589,null,0,null,178,23,115000,0,178,3,18400,0]
[179,"MENDON                       ",179,null,0,0,0,0,null,{"$f":"proj16aug!J188","v":0},{"$f":"proj16aug!K188","v":0},null,null,0,0,null,0,0,179,null,null,{"$f":"proj16jul!C188","v":0},{"$f":"proj16jul!D188","v":0},0,0,179,null,null,{"$f":"proj16jul!E188","v":0},{"$f":"proj16jul!F188","v":0},0,null,0,null,179,null,null,0,179,null,null,0]
[180,"MERRIMAC                     ",180,null,0,0,0,0,null,{"$f":"proj16aug!J189","v":0},{"$f":"proj16aug!K189","v":0},null,null,0,0,null,0,0,180,null,null,{"$f":"proj16jul!C189","v":0},{"$f":"proj16jul!D189","v":0},0,0,180,null,null,{"$f":"proj16jul!E189","v":0},{"$f":"proj16jul!F189","v":0},0,null,0,null,180,null,null,0,180,null,null,0]
[181,"METHUEN                      ",181,null,0,0,24,142700,null,{"$f":"proj16aug!J190","v":0},{"$f":"proj16aug!K190","v":0},null,null,0,142700,null,285424,0,181,null,null,{"$f":"proj16jul!C190","v":0},{"$f":"proj16jul!D190","v":0},0,0,181,24,142700,{"$f":"proj16jul!E190","v":17.010000000000002},{"$f":"proj16jul!F190","v":95709},46991,null,0,null,181,null,null,0,181,24,138700,0]
[182,"MIDDLEBOROUGH                ",182,null,5,25000,43,245319,null,{"$f":"proj16aug!J191","v":0},{"$f":"proj16aug!K191","v":0},null,null,25000,245319,null,540686,0,182,5,25000,{"$f":"proj16jul!C191","v":3},{"$f":"proj16jul!D191","v":15000},10000,0,182,43,245319,{"$f":"proj16jul!E191","v":43.78},{"$f":"proj16jul!F191","v":231623},13696,null,0,null,182,5,25000,0,182,34,188700,-9]
[183,"MIDDLEFIELD                  ",183,null,0,0,0,0,null,{"$f":"proj16aug!J192","v":0},{"$f":"proj16aug!K192","v":0},null,null,0,0,null,0,0,183,null,null,{"$f":"proj16jul!C192","v":0},{"$f":"proj16jul!D192","v":0},0,0,183,null,null,{"$f":"proj16jul!E192","v":0},{"$f":"proj16jul!F192","v":0},0,null,0,null,183,null,null,0,183,null,null,0]
[184,"MIDDLETON                    ",184,null,0,0,1,6700,null,{"$f":"proj16aug!J193","v":0},{"$f":"proj16aug!K193","v":0},null,null,0,6700,null,13401,0,184,null,null,{"$f":"proj16jul!C193","v":0},{"$f":"proj16jul!D193","v":0},0,0,184,1,6700,{"$f":"proj16jul!E193","v":0.83},{"$f":"proj16jul!F193","v":5561},1139,null,0,null,184,null,null,0,184,1,6700,0]
[185,"MILFORD                      ",185,null,77,442124,198,1168463,null,{"$f":"proj16aug!J194","v":0},{"$f":"proj16aug!K194","v":10000},null,null,442124,1178463,null,3241449,0,185,77,442124,{"$f":"proj16jul!C194","v":82.649999999999991},{"$f":"proj16jul!D194","v":459014},-16890,0,185,198,1168463,{"$f":"proj16jul!E194","v":182.01000000000002},{"$f":"proj16jul!F194","v":1042782},125681,null,0,null,185,74,370000,-3,185,198,1000200,0]
[186,"MILLBURY                     ",186,null,0,0,26,159604,null,{"$f":"proj16aug!J195","v":0},{"$f":"proj16aug!K195","v":0},null,null,0,159604,null,319234,0,186,null,null,{"$f":"proj16jul!C195","v":0},{"$f":"proj16jul!D195","v":0},0,0,186,26,159604,{"$f":"proj16jul!E195","v":19.5},{"$f":"proj16jul!F195","v":118671},40933,null,0,null,186,null,null,0,186,26,138500,0]
[187,"MILLIS                       ",187,null,70,376474,29,182848,null,{"$f":"proj16aug!J196","v":0},{"$f":"proj16aug!K196","v":15000},null,null,376474,197848,null,1148743,0,187,70,376474,{"$f":"proj16jul!C196","v":76.029999999999973},{"$f":"proj16jul!D196","v":419555},-43081,0,187,29,182848,{"$f":"proj16jul!E196","v":28.34},{"$f":"proj16jul!F196","v":168883},13965,null,0,null,187,71,355000,1,187,30,160200,1]
[188,"MILLVILLE                    ",188,null,0,0,0,0,null,{"$f":"proj16aug!J197","v":0},{"$f":"proj16aug!K197","v":0},null,null,0,0,null,0,0,188,null,null,{"$f":"proj16jul!C197","v":0},{"$f":"proj16jul!D197","v":0},0,0,188,null,null,{"$f":"proj16jul!E197","v":0},{"$f":"proj16jul!F197","v":0},0,null,0,null,188,null,null,0,188,null,null,0]
[189,"MILTON                       ",189,null,0,0,4,26800,null,{"$f":"proj16aug!J198","v":0},{"$f":"proj16aug!K198","v":0},null,null,0,26800,null,53604,0,189,null,null,{"$f":"proj16jul!C198","v":0},{"$f":"proj16jul!D198","v":0},0,0,189,4,26800,{"$f":"proj16jul!E198","v":2.84},{"$f":"proj16jul!F198","v":19028},7772,null,0,null,189,null,null,0,189,4,26800,0]
[190,"MONROE                       ",190,null,0,0,1,5000,null,{"$f":"proj16aug!J199","v":0},{"$f":"proj16aug!K199","v":0},null,null,0,5000,null,10001,0,190,null,null,{"$f":"proj16jul!C199","v":0},{"$f":"proj16jul!D199","v":0},0,0,190,1,5000,{"$f":"proj16jul!E199","v":0.37},{"$f":"proj16jul!F199","v":1850},3150,null,0,null,190,null,null,0,190,1.5,7500,0.5]
[191,"MONSON                       ",191,null,52,308926,37,207987,null,{"$f":"proj16aug!J200","v":0},{"$f":"proj16aug!K200","v":0},null,null,308926,207987,null,1033915,0,191,52,308926,{"$f":"proj16jul!C200","v":42.96},{"$f":"proj16jul!D200","v":239656},69270,0,191,37,207987,{"$f":"proj16jul!E200","v":31.33},{"$f":"proj16jul!F200","v":170503},37484,null,0,null,191,52,260000,0,191,37,198600,0]
[192,"MONTAGUE                     ",192,null,0,0,0,0,null,{"$f":"proj16aug!J201","v":0},{"$f":"proj16aug!K201","v":0},null,null,0,0,null,0,0,192,null,null,{"$f":"proj16jul!C201","v":0},{"$f":"proj16jul!D201","v":0},0,0,192,null,null,{"$f":"proj16jul!E201","v":0},{"$f":"proj16jul!F201","v":0},0,null,0,null,192,null,null,0,192,null,null,0]
[193,"MONTEREY                     ",193,null,0,0,0,0,null,{"$f":"proj16aug!J202","v":0},{"$f":"proj16aug!K202","v":0},null,null,0,0,null,0,{"$f":"ABS(A202-S202)","v":0},193,null,null,{"$f":"proj16jul!C202","v":0},{"$f":"proj16jul!D202","v":0},0,{"$f":"ABS(Z202-A202)","v":0},193,null,null,{"$f":"proj16jul!E202","v":0},{"$f":"proj16jul!F202","v":0},{"$f":"AB202-AD202","v":0},null,0,null,193,null,null,0,193,null,null,0]
[194,"MONTGOMERY                   ",194,null,{"$f":"T203","v":0},{"$f":"U203","v":0},{"$f":"AA203","v":0},{"$f":"AB203","v":0},null,{"$f":"proj16aug!J203","v":0},{"$f":"proj16aug!K203","v":0},null,null,{"$f":"F203+J203","v":0},{"$f":"H203+K203","v":0},null,{"$f":"SUM(E203:O203)","v":0},0,194,null,null,{"$f":"proj16jul!C203","v":0},{"$f":"proj16jul!D203","v":0},{"$f":"U203-W203","v":0},0,194,null,null,{"$f":"proj16jul!E203","v":0},{"$f":"proj16jul!F203","v":0},0,null,{"$f":"AI203-A203","v":0},null,194,null,null,{"$f":"AJ203-T203","v":0},194,null,null,{"$f":"AN203-AA203","v":0}]
[195,"MOUNT WASHINGTON             ",195,null,0,0,1,5000,null,{"$f":"proj16aug!J204","v":0},{"$f":"proj16aug!K204","v":0},null,null,0,5000,null,10001,0,195,null,null,{"$f":"proj16jul!C204","v":0},{"$f":"proj16jul!D204","v":0},0,0,195,1,5000,{"$f":"proj16jul!E204","v":1},{"$f":"proj16jul!F204","v":5000},0,null,0,null,195,null,null,0,195,1,5000,0]
[196,"NAHANT                       ",196,null,0,0,0,0,null,{"$f":"proj16aug!J205","v":0},{"$f":"proj16aug!K205","v":0},null,null,0,0,null,0,0,196,null,null,{"$f":"proj16jul!C205","v":0},{"$f":"proj16jul!D205","v":0},0,0,196,null,null,{"$f":"proj16jul!E205","v":0},{"$f":"proj16jul!F205","v":0},0,null,0,null,196,null,null,0,196,null,null,0]
[197,"NANTUCKET                    ",197,null,0,0,1,6700,null,{"$f":"proj16aug!J206","v":0},{"$f":"proj16aug!K206","v":0},null,null,0,6700,null,13401,0,197,null,null,{"$f":"proj16jul!C206","v":0},{"$f":"proj16jul!D206","v":0},0,0,197,1,6700,{"$f":"proj16jul!E206","v":0},{"$f":"proj16jul!F206","v":0},6700,null,0,null,197,null,null,0,197,1,6700,0]
[198,"NATICK                       ",198,null,39,261473,11,74094,null,{"$f":"proj16aug!J207","v":0},{"$f":"proj16aug!K207","v":0},null,null,261473,74094,null,671184,0,198,39,261473,{"$f":"proj16jul!C207","v":40.06},{"$f":"proj16jul!D207","v":245600},15873,0,198,11,74094,{"$f":"proj16jul!E207","v":11.319999999999999},{"$f":"proj16jul!F207","v":70718},3376,null,0,null,198,39,195000,0,198,11,65200,0]
[199,"NEEDHAM                      ",199,null,0,0,6,42500,null,{"$f":"proj16aug!J208","v":0},{"$f":"proj16aug!K208","v":0},null,null,0,42500,null,85006,0,199,null,null,{"$f":"proj16jul!C208","v":0},{"$f":"proj16jul!D208","v":0},0,0,199,6,42500,{"$f":"proj16jul!E208","v":4.9499999999999993},{"$f":"proj16jul!F208","v":30663},11837,null,0,null,199,null,null,0,199,6,38500,0]
[200,"NEW ASHFORD                  ",200,null,0,0,1,5000,null,{"$f":"proj16aug!J209","v":0},{"$f":"proj16aug!K209","v":0},null,null,0,5000,null,10001,0,200,null,null,{"$f":"proj16jul!C209","v":0},{"$f":"proj16jul!D209","v":0},0,0,200,1,5000,{"$f":"proj16jul!E209","v":3},{"$f":"proj16jul!F209","v":17406},-12406,null,0,null,200,null,null,0,200,1,5000,0]
[201,"NEW BEDFORD                  ",201,null,0,0,78,505748,null,{"$f":"proj16aug!J210","v":0},{"$f":"proj16aug!K210","v":0},null,null,0,505748,null,1011574,0,201,null,null,{"$f":"proj16jul!C210","v":0},{"$f":"proj16jul!D210","v":0},0,0,201,78,505748,{"$f":"proj16jul!E210","v":56.099999999999994},{"$f":"proj16jul!F210","v":364593},141155,null,0,null,201,null,null,0,201,80,466300,2]
[202,"NEW BRAINTREE                ",202,null,0,0,0,0,null,{"$f":"proj16aug!J211","v":0},{"$f":"proj16aug!K211","v":0},null,null,0,0,null,0,0,202,null,null,{"$f":"proj16jul!C211","v":0},{"$f":"proj16jul!D211","v":0},0,0,202,null,null,{"$f":"proj16jul!E211","v":0},{"$f":"proj16jul!F211","v":0},0,null,0,null,202,null,null,0,202,null,null,0]
[203,"NEWBURY                      ",205,null,0,0,0,0,null,{"$f":"proj16aug!J212","v":0},{"$f":"proj16aug!K212","v":0},null,null,0,0,null,0,0,203,null,null,{"$f":"proj16jul!C212","v":0},{"$f":"proj16jul!D212","v":0},0,0,203,null,null,{"$f":"proj16jul!E212","v":0},{"$f":"proj16jul!F212","v":0},0,null,0,null,203,null,null,0,203,null,null,0]
[204,"NEWBURYPORT                  ",206,null,43,671478,44,288690,null,{"$f":"proj16aug!J213","v":0},{"$f":"proj16aug!K213","v":0},null,null,671478,288690,null,1920423,0,204,43,671478,{"$f":"proj16jul!C213","v":56.16},{"$f":"proj16jul!D213","v":727472},-55994,0,204,44,288690,{"$f":"proj16jul!E213","v":49.449999999999996},{"$f":"proj16jul!F213","v":311607},-22917,null,0,null,204,43,210000,0,204,44,221700,0]
[205,"NEW MARLBOROUGH              ",203,null,0,0,0,0,null,{"$f":"proj16aug!J214","v":0},{"$f":"proj16aug!K214","v":0},null,null,0,0,null,0,0,205,null,null,{"$f":"proj16jul!C214","v":0},{"$f":"proj16jul!D214","v":0},0,0,205,null,null,{"$f":"proj16jul!E214","v":0},{"$f":"proj16jul!F214","v":0},0,null,0,null,205,null,null,0,205,null,null,0]
[206,"NEW SALEM                    ",204,null,0,0,0,0,null,{"$f":"proj16aug!J215","v":0},{"$f":"proj16aug!K215","v":0},null,null,0,0,null,0,0,206,null,null,{"$f":"proj16jul!C215","v":0},{"$f":"proj16jul!D215","v":0},0,0,206,null,null,{"$f":"proj16jul!E215","v":0},{"$f":"proj16jul!F215","v":0},0,null,0,null,206,null,null,0,206,null,null,0]
[207,"NEWTON                       ",207,null,0,0,7,50900,null,{"$f":"proj16aug!J216","v":0},{"$f":"proj16aug!K216","v":0},null,null,0,50900,null,101807,0,207,null,null,{"$f":"proj16jul!C216","v":0},{"$f":"proj16jul!D216","v":0},0,0,207,7,50900,{"$f":"proj16jul!E216","v":6.18},{"$f":"proj16jul!F216","v":37326},13574,null,0,null,207,null,null,0,207,7,46900,0]
[208,"NORFOLK                      ",208,null,0,0,2,11700,null,{"$f":"proj16aug!J217","v":0},{"$f":"proj16aug!K217","v":0},null,null,0,11700,null,23402,0,208,null,null,{"$f":"proj16jul!C217","v":0},{"$f":"proj16jul!D217","v":0},0,0,208,2,11700,{"$f":"proj16jul!E217","v":5.67},{"$f":"proj16jul!F217","v":34589},-22889,null,0,null,208,null,null,0,208,2,11700,0]
[209,"NORTH ADAMS                  ",209,null,40,283731,109.5,668937,null,{"$f":"proj16aug!J218","v":0},{"$f":"proj16aug!K218","v":0},null,null,283731,668937,null,1905485.5,0,209,40,283731,{"$f":"proj16jul!C218","v":44.21},{"$f":"proj16jul!D218","v":290526},-6795,0,209,109.5,668937,{"$f":"proj16jul!E218","v":118.86000000000001},{"$f":"proj16jul!F218","v":714238},-45301,null,0,null,209,40,200000,0,209,112,568500,2.5]
[210,"NORTHAMPTON                  ",214,null,219,1716289,85,572388,null,{"$f":"proj16aug!J219","v":0},{"$f":"proj16aug!K219","v":0},null,null,1716289,572388,null,4577658,0,210,219,1716289,{"$f":"proj16jul!C219","v":224.03},{"$f":"proj16jul!D219","v":1827864},-111575,0,210,85,572388,{"$f":"proj16jul!E219","v":68.62},{"$f":"proj16jul!F219","v":515576},56812,null,0,null,210,219,1075000,0,210,85,433500,0]
[211,"NORTH ANDOVER                ",210,null,0,0,0,0,null,{"$f":"proj16aug!J220","v":0},{"$f":"proj16aug!K220","v":0},null,null,0,0,null,0,0,211,null,null,{"$f":"proj16jul!C220","v":0},{"$f":"proj16jul!D220","v":0},0,0,211,null,null,{"$f":"proj16jul!E220","v":0},{"$f":"proj16jul!F220","v":0},0,null,0,null,211,null,null,0,211,null,null,0]
[212,"NORTH ATTLEBOROUGH           ",211,null,0,0,11,70300,null,{"$f":"proj16aug!J221","v":0},{"$f":"proj16aug!K221","v":0},null,null,0,70300,null,140611,0,212,null,null,{"$f":"proj16jul!C221","v":0},{"$f":"proj16jul!D221","v":0},0,0,212,11,70300,{"$f":"proj16jul!E221","v":8.3099999999999987},{"$f":"proj16jul!F221","v":51427},18873,null,0,null,212,null,null,0,212,11,70300,0]
[213,"NORTHBOROUGH                 ",215,null,0,0,3,22400,null,{"$f":"proj16aug!J222","v":0},{"$f":"proj16aug!K222","v":0},null,null,0,22400,null,44803,0,213,null,null,{"$f":"proj16jul!C222","v":0},{"$f":"proj16jul!D222","v":0},0,0,213,3,22400,{"$f":"proj16jul!E222","v":5.59},{"$f":"proj16jul!F222","v":28953},-6553,null,0,null,213,null,null,0,213,3,18400,0]
[214,"NORTHBRIDGE                  ",216,null,106.5,575388,121,740327,null,{"$f":"proj16aug!J223","v":0},{"$f":"proj16aug!K223","v":0},null,null,575388,740327,null,2631657.5,0,214,106.5,575388,{"$f":"proj16jul!C223","v":108.41000000000001},{"$f":"proj16jul!D223","v":597709},-22321,0,214,121,740327,{"$f":"proj16jul!E223","v":113.07999999999998},{"$f":"proj16jul!F223","v":702739},37588,null,0,null,214,106.5,532500,0,214,121,600100,0]
[215,"NORTH BROOKFIELD             ",212,null,68,373679,109.5,623298,null,{"$f":"proj16aug!J224","v":0},{"$f":"proj16aug!K224","v":0},null,null,373679,623298,null,1994131.5,0,215,68,373679,{"$f":"proj16jul!C224","v":64.87},{"$f":"proj16jul!D224","v":367210},6469,0,215,109.5,623298,{"$f":"proj16jul!E224","v":123.61},{"$f":"proj16jul!F224","v":712941},-89643,null,0,null,215,68,340000,0,215,60.5,305188,-49]
[216,"NORTHFIELD                   ",217,null,0,0,0,0,null,{"$f":"proj16aug!J225","v":0},{"$f":"proj16aug!K225","v":0},null,null,0,0,null,0,0,216,null,null,{"$f":"proj16jul!C225","v":0},{"$f":"proj16jul!D225","v":0},0,0,216,null,null,{"$f":"proj16jul!E225","v":0},{"$f":"proj16jul!F225","v":0},0,null,0,null,216,null,null,0,216,null,null,0]
[217,"NORTH READING                ",213,null,0,0,5,30100,null,{"$f":"proj16aug!J226","v":0},{"$f":"proj16aug!K226","v":0},null,null,0,30100,null,60205,0,217,null,null,{"$f":"proj16jul!C226","v":0},{"$f":"proj16jul!D226","v":0},0,0,217,5,30100,{"$f":"proj16jul!E226","v":2.9499999999999997},{"$f":"proj16jul!F226","v":19765},10335,null,0,null,217,null,null,0,217,5,30100,0]
[218,"NORTON                       ",218,null,34.5,207200,19,116783,null,{"$f":"proj16aug!J227","v":0},{"$f":"proj16aug!K227","v":0},null,null,207200,116783,null,648019.5,0,218,34.5,207200,{"$f":"proj16jul!C227","v":11},{"$f":"proj16jul!D227","v":64700},142500,0,218,19,116783,{"$f":"proj16jul!E227","v":17.829999999999998},{"$f":"proj16jul!F227","v":107342},9441,null,0,null,218,34.5,172500,0,218,19,110300,0]
[219,"NORWELL                      ",219,null,0,0,1,10700,null,{"$f":"proj16aug!J228","v":0},{"$f":"proj16aug!K228","v":0},null,null,0,10700,null,21401,0,219,null,null,{"$f":"proj16jul!C228","v":0},{"$f":"proj16jul!D228","v":0},0,0,219,1,10700,{"$f":"proj16jul!E228","v":1},{"$f":"proj16jul!F228","v":9000},1700,null,0,null,219,null,null,0,219,1,6700,0]
[220,"NORWOOD                      ",220,null,0,0,9,63910,null,{"$f":"proj16aug!J229","v":0},{"$f":"proj16aug!K229","v":0},null,null,0,63910,null,127829,0,220,null,null,{"$f":"proj16jul!C229","v":0},{"$f":"proj16jul!D229","v":0},0,0,220,9,63910,{"$f":"proj16jul!E229","v":3.4299999999999997},{"$f":"proj16jul!F229","v":22981},40929,null,0,null,220,null,null,0,220,9,55200,0]
[221,"OAK BLUFFS                   ",221,null,36,214429,29,189683,null,{"$f":"proj16aug!J230","v":0},{"$f":"proj16aug!K230","v":0},null,null,214429,189683,null,808289,0,221,36,214429,{"$f":"proj16jul!C230","v":35.269999999999996},{"$f":"proj16jul!D230","v":226153},-11724,0,221,29,189683,{"$f":"proj16jul!E230","v":31.240000000000002},{"$f":"proj16jul!F230","v":189652},31,null,0,null,221,36,180000,0,221,29,145000,0]
[222,"OAKHAM                       ",222,null,0,0,0,0,null,{"$f":"proj16aug!J231","v":0},{"$f":"proj16aug!K231","v":0},null,null,0,0,null,0,0,222,null,null,{"$f":"proj16jul!C231","v":0},{"$f":"proj16jul!D231","v":0},0,0,222,null,null,{"$f":"proj16jul!E231","v":0},{"$f":"proj16jul!F231","v":0},0,null,0,null,222,null,null,0,222,null,null,0]
[223,"ORANGE                       ",223,null,56,373608,56,323919,null,{"$f":"proj16aug!J232","v":0},{"$f":"proj16aug!K232","v":0},null,null,373608,323919,null,1395166,0,223,56,373608,{"$f":"proj16jul!C232","v":53.11},{"$f":"proj16jul!D232","v":344380},29228,0,223,56,323919,{"$f":"proj16jul!E232","v":65.14},{"$f":"proj16jul!F232","v":419776},-95857,null,0,null,223,56,280000,0,223,56,281700,0]
[224,"ORLEANS                      ",224,null,1,5000,1,5000,null,{"$f":"proj16aug!J233","v":0},{"$f":"proj16aug!K233","v":0},null,null,5000,5000,null,20002,0,224,1,5000,{"$f":"proj16jul!C233","v":1},{"$f":"proj16jul!D233","v":5000},0,0,224,1,5000,{"$f":"proj16jul!E233","v":2},{"$f":"proj16jul!F233","v":10000},-5000,null,0,null,224,1,5000,0,224,1,5000,0]
[225,"OTIS                         ",225,null,0,0,0,0,null,{"$f":"proj16aug!J234","v":0},{"$f":"proj16aug!K234","v":0},null,null,0,0,null,0,0,225,null,null,{"$f":"proj16jul!C234","v":0},{"$f":"proj16jul!D234","v":0},0,0,225,null,null,{"$f":"proj16jul!E234","v":0},{"$f":"proj16jul!F234","v":0},0,null,0,null,225,null,null,0,225,null,null,0]
[226,"OXFORD                       ",226,null,5,25000,83,469422,null,{"$f":"proj16aug!J235","v":0},{"$f":"proj16aug!K235","v":0},null,null,25000,469422,null,988932,0,226,5,25000,{"$f":"proj16jul!C235","v":4},{"$f":"proj16jul!D235","v":25129},-129,0,226,83,469422,{"$f":"proj16jul!E235","v":69.580000000000013},{"$f":"proj16jul!F235","v":381920},87502,null,0,null,226,5,25000,0,226,83,438800,0]
[227,"PALMER                       ",227,null,21,111006,82,484241,null,{"$f":"proj16aug!J236","v":0},{"$f":"proj16aug!K236","v":0},null,null,111006,484241,null,1190597,0,227,21,111006,{"$f":"proj16jul!C236","v":19.439999999999998},{"$f":"proj16jul!D236","v":103206},7800,0,227,82,484241,{"$f":"proj16jul!E236","v":74.960000000000008},{"$f":"proj16jul!F236","v":415637},68604,null,0,null,227,21,105000,0,227,80,410200,-2]
[228,"PAXTON                       ",228,null,0,0,0,0,null,{"$f":"proj16aug!J237","v":0},{"$f":"proj16aug!K237","v":0},null,null,0,0,null,0,0,228,null,null,{"$f":"proj16jul!C237","v":0},{"$f":"proj16jul!D237","v":0},0,0,228,null,null,{"$f":"proj16jul!E237","v":0},{"$f":"proj16jul!F237","v":0},0,null,0,null,228,null,null,0,228,null,null,0]
[229,"PEABODY                      ",229,null,89,478459,49,263896,null,{"$f":"proj16aug!J238","v":0},{"$f":"proj16aug!K238","v":0},null,null,478459,263896,null,1484848,0,229,89,478459,{"$f":"proj16jul!C238","v":71.850000000000009},{"$f":"proj16jul!D238","v":365942},112517,0,229,49,263896,{"$f":"proj16jul!E238","v":50.04},{"$f":"proj16jul!F238","v":262846},1050,null,0,null,229,89.5,447500,0.5,229,49,251800,0]
[230,"PELHAM                       ",230,null,52,373116,1,5000,null,{"$f":"proj16aug!J239","v":0},{"$f":"proj16aug!K239","v":0},null,null,373116,5000,null,756285,0,230,52,373116,{"$f":"proj16jul!C239","v":49.61999999999999},{"$f":"proj16jul!D239","v":358484},14632,0,230,1,5000,{"$f":"proj16jul!E239","v":2},{"$f":"proj16jul!F239","v":34025},-29025,null,0,null,230,52,260000,0,230,1,5000,0]
[231,"PEMBROKE                     ",231,null,0,0,8,46800,null,{"$f":"proj16aug!J240","v":0},{"$f":"proj16aug!K240","v":0},null,null,0,46800,null,93608,0,231,null,null,{"$f":"proj16jul!C240","v":0},{"$f":"proj16jul!D240","v":0},0,0,231,8,46800,{"$f":"proj16jul!E240","v":4.66},{"$f":"proj16jul!F240","v":26717},20083,null,0,null,231,null,null,0,231,8,46800,0]
[232,"PEPPERELL                    ",232,null,0,0,0,0,null,{"$f":"proj16aug!J241","v":0},{"$f":"proj16aug!K241","v":0},null,null,0,0,null,0,0,232,null,null,{"$f":"proj16jul!C241","v":0},{"$f":"proj16jul!D241","v":0},0,0,232,null,null,{"$f":"proj16jul!E241","v":0},{"$f":"proj16jul!F241","v":0},0,null,0,null,232,null,null,0,232,null,null,0]
[233,"PERU                         ",233,null,0,0,0,0,null,{"$f":"proj16aug!J242","v":0},{"$f":"proj16aug!K242","v":0},null,null,0,0,null,0,0,233,null,null,{"$f":"proj16jul!C242","v":0},{"$f":"proj16jul!D242","v":0},0,0,233,null,null,{"$f":"proj16jul!E242","v":0},{"$f":"proj16jul!F242","v":0},0,null,0,null,233,null,null,0,233,null,null,0]
[234,"PETERSHAM                    ",234,null,65,384684,8,40000,null,{"$f":"proj16aug!J243","v":0},{"$f":"proj16aug!K243","v":0},null,null,384684,40000,null,849441,0,234,65,384684,{"$f":"proj16jul!C243","v":66.39},{"$f":"proj16jul!D243","v":383945},739,0,234,8,40000,{"$f":"proj16jul!E243","v":10},{"$f":"proj16jul!F243","v":50000},-10000,null,0,null,234,65,325000,0,234,5,25000,-3]
[235,"PHILLIPSTON                  ",235,null,0,0,0,0,null,{"$f":"proj16aug!J244","v":0},{"$f":"proj16aug!K244","v":0},null,null,0,0,null,0,0,235,null,null,{"$f":"proj16jul!C244","v":0},{"$f":"proj16jul!D244","v":0},0,0,235,null,null,{"$f":"proj16jul!E244","v":0},{"$f":"proj16jul!F244","v":0},0,null,0,null,235,null,null,0,235,null,null,0]
[236,"PITTSFIELD                   ",236,null,91,515935,466.5,2654601,null,{"$f":"proj16aug!J245","v":0},{"$f":"proj16aug!K245","v":0},null,null,515935,2654601,null,6341629.5,0,236,91,515935,{"$f":"proj16jul!C245","v":99.089999999999989},{"$f":"proj16jul!D245","v":534879},-18944,0,236,466.5,2654601,{"$f":"proj16jul!E245","v":441.93000000000006},{"$f":"proj16jul!F245","v":2452955},201646,null,0,null,236,91,455000,0,236,469,2368800,2.5]
[237,"PLAINFIELD                   ",237,null,0,0,0,0,null,{"$f":"proj16aug!J246","v":0},{"$f":"proj16aug!K246","v":0},null,null,0,0,null,0,0,237,null,null,{"$f":"proj16jul!C246","v":0},{"$f":"proj16jul!D246","v":0},0,0,237,null,null,{"$f":"proj16jul!E246","v":0},{"$f":"proj16jul!F246","v":0},0,null,0,null,237,null,null,0,237,null,null,0]
[238,"PLAINVILLE                   ",238,null,0,0,0,0,null,{"$f":"proj16aug!J247","v":0},{"$f":"proj16aug!K247","v":0},null,null,0,0,null,0,0,238,null,null,{"$f":"proj16jul!C247","v":0},{"$f":"proj16jul!D247","v":0},0,0,238,null,null,{"$f":"proj16jul!E247","v":0},{"$f":"proj16jul!F247","v":0},0,null,0,null,238,null,null,0,238,null,null,0]
[239,"PLYMOUTH                     ",239,null,0,0,55.5,325368,null,{"$f":"proj16aug!J248","v":0},{"$f":"proj16aug!K248","v":0},null,null,0,325368,null,650791.5,0,239,null,null,{"$f":"proj16jul!C248","v":0},{"$f":"proj16jul!D248","v":0},0,0,239,55.5,325368,{"$f":"proj16jul!E248","v":50.06},{"$f":"proj16jul!F248","v":280378},44990,null,0,null,239,null,null,0,239,56,291900,0.5]
[240,"PLYMPTON                     ",240,null,5,25000,1,5000,null,{"$f":"proj16aug!J249","v":0},{"$f":"proj16aug!K249","v":0},null,null,25000,5000,null,60006,0,240,5,25000,{"$f":"proj16jul!C249","v":4},{"$f":"proj16jul!D249","v":20000},5000,0,240,1,5000,{"$f":"proj16jul!E249","v":1},{"$f":"proj16jul!F249","v":5000},0,null,0,null,240,5,25000,0,240,1,5000,0]
[241,"PRINCETON                    ",241,null,0,0,0,0,null,{"$f":"proj16aug!J250","v":0},{"$f":"proj16aug!K250","v":0},null,null,0,0,null,0,0,241,null,null,{"$f":"proj16jul!C250","v":0},{"$f":"proj16jul!D250","v":0},0,0,241,null,null,{"$f":"proj16jul!E250","v":0},{"$f":"proj16jul!F250","v":0},0,null,0,null,241,null,null,0,241,null,null,0]
[242,"PROVINCETOWN                 ",242,null,37,245160,21,129934,null,{"$f":"proj16aug!J251","v":0},{"$f":"proj16aug!K251","v":0},null,null,245160,129934,null,750246,0,242,37,245160,{"$f":"proj16jul!C251","v":27.849999999999998},{"$f":"proj16jul!D251","v":300338},-55178,0,242,21,129934,{"$f":"proj16jul!E251","v":20},{"$f":"proj16jul!F251","v":124934},5000,null,0,null,242,37.5,187500,0.5,242,21,105000,0]
[243,"QUINCY                       ",243,null,0,0,10,79440,null,{"$f":"proj16aug!J252","v":0},{"$f":"proj16aug!K252","v":0},null,null,0,79440,null,158890,0,243,null,null,{"$f":"proj16jul!C252","v":0},{"$f":"proj16jul!D252","v":0},0,0,243,10,79440,{"$f":"proj16jul!E252","v":10.629999999999999},{"$f":"proj16jul!F252","v":71352},8088,null,0,null,243,null,null,0,243,10,63600,0]
[244,"RANDOLPH                     ",244,null,6,47950,161,889801,null,{"$f":"proj16aug!J253","v":0},{"$f":"proj16aug!K253","v":0},null,null,47950,889801,null,1875669,0,244,6,47950,{"$f":"proj16jul!C253","v":5.330000000000001},{"$f":"proj16jul!D253","v":47279},671,0,244,161,889801,{"$f":"proj16jul!E253","v":153.69},{"$f":"proj16jul!F253","v":819586},70215,null,0,null,244,6,30000,0,244,161,815200,0]
[245,"RAYNHAM                      ",245,null,0,0,0,0,null,{"$f":"proj16aug!J254","v":0},{"$f":"proj16aug!K254","v":0},null,null,0,0,null,0,0,245,null,null,{"$f":"proj16jul!C254","v":0},{"$f":"proj16jul!D254","v":0},0,0,245,null,null,{"$f":"proj16jul!E254","v":0},{"$f":"proj16jul!F254","v":0},0,null,0,null,245,null,null,0,245,null,null,0]
[246,"READING                      ",246,null,0,0,5,39800,null,{"$f":"proj16aug!J255","v":0},{"$f":"proj16aug!K255","v":0},null,null,0,39800,null,79605,0,246,null,null,{"$f":"proj16jul!C255","v":0},{"$f":"proj16jul!D255","v":0},0,0,246,5,39800,{"$f":"proj16jul!E255","v":2.91},{"$f":"proj16jul!F255","v":19369},20431,null,0,null,246,null,null,0,246,5,31800,0]
[247,"REHOBOTH                     ",247,null,0,0,0,0,null,{"$f":"proj16aug!J256","v":0},{"$f":"proj16aug!K256","v":0},null,null,0,0,null,0,0,247,null,null,{"$f":"proj16jul!C256","v":0},{"$f":"proj16jul!D256","v":0},0,0,247,null,null,{"$f":"proj16jul!E256","v":0},{"$f":"proj16jul!F256","v":0},0,null,0,null,247,null,null,0,247,null,null,0]
[248,"REVERE                       ",248,null,0,0,12,70824,null,{"$f":"proj16aug!J257","v":0},{"$f":"proj16aug!K257","v":0},null,null,0,70824,null,141660,0,248,null,null,{"$f":"proj16jul!C257","v":0},{"$f":"proj16jul!D257","v":0},0,0,248,12,70824,{"$f":"proj16jul!E257","v":12.44},{"$f":"proj16jul!F257","v":71448},-624,null,0,null,248,null,null,0,248,12,68500,0]
[249,"RICHMOND                     ",249,null,80.5,418500,15,83198,null,{"$f":"proj16aug!J258","v":0},{"$f":"proj16aug!K258","v":0},null,null,418500,83198,null,1003491.5,0,249,80.5,418500,{"$f":"proj16jul!C258","v":76},{"$f":"proj16jul!D258","v":380000},38500,0,249,15,83198,{"$f":"proj16jul!E258","v":16.170000000000002},{"$f":"proj16jul!F258","v":86852},-3654,null,0,null,249,81,405000,0.5,249,15,75000,0]
[250,"ROCHESTER                    ",250,null,0,0,0,0,null,{"$f":"proj16aug!J259","v":0},{"$f":"proj16aug!K259","v":0},null,null,0,0,null,0,0,250,null,null,{"$f":"proj16jul!C259","v":0},{"$f":"proj16jul!D259","v":0},0,0,250,null,null,{"$f":"proj16jul!E259","v":2},{"$f":"proj16jul!F259","v":10000},-10000,null,0,null,250,null,null,0,250,null,null,0]
[251,"ROCKLAND                     ",251,null,33,181877,15,96000,null,{"$f":"proj16aug!J260","v":0},{"$f":"proj16aug!K260","v":0},null,null,181877,96000,null,555802,0,251,33,181877,{"$f":"proj16jul!C260","v":36.28},{"$f":"proj16jul!D260","v":185181},-3304,0,251,15,96000,{"$f":"proj16jul!E260","v":11.52},{"$f":"proj16jul!F260","v":67851},28149,null,0,null,251,33,165000,0,251,17,102000,2]
[252,"ROCKPORT                     ",252,null,234,1312827,26,134446,null,{"$f":"proj16aug!J261","v":0},{"$f":"proj16aug!K261","v":0},null,null,1312827,134446,null,2894806,0,252,234,1312827,{"$f":"proj16jul!C261","v":224.25999999999993},{"$f":"proj16jul!D261","v":1245557},67270,0,252,26,134446,{"$f":"proj16jul!E261","v":27.849999999999998},{"$f":"proj16jul!F261","v":152910},-18464,null,0,null,252,234,1170000,0,252,26,130000,0]
[253,"ROWE                         ",253,null,18.5,110368,3,21970,null,{"$f":"proj16aug!J262","v":0},{"$f":"proj16aug!K262","v":0},null,null,110368,21970,null,264697.5,0,253,18.5,110368,{"$f":"proj16jul!C262","v":18.38},{"$f":"proj16jul!D262","v":93768},16600,0,253,3,21970,{"$f":"proj16jul!E262","v":2},{"$f":"proj16jul!F262","v":16970},5000,null,0,null,253,22.5,112500,4,253,3.5,17500,0.5]
[254,"ROWLEY                       ",254,null,0,0,0,0,null,{"$f":"proj16aug!J263","v":0},{"$f":"proj16aug!K263","v":0},null,null,0,0,null,0,0,254,null,null,{"$f":"proj16jul!C263","v":0},{"$f":"proj16jul!D263","v":0},0,0,254,null,null,{"$f":"proj16jul!E263","v":0},{"$f":"proj16jul!F263","v":0},0,null,0,null,254,null,null,0,254,null,null,0]
[255,"ROYALSTON                    ",255,null,0,0,0,0,null,{"$f":"proj16aug!J264","v":0},{"$f":"proj16aug!K264","v":0},null,null,0,0,null,0,0,255,null,null,{"$f":"proj16jul!C264","v":0},{"$f":"proj16jul!D264","v":0},0,0,255,null,null,{"$f":"proj16jul!E264","v":0},{"$f":"proj16jul!F264","v":0},0,null,0,null,255,null,null,0,255,null,null,0]
[256,"RUSSELL                      ",256,null,0,0,0,0,null,{"$f":"proj16aug!J265","v":0},{"$f":"proj16aug!K265","v":0},null,null,0,0,null,0,0,256,null,null,{"$f":"proj16jul!C265","v":0},{"$f":"proj16jul!D265","v":0},0,0,256,null,null,{"$f":"proj16jul!E265","v":0},{"$f":"proj16jul!F265","v":0},0,null,0,null,256,null,null,0,256,null,null,0]
[257,"RUTLAND                      ",257,null,0,0,0,0,null,{"$f":"proj16aug!J266","v":0},{"$f":"proj16aug!K266","v":0},null,null,0,0,null,0,{"$f":"ABS(A266-S266)","v":0},257,null,null,{"$f":"proj16jul!C266","v":0},{"$f":"proj16jul!D266","v":0},0,{"$f":"ABS(Z266-A266)","v":0},257,null,null,{"$f":"proj16jul!E266","v":0},{"$f":"proj16jul!F266","v":0},{"$f":"AB266-AD266","v":0},null,0,null,257,null,null,0,257,null,null,0]
[258,"SALEM                        ",258,null,{"$f":"T267","v":0},{"$f":"U267","v":0},{"$f":"AA267","v":77.5},{"$f":"AB267","v":445533},null,{"$f":"proj16aug!J267","v":0},{"$f":"proj16aug!K267","v":0},null,null,{"$f":"F267+J267","v":0},{"$f":"H267+K267","v":445533},null,{"$f":"SUM(E267:O267)","v":891143.5},0,258,null,null,{"$f":"proj16jul!C267","v":0},{"$f":"proj16jul!D267","v":0},{"$f":"U267-W267","v":0},0,258,77.5,445533,{"$f":"proj16jul!E267","v":73.719999999999985},{"$f":"proj16jul!F267","v":400142},45391,null,{"$f":"AI267-A267","v":0},null,258,null,null,{"$f":"AJ267-T267","v":0},258,77.5,399400,{"$f":"AN267-AA267","v":0}]
[259,"SALISBURY                    ",259,null,0,0,0,0,null,{"$f":"proj16aug!J268","v":0},{"$f":"proj16aug!K268","v":0},null,null,0,0,null,0,0,259,null,null,{"$f":"proj16jul!C268","v":0},{"$f":"proj16jul!D268","v":0},0,0,259,null,null,{"$f":"proj16jul!E268","v":0},{"$f":"proj16jul!F268","v":0},0,null,0,null,259,null,null,0,259,null,null,0]
[260,"SANDISFIELD                  ",260,null,0,0,0,0,null,{"$f":"proj16aug!J269","v":0},{"$f":"proj16aug!K269","v":0},null,null,0,0,null,0,0,260,null,null,{"$f":"proj16jul!C269","v":0},{"$f":"proj16jul!D269","v":0},0,0,260,null,null,{"$f":"proj16jul!E269","v":0},{"$f":"proj16jul!F269","v":0},0,null,0,null,260,null,null,0,260,null,null,0]
[261,"SANDWICH                     ",261,null,81,456274,56,333800,null,{"$f":"proj16aug!J270","v":0},{"$f":"proj16aug!K270","v":0},null,null,456274,333800,null,1580285,0,261,81,456274,{"$f":"proj16jul!C270","v":82.5},{"$f":"proj16jul!D270","v":458438},-2164,0,261,56,333800,{"$f":"proj16jul!E270","v":64.48},{"$f":"proj16jul!F270","v":344631},-10831,null,0,null,261,81,405000,0,261,56,291900,0]
[262,"SAUGUS                       ",262,null,0,0,14,85500,null,{"$f":"proj16aug!J271","v":0},{"$f":"proj16aug!K271","v":0},null,null,0,85500,null,171014,0,262,null,null,{"$f":"proj16jul!C271","v":0},{"$f":"proj16jul!D271","v":0},0,0,262,14,85500,{"$f":"proj16jul!E271","v":10.85},{"$f":"proj16jul!F271","v":62495},23005,null,0,null,262,null,null,0,262,14,78500,0]
[263,"SAVOY                        ",263,null,9,47846,21,114631,null,{"$f":"proj16aug!J272","v":0},{"$f":"proj16aug!K272","v":0},null,null,47846,114631,null,324984,0,263,9,47846,{"$f":"proj16jul!C272","v":14},{"$f":"proj16jul!D272","v":74998},-27152,0,263,21,114631,{"$f":"proj16jul!E272","v":25.48},{"$f":"proj16jul!F272","v":166742},-52111,null,0,null,263,11,55000,2,263,21,105000,0]
[264,"SCITUATE                     ",264,null,0,0,0,0,null,{"$f":"proj16aug!J273","v":0},{"$f":"proj16aug!K273","v":0},null,null,0,0,null,0,0,264,null,null,{"$f":"proj16jul!C273","v":0},{"$f":"proj16jul!D273","v":0},0,0,264,null,null,{"$f":"proj16jul!E273","v":1.18},{"$f":"proj16jul!F273","v":7906},-7906,null,0,null,264,null,null,0,264,null,null,0]
[265,"SEEKONK                      ",265,null,0,0,4,32100,null,{"$f":"proj16aug!J274","v":0},{"$f":"proj16aug!K274","v":0},null,null,0,32100,null,64204,0,265,null,null,{"$f":"proj16jul!C274","v":0},{"$f":"proj16jul!D274","v":0},0,0,265,4,32100,{"$f":"proj16jul!E274","v":4.0199999999999996},{"$f":"proj16jul!F274","v":26934},5166,null,0,null,265,null,null,0,265,4,25100,0]
[266,"SHARON                       ",266,null,0,0,3,20700,null,{"$f":"proj16aug!J275","v":0},{"$f":"proj16aug!K275","v":0},null,null,0,20700,null,41403,0,266,null,null,{"$f":"proj16jul!C275","v":0},{"$f":"proj16jul!D275","v":0},0,0,266,3,20700,{"$f":"proj16jul!E275","v":0.59},{"$f":"proj16jul!F275","v":3953},16747,null,0,null,266,null,null,0,266,3,16700,0]
[267,"SHEFFIELD                    ",267,null,0,0,0,0,null,{"$f":"proj16aug!J276","v":0},{"$f":"proj16aug!K276","v":0},null,null,0,0,null,0,0,267,null,null,{"$f":"proj16jul!C276","v":0},{"$f":"proj16jul!D276","v":0},0,0,267,null,null,{"$f":"proj16jul!E276","v":0},{"$f":"proj16jul!F276","v":0},0,null,0,null,267,null,null,0,267,null,null,0]
[268,"SHELBURNE                    ",268,null,0,0,0,0,null,{"$f":"proj16aug!J277","v":0},{"$f":"proj16aug!K277","v":0},null,null,0,0,null,0,0,268,null,null,{"$f":"proj16jul!C277","v":0},{"$f":"proj16jul!D277","v":0},0,0,268,null,null,{"$f":"proj16jul!E277","v":0},{"$f":"proj16jul!F277","v":0},0,null,0,null,268,null,null,0,268,null,null,0]
[269,"SHERBORN                     ",269,null,0,0,0,0,null,{"$f":"proj16aug!J278","v":0},{"$f":"proj16aug!K278","v":0},null,null,0,0,null,0,0,269,null,null,{"$f":"proj16jul!C278","v":0},{"$f":"proj16jul!D278","v":0},0,0,269,null,null,{"$f":"proj16jul!E278","v":0},{"$f":"proj16jul!F278","v":0},0,null,0,null,269,null,null,0,269,null,null,0]
[270,"SHIRLEY                      ",270,null,0,0,0,0,null,{"$f":"proj16aug!J279","v":0},{"$f":"proj16aug!K279","v":0},null,null,0,0,null,0,0,270,null,null,{"$f":"proj16jul!C279","v":0},{"$f":"proj16jul!D279","v":0},0,0,270,null,null,{"$f":"proj16jul!E279","v":0},{"$f":"proj16jul!F279","v":0},0,null,0,null,270,null,null,0,270,null,null,0]
[271,"SHREWSBURY                   ",271,null,0,0,30,184243,null,{"$f":"proj16aug!J280","v":0},{"$f":"proj16aug!K280","v":0},null,null,0,184243,null,368516,0,271,null,null,{"$f":"proj16jul!C280","v":0.81},{"$f":"proj16jul!D280","v":4989},-4989,0,271,30,184243,{"$f":"proj16jul!E280","v":36.79},{"$f":"proj16jul!F280","v":211728},-27485,null,0,null,271,null,null,0,271,29,156900,-1]
[272,"SHUTESBURY                   ",272,null,0,0,11,59000,null,{"$f":"proj16aug!J281","v":0},{"$f":"proj16aug!K281","v":0},null,null,0,59000,null,118011,0,272,null,null,{"$f":"proj16jul!C281","v":0},{"$f":"proj16jul!D281","v":0},0,0,272,11,59000,{"$f":"proj16jul!E281","v":8},{"$f":"proj16jul!F281","v":40000},19000,null,0,null,272,null,null,0,272,11,55000,0]
[273,"SOMERSET                     ",273,null,0,0,15,100700,null,{"$f":"proj16aug!J282","v":0},{"$f":"proj16aug!K282","v":0},null,null,0,100700,null,201415,0,273,null,null,{"$f":"proj16jul!C282","v":0},{"$f":"proj16jul!D282","v":0},0,0,273,15,100700,{"$f":"proj16jul!E282","v":5.2299999999999995},{"$f":"proj16jul!F282","v":29567},71133,null,0,null,273,null,null,0,273,15,76700,0]
[274,"SOMERVILLE                   ",274,null,0,0,2,13400,null,{"$f":"proj16aug!J283","v":0},{"$f":"proj16aug!K283","v":0},null,null,0,13400,null,26802,0,274,null,null,{"$f":"proj16jul!C283","v":0},{"$f":"proj16jul!D283","v":0},0,0,274,2,13400,{"$f":"proj16jul!E283","v":1.42},{"$f":"proj16jul!F283","v":9514},3886,null,0,null,274,null,null,0,274,2,13400,0]
[275,"SOUTHAMPTON                  ",276,null,71,416610,10,78109,null,{"$f":"proj16aug!J284","v":0},{"$f":"proj16aug!K284","v":0},null,null,416610,78109,null,989519,0,275,71,416610,{"$f":"proj16jul!C284","v":65},{"$f":"proj16jul!D284","v":394230},22380,0,275,10,78109,{"$f":"proj16jul!E284","v":15.939999999999998},{"$f":"proj16jul!F284","v":113346},-35237,null,0,null,275,71,350000,0,275,10,50000,0]
[276,"SOUTHBOROUGH                 ",277,null,0,0,5,37500,null,{"$f":"proj16aug!J285","v":0},{"$f":"proj16aug!K285","v":0},null,null,0,37500,null,75005,0,276,null,null,{"$f":"proj16jul!C285","v":0},{"$f":"proj16jul!D285","v":0},0,0,276,5,37500,{"$f":"proj16jul!E285","v":2.4},{"$f":"proj16jul!F285","v":16812},20688,null,0,null,276,null,null,0,276,5,33500,0]
[277,"SOUTHBRIDGE                  ",278,null,6,48902,261,1492451,null,{"$f":"proj16aug!J286","v":0},{"$f":"proj16aug!K286","v":0},null,null,48902,1492451,null,3082973,0,277,6,48902,{"$f":"proj16jul!C286","v":6.33},{"$f":"proj16jul!D286","v":71119},-22217,0,277,261,1492451,{"$f":"proj16jul!E286","v":231.83},{"$f":"proj16jul!F286","v":1301647},190804,null,0,null,277,6,30000,0,277,262,1332100,1]
[278,"SOUTH HADLEY                 ",275,null,161.5,868955,116,741097,null,{"$f":"proj16aug!J287","v":0},{"$f":"proj16aug!K287","v":0},null,null,868955,741097,null,3220381.5,0,278,161.5,868955,{"$f":"proj16jul!C287","v":168.47000000000006},{"$f":"proj16jul!D287","v":960997},-92042,0,278,116,741097,{"$f":"proj16jul!E287","v":115.37},{"$f":"proj16jul!F287","v":738717},2380,null,0,null,278,null,null,-161.5,278,106,525200,-10]
[279,"SOUTHWICK                    ",279,null,0,0,0,0,null,{"$f":"proj16aug!J288","v":0},{"$f":"proj16aug!K288","v":0},null,null,0,0,null,0,0,279,null,null,{"$f":"proj16jul!C288","v":0},{"$f":"proj16jul!D288","v":0},0,0,279,null,null,{"$f":"proj16jul!E288","v":0},{"$f":"proj16jul!F288","v":0},0,null,0,null,279,null,null,0,279,null,null,0]
[280,"SPENCER                      ",280,null,0,0,0,0,null,{"$f":"proj16aug!J289","v":0},{"$f":"proj16aug!K289","v":0},null,null,0,0,null,0,0,280,null,null,{"$f":"proj16jul!C289","v":0},{"$f":"proj16jul!D289","v":0},0,0,280,null,null,{"$f":"proj16jul!E289","v":0},{"$f":"proj16jul!F289","v":0},0,null,0,null,280,null,null,0,280,null,null,0]
[281,"SPRINGFIELD                  ",281,null,6,30000,766,4482138,null,{"$f":"proj16aug!J290","v":0},{"$f":"proj16aug!K290","v":0},null,null,30000,4482138,null,9025048,0,281,6,30000,{"$f":"proj16jul!C290","v":8.41},{"$f":"proj16jul!D290","v":45904},-15904,0,281,766,4482138,{"$f":"proj16jul!E290","v":740.96999999999991},{"$f":"proj16jul!F290","v":4294860},187278,null,0,null,281,7,35000,1,281,725,3759376,-41]
[282,"STERLING                     ",282,null,0,0,0,0,null,{"$f":"proj16aug!J291","v":0},{"$f":"proj16aug!K291","v":0},null,null,0,0,null,0,0,282,null,null,{"$f":"proj16jul!C291","v":0},{"$f":"proj16jul!D291","v":0},0,0,282,null,null,{"$f":"proj16jul!E291","v":0},{"$f":"proj16jul!F291","v":0},0,null,0,null,282,null,null,0,282,null,null,0]
[283,"STOCKBRIDGE                  ",283,null,0,0,0,0,null,{"$f":"proj16aug!J292","v":0},{"$f":"proj16aug!K292","v":0},null,null,0,0,null,0,0,283,null,null,{"$f":"proj16jul!C292","v":0},{"$f":"proj16jul!D292","v":0},0,0,283,null,null,{"$f":"proj16jul!E292","v":0},{"$f":"proj16jul!F292","v":0},0,null,0,null,283,null,null,0,283,null,null,0]
[284,"STONEHAM                     ",284,null,0,0,5,38274,null,{"$f":"proj16aug!J293","v":0},{"$f":"proj16aug!K293","v":0},null,null,0,38274,null,76553,0,284,null,null,{"$f":"proj16jul!C293","v":0},{"$f":"proj16jul!D293","v":0},0,0,284,5,38274,{"$f":"proj16jul!E293","v":2.48},{"$f":"proj16jul!F293","v":21674},16600,null,0,null,284,null,null,0,284,5,25000,0]
[285,"STOUGHTON                    ",285,null,0,0,17,119452,null,{"$f":"proj16aug!J294","v":0},{"$f":"proj16aug!K294","v":0},null,null,0,119452,null,238921,0,285,null,null,{"$f":"proj16jul!C294","v":0},{"$f":"proj16jul!D294","v":0},0,0,285,17,119452,{"$f":"proj16jul!E294","v":13.14},{"$f":"proj16jul!F294","v":76138},43314,null,0,null,285,null,null,0,285,17,100452,0]
[286,"STOW                         ",286,null,0,0,0,0,null,{"$f":"proj16aug!J295","v":0},{"$f":"proj16aug!K295","v":0},null,null,0,0,null,0,0,286,null,null,{"$f":"proj16jul!C295","v":0},{"$f":"proj16jul!D295","v":0},0,0,286,null,null,{"$f":"proj16jul!E295","v":0},{"$f":"proj16jul!F295","v":0},0,null,0,null,286,null,null,0,286,null,null,0]
[287,"STURBRIDGE                   ",287,null,0,0,7.5,46200,null,{"$f":"proj16aug!J296","v":0},{"$f":"proj16aug!K296","v":0},null,null,0,46200,null,92407.5,0,287,null,null,{"$f":"proj16jul!C296","v":0},{"$f":"proj16jul!D296","v":0},0,0,287,7.5,46200,{"$f":"proj16jul!E296","v":4.4800000000000004},{"$f":"proj16jul!F296","v":25222},20978,null,0,null,287,null,null,0,287,7.5,39200,0]
[288,"SUDBURY                      ",288,null,0,0,3,29230,null,{"$f":"proj16aug!J297","v":0},{"$f":"proj16aug!K297","v":0},null,null,0,29230,null,58463,0,288,null,null,{"$f":"proj16jul!C297","v":0},{"$f":"proj16jul!D297","v":0},0,0,288,3,29230,{"$f":"proj16jul!E297","v":2.98},{"$f":"proj16jul!F297","v":23284},5946,null,0,null,288,null,null,0,288,3,15000,0]
[289,"SUNDERLAND                   ",289,null,43,320512,8,40000,null,{"$f":"proj16aug!J298","v":0},{"$f":"proj16aug!K298","v":0},null,null,320512,40000,null,721075,0,289,43,320512,{"$f":"proj16jul!C298","v":35.769999999999996},{"$f":"proj16jul!D298","v":262071},58441,0,289,8,40000,{"$f":"proj16jul!E298","v":18.59},{"$f":"proj16jul!F298","v":93953},-53953,null,0,null,289,43,215000,0,289,8.5,42500,0.5]
[290,"SUTTON                       ",290,null,44,244538,19,112031,null,{"$f":"proj16aug!J299","v":0},{"$f":"proj16aug!K299","v":0},null,null,244538,112031,null,713201,0,290,44,244538,{"$f":"proj16jul!C299","v":52},{"$f":"proj16jul!D299","v":292239},-47701,0,290,19,112031,{"$f":"proj16jul!E299","v":19.409999999999997},{"$f":"proj16jul!F299","v":106098},5933,null,0,null,290,44,220000,0,290,19,98400,0]
[291,"SWAMPSCOTT                   ",291,null,0,0,4,25100,null,{"$f":"proj16aug!J300","v":0},{"$f":"proj16aug!K300","v":0},null,null,0,25100,null,50204,0,291,null,null,{"$f":"proj16jul!C300","v":0},{"$f":"proj16jul!D300","v":0},0,0,291,4,25100,{"$f":"proj16jul!E300","v":3.36},{"$f":"proj16jul!F300","v":20812},4288,null,0,null,291,null,null,0,291,4,25100,0]
[292,"SWANSEA                      ",292,null,0,0,16,95400,null,{"$f":"proj16aug!J301","v":0},{"$f":"proj16aug!K301","v":0},null,null,0,95400,null,190816,0,292,null,null,{"$f":"proj16jul!C301","v":0},{"$f":"proj16jul!D301","v":0},0,0,292,16,95400,{"$f":"proj16jul!E301","v":9.09},{"$f":"proj16jul!F301","v":47456},47944,null,0,null,292,null,null,0,292,16,83400,0]
[293,"TAUNTON                      ",293,null,81,422939,110,660353,null,{"$f":"proj16aug!J302","v":0},{"$f":"proj16aug!K302","v":0},null,null,422939,660353,null,2166775,0,293,81,422939,{"$f":"proj16jul!C302","v":84.230000000000018},{"$f":"proj16jul!D302","v":444565},-21626,0,293,110,660353,{"$f":"proj16jul!E302","v":64.11},{"$f":"proj16jul!F302","v":361081},299272,null,0,null,293,81,405000,0,293,97,504588,-13]
[294,"TEMPLETON                    ",294,null,0,0,0,0,null,{"$f":"proj16aug!J303","v":0},{"$f":"proj16aug!K303","v":0},null,null,0,0,null,0,0,294,null,null,{"$f":"proj16jul!C303","v":0},{"$f":"proj16jul!D303","v":0},0,0,294,null,null,{"$f":"proj16jul!E303","v":0},{"$f":"proj16jul!F303","v":0},0,null,0,null,294,null,null,0,294,null,null,0]
[295,"TEWKSBURY                    ",295,null,0,0,7,49200,null,{"$f":"proj16aug!J304","v":0},{"$f":"proj16aug!K304","v":0},null,null,0,49200,null,98407,0,295,null,null,{"$f":"proj16jul!C304","v":0},{"$f":"proj16jul!D304","v":0},0,0,295,7,49200,{"$f":"proj16jul!E304","v":5.13},{"$f":"proj16jul!F304","v":32671},16529,null,0,null,295,null,null,0,295,7,45200,0]
[296,"TISBURY                      ",296,null,18,95144,43,260852,null,{"$f":"proj16aug!J305","v":0},{"$f":"proj16aug!K305","v":0},null,null,95144,260852,null,712053,0,296,18,95144,{"$f":"proj16jul!C305","v":21.14},{"$f":"proj16jul!D305","v":114178},-19034,0,296,43,260852,{"$f":"proj16jul!E305","v":40.590000000000003},{"$f":"proj16jul!F305","v":251699},9153,null,0,null,296,18,90000,0,296,43,215000,0]
[297,"TOLLAND                      ",297,null,0,0,0,0,null,{"$f":"proj16aug!J306","v":0},{"$f":"proj16aug!K306","v":0},null,null,0,0,null,0,0,297,null,null,{"$f":"proj16jul!C306","v":0},{"$f":"proj16jul!D306","v":0},0,0,297,null,null,{"$f":"proj16jul!E306","v":0},{"$f":"proj16jul!F306","v":0},0,null,0,null,297,null,null,0,297,null,null,0]
[298,"TOPSFIELD                    ",298,null,0,0,0,0,null,{"$f":"proj16aug!J307","v":0},{"$f":"proj16aug!K307","v":0},null,null,0,0,null,0,0,298,null,null,{"$f":"proj16jul!C307","v":0},{"$f":"proj16jul!D307","v":0},0,0,298,null,null,{"$f":"proj16jul!E307","v":1.2999999999999998},{"$f":"proj16jul!F307","v":7503},-7503,null,0,null,298,null,null,0,298,null,null,0]
[299,"TOWNSEND                     ",299,null,0,0,0,0,null,{"$f":"proj16aug!J308","v":0},{"$f":"proj16aug!K308","v":0},null,null,0,0,null,0,0,299,null,null,{"$f":"proj16jul!C308","v":0},{"$f":"proj16jul!D308","v":0},0,0,299,null,null,{"$f":"proj16jul!E308","v":0},{"$f":"proj16jul!F308","v":0},0,null,0,null,299,null,null,0,299,null,null,0]
[300,"TRURO                        ",300,null,16,98389,20,145606,null,{"$f":"proj16aug!J309","v":0},{"$f":"proj16aug!K309","v":0},null,null,98389,145606,null,488026,0,300,16,98389,{"$f":"proj16jul!C309","v":19.98},{"$f":"proj16jul!D309","v":121623},-23234,0,300,20,145606,{"$f":"proj16jul!E309","v":16.770000000000003},{"$f":"proj16jul!F309","v":107940},37666,null,0,null,300,17,85000,1,300,20.5,104200,0.5]
[301,"TYNGSBOROUGH                 ",301,null,40.5,223196,24,127400,null,{"$f":"proj16aug!J310","v":0},{"$f":"proj16aug!K310","v":0},null,null,223196,127400,null,701256.5,0,301,40.5,223196,{"$f":"proj16jul!C310","v":39.64},{"$f":"proj16jul!D310","v":223965},-769,0,301,24,127400,{"$f":"proj16jul!E310","v":21.799999999999997},{"$f":"proj16jul!F310","v":112513},14887,null,0,null,301,40.5,202500,0,301,24.5,125900,0.5]
[302,"TYRINGHAM                    ",302,null,0,0,12,60000,null,{"$f":"proj16aug!J311","v":0},{"$f":"proj16aug!K311","v":0},null,null,0,60000,null,120012,0,302,null,null,{"$f":"proj16jul!C311","v":0},{"$f":"proj16jul!D311","v":0},0,0,302,12,60000,{"$f":"proj16jul!E311","v":14},{"$f":"proj16jul!F311","v":72960},-12960,null,0,null,302,null,null,0,302,12,60000,0]
[303,"UPTON                        ",303,null,0,0,0,0,null,{"$f":"proj16aug!J312","v":0},{"$f":"proj16aug!K312","v":0},null,null,0,0,null,0,0,303,null,null,{"$f":"proj16jul!C312","v":0},{"$f":"proj16jul!D312","v":0},0,0,303,null,null,{"$f":"proj16jul!E312","v":0},{"$f":"proj16jul!F312","v":0},0,null,0,null,303,null,null,0,303,null,null,0]
[304,"UXBRIDGE                     ",304,null,145,851098,192.5,1086333,null,{"$f":"proj16aug!J313","v":0},{"$f":"proj16aug!K313","v":0},null,null,851098,1086333,null,3875199.5,0,304,145,851098,{"$f":"proj16jul!C313","v":90.930000000000021},{"$f":"proj16jul!D313","v":563983},287115,0,304,192.5,1086333,{"$f":"proj16jul!E313","v":196.76000000000005},{"$f":"proj16jul!F313","v":1100081},-13748,null,0,null,304,142,700000,-3,304,192,968500,-0.5]
[305,"WAKEFIELD                    ",305,null,0,0,8,50800,null,{"$f":"proj16aug!J314","v":0},{"$f":"proj16aug!K314","v":0},null,null,0,50800,null,101608,0,305,null,null,{"$f":"proj16jul!C314","v":0},{"$f":"proj16jul!D314","v":0},0,0,305,8,50800,{"$f":"proj16jul!E314","v":4.49},{"$f":"proj16jul!F314","v":25459},25341,null,0,null,305,null,null,0,305,8,46800,0]
[306,"WALES                        ",306,null,7,35000,14,73880,null,{"$f":"proj16aug!J315","v":0},{"$f":"proj16aug!K315","v":0},null,null,35000,73880,null,217781,0,306,7,35000,{"$f":"proj16jul!C315","v":10.219999999999999},{"$f":"proj16jul!D315","v":53738},-18738,0,306,14,73880,{"$f":"proj16jul!E315","v":15},{"$f":"proj16jul!F315","v":86382},-12502,null,0,null,306,8,40000,1,306,14,70000,0]
[307,"WALPOLE                      ",307,null,0,0,9.5,63973,null,{"$f":"proj16aug!J316","v":0},{"$f":"proj16aug!K316","v":0},null,null,0,63973,null,127955.5,0,307,null,null,{"$f":"proj16jul!C316","v":0},{"$f":"proj16jul!D316","v":0},0,0,307,9.5,63973,{"$f":"proj16jul!E316","v":9.5399999999999991},{"$f":"proj16jul!F316","v":57919},6054,null,0,null,307,null,null,0,307,9.5,53488,0]
[308,"WALTHAM                      ",308,null,0,0,9,60900,null,{"$f":"proj16aug!J317","v":0},{"$f":"proj16aug!K317","v":0},null,null,0,60900,null,121809,0,308,null,null,{"$f":"proj16jul!C317","v":0},{"$f":"proj16jul!D317","v":0},0,0,308,9,60900,{"$f":"proj16jul!E317","v":5.8699999999999992},{"$f":"proj16jul!F317","v":37595},23305,null,0,null,308,null,null,0,308,9,56900,0]
[309,"WARE                         ",309,null,49,309186,187,1065949,null,{"$f":"proj16aug!J318","v":0},{"$f":"proj16aug!K318","v":0},null,null,309186,1065949,null,2750506,0,309,49,309186,{"$f":"proj16jul!C318","v":36.72},{"$f":"proj16jul!D318","v":238934},70252,0,309,187,1065949,{"$f":"proj16jul!E318","v":177.66},{"$f":"proj16jul!F318","v":1036761},29188,null,0,null,309,49,245000,0,309,102,523600,-85]
[310,"WAREHAM                      ",310,null,20,104000,163,1058430,null,{"$f":"proj16aug!J319","v":0},{"$f":"proj16aug!K319","v":0},null,null,104000,1058430,null,2325043,0,310,20,104000,{"$f":"proj16jul!C319","v":36.499999999999986},{"$f":"proj16jul!D319","v":226728},-122728,0,310,163,1058430,{"$f":"proj16jul!E319","v":161.47999999999999},{"$f":"proj16jul!F319","v":1004176},54254,null,0,null,310,21,105000,1,310,163,833700,0]
[311,"WARREN                       ",311,null,0,0,0,0,null,{"$f":"proj16aug!J320","v":0},{"$f":"proj16aug!K320","v":0},null,null,0,0,null,0,0,311,null,null,{"$f":"proj16jul!C320","v":0},{"$f":"proj16jul!D320","v":0},0,0,311,null,null,{"$f":"proj16jul!E320","v":0},{"$f":"proj16jul!F320","v":0},0,null,0,null,311,null,null,0,311,null,null,0]
[312,"WARWICK                      ",312,null,0,0,0,0,null,{"$f":"proj16aug!J321","v":0},{"$f":"proj16aug!K321","v":0},null,null,0,0,null,0,0,312,null,null,{"$f":"proj16jul!C321","v":0},{"$f":"proj16jul!D321","v":0},0,0,312,null,null,{"$f":"proj16jul!E321","v":0},{"$f":"proj16jul!F321","v":0},0,null,0,null,312,null,null,0,312,null,null,0]
[313,"WASHINGTON                   ",313,null,0,0,0,0,null,{"$f":"proj16aug!J322","v":0},{"$f":"proj16aug!K322","v":0},null,null,0,0,null,0,0,313,null,null,{"$f":"proj16jul!C322","v":0},{"$f":"proj16jul!D322","v":0},0,0,313,null,null,{"$f":"proj16jul!E322","v":0},{"$f":"proj16jul!F322","v":0},0,null,0,null,313,null,null,0,313,null,null,0]
[314,"WATERTOWN                    ",314,null,0,0,8,51900,null,{"$f":"proj16aug!J323","v":0},{"$f":"proj16aug!K323","v":0},null,null,0,51900,null,103808,0,314,null,null,{"$f":"proj16jul!C323","v":0},{"$f":"proj16jul!D323","v":0},0,0,314,8,51900,{"$f":"proj16jul!E323","v":5.4399999999999995},{"$f":"proj16jul!F323","v":36448},15452,null,0,null,314,null,null,0,314,8,51900,0]
[315,"WAYLAND                      ",315,null,0,0,3,20700,null,{"$f":"proj16aug!J324","v":0},{"$f":"proj16aug!K324","v":0},null,null,0,20700,null,41403,0,315,null,null,{"$f":"proj16jul!C324","v":0},{"$f":"proj16jul!D324","v":0},0,0,315,3,20700,{"$f":"proj16jul!E324","v":1},{"$f":"proj16jul!F324","v":5000},15700,null,0,null,315,null,null,0,315,3,16700,0]
[316,"WEBSTER                      ",316,null,31,161248,113,642176,null,{"$f":"proj16aug!J325","v":0},{"$f":"proj16aug!K325","v":0},null,null,161248,642176,null,1606992,0,316,31,161248,{"$f":"proj16jul!C325","v":28.019999999999996},{"$f":"proj16jul!D325","v":153939},7309,0,316,113,642176,{"$f":"proj16jul!E325","v":119.03000000000002},{"$f":"proj16jul!F325","v":674450},-32274,null,0,null,316,32,160000,1,316,114,581900,1]
[317,"WELLESLEY                    ",317,null,0,0,1,5000,null,{"$f":"proj16aug!J326","v":0},{"$f":"proj16aug!K326","v":0},null,null,0,5000,null,10001,0,317,null,null,{"$f":"proj16jul!C326","v":0},{"$f":"proj16jul!D326","v":0},0,0,317,1,5000,{"$f":"proj16jul!E326","v":1},{"$f":"proj16jul!F326","v":5000},0,null,0,null,317,null,null,0,317,1,5000,0]
[318,"WELLFLEET                    ",318,null,0,0,8,40000,null,{"$f":"proj16aug!J327","v":0},{"$f":"proj16aug!K327","v":0},null,null,0,40000,null,80008,0,318,null,null,{"$f":"proj16jul!C327","v":0},{"$f":"proj16jul!D327","v":0},0,0,318,8,40000,{"$f":"proj16jul!E327","v":12.99},{"$f":"proj16jul!F327","v":178480},-138480,null,0,null,318,null,null,0,318,8,40000,0]
[319,"WENDELL                      ",319,null,0,0,0,0,null,{"$f":"proj16aug!J328","v":0},{"$f":"proj16aug!K328","v":0},null,null,0,0,null,0,0,319,null,null,{"$f":"proj16jul!C328","v":0},{"$f":"proj16jul!D328","v":0},0,0,319,null,null,{"$f":"proj16jul!E328","v":0},{"$f":"proj16jul!F328","v":0},0,null,0,null,319,null,null,0,319,null,null,0]
[320,"WENHAM                       ",320,null,0,0,0,0,null,{"$f":"proj16aug!J329","v":0},{"$f":"proj16aug!K329","v":0},null,null,0,0,null,0,0,320,null,null,{"$f":"proj16jul!C329","v":0},{"$f":"proj16jul!D329","v":0},0,0,320,null,null,{"$f":"proj16jul!E329","v":0},{"$f":"proj16jul!F329","v":0},0,null,0,null,320,null,null,0,320,null,null,0]
[321,"WESTBOROUGH                  ",328,null,0,0,6,43700,null,{"$f":"proj16aug!J330","v":0},{"$f":"proj16aug!K330","v":0},null,null,0,43700,null,87406,{"$f":"ABS(A330-S330)","v":0},321,null,null,{"$f":"proj16jul!C330","v":0},{"$f":"proj16jul!D330","v":0},0,{"$f":"ABS(Z330-A330)","v":0},321,6,43700,{"$f":"proj16jul!E330","v":11.55},{"$f":"proj16jul!F330","v":58753},{"$f":"AB330-AD330","v":-15053},null,0,null,321,null,null,0,321,6,31700,0]
[322,"WEST BOYLSTON                ",321,null,{"$f":"T331","v":162},{"$f":"U331","v":880072},{"$f":"AA331","v":32},{"$f":"AB331","v":201058},null,{"$f":"proj16aug!J331","v":0},{"$f":"proj16aug!K331","v":0},null,null,{"$f":"F331+J331","v":880072},{"$f":"H331+K331","v":201058},null,{"$f":"SUM(E331:O331)","v":2162454},0,322,162,880072,{"$f":"proj16jul!C331","v":152.79000000000002},{"$f":"proj16jul!D331","v":835110},{"$f":"U331-W331","v":44962},0,322,32,201058,{"$f":"proj16jul!E331","v":34.39},{"$f":"proj16jul!F331","v":219763},-18705,null,{"$f":"AI331-A331","v":0},null,322,162,810000,{"$f":"AJ331-T331","v":0},322,32,166800,{"$f":"AN331-AA331","v":0}]
[323,"WEST BRIDGEWATER             ",322,null,248,1339979,5,48400,null,{"$f":"proj16aug!J332","v":0},{"$f":"proj16aug!K332","v":0},null,null,1339979,48400,null,2777011,0,323,248,1339979,{"$f":"proj16jul!C332","v":229.93000000000006},{"$f":"proj16jul!D332","v":1346309},-6330,0,323,5,48400,{"$f":"proj16jul!E332","v":9.6},{"$f":"proj16jul!F332","v":55021},-6621,null,0,null,323,248,1235000,0,323,5,28400,0]
[324,"WEST BROOKFIELD              ",323,null,0,0,10,57246,null,{"$f":"proj16aug!J333","v":0},{"$f":"proj16aug!K333","v":0},null,null,0,57246,null,114502,0,324,null,null,{"$f":"proj16jul!C333","v":0},{"$f":"proj16jul!D333","v":0},0,0,324,10,57246,{"$f":"proj16jul!E333","v":8.33},{"$f":"proj16jul!F333","v":48896},8350,null,0,null,324,null,null,0,324,10,50000,0]
[325,"WESTFIELD                    ",329,null,118,645980,125,703620,null,{"$f":"proj16aug!J334","v":0},{"$f":"proj16aug!K334","v":0},null,null,645980,703620,null,2699443,0,325,118,645980,{"$f":"proj16jul!C334","v":136.07},{"$f":"proj16jul!D334","v":765759},-119779,0,325,125,703620,{"$f":"proj16jul!E334","v":97.31},{"$f":"proj16jul!F334","v":537529},166091,null,0,null,325,118,590000,0,325,121.5,627900,-3.5]
[326,"WESTFORD                     ",330,null,70,416298,10,67612,null,{"$f":"proj16aug!J335","v":0},{"$f":"proj16aug!K335","v":0},null,null,416298,67612,null,967900,0,326,70,416298,{"$f":"proj16jul!C335","v":64.44},{"$f":"proj16jul!D335","v":381375},34923,0,326,10,67612,{"$f":"proj16jul!E335","v":4.59},{"$f":"proj16jul!F335","v":34765},32847,null,0,null,326,70.5,347500,0.5,326,10,56800,0]
[327,"WESTHAMPTON                  ",331,null,19,129181,5,38649,null,{"$f":"proj16aug!J336","v":0},{"$f":"proj16aug!K336","v":0},null,null,129181,38649,null,335684,0,327,19,129181,{"$f":"proj16jul!C336","v":16},{"$f":"proj16jul!D336","v":118455},10726,0,327,5,38649,{"$f":"proj16jul!E336","v":5},{"$f":"proj16jul!F336","v":38649},0,null,0,null,327,19,95000,0,327,5,25000,0]
[328,"WESTMINSTER                  ",332,null,0,0,0,0,null,{"$f":"proj16aug!J337","v":0},{"$f":"proj16aug!K337","v":0},null,null,0,0,null,0,0,328,null,null,{"$f":"proj16jul!C337","v":0},{"$f":"proj16jul!D337","v":0},0,0,328,null,null,{"$f":"proj16jul!E337","v":0},{"$f":"proj16jul!F337","v":0},0,null,0,null,328,null,null,0,328,null,null,0]
[329,"WEST NEWBURY                 ",324,null,0,0,0,0,null,{"$f":"proj16aug!J338","v":0},{"$f":"proj16aug!K338","v":0},null,null,0,0,null,0,0,329,null,null,{"$f":"proj16jul!C338","v":0},{"$f":"proj16jul!D338","v":0},0,0,329,null,null,{"$f":"proj16jul!E338","v":0},{"$f":"proj16jul!F338","v":0},0,null,0,null,329,null,null,0,329,null,null,0]
[330,"WESTON                       ",333,null,0,0,3,20700,null,{"$f":"proj16aug!J339","v":0},{"$f":"proj16aug!K339","v":0},null,null,0,20700,null,41403,0,330,null,null,{"$f":"proj16jul!C339","v":0},{"$f":"proj16jul!D339","v":0},0,0,330,3,20700,{"$f":"proj16jul!E339","v":1.18},{"$f":"proj16jul!F339","v":7906},12794,null,0,null,330,null,null,0,330,3,16700,0]
[331,"WESTPORT                     ",334,null,0,0,14,83175,null,{"$f":"proj16aug!J340","v":0},{"$f":"proj16aug!K340","v":0},null,null,0,83175,null,166364,0,331,null,null,{"$f":"proj16jul!C340","v":0},{"$f":"proj16jul!D340","v":0},0,0,331,14,83175,{"$f":"proj16jul!E340","v":9.5500000000000007},{"$f":"proj16jul!F340","v":54998},28177,null,0,null,331,null,null,0,331,14,73400,0]
[332,"WEST SPRINGFIELD             ",325,null,114,684643,38,260688,null,{"$f":"proj16aug!J341","v":0},{"$f":"proj16aug!K341","v":0},null,null,684643,260688,null,1890814,0,332,114,684643,{"$f":"proj16jul!C341","v":112.25999999999999},{"$f":"proj16jul!D341","v":664836},19807,0,332,38,260688,{"$f":"proj16jul!E341","v":31.980000000000004},{"$f":"proj16jul!F341","v":188884},71804,null,0,null,332,115,575000,1,332,35,195400,-3]
[333,"WEST STOCKBRIDGE             ",326,null,0,0,0,0,null,{"$f":"proj16aug!J342","v":0},{"$f":"proj16aug!K342","v":0},null,null,0,0,null,0,0,333,null,null,{"$f":"proj16jul!C342","v":0},{"$f":"proj16jul!D342","v":0},0,0,333,null,null,{"$f":"proj16jul!E342","v":0},{"$f":"proj16jul!F342","v":0},0,null,0,null,333,null,null,0,333,null,null,0]
[334,"WEST TISBURY                 ",327,null,0,0,0,0,null,{"$f":"proj16aug!J343","v":0},{"$f":"proj16aug!K343","v":0},null,null,0,0,null,0,0,334,null,null,{"$f":"proj16jul!C343","v":0},{"$f":"proj16jul!D343","v":0},0,0,334,null,null,{"$f":"proj16jul!E343","v":0},{"$f":"proj16jul!F343","v":0},0,null,0,null,334,null,null,0,334,null,null,0]
[335,"WESTWOOD                     ",335,null,0,0,0,0,null,{"$f":"proj16aug!J344","v":0},{"$f":"proj16aug!K344","v":0},null,null,0,0,null,0,0,335,null,null,{"$f":"proj16jul!C344","v":0},{"$f":"proj16jul!D344","v":0},0,0,335,null,null,{"$f":"proj16jul!E344","v":0},{"$f":"proj16jul!F344","v":0},0,null,0,null,335,null,null,0,335,null,null,0]
[336,"WEYMOUTH                     ",336,null,0,0,20,127800,null,{"$f":"proj16aug!J345","v":0},{"$f":"proj16aug!K345","v":0},null,null,0,127800,null,255620,0,336,null,null,{"$f":"proj16jul!C345","v":0},{"$f":"proj16jul!D345","v":0},0,0,336,20,127800,{"$f":"proj16jul!E345","v":16.639999999999997},{"$f":"proj16jul!F345","v":101288},26512,null,0,null,336,null,null,0,336,21,128800,1]
[337,"WHATELY                      ",337,null,46,249559,5,61392,null,{"$f":"proj16aug!J346","v":0},{"$f":"proj16aug!K346","v":0},null,null,249559,61392,null,621953,0,337,46,249559,{"$f":"proj16jul!C346","v":48.91},{"$f":"proj16jul!D346","v":261836},-12277,0,337,5,61392,{"$f":"proj16jul!E346","v":11.32},{"$f":"proj16jul!F346","v":100380},-38988,null,0,null,337,46.5,232500,0.5,337,5,25000,0]
[338,"WHITMAN                      ",338,null,0,0,0,0,null,{"$f":"proj16aug!J347","v":0},{"$f":"proj16aug!K347","v":0},null,null,0,0,null,0,0,338,null,null,{"$f":"proj16jul!C347","v":0},{"$f":"proj16jul!D347","v":0},0,0,338,null,null,{"$f":"proj16jul!E347","v":0},{"$f":"proj16jul!F347","v":0},0,null,0,null,338,null,null,0,338,null,null,0]
[339,"WILBRAHAM                    ",339,null,0,0,0,0,null,{"$f":"proj16aug!J348","v":0},{"$f":"proj16aug!K348","v":0},null,null,0,0,null,0,0,339,null,null,{"$f":"proj16jul!C348","v":0},{"$f":"proj16jul!D348","v":0},0,0,339,null,null,{"$f":"proj16jul!E348","v":0},{"$f":"proj16jul!F348","v":0},0,null,0,null,339,null,null,0,339,null,null,0]
[340,"WILLIAMSBURG                 ",340,null,18,98000,17,99181,null,{"$f":"proj16aug!J349","v":0},{"$f":"proj16aug!K349","v":0},null,null,98000,99181,null,394397,0,340,18,98000,{"$f":"proj16jul!C349","v":11.85},{"$f":"proj16jul!D349","v":65223},32777,0,340,17,99181,{"$f":"proj16jul!E349","v":19.690000000000001},{"$f":"proj16jul!F349","v":118318},-19137,null,0,null,340,18,90000,0,340,17,85000,0]
[341,"WILLIAMSTOWN                 ",341,null,32,169190,2,10000,null,{"$f":"proj16aug!J350","v":0},{"$f":"proj16aug!K350","v":0},null,null,169190,10000,null,358414,0,341,32,169190,{"$f":"proj16jul!C350","v":42.1},{"$f":"proj16jul!D350","v":237644},-68454,0,341,2,10000,{"$f":"proj16jul!E350","v":5.59},{"$f":"proj16jul!F350","v":30061},-20061,null,0,null,341,32,160000,0,341,3,15000,1]
[342,"WILMINGTON                   ",342,null,0,0,1,10700,null,{"$f":"proj16aug!J351","v":0},{"$f":"proj16aug!K351","v":0},null,null,0,10700,null,21401,0,342,null,null,{"$f":"proj16jul!C351","v":0},{"$f":"proj16jul!D351","v":0},0,0,342,1,10700,{"$f":"proj16jul!E351","v":1},{"$f":"proj16jul!F351","v":5000},5700,null,0,null,342,null,null,0,342,1,6700,0]
[343,"WINCHENDON                   ",343,null,30,216487,140,785601,null,{"$f":"proj16aug!J352","v":0},{"$f":"proj16aug!K352","v":0},null,null,216487,785601,null,2004346,0,343,30,216487,{"$f":"proj16jul!C352","v":40.42},{"$f":"proj16jul!D352","v":305721},-89234,0,343,140,785601,{"$f":"proj16jul!E352","v":125.74999999999997},{"$f":"proj16jul!F352","v":702304},83297,null,0,null,343,30,150000,0,343,113,571800,-27]
[344,"WINCHESTER                   ",344,null,0,0,4,30800,null,{"$f":"proj16aug!J353","v":0},{"$f":"proj16aug!K353","v":0},null,null,0,30800,null,61604,0,344,null,null,{"$f":"proj16jul!C353","v":0},{"$f":"proj16jul!D353","v":0},0,0,344,4,30800,{"$f":"proj16jul!E353","v":1.66},{"$f":"proj16jul!F353","v":11122},19678,null,0,null,344,null,null,0,344,4,26800,0]
[345,"WINDSOR                      ",345,null,0,0,0,0,null,{"$f":"proj16aug!J354","v":0},{"$f":"proj16aug!K354","v":0},null,null,0,0,null,0,0,345,null,null,{"$f":"proj16jul!C354","v":0},{"$f":"proj16jul!D354","v":0},0,0,345,null,null,{"$f":"proj16jul!E354","v":0},{"$f":"proj16jul!F354","v":0},0,null,0,null,345,null,null,0,345,null,null,0]
[346,"WINTHROP                     ",346,null,11,62000,2,13400,null,{"$f":"proj16aug!J355","v":0},{"$f":"proj16aug!K355","v":0},null,null,62000,13400,null,150813,0,346,11,62000,{"$f":"proj16jul!C355","v":12},{"$f":"proj16jul!D355","v":60000},2000,0,346,2,13400,{"$f":"proj16jul!E355","v":1.42},{"$f":"proj16jul!F355","v":9514},3886,null,0,null,346,11,55000,0,346,2,13400,0]
[347,"WOBURN",347,null,0,0,13,66700,null,{"$f":"proj16aug!J356","v":0},{"$f":"proj16aug!K356","v":0},null,null,0,66700,null,133413,0,347,null,null,{"$f":"proj16jul!C356","v":0},{"$f":"proj16jul!D356","v":0},0,0,347,13,66700,{"$f":"proj16jul!E356","v":13.219999999999999},{"$f":"proj16jul!F356","v":71115},-4415,null,0,null,347,null,null,0,347,13,66700,0]
[348,"WORCESTER                    ",348,null,73,423431,471.5,2686481,null,{"$f":"proj16aug!J357","v":0},{"$f":"proj16aug!K357","v":0},null,null,423431,2686481,null,6220368.5,0,348,73,423431,{"$f":"proj16jul!C357","v":66.81},{"$f":"proj16jul!D357","v":373775},49656,0,348,471.5,2686481,{"$f":"proj16jul!E357","v":461.87},{"$f":"proj16jul!F357","v":2651386},35095,null,0,null,348,74,370000,1,348,469,2422388,-2.5]
[349,"WORTHINGTON                  ",349,null,5,25000,57,428885,null,{"$f":"proj16aug!J358","v":0},{"$f":"proj16aug!K358","v":0},null,null,25000,428885,null,907832,0,349,5,25000,{"$f":"proj16jul!C358","v":0},{"$f":"proj16jul!D358","v":0},25000,0,349,57,428885,{"$f":"proj16jul!E358","v":0},{"$f":"proj16jul!F358","v":0},428885,null,0,null,349,5,0,0,349,57,275000,0]
[350,"WRENTHAM                     ",350,null,0,0,3.5,17500,null,{"$f":"proj16aug!J359","v":0},{"$f":"proj16aug!K359","v":0},null,null,0,17500,null,35003.5,0,350,null,null,{"$f":"proj16jul!C359","v":0},{"$f":"proj16jul!D359","v":0},0,0,350,3.5,17500,{"$f":"proj16jul!E359","v":6.9499999999999993},{"$f":"proj16jul!F359","v":39765},-22265,null,0,null,350,null,null,0,350,3.5,17500,0]
[351,"YARMOUTH                     ",351,null,0,0,0,0,null,{"$f":"proj16aug!J360","v":0},{"$f":"proj16aug!K360","v":0},null,null,0,0,null,0,0,351,null,null,{"$f":"proj16jul!C360","v":0},{"$f":"proj16jul!D360","v":0},0,0,351,null,null,{"$f":"proj16jul!E360","v":0},{"$f":"proj16jul!F360","v":0},0,null,0,null,351,null,null,0,351,null,null,0]
[352,"DEVENS",352,null,0,0,6,33408,null,{"$f":"proj16aug!J361","v":0},{"$f":"proj16aug!K361","v":0},null,null,0,33408,null,66822,0,352,null,null,{"$f":"proj16jul!C361","v":0},{"$f":"proj16jul!D361","v":0},0,0,352,6,33408,{"$f":"proj16jul!E361","v":4.8},{"$f":"proj16jul!F361","v":30834},2574,null,0,null,352,null,null,0,352,6,30000,0]
[406,"NORTHAMPTON SMITH            ",406,null,0,0,0,0,null,{"$f":"proj16aug!J362","v":0},{"$f":"proj16aug!K362","v":0},null,null,0,0,null,0,0,406,null,null,{"$f":"proj16jul!C362","v":0},{"$f":"proj16jul!D362","v":0},0,0,406,null,null,{"$f":"proj16jul!E362","v":0},{"$f":"proj16jul!F362","v":0},0,null,0,null,406,null,null,0,406,null,null,0]
[600,"ACTON BOXBOROUGH             ",701,null,39,241662,12,110698,null,{"$f":"proj16aug!J363","v":0},{"$f":"proj16aug!K363","v":0},null,null,241662,110698,null,704771,0,600,39,241662,{"$f":"proj16jul!C363","v":42.5},{"$f":"proj16jul!D363","v":261263},-19601,0,600,12,110698,{"$f":"proj16jul!E363","v":12.07},{"$f":"proj16jul!F363","v":103482},7216,null,0,null,600,39,195000,0,600,12,61700,0]
[603,"ADAMS CHESHIRE               ",702,null,50,297454,70.5,451780,null,{"$f":"proj16aug!J364","v":0},{"$f":"proj16aug!K364","v":0},null,null,297454,451780,null,1498588.5,0,603,50,297454,{"$f":"proj16jul!C364","v":58.20000000000001},{"$f":"proj16jul!D364","v":372017},-74563,0,603,70.5,451780,{"$f":"proj16jul!E364","v":81.139999999999986},{"$f":"proj16jul!F364","v":506180},-54400,null,0,null,603,55,275000,5,603,72,361700,1.5]
[605,"AMHERST PELHAM               ",703,null,73,482749,31,241845,null,{"$f":"proj16aug!J365","v":0},{"$f":"proj16aug!K365","v":0},null,null,482749,241845,null,1449292,0,605,73,482749,{"$f":"proj16jul!C365","v":88.46},{"$f":"proj16jul!D365","v":631941},-149192,0,605,31,241845,{"$f":"proj16jul!E365","v":31},{"$f":"proj16jul!F365","v":227771},14074,null,0,null,605,72,360000,-1,605,31,163500,0]
[610,"ASHBURNHAM WESTMINSTER       ",704,null,197,1042442,61,338615,null,{"$f":"proj16aug!J366","v":0},{"$f":"proj16aug!K366","v":0},null,null,1042442,338615,null,2762372,0,610,197,1042442,{"$f":"proj16jul!C366","v":147.49},{"$f":"proj16jul!D366","v":788699},253743,0,610,61,338615,{"$f":"proj16jul!E366","v":54.690000000000005},{"$f":"proj16jul!F366","v":295110},43505,null,0,null,610,null,null,-197,610,61,316900,0]
[615,"ATHOL ROYALSTON              ",705,null,52,335741,355,2145696,null,{"$f":"proj16aug!J367","v":0},{"$f":"proj16aug!K367","v":0},null,null,335741,2145696,null,4963281,0,615,52,335741,{"$f":"proj16jul!C367","v":58.019999999999996},{"$f":"proj16jul!D367","v":372175},-36434,0,615,355,2145696,{"$f":"proj16jul!E367","v":356.21999999999997},{"$f":"proj16jul!F367","v":2109562},36134,null,0,null,615,52,260000,0,615,307,1563900,-48]
[616,"AYER SHIRLEY",616,null,134,819792,126.5,727004,null,{"$f":"proj16aug!J368","v":0},{"$f":"proj16aug!K368","v":0},null,null,819792,727004,null,3093852.5,0,616,134,819792,{"$f":"proj16jul!C368","v":119.33999999999997},{"$f":"proj16jul!D368","v":779951},39841,0,616,126.5,727004,{"$f":"proj16jul!E368","v":123.43999999999998},{"$f":"proj16jul!F368","v":713575},13429,null,0,null,616,134,670000,0,616,124,627688,-2.5]
[618,"BERKSHIRE HILLS              ",706,null,226,1270730,96.5,558660,null,{"$f":"proj16aug!J369","v":-1050},{"$f":"proj16aug!K369","v":0},null,null,1269680,558660,null,3657002.5,0,618,226,1270730,{"$f":"proj16jul!C369","v":242.14999999999998},{"$f":"proj16jul!D369","v":1298303},-27573,0,618,96.5,558660,{"$f":"proj16jul!E369","v":101.46},{"$f":"proj16jul!F369","v":580163},-21503,null,0,null,618,226,1130000,0,618,97.5,487500,1]
[620,"BERLIN BOYLSTON              ",707,null,90,514387,28,158266,null,{"$f":"proj16aug!J370","v":0},{"$f":"proj16aug!K370","v":0},null,null,514387,158266,null,1345424,0,620,90,514387,{"$f":"proj16jul!C370","v":93.44},{"$f":"proj16jul!D370","v":528640},-14253,0,620,28,158266,{"$f":"proj16jul!E370","v":31.59},{"$f":"proj16jul!F370","v":161890},-3624,null,0,null,620,90,450000,0,620,28,145100,0]
[622,"BLACKSTONE MILLVILLE         ",765,null,43,226000,81.5,471917,null,{"$f":"proj16aug!J371","v":0},{"$f":"proj16aug!K371","v":0},null,null,226000,471917,null,1395958.5,0,622,43,226000,{"$f":"proj16jul!C371","v":39.47},{"$f":"proj16jul!D371","v":197350},28650,0,622,81.5,471917,{"$f":"proj16jul!E371","v":80.649999999999991},{"$f":"proj16jul!F371","v":455181},16736,null,0,null,622,43,215000,0,622,79.5,406888,-2]
[625,"BRIDGEWATER RAYNHAM          ",710,null,29,172000,151,780499,null,{"$f":"proj16aug!J372","v":0},{"$f":"proj16aug!K372","v":0},null,null,172000,780499,null,1905178,0,625,29,172000,{"$f":"proj16jul!C372","v":28.82},{"$f":"proj16jul!D372","v":154726},17274,0,625,151,780499,{"$f":"proj16jul!E372","v":161.51},{"$f":"proj16jul!F372","v":936066},-155567,null,0,null,625,null,null,-29,625,151,760100,0]
[632,"CHESTERFIELD GOSHEN",632,null,26,145189,11,59000,null,{"$f":"proj16aug!J373","v":0},{"$f":"proj16aug!K373","v":0},null,null,145189,59000,null,408415,0,632,26,145189,{"$f":"proj16jul!C373","v":20.22},{"$f":"proj16jul!D373","v":103289},41900,0,632,11,59000,{"$f":"proj16jul!E373","v":7.26},{"$f":"proj16jul!F373","v":36300},22700,null,0,null,632,26,130000,0,632,11,55000,0]
[635,"CENTRAL BERKSHIRE            ",712,null,161,1022486,158,882971,null,{"$f":"proj16aug!J374","v":0},{"$f":"proj16aug!K374","v":0},null,null,1022486,882971,null,3811233,0,635,161,1022486,{"$f":"proj16jul!C374","v":152.82000000000002},{"$f":"proj16jul!D374","v":978043},44443,0,635,158,882971,{"$f":"proj16jul!E374","v":148.17000000000002},{"$f":"proj16jul!F374","v":808367},74604,null,0,null,635,161,805000,0,635,158.5,792600,0.5]
[640,"CONCORD CARLISLE             ",713,null,0,0,1,6700,null,{"$f":"proj16aug!J375","v":0},{"$f":"proj16aug!K375","v":0},null,null,0,6700,null,13401,0,640,null,null,{"$f":"proj16jul!C375","v":0},{"$f":"proj16jul!D375","v":0},0,0,640,1,6700,{"$f":"proj16jul!E375","v":0},{"$f":"proj16jul!F375","v":0},6700,null,0,null,640,null,null,0,640,1,6700,0]
[645,"DENNIS YARMOUTH              ",714,null,107,709268,358,2119758,null,{"$f":"proj16aug!J376","v":0},{"$f":"proj16aug!K376","v":0},null,null,709268,2119758,null,5658517,0,645,107,709268,{"$f":"proj16jul!C376","v":102.25},{"$f":"proj16jul!D376","v":686441},22827,0,645,358,2119758,{"$f":"proj16jul!E376","v":356.43000000000012},{"$f":"proj16jul!F376","v":2187117},-67359,null,0,null,645,107,535000,0,645,359,1803500,1]
[650,"DIGHTON REHOBOTH             ",715,null,12,64000,23.5,140935,null,{"$f":"proj16aug!J377","v":0},{"$f":"proj16aug!K377","v":0},null,null,64000,140935,null,409905.5,0,650,12,64000,{"$f":"proj16jul!C377","v":0},{"$f":"proj16jul!D377","v":0},64000,0,650,23.5,140935,{"$f":"proj16jul!E377","v":15.790000000000001},{"$f":"proj16jul!F377","v":86107},54828,null,0,null,650,null,null,-12,650,25,130100,1.5]
[655,"DOVER SHERBORN               ",716,null,0,0,3,18400,null,{"$f":"proj16aug!J378","v":0},{"$f":"proj16aug!K378","v":0},null,null,0,18400,null,36803,0,655,null,null,{"$f":"proj16jul!C378","v":0},{"$f":"proj16jul!D378","v":0},0,0,655,3,18400,{"$f":"proj16jul!E378","v":0},{"$f":"proj16jul!F378","v":0},18400,null,0,null,655,null,null,0,655,3,18400,0]
[658,"DUDLEY CHARLTON              ",780,null,148,827821,55.5,333517,null,{"$f":"proj16aug!J379","v":0},{"$f":"proj16aug!K379","v":0},null,null,827821,333517,null,2322879.5,0,658,148,827821,{"$f":"proj16jul!C379","v":136.45000000000002},{"$f":"proj16jul!D379","v":765916},61905,0,658,55.5,333517,{"$f":"proj16jul!E379","v":41.65},{"$f":"proj16jul!F379","v":255560},77957,null,0,null,658,148,740000,0,658,54.5,293788,-1]
[660,"NAUSET                       ",776,null,279,1642868,34,266949,null,{"$f":"proj16aug!J380","v":0},{"$f":"proj16aug!K380","v":0},null,null,1642868,266949,null,3819947,0,660,279,1642868,{"$f":"proj16jul!C380","v":266.25999999999993},{"$f":"proj16jul!D380","v":1551954},90914,0,660,34,266949,{"$f":"proj16jul!E380","v":33.930000000000007},{"$f":"proj16jul!F380","v":263166},3783,null,0,null,660,279,1395000,0,660,34,176800,0]
[662,"FARMINGTON RIVER",788,null,15,85719,48,257451,null,{"$f":"proj16aug!J381","v":0},{"$f":"proj16aug!K381","v":0},null,null,85719,257451,null,686403,0,662,15,85719,{"$f":"proj16jul!C381","v":16},{"$f":"proj16jul!D381","v":88364},-2645,0,662,48,257451,{"$f":"proj16jul!E381","v":52.989999999999995},{"$f":"proj16jul!F381","v":285231},-27780,null,0,null,662,15,75000,0,662,48,240000,0]
[665,"FREETOWN LAKEVILLE           ",718,null,33,165000,28,152500,null,{"$f":"proj16aug!J382","v":0},{"$f":"proj16aug!K382","v":0},null,null,165000,152500,null,635061,0,665,33,165000,{"$f":"proj16jul!C382","v":21.28},{"$f":"proj16jul!D382","v":118202},46798,0,665,28,152500,{"$f":"proj16jul!E382","v":24.79},{"$f":"proj16jul!F382","v":144453},8047,null,0,null,665,33,165000,0,665,27.5,146000,-0.5]
[670,"FRONTIER                     ",720,null,126,878160,52,323204,null,{"$f":"proj16aug!J383","v":0},{"$f":"proj16aug!K383","v":0},null,null,878160,323204,null,2402906,0,670,126,878160,{"$f":"proj16jul!C383","v":120.59000000000002},{"$f":"proj16jul!D383","v":901451},-23291,0,670,52,323204,{"$f":"proj16jul!E383","v":44.620000000000005},{"$f":"proj16jul!F383","v":287679},35525,null,0,null,670,126,620000,0,670,50,250000,-2]
[672,"GATEWAY                      ",721,null,43,249799,69,385422,null,{"$f":"proj16aug!J384","v":0},{"$f":"proj16aug!K384","v":0},null,null,249799,385422,null,1270554,0,672,43,249799,{"$f":"proj16jul!C384","v":26},{"$f":"proj16jul!D384","v":145799},104000,0,672,69,385422,{"$f":"proj16jul!E384","v":122.08999999999997},{"$f":"proj16jul!F384","v":791316},-405894,null,0,null,672,43.5,217500,0.5,672,69,333400,0]
[673,"GROTON DUNSTABLE             ",772,null,46,239169,22.5,139576,null,{"$f":"proj16aug!J385","v":0},{"$f":"proj16aug!K385","v":0},null,null,239169,139576,null,757558.5,0,673,46,239169,{"$f":"proj16jul!C385","v":55},{"$f":"proj16jul!D385","v":296230},-57061,0,673,22.5,139576,{"$f":"proj16jul!E385","v":15.41},{"$f":"proj16jul!F385","v":92732},46844,null,0,null,673,46,230000,0,673,22.5,119300,0]
[674,"GILL MONTAGUE                ",764,null,85,657010,240,1472954,null,{"$f":"proj16aug!J386","v":0},{"$f":"proj16aug!K386","v":0},null,null,657010,1472954,null,4260253,0,674,85,657010,{"$f":"proj16jul!C386","v":106.04},{"$f":"proj16jul!D386","v":819041},-162031,0,674,240,1472954,{"$f":"proj16jul!E386","v":225.35},{"$f":"proj16jul!F386","v":1416848},56106,null,0,null,674,84,415000,-1,674,240,1196700,0]
[675,"HAMILTON WENHAM              ",724,null,90,471098,8,49100,null,{"$f":"proj16aug!J387","v":0},{"$f":"proj16aug!K387","v":0},null,null,471098,49100,null,1040494,0,675,90,471098,{"$f":"proj16jul!C387","v":97.95},{"$f":"proj16jul!D387","v":506976},-35878,0,675,8,49100,{"$f":"proj16jul!E387","v":4.74},{"$f":"proj16jul!F387","v":26114},22986,null,0,null,675,90,450000,0,675,8,45100,0]
[680,"HAMPDEN WILBRAHAM            ",725,null,113,639375,10,63100,null,{"$f":"proj16aug!J388","v":0},{"$f":"proj16aug!K388","v":0},null,null,639375,63100,null,1405073,0,680,113,639375,{"$f":"proj16jul!C388","v":119.47},{"$f":"proj16jul!D388","v":664668},-25293,0,680,10,63100,{"$f":"proj16jul!E388","v":11.049999999999999},{"$f":"proj16jul!F388","v":69443},-6343,null,0,null,680,113,565000,0,680,10,55100,0]
[683,"HAMPSHIRE                    ",726,null,96,660492,64,361171,null,{"$f":"proj16aug!J389","v":0},{"$f":"proj16aug!K389","v":0},null,null,660492,361171,null,2043486,0,683,96,660492,{"$f":"proj16jul!C389","v":107.78999999999998},{"$f":"proj16jul!D389","v":760858},-100366,0,683,64,361171,{"$f":"proj16jul!E389","v":58.44},{"$f":"proj16jul!F389","v":351891},9280,null,0,null,683,96,475000,0,683,64,331900,0]
[685,"HAWLEMONT                    ",727,null,15,96596,12,76860,null,{"$f":"proj16aug!J390","v":0},{"$f":"proj16aug!K390","v":0},null,null,96596,76860,null,346939,0,685,15,96596,{"$f":"proj16jul!C390","v":13.790000000000001},{"$f":"proj16jul!D390","v":91352},5244,0,685,12,76860,{"$f":"proj16jul!E390","v":20.509999999999998},{"$f":"proj16jul!F390","v":120243},-43383,null,0,null,685,16.5,82500,1.5,685,13.5,67500,1.5]
[690,"KING PHILIP                  ",728,null,0,0,16,123508,null,{"$f":"proj16aug!J391","v":0},{"$f":"proj16aug!K391","v":0},null,null,0,123508,null,247032,0,690,null,null,{"$f":"proj16jul!C391","v":0},{"$f":"proj16jul!D391","v":0},0,0,690,16,123508,{"$f":"proj16jul!E391","v":10.950000000000001},{"$f":"proj16jul!F391","v":70582},52926,null,0,null,690,null,null,0,690,16,91900,0]
[695,"LINCOLN SUDBURY              ",729,null,0,0,3,17854,null,{"$f":"proj16aug!J392","v":0},{"$f":"proj16aug!K392","v":0},null,null,0,17854,null,35711,0,695,null,null,{"$f":"proj16jul!C392","v":0},{"$f":"proj16jul!D392","v":0},0,0,695,3,17854,{"$f":"proj16jul!E392","v":0},{"$f":"proj16jul!F392","v":0},17854,null,0,null,695,null,null,0,695,3,16700,0]
[698,"MANCHESTER ESSEX",698,null,70,358097,7,35855,null,{"$f":"proj16aug!J393","v":0},{"$f":"proj16aug!K393","v":0},null,null,358097,35855,null,787981,0,698,70,358097,{"$f":"proj16jul!C393","v":71},{"$f":"proj16jul!D393","v":359525},-1428,0,698,7,35855,{"$f":"proj16jul!E393","v":9.4},{"$f":"proj16jul!F393","v":51702},-15847,null,0,null,698,70,350000,0,698,7,35000,0]
[700,"MARTHAS VINEYARD             ",731,null,0,0,2,17400,null,{"$f":"proj16aug!J394","v":0},{"$f":"proj16aug!K394","v":0},null,null,0,17400,null,34802,{"$f":"ABS(A394-S394)","v":0},700,null,null,{"$f":"proj16jul!C394","v":0},{"$f":"proj16jul!D394","v":0},0,{"$f":"ABS(Z394-A394)","v":0},700,2,17400,{"$f":"proj16jul!E394","v":0},{"$f":"proj16jul!F394","v":0},{"$f":"AB394-AD394","v":17400},null,0,null,700,null,null,0,700,2,13400,0]
[705,"MASCONOMET                   ",732,null,{"$f":"T395","v":0},{"$f":"U395","v":0},{"$f":"AA395","v":3},{"$f":"AB395","v":16700},null,{"$f":"proj16aug!J395","v":0},{"$f":"proj16aug!K395","v":0},null,null,{"$f":"F395+J395","v":0},{"$f":"H395+K395","v":16700},null,{"$f":"SUM(E395:O395)","v":33403},0,705,null,null,{"$f":"proj16jul!C395","v":0},{"$f":"proj16jul!D395","v":0},{"$f":"U395-W395","v":0},0,705,3,16700,{"$f":"proj16jul!E395","v":0},{"$f":"proj16jul!F395","v":0},16700,null,{"$f":"AI395-A395","v":0},null,705,null,null,{"$f":"AJ395-T395","v":0},705,3,16700,{"$f":"AN395-AA395","v":0}]
[710,"MENDON UPTON                 ",733,null,150,875255,51,313564,null,{"$f":"proj16aug!J396","v":0},{"$f":"proj16aug!K396","v":0},null,null,875255,313564,null,2377839,0,710,150,875255,{"$f":"proj16jul!C396","v":139.26000000000002},{"$f":"proj16jul!D396","v":814955},60300,0,710,51,313564,{"$f":"proj16jul!E396","v":59.339999999999989},{"$f":"proj16jul!F396","v":351234},-37670,null,0,null,710,150,750000,0,710,51,260100,0]
[712,"MONOMOY",811,null,258,1467354,185,1111009,null,{"$f":"proj16aug!J397","v":0},{"$f":"proj16aug!K397","v":0},null,null,1467354,1111009,null,5157169,0,712,258,1467354,{"$f":"proj16jul!C397","v":271.62999999999994},{"$f":"proj16jul!D397","v":1683336},-215982,0,712,185,1111009,{"$f":"proj16jul!E397","v":178.9},{"$f":"proj16jul!F397","v":1037154},73855,null,0,null,712,259,1295000,1,712,186,936800,1]
[715,"MOUNT GREYLOCK               ",736,null,64,356522,25,140152,null,{"$f":"proj16aug!J398","v":0},{"$f":"proj16aug!K398","v":0},null,null,356522,140152,null,993437,0,715,64,356522,{"$f":"proj16jul!C398","v":61.430000000000007},{"$f":"proj16jul!D398","v":352222},4300,0,715,25,140152,{"$f":"proj16jul!E398","v":15.99},{"$f":"proj16jul!F398","v":85256},54896,null,0,null,715,64,320000,0,715,25,130100,0]
[717,"MOHAWK TRAIL                 ",734,null,71,443381,80,684405,null,{"$f":"proj16aug!J399","v":0},{"$f":"proj16aug!K399","v":0},null,null,443381,684405,null,2255723,0,717,71,443381,{"$f":"proj16jul!C399","v":73.989999999999981},{"$f":"proj16jul!D399","v":500473},-57092,0,717,80,684405,{"$f":"proj16jul!E399","v":71.23},{"$f":"proj16jul!F399","v":642946},41459,null,0,null,717,71,355000,0,717,83,410100,3]
[720,"NARRAGANSETT                 ",737,null,184,1033420,137,776163,null,{"$f":"proj16aug!J400","v":0},{"$f":"proj16aug!K400","v":0},null,null,1033420,776163,null,3619487,0,720,184,1033420,{"$f":"proj16jul!C400","v":150.20999999999998},{"$f":"proj16jul!D400","v":862803},170617,0,720,137,776163,{"$f":"proj16jul!E400","v":138.12000000000003},{"$f":"proj16jul!F400","v":859797},-83634,null,0,null,720,182,910000,-2,720,81,408400,-56]
[725,"NASHOBA                      ",738,null,136,720937,63,400345,null,{"$f":"proj16aug!J401","v":0},{"$f":"proj16aug!K401","v":0},null,null,720937,400345,null,2242763,0,725,136,720937,{"$f":"proj16jul!C401","v":166.60000000000002},{"$f":"proj16jul!D401","v":881656},-160719,0,725,63,400345,{"$f":"proj16jul!E401","v":72.009999999999991},{"$f":"proj16jul!F401","v":452128},-51783,null,0,null,725,136,680000,0,725,62,311700,-1]
[728,"NEW SALEM WENDELL            ",787,null,23,116803,12,72000,null,{"$f":"proj16aug!J402","v":0},{"$f":"proj16aug!K402","v":0},null,null,116803,72000,null,377641,0,728,23,116803,{"$f":"proj16jul!C402","v":26.4},{"$f":"proj16jul!D402","v":144319},-27516,0,728,12,72000,{"$f":"proj16jul!E402","v":8.18},{"$f":"proj16jul!F402","v":44469},27531,null,0,null,728,23.5,117500,0.5,728,12,60000,0]
[730,"NORTHBORO SOUTHBORO          ",741,null,0,0,5,66700,null,{"$f":"proj16aug!J403","v":0},{"$f":"proj16aug!K403","v":0},null,null,0,66700,null,133405,0,730,null,null,{"$f":"proj16jul!C403","v":0},{"$f":"proj16jul!D403","v":0},0,0,730,5,66700,{"$f":"proj16jul!E403","v":3},{"$f":"proj16jul!F403","v":15000},51700,null,0,null,730,null,null,0,730,5,21700,0]
[735,"NORTH MIDDLESEX              ",740,null,83,467037,94.5,514481,null,{"$f":"proj16aug!J404","v":0},{"$f":"proj16aug!K404","v":0},null,null,467037,514481,null,1963213.5,0,735,83,467037,{"$f":"proj16jul!C404","v":76.849999999999994},{"$f":"proj16jul!D404","v":460730},6307,0,735,94.5,514481,{"$f":"proj16jul!E404","v":91.45},{"$f":"proj16jul!F404","v":497359},17122,null,0,null,735,84.5,422500,1.5,735,90.5,464400,-4]
[740,"OLD ROCHESTER                ",745,null,70,376398,8,53170,null,{"$f":"proj16aug!J405","v":0},{"$f":"proj16aug!K405","v":0},null,null,376398,53170,null,859214,0,740,70,376398,{"$f":"proj16jul!C405","v":82.5},{"$f":"proj16jul!D405","v":440646},-64248,0,740,8,53170,{"$f":"proj16jul!E405","v":6.76},{"$f":"proj16jul!F405","v":38884},14286,null,0,null,740,73,365000,3,740,8,50200,0]
[745,"PENTUCKET                    ",746,null,110.5,598369,32,195715,null,{"$f":"proj16aug!J406","v":0},{"$f":"proj16aug!K406","v":0},null,null,598369,195715,null,1588310.5,0,745,110.5,598369,{"$f":"proj16jul!C406","v":126.55000000000001},{"$f":"proj16jul!D406","v":672571},-74202,0,745,32,195715,{"$f":"proj16jul!E406","v":36.919999999999995},{"$f":"proj16jul!F406","v":231315},-35600,null,0,null,745,110.5,552500,0,745,32,165100,0]
[750,"PIONEER                      ",747,null,154,886731,44,335670,null,{"$f":"proj16aug!J407","v":0},{"$f":"proj16aug!K407","v":0},null,null,886731,335670,null,2445000,0,750,154,886731,{"$f":"proj16jul!C407","v":171.10999999999999},{"$f":"proj16jul!D407","v":1050984},-164253,0,750,44,335670,{"$f":"proj16jul!E407","v":45.81},{"$f":"proj16jul!F407","v":333731},1939,null,0,null,750,155,775000,1,750,45,223400,1]
[753,"QUABBIN                      ",749,null,331,1832098,107,638983,null,{"$f":"proj16aug!J408","v":0},{"$f":"proj16aug!K408","v":0},null,null,1832098,638983,null,4942600,0,753,331,1832098,{"$f":"proj16jul!C408","v":345.84999999999991},{"$f":"proj16jul!D408","v":1925967},-93869,0,753,107,638983,{"$f":"proj16jul!E408","v":95.529999999999987},{"$f":"proj16jul!F408","v":570414},68569,null,0,null,753,null,null,-331,753,101,525400,-6]
[755,"RALPH C MAHAR                ",730,null,234,1321657,50,287184,null,{"$f":"proj16aug!J409","v":0},{"$f":"proj16aug!K409","v":0},null,null,1321657,287184,null,3217966,0,755,234,1321657,{"$f":"proj16jul!C409","v":222.35999999999987},{"$f":"proj16jul!D409","v":1260687},60970,0,755,50,287184,{"$f":"proj16jul!E409","v":58.52},{"$f":"proj16jul!F409","v":364504},-77320,null,0,null,755,234,1170000,0,755,28,143400,-22]
[760,"SILVER LAKE                  ",752,null,0,0,7,40100,null,{"$f":"proj16aug!J410","v":0},{"$f":"proj16aug!K410","v":0},null,null,0,40100,null,80207,0,760,null,null,{"$f":"proj16jul!C410","v":0},{"$f":"proj16jul!D410","v":0},0,0,760,7,40100,{"$f":"proj16jul!E410","v":2},{"$f":"proj16jul!F410","v":10000},30100,null,0,null,760,null,null,0,760,6,35100,-1]
[763,"SOMERSET BERKLEY",790,null,53,299197,7,36700,null,{"$f":"proj16aug!J411","v":0},{"$f":"proj16aug!K411","v":0},null,null,299197,36700,null,671854,0,763,53,299197,{"$f":"proj16jul!C411","v":23.519999999999996},{"$f":"proj16jul!D411","v":164871},134326,0,763,7,36700,{"$f":"proj16jul!E411","v":6.8599999999999994},{"$f":"proj16jul!F411","v":35879},821,null,0,null,763,53,265000,0,763,6,31700,-1]
[765,"SOUTHERN BERKSHIRE           ",755,null,118,673764,111,592028,null,{"$f":"proj16aug!J412","v":0},{"$f":"proj16aug!K412","v":0},null,null,673764,592028,null,2531813,0,765,118,673764,{"$f":"proj16jul!C412","v":123.58999999999997},{"$f":"proj16jul!D412","v":689770},-16006,0,765,111,592028,{"$f":"proj16jul!E412","v":130.49},{"$f":"proj16jul!F412","v":665880},-73852,null,0,null,765,118.5,592500,0.5,765,111,555000,0]
[766,"SOUTHWICK GRANVILLE TOLLAND",766,null,124,683195,48,264532,null,{"$f":"proj16aug!J413","v":0},{"$f":"proj16aug!K413","v":0},null,null,683195,264532,null,1895626,0,766,124,683195,{"$f":"proj16jul!C413","v":102.59},{"$f":"proj16jul!D413","v":590457},92738,0,766,48,264532,{"$f":"proj16jul!E413","v":53.25},{"$f":"proj16jul!F413","v":280907},-16375,null,0,null,766,124,620000,0,766,48,241700,0]
[767,"SPENCER EAST BROOKFIELD      ",756,null,42.5,271187,212,1212400,null,{"$f":"proj16aug!J414","v":0},{"$f":"proj16aug!K414","v":0},null,null,271187,1212400,null,2967428.5,0,767,42.5,271187,{"$f":"proj16jul!C414","v":54.51},{"$f":"proj16jul!D414","v":333107},-61920,0,767,212,1212400,{"$f":"proj16jul!E414","v":186.70000000000005},{"$f":"proj16jul!F414","v":1072219},140181,null,0,null,767,43,210000,0.5,767,191,960100,-21]
[770,"TANTASQUA                    ",757,null,155,902593,25,160653,null,{"$f":"proj16aug!J415","v":0},{"$f":"proj16aug!K415","v":0},null,null,902593,160653,null,2126672,0,770,155,902593,{"$f":"proj16jul!C415","v":162.22999999999999},{"$f":"proj16jul!D415","v":932098},-29505,0,770,25,160653,{"$f":"proj16jul!E415","v":30.13},{"$f":"proj16jul!F415","v":188462},-27809,null,0,null,770,155,775000,0,770,23,120100,-2]
[773,"TRITON                       ",763,null,163.5,1035310,83,866809,null,{"$f":"proj16aug!J416","v":0},{"$f":"proj16aug!K416","v":0},null,null,1035310,866809,null,3804484.5,0,773,163.5,1035310,{"$f":"proj16jul!C416","v":181.52999999999994},{"$f":"proj16jul!D416","v":1209512},-174202,0,773,83,866809,{"$f":"proj16jul!E416","v":98.11999999999999},{"$f":"proj16jul!F416","v":943249},-76440,null,0,null,773,164,815000,0.5,773,83,415100,0]
[774,"UPISLAND",789,null,57,360039,14,80768,null,{"$f":"proj16aug!J417","v":0},{"$f":"proj16aug!K417","v":0},null,null,360039,80768,null,881685,0,774,57,360039,{"$f":"proj16jul!C417","v":51},{"$f":"proj16jul!D417","v":315995},44044,0,774,14,80768,{"$f":"proj16jul!E417","v":16.36},{"$f":"proj16jul!F417","v":113764},-32996,null,0,null,774,57,285000,0,774,15,75000,1]
[775,"WACHUSETT                    ",759,null,176,955202,109,637551,null,{"$f":"proj16aug!J418","v":0},{"$f":"proj16aug!K418","v":0},null,null,955202,637551,null,3185791,0,775,176,955202,{"$f":"proj16jul!C418","v":203.84},{"$f":"proj16jul!D418","v":1068886},-113684,0,775,109,637551,{"$f":"proj16jul!E418","v":106.44000000000001},{"$f":"proj16jul!F418","v":587867},49684,null,0,null,775,176,880000,0,775,98,508800,-11]
[778,"QUABOAG",750,null,189,1047949,90.5,557343,null,{"$f":"proj16aug!J419","v":0},{"$f":"proj16aug!K419","v":0},null,null,1047949,557343,null,3210863.5,0,778,189,1047949,{"$f":"proj16jul!C419","v":186.26},{"$f":"proj16jul!D419","v":1031030},16919,0,778,90.5,557343,{"$f":"proj16jul!E419","v":84.84},{"$f":"proj16jul!F419","v":519822},37521,null,0,null,778,189,945000,0,778,72,363400,-18.5]
[780,"WHITMAN HANSON               ",761,null,31,179000,18,120920,null,{"$f":"proj16aug!J420","v":0},{"$f":"proj16aug!K420","v":0},null,null,179000,120920,null,599889,0,780,31,179000,{"$f":"proj16jul!C420","v":15.7},{"$f":"proj16jul!D420","v":78500},100500,0,780,18,120920,{"$f":"proj16jul!E420","v":13.73},{"$f":"proj16jul!F420","v":75076},45844,null,0,null,780,31,155000,0,780,18,100200,0]
[801,"ASSABET VALLEY               ",770,null,0,0,0,0,null,{"$f":"proj16aug!J421","v":0},{"$f":"proj16aug!K421","v":0},null,null,0,0,null,0,0,801,null,null,{"$f":"proj16jul!C421","v":0},{"$f":"proj16jul!D421","v":0},0,0,801,null,null,{"$f":"proj16jul!E421","v":2.59},{"$f":"proj16jul!F421","v":13953},-13953,null,0,null,801,null,null,0,801,null,null,0]
[805,"BLACKSTONE VALLEY            ",708,null,0,0,0,0,null,{"$f":"proj16aug!J422","v":0},{"$f":"proj16aug!K422","v":0},null,null,0,0,null,0,0,805,null,null,{"$f":"proj16jul!C422","v":0},{"$f":"proj16jul!D422","v":0},0,0,805,null,null,{"$f":"proj16jul!E422","v":0},{"$f":"proj16jul!F422","v":0},0,null,0,null,805,null,null,0,805,null,null,0]
[806,"BLUE HILLS                   ",709,null,0,0,0,0,null,{"$f":"proj16aug!J423","v":0},{"$f":"proj16aug!K423","v":0},null,null,0,0,null,0,0,806,null,null,{"$f":"proj16jul!C423","v":0},{"$f":"proj16jul!D423","v":0},0,0,806,null,null,{"$f":"proj16jul!E423","v":1},{"$f":"proj16jul!F423","v":5000},-5000,null,0,null,806,null,null,0,806,null,null,0]
[810,"BRISTOL PLYMOUTH             ",771,null,0,0,9,49000,null,{"$f":"proj16aug!J424","v":0},{"$f":"proj16aug!K424","v":0},null,null,0,49000,null,98009,0,810,null,null,{"$f":"proj16jul!C424","v":0},{"$f":"proj16jul!D424","v":0},0,0,810,9,49000,{"$f":"proj16jul!E424","v":5.3599999999999994},{"$f":"proj16jul!F424","v":26800},22200,null,0,null,810,null,null,0,810,5,25000,-4]
[815,"CAPE COD                     ",779,null,0,0,3,29000,null,{"$f":"proj16aug!J425","v":0},{"$f":"proj16aug!K425","v":0},null,null,0,29000,null,58003,0,815,null,null,{"$f":"proj16jul!C425","v":0},{"$f":"proj16jul!D425","v":0},0,0,815,3,29000,{"$f":"proj16jul!E425","v":2},{"$f":"proj16jul!F425","v":10000},19000,null,0,null,815,null,null,0,815,3,15000,0]
[817,"ESSEX NORTH SHORE",null,null,1,5000,20,117224,null,{"$f":"proj16aug!J426","v":0},{"$f":"proj16aug!K426","v":0},null,null,5000,117224,null,244469,0,817,1,5000,{"$f":"proj16jul!C426","v":2},{"$f":"proj16jul!D426","v":10000},-5000,0,817,20,117224,{"$f":"proj16jul!E426","v":16.990000000000002},{"$f":"proj16jul!F426","v":92274},24950,null,0,null,817,1,5000,0,817,20,100000,0]
[818,"FRANKLIN COUNTY              ",782,null,0,0,2,10000,null,{"$f":"proj16aug!J427","v":0},{"$f":"proj16aug!K427","v":0},null,null,0,10000,null,20002,0,818,null,null,{"$f":"proj16jul!C427","v":0},{"$f":"proj16jul!D427","v":0},0,0,818,2,10000,{"$f":"proj16jul!E427","v":2.38},{"$f":"proj16jul!F427","v":11900},-1900,null,0,null,818,null,null,0,818,2,10000,0]
[821,"GREATER FALL RIVER           ",722,null,0,0,8,44000,null,{"$f":"proj16aug!J428","v":0},{"$f":"proj16aug!K428","v":0},null,null,0,44000,null,88008,0,821,null,null,{"$f":"proj16jul!C428","v":0},{"$f":"proj16jul!D428","v":0},0,0,821,8,44000,{"$f":"proj16jul!E428","v":1.51},{"$f":"proj16jul!F428","v":7550},36450,null,0,null,821,null,null,0,821,8,40000,0]
[823,"GREATER LAWRENCE             ",723,null,5,29000,117,642141,null,{"$f":"proj16aug!J429","v":0},{"$f":"proj16aug!K429","v":0},null,null,29000,642141,null,1342404,0,823,5,29000,{"$f":"proj16jul!C429","v":5.5},{"$f":"proj16jul!D429","v":27500},1500,0,823,117,642141,{"$f":"proj16jul!E429","v":142.82},{"$f":"proj16jul!F429","v":764958},-122817,null,0,null,823,5,25000,0,823,117,585000,0]
[825,"GREATER NEW BEDFORD          ",786,null,0,0,5,25000,null,{"$f":"proj16aug!J430","v":0},{"$f":"proj16aug!K430","v":0},null,null,0,25000,null,50005,0,825,null,null,{"$f":"proj16jul!C430","v":0},{"$f":"proj16jul!D430","v":0},0,0,825,5,25000,{"$f":"proj16jul!E430","v":2},{"$f":"proj16jul!F430","v":10000},15000,null,0,null,825,null,null,0,825,3,15000,-2]
[828,"GREATER LOWELL               ",767,null,2,14232,26,139425,null,{"$f":"proj16aug!J431","v":0},{"$f":"proj16aug!K431","v":0},null,null,14232,139425,null,307342,0,828,2,14232,{"$f":"proj16jul!C431","v":3.36},{"$f":"proj16jul!D431","v":25070},-10838,0,828,26,139425,{"$f":"proj16jul!E431","v":27.8},{"$f":"proj16jul!F431","v":146589},-7164,null,0,null,828,2,10000,0,828,26,130000,0]
[829,"SOUTH MIDDLESEX              ",778,null,0,0,0,0,null,{"$f":"proj16aug!J432","v":0},{"$f":"proj16aug!K432","v":0},null,null,0,0,null,0,0,829,null,null,{"$f":"proj16jul!C432","v":0},{"$f":"proj16jul!D432","v":0},0,0,829,null,null,{"$f":"proj16jul!E432","v":0.59},{"$f":"proj16jul!F432","v":3953},-3953,null,0,null,829,null,null,0,829,null,null,0]
[830,"MINUTEMAN                    ",781,null,0,0,1,5000,null,{"$f":"proj16aug!J433","v":0},{"$f":"proj16aug!K433","v":0},null,null,0,5000,null,10001,0,830,null,null,{"$f":"proj16jul!C433","v":0},{"$f":"proj16jul!D433","v":0},0,0,830,1,5000,{"$f":"proj16jul!E433","v":1.83},{"$f":"proj16jul!F433","v":9150},-4150,null,0,null,830,null,null,0,830,1,5000,0]
[832,"MONTACHUSETT                 ",735,null,20,107121,62,359000,null,{"$f":"proj16aug!J434","v":0},{"$f":"proj16aug!K434","v":0},null,null,107121,359000,null,932324,0,832,20,107121,{"$f":"proj16jul!C434","v":24.84},{"$f":"proj16jul!D434","v":128988},-21867,0,832,62,359000,{"$f":"proj16jul!E434","v":49.39},{"$f":"proj16jul!F434","v":280442},78558,null,0,null,832,20,100000,0,832,62,310000,0]
[851,"NORTHERN BERKSHIRE           ",743,null,0,0,1,5000,null,{"$f":"proj16aug!J435","v":0},{"$f":"proj16aug!K435","v":0},null,null,0,5000,null,10001,0,851,null,null,{"$f":"proj16jul!C435","v":0},{"$f":"proj16jul!D435","v":0},0,0,851,1,5000,{"$f":"proj16jul!E435","v":4},{"$f":"proj16jul!F435","v":20000},-15000,null,0,null,851,null,null,0,851,1,5000,0]
[852,"NASHOBA VALLEY               ",739,null,60,335948,5,39584,null,{"$f":"proj16aug!J436","v":0},{"$f":"proj16aug!K436","v":0},null,null,335948,39584,null,751129,0,852,60,335948,{"$f":"proj16jul!C436","v":68.02000000000001},{"$f":"proj16jul!D436","v":365249},-29301,0,852,5,39584,{"$f":"proj16jul!E436","v":6.8100000000000005},{"$f":"proj16jul!F436","v":56788},-17204,null,0,null,852,60,300000,0,852,5,25000,0]
[853,"NORTHEAST METROPOLITAN       ",742,null,30,188361,2,14000,null,{"$f":"proj16aug!J437","v":0},{"$f":"proj16aug!K437","v":0},null,null,188361,14000,null,404754,0,853,30,188361,{"$f":"proj16jul!C437","v":36.6},{"$f":"proj16jul!D437","v":218436},-30075,0,853,2,14000,{"$f":"proj16jul!E437","v":0},{"$f":"proj16jul!F437","v":0},14000,null,0,null,853,30,150000,0,853,2,10000,0]
[855,"OLD COLONY                   ",784,null,0,0,2,10000,null,{"$f":"proj16aug!J438","v":0},{"$f":"proj16aug!K438","v":0},null,null,0,10000,null,20002,0,855,null,null,{"$f":"proj16jul!C438","v":0},{"$f":"proj16jul!D438","v":0},0,0,855,2,10000,{"$f":"proj16jul!E438","v":0},{"$f":"proj16jul!F438","v":0},10000,null,0,null,855,null,null,0,855,2,10000,0]
[860,"PATHFINDER                   ",773,null,34,194801,12,67235,null,{"$f":"proj16aug!J439","v":0},{"$f":"proj16aug!K439","v":0},null,null,194801,67235,null,524118,0,860,34,194801,{"$f":"proj16jul!C439","v":22.54},{"$f":"proj16jul!D439","v":127081},67720,0,860,12,67235,{"$f":"proj16jul!E439","v":13},{"$f":"proj16jul!F439","v":83687},-16452,null,0,null,860,34,170000,0,860,12,60000,0]
[871,"SHAWSHEEN VALLEY             ",751,null,0,0,18,104477,null,{"$f":"proj16aug!J440","v":0},{"$f":"proj16aug!K440","v":0},null,null,0,104477,null,208972,0,871,null,null,{"$f":"proj16jul!C440","v":0},{"$f":"proj16jul!D440","v":0},0,0,871,18,104477,{"$f":"proj16jul!E440","v":20.98},{"$f":"proj16jul!F440","v":117766},-13289,null,0,null,871,null,null,0,871,18,90000,0]
[872,"SOUTHEASTERN                 ",754,null,0,0,3,15000,null,{"$f":"proj16aug!J441","v":0},{"$f":"proj16aug!K441","v":0},null,null,0,15000,null,30003,0,872,null,null,{"$f":"proj16jul!C441","v":0},{"$f":"proj16jul!D441","v":0},0,0,872,3,15000,{"$f":"proj16jul!E441","v":4},{"$f":"proj16jul!F441","v":27181},-12181,null,0,null,872,null,null,0,872,3,15000,0]
[873,"SOUTH SHORE                  ",753,null,0,0,1,5000,null,{"$f":"proj16aug!J442","v":0},{"$f":"proj16aug!K442","v":0},null,null,0,5000,null,10001,0,873,null,null,{"$f":"proj16jul!C442","v":0},{"$f":"proj16jul!D442","v":0},0,0,873,1,5000,{"$f":"proj16jul!E442","v":1},{"$f":"proj16jul!F442","v":5000},0,null,0,null,873,null,null,0,873,1,5000,0]
[876,"SOUTHERN WORCESTER           ",762,null,0,0,28,170155,null,{"$f":"proj16aug!J443","v":0},{"$f":"proj16aug!K443","v":0},null,null,0,170155,null,340338,0,876,null,null,{"$f":"proj16jul!C443","v":0},{"$f":"proj16jul!D443","v":0},0,0,876,28,170155,{"$f":"proj16jul!E443","v":29.86},{"$f":"proj16jul!F443","v":174114},-3959,null,0,null,876,null,null,0,876,28,140000,0]
[878,"TRI COUNTY                   ",785,null,0,0,1,5000,null,{"$f":"proj16aug!J444","v":0},{"$f":"proj16aug!K444","v":0},null,null,0,5000,null,10001,0,878,null,null,{"$f":"proj16jul!C444","v":0},{"$f":"proj16jul!D444","v":0},0,0,878,1,5000,{"$f":"proj16jul!E444","v":0},{"$f":"proj16jul!F444","v":0},5000,null,0,null,878,null,null,0,878,null,null,-1]
[879,"UPPER CAPE COD               ",758,null,0,0,3,15000,null,{"$f":"proj16aug!J445","v":0},{"$f":"proj16aug!K445","v":0},null,null,0,15000,null,30003,0,879,null,null,{"$f":"proj16jul!C445","v":0},{"$f":"proj16jul!D445","v":0},0,0,879,3,15000,{"$f":"proj16jul!E445","v":4},{"$f":"proj16jul!F445","v":20000},-5000,null,0,null,879,null,null,0,879,3,15000,0]
[885,"WHITTIER                     ",774,null,116,641668,4,24000,null,{"$f":"proj16aug!J446","v":0},{"$f":"proj16aug!K446","v":0},null,null,641668,24000,null,1331456,0,885,116,641668,{"$f":"proj16jul!C446","v":139.66999999999999},{"$f":"proj16jul!D446","v":749436},-107768,0,885,4,24000,{"$f":"proj16jul!E446","v":5.86},{"$f":"proj16jul!F446","v":33338},-9338,null,0,null,885,116,580000,0,885,4,20000,0]
[910,"BRISTOL COUNTY               ",810,null,0,0,0,0,null,{"$f":"proj16aug!J447","v":0},{"$f":"proj16aug!K447","v":0},null,null,0,0,null,0,0,910,null,null,{"$f":"proj16jul!C447","v":0},{"$f":"proj16jul!D447","v":0},0,0,910,null,null,{"$f":"proj16jul!E447","v":0},{"$f":"proj16jul!F447","v":0},0,null,0,null,910,null,null,0,910,null,null,0]
[915,"NORFOLK COUNTY               ",830,null,0,0,0,0,null,{"$f":"proj16aug!J448","v":0},{"$f":"proj16aug!K448","v":0},null,null,0,0,null,0,0,915,null,null,{"$f":"proj16jul!C448","v":0},{"$f":"proj16jul!D448","v":0},0,0,915,null,null,{"$f":"proj16jul!E448","v":0},{"$f":"proj16jul!F448","v":0},0,null,0,null,915,null,null,0,915,null,null,0]
[3901,"MA VIRTUAL ACADEMY",950,null,621,{"$f":"U449-46735","v":4490820},0,0,null,{"$f":"proj16aug!J449","v":0},{"$f":"proj16aug!K449","v":0},null,null,{"$f":"F449+J449","v":4490820},{"$f":"H449+K449","v":0},null,8982261,0,3901,621,4537555,{"$f":"proj16jul!C449","v":389.27},{"$f":"proj16jul!D449","v":2578913.75},1958641.25,0,3901,null,null,{"$f":"proj16jul!E449","v":0},{"$f":"proj16jul!F449","v":0},0,null,0,null,3901,627,4200900,6,3901,null,null,0]
[3902,"TECCA",null,null,795.5,{"$f":"U450-60600","v":5822365},0,0,null,{"$f":"proj16aug!J450","v":0},{"$f":"proj16aug!K450","v":0},null,null,{"$f":"F450+J450","v":5822365},{"$f":"H450+K450","v":0},null,11645525.5,0,3902,795.5,5882965,{"$f":"proj16jul!C450","v":584.1},{"$f":"proj16jul!D450","v":3869662.5},{"$f":"U450-W450","v":2013302.5},0,3902,null,null,{"$f":"proj16jul!E450","v":0},{"$f":"proj16jul!F450","v":0},0,null,0,null,3902,803.5,5384400,8,3902,null,null,0]
[9999,"State Total",null,null,{"$f":"SUM(E10:E450)","v":15341.5},{"$f":"SUM(F10:F450)","v":92043792},{"$f":"SUM(G10:G450)","v":15341.5},{"$f":"SUM(H10:H450)","v":92151127},null,{"$f":"SUM(J10:J450)","v":46450},{"$f":"SUM(K10:K450)","v":46450},null,null,{"$f":"SUM(N10:N450)","v":92090242},92197577,null,368606321,null,null,{"$f":"SUM(T10:T450)","v":15341.5},{"$f":"SUM(U10:U450)","v":92151127},{"$f":"SUM(V10:V450)","v":14710.990000000009},87705649.25,4445477.75,null,null,{"$f":"SUM(AA10:AA450)","v":15341.5},{"$f":"SUM(AB10:AB450)","v":92151127},{"$f":"SUM(AC10:AC450)","v":14707.990000000003},{"$f":"SUM(AD10:AD450)","v":87763652},4387475]

{"sheet":"feb","index":7,"n_rows":451,"n_cols":37,"rows_kept":451,"cut":false,"hidden":true,"merged":[[1,0,1,14],[2,0,2,14],[4,0,4,14]]}
[null,null,null,null,null,null,null,null,null,null,null,null,null,null,null,null,null,null,null,null,"feb 17 1040am"]
["Massachusetts Department of Elementary and Secondary Education"]
["Office of School Finance"]
[]
["School Choice Pupils and Tuition, FY15 Preliminary as of February 2015"]
[null,null,null,null,null,null,null,null,null,"Adjustment","Adjustment",null,null,"Net ","Net ",null,null,null,null,null,null,null,null,null,null,null,null,null,null,null,null,null,"change","change","change","change"]
[null,null,null,null,"FY15","FY15","FY15","FY15",null,"FY14","FY14",null,null,"Receiving","Sending",null,null,null,null,null,"incoming","incoming",null,null,"incoming","incoming",null,"dec","dec","dec","dec",null,"dec to ","dec to ","dec to ","dec to "]
[null,null,null,null,"Receiving","Receiving","Sending","Sending",null,"Receiving","Sending",null,null,"Tuition","Tuition",null,null,null,null,null,"Receiving","Receiving",null,null,"Sending","Sending",null,"Receiving","Receiving","Sending","Sending",null,"feb","rec ","feb","mar"]
["LEA","district","dor",null,"FTE","Tuition","FTE","Tuition",null,"Tuition","Tuition",null,null,"FY15","FY15",null,null,null,{"$f":"SUM(S10:S448)","v":0},"lea","FTE","Tuition",{"$f":"SUM(W10:W448)","v":0},"lea","FTE","Tuition",null,"FTE","Tuition","FTE","Tuition",null,"rec fte","rec tuit","send fte","send tuit"]
[1,"ABINGTON                     ",1,null,{"$f":"U10","v":2},{"$f":"V10","v":10000},{"$f":"Y10","v":30},{"$f":"Z10","v":189300},null,0,0,null,null,{"$f":"F10+J10","v":10000},{"$f":"H10+K10","v":189300},null,{"$f":"SUM(E10:O10)","v":398632},null,{"$f":"ABS(A10-T10)","v":0},1,2,10000,{"$f":"ABS(X10-A10)","v":0},1,30,189300,null,{"$f":"dec!E10","v":1},{"$f":"dec!F10","v":5000},{"$f":"dec!G10","v":36},{"$f":"dec!H10","v":231077},null,{"$f":"U10-AB10","v":1},{"$f":"V10-AC10","v":5000},{"$f":"Y10-AD10","v":-6},{"$f":"Z10-AE10","v":-41777},{"$f":"AL10-A10","v":-1}]
[2,"ACTON                        ",2,null,{"$f":"U11","v":0},0,{"$f":"Y11","v":0},0,null,0,0,null,null,{"$f":"F11+J11","v":0},{"$f":"H11+K11","v":0},null,0,null,0,2,null,null,0,2,null,null,null,{"$f":"dec!E11","v":0},{"$f":"dec!F11","v":0},{"$f":"dec!G11","v":0},{"$f":"dec!H11","v":0},null,{"$f":"U11-AB11","v":0},0,{"$f":"Y11-AD11","v":0},0,{"$f":"AL11-A11","v":-2}]
[3,"ACUSHNET                     ",3,null,0,0,13,75399,null,0,0,null,null,0,75399,null,150811,null,0,3,null,null,0,3,13,75399,null,{"$f":"dec!E12","v":0},{"$f":"dec!F12","v":0},{"$f":"dec!G12","v":15},{"$f":"dec!H12","v":76700},null,0,0,-2,-1301,-3]
[4,"ADAMS                        ",4,null,0,0,0,0,null,0,0,null,null,0,0,null,0,null,0,4,null,null,0,4,null,null,null,{"$f":"dec!E13","v":0},{"$f":"dec!F13","v":0},{"$f":"dec!G13","v":0},{"$f":"dec!H13","v":0},null,0,0,0,0,-4]
[5,"AGAWAM                       ",5,null,82,429703,48,308223,null,0,0,null,null,429703,308223,null,1475982,null,0,5,82,429703,0,5,48,308223,null,{"$f":"dec!E14","v":79},{"$f":"dec!F14","v":429476},{"$f":"dec!G14","v":45},{"$f":"dec!H14","v":294983},null,3,227,3,13240,-5]
[6,"ALFORD                       ",6,null,0,0,0,0,null,0,0,null,null,0,0,null,0,null,0,6,null,null,0,6,null,null,null,{"$f":"dec!E15","v":0},{"$f":"dec!F15","v":0},{"$f":"dec!G15","v":0},{"$f":"dec!H15","v":0},null,0,0,0,0,-6]
[7,"AMESBURY                     ",7,null,31,227561,69,412963,null,0,0,null,null,227561,412963,null,1281148,null,0,7,31,227561,0,7,69,412963,null,{"$f":"dec!E16","v":16},{"$f":"dec!F16","v":121524},{"$f":"dec!G16","v":63},{"$f":"dec!H16","v":394457},null,15,106037,6,18506,-7]
[8,"AMHERST                      ",8,null,53,328802,19,120156,null,0,0,null,null,328802,120156,null,897988,null,0,8,53,328802,0,8,19,120156,null,{"$f":"dec!E17","v":49},{"$f":"dec!F17","v":319432},{"$f":"dec!G17","v":21},{"$f":"dec!H17","v":134194},null,4,9370,-2,-14038,-8]
[9,"ANDOVER                      ",9,null,0,0,5,33500,null,0,5574,null,null,0,39074,null,78153,null,0,9,null,null,0,9,5,33500,null,{"$f":"dec!E18","v":0},{"$f":"dec!F18","v":0},{"$f":"dec!G18","v":4},{"$f":"dec!H18","v":29100},null,0,0,1,4400,-9]
[10,"ARLINGTON                    ",10,null,0,0,1,45000,null,0,0,null,null,0,45000,null,90001,null,0,10,null,null,0,10,1,45000,null,{"$f":"dec!E19","v":0},{"$f":"dec!F19","v":0},{"$f":"dec!G19","v":2},{"$f":"dec!H19","v":21400},null,0,0,-1,23600,-10]
[11,"ASHBURNHAM                   ",11,null,0,0,0,0,null,0,0,null,null,0,0,null,0,null,0,11,null,null,0,11,null,null,null,{"$f":"dec!E20","v":0},{"$f":"dec!F20","v":0},{"$f":"dec!G20","v":0},{"$f":"dec!H20","v":0},null,0,0,0,0,-11]
[12,"ASHBY                        ",12,null,0,0,0,0,null,0,0,null,null,0,0,null,0,null,0,12,null,null,0,12,null,null,null,{"$f":"dec!E21","v":0},{"$f":"dec!F21","v":0},{"$f":"dec!G21","v":0},{"$f":"dec!H21","v":0},null,0,0,0,0,-12]
[13,"ASHFIELD                     ",13,null,0,0,0,0,null,0,0,null,null,0,0,null,0,null,0,13,null,null,0,13,null,null,null,{"$f":"dec!E22","v":0},{"$f":"dec!F22","v":0},{"$f":"dec!G22","v":0},{"$f":"dec!H22","v":0},null,0,0,0,0,-13]
[14,"ASHLAND                      ",14,null,28,156819,13,74826,null,0,3321,null,null,156819,78147,null,469973,null,0,14,28,156819,0,14,13,74826,null,{"$f":"dec!E23","v":45},{"$f":"dec!F23","v":287724},{"$f":"dec!G23","v":12.5},{"$f":"dec!H23","v":84632},null,-17,-130905,0.5,-9806,-14]
[15,"ATHOL                        ",15,null,0,0,0,0,null,0,0,null,null,0,0,null,0,null,0,15,null,null,0,15,null,null,null,{"$f":"dec!E24","v":0},{"$f":"dec!F24","v":0},{"$f":"dec!G24","v":0},{"$f":"dec!H24","v":0},null,0,0,0,0,-15]
[16,"ATTLEBORO                    ",16,null,0,0,16,97600,null,0,1996,null,null,0,99596,null,199208,null,0,16,null,null,0,16,16,97600,null,{"$f":"dec!E25","v":0},{"$f":"dec!F25","v":0},{"$f":"dec!G25","v":28},{"$f":"dec!H25","v":183900},null,0,0,-12,-86300,-16]
[17,"AUBURN                       ",17,null,47,249603,24,143679,null,0,0,null,null,249603,143679,null,786635,null,0,17,47,249603,0,17,24,143679,null,{"$f":"dec!E26","v":63},{"$f":"dec!F26","v":327404},{"$f":"dec!G26","v":20},{"$f":"dec!H26","v":112071},null,-16,-77801,4,31608,-17]
[18,"AVON                         ",18,null,185.5,1045364,4,20000,null,0,0,null,null,1045364,20000,null,2130917.5,null,0,18,185.5,1045364,0,18,4,20000,null,{"$f":"dec!E27","v":193},{"$f":"dec!F27","v":1024920},{"$f":"dec!G27","v":2},{"$f":"dec!H27","v":10000},null,-7.5,20444,2,10000,-18]
[19,"AYER                         ",19,null,0,0,0,0,null,0,0,null,null,0,0,null,0,null,0,19,null,null,0,19,null,null,null,{"$f":"dec!E28","v":0},{"$f":"dec!F28","v":0},{"$f":"dec!G28","v":0},{"$f":"dec!H28","v":0},null,0,0,0,0,-19]
[20,"BARNSTABLE                   ",20,null,105,633512,149,895151,null,0,0,null,null,633512,895151,null,3057580,null,0,20,105,633512,0,20,149,895151,null,{"$f":"dec!E29","v":104},{"$f":"dec!F29","v":658306},{"$f":"dec!G29","v":155},{"$f":"dec!H29","v":934327},null,1,-24794,-6,-39176,-20]
[21,"BARRE                        ",21,null,0,0,0,0,null,0,0,null,null,0,0,null,0,null,0,21,null,null,0,21,null,null,null,{"$f":"dec!E30","v":0},{"$f":"dec!F30","v":0},{"$f":"dec!G30","v":0},{"$f":"dec!H30","v":0},null,0,0,0,0,-21]
[22,"BECKET                       ",22,null,0,0,2,10000,null,0,0,null,null,0,10000,null,20002,null,0,22,null,null,0,22,2,10000,null,{"$f":"dec!E31","v":0},{"$f":"dec!F31","v":0},{"$f":"dec!G31","v":3},{"$f":"dec!H31","v":15000},null,0,0,-1,-5000,-22]
[23,"BEDFORD                      ",23,null,0,0,3,18400,null,0,0,null,null,0,18400,null,36803,null,0,23,null,null,0,23,3,18400,null,{"$f":"dec!E32","v":0},{"$f":"dec!F32","v":0},{"$f":"dec!G32","v":4},{"$f":"dec!H32","v":23400},null,0,0,-1,-5000,-23]
[24,"BELCHERTOWN                  ",24,null,104,652623,83,521246,null,0,0,null,null,652623,521246,null,2347925,null,0,24,104,652623,0,24,83,521246,null,{"$f":"dec!E33","v":122},{"$f":"dec!F33","v":760087},{"$f":"dec!G33","v":96},{"$f":"dec!H33","v":659834},null,-18,-107464,-13,-138588,-24]
[25,"BELLINGHAM                   ",25,null,41.5,253857,124.5,723875,null,0,0,null,null,253857,723875,null,1955630,null,0,25,41.5,253857,0,25,124.5,723875,null,{"$f":"dec!E34","v":33},{"$f":"dec!F34","v":202459},{"$f":"dec!G34","v":132.5},{"$f":"dec!H34","v":818894},null,8.5,51398,-8,-95019,-25]
[26,"BELMONT                      ",26,null,0,0,0,0,null,0,0,null,null,0,0,null,0,null,0,26,null,null,0,26,null,null,null,{"$f":"dec!E35","v":0},{"$f":"dec!F35","v":0},{"$f":"dec!G35","v":0},{"$f":"dec!H35","v":0},null,0,0,0,0,-26]
[27,"BERKLEY                      ",27,null,72,368289,1,5000,null,0,0,null,null,368289,5000,null,746651,null,0,27,72,368289,0,27,1,5000,null,{"$f":"dec!E36","v":108},{"$f":"dec!F36","v":582114},{"$f":"dec!G36","v":2},{"$f":"dec!H36","v":10000},null,-36,-213825,-1,-5000,-27]
[28,"BERLIN                       ",28,null,18,112681,1,5000,null,0,0,null,null,112681,5000,null,235381,null,0,28,18,112681,0,28,1,5000,null,{"$f":"dec!E37","v":20},{"$f":"dec!F37","v":149051},{"$f":"dec!G37","v":0},{"$f":"dec!H37","v":0},null,-2,-36370,1,5000,-28]
[29,"BERNARDSTON                  ",29,null,0,0,0,0,null,0,0,null,null,0,0,null,0,null,0,29,null,null,0,29,null,null,null,{"$f":"dec!E38","v":0},{"$f":"dec!F38","v":0},{"$f":"dec!G38","v":0},{"$f":"dec!H38","v":0},null,0,0,0,0,-29]
[30,"BEVERLY                      ",30,null,102,588572,67,379329,null,0,8366,null,null,588572,387695,null,1952703,null,0,30,102,588572,0,30,67,379329,null,{"$f":"dec!E39","v":106},{"$f":"dec!F39","v":601926},{"$f":"dec!G39","v":60},{"$f":"dec!H39","v":340184},null,-4,-13354,7,39145,-30]
[31,"BILLERICA                    ",31,null,0,0,20,115300,null,0,0,null,null,0,115300,null,230620,null,0,31,null,null,0,31,20,115300,null,{"$f":"dec!E40","v":0},{"$f":"dec!F40","v":0},{"$f":"dec!G40","v":16},{"$f":"dec!H40","v":105600},null,0,0,4,9700,-31]
[32,"BLACKSTONE                   ",32,null,0,0,0,0,null,0,0,null,null,0,0,null,0,null,0,32,null,null,0,32,null,null,null,{"$f":"dec!E41","v":0},{"$f":"dec!F41","v":0},{"$f":"dec!G41","v":0},{"$f":"dec!H41","v":0},null,0,0,0,0,-32]
[33,"BLANDFORD                    ",33,null,0,0,0,0,null,0,0,null,null,0,0,null,0,null,0,33,null,null,0,33,null,null,null,{"$f":"dec!E42","v":0},{"$f":"dec!F42","v":0},{"$f":"dec!G42","v":2},{"$f":"dec!H42","v":12120},null,0,0,-2,-12120,-33]
[34,"BOLTON                       ",34,null,0,0,0,0,null,0,0,null,null,0,0,null,0,null,0,34,null,null,0,34,null,null,null,{"$f":"dec!E43","v":0},{"$f":"dec!F43","v":0},{"$f":"dec!G43","v":0},{"$f":"dec!H43","v":0},null,0,0,0,0,-34]
[35,"BOSTON                       ",35,null,0,0,75,508362,null,0,35741,null,null,0,544103,null,1088281,null,0,35,null,null,0,35,75,508362,null,{"$f":"dec!E44","v":0},{"$f":"dec!F44","v":0},{"$f":"dec!G44","v":88},{"$f":"dec!H44","v":608120},null,0,0,-13,-99758,-35]
[36,"BOURNE                       ",36,null,117,701459,92.5,563782,null,0,0,null,null,701459,563782,null,2530691.5,null,0,36,117,701459,0,36,92.5,563782,null,{"$f":"dec!E45","v":118.5},{"$f":"dec!F45","v":696677},{"$f":"dec!G45","v":98},{"$f":"dec!H45","v":584253},null,-1.5,4782,-5.5,-20471,-36]
[37,"BOXBOROUGH                   ",37,null,0,0,0,0,null,0,0,null,null,0,0,null,0,null,0,37,null,null,0,37,null,null,null,{"$f":"dec!E46","v":0},{"$f":"dec!F46","v":0},{"$f":"dec!G46","v":0},{"$f":"dec!H46","v":0},null,0,0,0,0,-37]
[38,"BOXFORD                      ",38,null,0,0,1,6700,null,0,0,null,null,0,6700,null,13401,null,0,38,null,null,0,38,1,6700,null,{"$f":"dec!E47","v":0},{"$f":"dec!F47","v":0},{"$f":"dec!G47","v":3},{"$f":"dec!H47","v":16700},null,0,0,-2,-10000,-38]
[39,"BOYLSTON                     ",39,null,13,68928,5,37694,null,0,0,null,null,68928,37694,null,213262,null,0,39,13,68928,0,39,5,37694,null,{"$f":"dec!E48","v":17},{"$f":"dec!F48","v":90513},{"$f":"dec!G48","v":8},{"$f":"dec!H48","v":91045},null,-4,-21585,-3,-53351,-39]
[40,"BRAINTREE                    ",40,null,0,0,5,31800,null,0,5441,null,null,0,37241,null,74487,null,0,40,null,null,0,40,5,31800,null,{"$f":"dec!E49","v":0},{"$f":"dec!F49","v":0},{"$f":"dec!G49","v":3},{"$f":"dec!H49","v":18400},null,0,0,2,13400,-40]
[41,"BREWSTER                     ",41,null,0,0,24,163335,null,0,0,null,null,0,163335,null,326694,null,0,41,null,null,0,41,24,163335,null,{"$f":"dec!E50","v":0},{"$f":"dec!F50","v":0},{"$f":"dec!G50","v":27},{"$f":"dec!H50","v":166964},null,0,0,-3,-3629,-41]
[42,"BRIDGEWATER                  ",42,null,0,0,0,0,null,0,0,null,null,0,0,null,0,null,0,42,null,null,0,42,null,null,null,{"$f":"dec!E51","v":0},{"$f":"dec!F51","v":0},{"$f":"dec!G51","v":0},{"$f":"dec!H51","v":0},null,0,0,0,0,-42]
[43,"BRIMFIELD                    ",43,null,0,0,7,64755,null,0,0,null,null,0,64755,null,129517,null,0,43,null,null,0,43,7,64755,null,{"$f":"dec!E52","v":0},{"$f":"dec!F52","v":0},{"$f":"dec!G52","v":6},{"$f":"dec!H52","v":64508},null,0,0,1,247,-43]
[44,"BROCKTON                     ",44,null,24,128000,190,1051912,null,0,3139,null,null,128000,1055051,null,2366316,null,0,44,24,128000,0,44,190,1051912,null,{"$f":"dec!E53","v":25},{"$f":"dec!F53","v":136000},{"$f":"dec!G53","v":239},{"$f":"dec!H53","v":1328445},null,-1,-8000,-49,-276533,-44]
[45,"BROOKFIELD                   ",45,null,58,375977,3,35229,null,0,0,null,null,375977,35229,null,822473,null,0,45,58,375977,0,45,3,35229,null,{"$f":"dec!E54","v":57},{"$f":"dec!F54","v":350618},{"$f":"dec!G54","v":1},{"$f":"dec!H54","v":5000},null,1,25359,2,30229,-45]
[46,"BROOKLINE                    ",46,null,0,0,1,10700,null,0,0,null,null,0,10700,null,21401,null,0,46,null,null,0,46,1,10700,null,{"$f":"dec!E55","v":0},{"$f":"dec!F55","v":0},{"$f":"dec!G55","v":1},{"$f":"dec!H55","v":6700},null,0,0,0,4000,-46]
[47,"BUCKLAND                     ",47,null,0,0,0,0,null,0,0,null,null,0,0,null,0,null,0,47,null,null,0,47,null,null,null,{"$f":"dec!E56","v":0},{"$f":"dec!F56","v":0},{"$f":"dec!G56","v":0},{"$f":"dec!H56","v":0},null,0,0,0,0,-47]
[48,"BURLINGTON                   ",48,null,26,130000,4,26800,null,0,0,null,null,130000,26800,null,313630,null,0,48,26,130000,0,48,4,26800,null,{"$f":"dec!E57","v":29},{"$f":"dec!F57","v":153000},{"$f":"dec!G57","v":3},{"$f":"dec!H57","v":20100},null,-3,-23000,1,6700,-48]
[49,"CAMBRIDGE                    ",49,null,0,0,3,20100,null,0,680,null,null,0,20780,null,41563,null,0,49,null,null,0,49,3,20100,null,{"$f":"dec!E58","v":0},{"$f":"dec!F58","v":0},{"$f":"dec!G58","v":5},{"$f":"dec!H58","v":33500},null,0,0,-2,-13400,-49]
[50,"CANTON                       ",50,null,0,0,1,5000,null,0,0,null,null,0,5000,null,10001,null,0,50,null,null,0,50,1,5000,null,{"$f":"dec!E59","v":0},{"$f":"dec!F59","v":0},{"$f":"dec!G59","v":1},{"$f":"dec!H59","v":6700},null,0,0,0,-1700,-50]
[51,"CARLISLE                     ",51,null,0,0,0,0,null,0,0,null,null,0,0,null,0,null,0,51,null,null,0,51,null,null,null,{"$f":"dec!E60","v":0},{"$f":"dec!F60","v":0},{"$f":"dec!G60","v":0},{"$f":"dec!H60","v":0},null,0,0,0,0,-51]
[52,"CARVER                       ",52,null,20,109334,8,62800,null,0,0,null,null,109334,62800,null,344296,null,0,52,20,109334,0,52,8,62800,null,{"$f":"dec!E61","v":23},{"$f":"dec!F61","v":167791},{"$f":"dec!G61","v":6},{"$f":"dec!H61","v":40200},null,-3,-58457,2,22600,-52]
[53,"CHARLEMONT                   ",53,null,0,0,0,0,null,0,0,null,null,0,0,null,0,null,0,53,null,null,0,53,null,null,null,{"$f":"dec!E62","v":0},{"$f":"dec!F62","v":0},{"$f":"dec!G62","v":0},{"$f":"dec!H62","v":0},null,0,0,0,0,-53]
[54,"CHARLTON                     ",54,null,0,0,0,0,null,0,0,null,null,0,0,null,0,null,0,54,null,null,0,54,null,null,null,{"$f":"dec!E63","v":0},{"$f":"dec!F63","v":0},{"$f":"dec!G63","v":0},{"$f":"dec!H63","v":0},null,0,0,0,0,-54]
[55,"CHATHAM                      ",55,null,0,0,0,0,null,0,0,null,null,0,0,null,0,null,0,55,null,null,0,55,null,null,null,{"$f":"dec!E64","v":0},{"$f":"dec!F64","v":0},{"$f":"dec!G64","v":0},{"$f":"dec!H64","v":0},null,0,0,0,0,-55]
[56,"CHELMSFORD                   ",56,null,44,347643,29,185848,null,0,5309,null,null,347643,191157,null,1077673,null,0,56,44,347643,0,56,29,185848,null,{"$f":"dec!E65","v":59},{"$f":"dec!F65","v":375373},{"$f":"dec!G65","v":29.5},{"$f":"dec!H65","v":207601},null,-15,-27730,-0.5,-21753,-56]
[57,"CHELSEA                      ",57,null,0,0,7,56100,null,0,0,null,null,0,56100,null,112207,null,0,57,null,null,0,57,7,56100,null,{"$f":"dec!E66","v":0},{"$f":"dec!F66","v":0},{"$f":"dec!G66","v":8},{"$f":"dec!H66","v":51900},null,0,0,-1,4200,-57]
[58,"CHESHIRE                     ",58,null,0,0,0,0,null,0,0,null,null,0,0,null,0,null,0,58,null,null,0,58,null,null,null,{"$f":"dec!E67","v":0},{"$f":"dec!F67","v":0},{"$f":"dec!G67","v":0},{"$f":"dec!H67","v":0},null,0,0,0,0,-58]
[59,"CHESTER                      ",59,null,0,0,0,0,null,0,0,null,null,0,0,null,0,null,0,59,null,null,0,59,null,null,null,{"$f":"dec!E68","v":0},{"$f":"dec!F68","v":0},{"$f":"dec!G68","v":0},{"$f":"dec!H68","v":0},null,0,0,0,0,-59]
[60,"CHESTERFIELD                 ",60,null,0,0,0,0,null,0,0,null,null,0,0,null,0,null,0,60,null,null,0,60,null,null,null,{"$f":"dec!E69","v":0},{"$f":"dec!F69","v":0},{"$f":"dec!G69","v":0},{"$f":"dec!H69","v":0},null,0,0,0,0,-60]
[61,"CHICOPEE                     ",61,null,178,943662,125,704438,null,0,0,null,null,943662,704438,null,3296503,null,0,61,178,943662,0,61,125,704438,null,{"$f":"dec!E70","v":195},{"$f":"dec!F70","v":1009093},{"$f":"dec!G70","v":136},{"$f":"dec!H70","v":777720},null,-17,-65431,-11,-73282,-61]
[62,"CHILMARK                     ",62,null,0,0,0,0,null,0,0,null,null,0,0,null,0,null,0,62,null,null,0,62,null,null,null,{"$f":"dec!E71","v":0},{"$f":"dec!F71","v":0},{"$f":"dec!G71","v":0},{"$f":"dec!H71","v":0},null,0,0,0,0,-62]
[63,"CLARKSBURG                   ",63,null,27,149666,11,66000,null,0,0,null,null,149666,66000,null,431370,null,0,63,27,149666,0,63,11,66000,null,{"$f":"dec!E72","v":33},{"$f":"dec!F72","v":203974},{"$f":"dec!G72","v":16},{"$f":"dec!H72","v":107823},null,-6,-54308,-5,-41823,-63]
[64,"CLINTON                      ",64,null,117,785929,122.5,711147,null,0,0,null,null,785929,711147,null,2994391.5,null,0,64,117,785929,0,64,122.5,711147,null,{"$f":"dec!E73","v":79},{"$f":"dec!F73","v":585285},{"$f":"dec!G73","v":121.5},{"$f":"dec!H73","v":675727},null,38,200644,1,35420,-64]
[65,"COHASSET                     ",65,null,0,0,0,0,null,0,0,null,null,0,0,null,{"$f":"SUM(E74:O74)","v":0},null,{"$f":"ABS(A74-T74)","v":0},65,null,null,{"$f":"ABS(X74-A74)","v":0},65,null,null,null,{"$f":"dec!E74","v":0},{"$f":"dec!F74","v":0},{"$f":"dec!G74","v":0},{"$f":"dec!H74","v":0},null,0,0,0,0,-65]
[66,"COLRAIN                      ",66,null,{"$f":"U75","v":0},0,{"$f":"Y75","v":0},0,null,0,0,null,null,{"$f":"F75+J75","v":0},{"$f":"H75+K75","v":0},null,0,null,0,66,null,null,0,66,null,null,null,{"$f":"dec!E75","v":0},{"$f":"dec!F75","v":0},{"$f":"dec!G75","v":0},{"$f":"dec!H75","v":0},null,{"$f":"U75-AB75","v":0},0,{"$f":"Y75-AD75","v":0},0,{"$f":"AL75-A75","v":-66}]
[67,"CONCORD                      ",67,null,0,0,1,5000,null,0,0,null,null,0,5000,null,10001,null,0,67,null,null,0,67,1,5000,null,{"$f":"dec!E76","v":0},{"$f":"dec!F76","v":0},{"$f":"dec!G76","v":3},{"$f":"dec!H76","v":18400},null,0,0,-2,-13400,-67]
[68,"CONWAY                       ",68,null,20,156438,8,60298,null,0,0,null,null,156438,60298,null,433500,null,0,68,20,156438,0,68,8,60298,null,{"$f":"dec!E77","v":21},{"$f":"dec!F77","v":148737},{"$f":"dec!G77","v":9},{"$f":"dec!H77","v":72060},null,-1,7701,-1,-11762,-68]
[69,"CUMMINGTON                   ",69,null,0,0,0,0,null,0,0,null,null,0,0,null,0,null,0,69,null,null,0,69,null,null,null,{"$f":"dec!E78","v":0},{"$f":"dec!F78","v":0},{"$f":"dec!G78","v":0},{"$f":"dec!H78","v":0},null,0,0,0,0,-69]
[70,"DALTON                       ",70,null,0,0,0,0,null,0,0,null,null,0,0,null,0,null,0,70,null,null,0,70,null,null,null,{"$f":"dec!E79","v":0},{"$f":"dec!F79","v":0},{"$f":"dec!G79","v":0},{"$f":"dec!H79","v":0},null,0,0,0,0,-70]
[71,"DANVERS                      ",71,null,0,0,42.5,229600,null,0,0,null,null,0,229600,null,459242.5,null,0,71,null,null,0,71,42.5,229600,null,{"$f":"dec!E80","v":0},{"$f":"dec!F80","v":0},{"$f":"dec!G80","v":52},{"$f":"dec!H80","v":278474},null,0,0,-9.5,-48874,-71]
[72,"DARTMOUTH                    ",72,null,0,0,4,25100,null,0,0,null,null,0,25100,null,50204,null,0,72,null,null,0,72,4,25100,null,{"$f":"dec!E81","v":0},{"$f":"dec!F81","v":0},{"$f":"dec!G81","v":3},{"$f":"dec!H81","v":20100},null,0,0,1,5000,-72]
[73,"DEDHAM                       ",73,null,0,0,5,35800,null,0,10220,null,null,0,46020,null,92045,null,0,73,null,null,0,73,5,35800,null,{"$f":"dec!E82","v":0},{"$f":"dec!F82","v":0},{"$f":"dec!G82","v":5},{"$f":"dec!H82","v":36400},null,0,0,0,-600,-73]
[74,"DEERFIELD                    ",74,null,98,574163,15,92128,null,13438,0,null,null,587601,92128,null,1359571,null,0,74,98,574163,0,74,15,92128,null,{"$f":"dec!E83","v":88},{"$f":"dec!F83","v":572511},{"$f":"dec!G83","v":22},{"$f":"dec!H83","v":126100},null,10,1652,-7,-33972,-74]
[75,"DENNIS                       ",75,null,0,0,0,0,null,0,0,null,null,0,0,null,0,null,0,75,null,null,0,75,null,null,null,{"$f":"dec!E84","v":0},{"$f":"dec!F84","v":0},{"$f":"dec!G84","v":0},{"$f":"dec!H84","v":0},null,0,0,0,0,-75]
[76,"DIGHTON                      ",76,null,0,0,0,0,null,0,0,null,null,0,0,null,0,null,0,76,null,null,0,76,null,null,null,{"$f":"dec!E85","v":0},{"$f":"dec!F85","v":0},{"$f":"dec!G85","v":0},{"$f":"dec!H85","v":0},null,0,0,0,0,-76]
[77,"DOUGLAS                      ",77,null,121,678060,43,248448,null,0,4779,null,null,678060,253227,null,1862738,null,0,77,121,678060,0,77,43,248448,null,{"$f":"dec!E86","v":111},{"$f":"dec!F86","v":614852},{"$f":"dec!G86","v":49},{"$f":"dec!H86","v":284393},null,10,63208,-6,-35945,-77]
[78,"DOVER                        ",78,null,0,0,0,0,null,0,0,null,null,0,0,null,0,null,0,78,null,null,0,78,null,null,null,{"$f":"dec!E87","v":0},{"$f":"dec!F87","v":0},{"$f":"dec!G87","v":0},{"$f":"dec!H87","v":0},null,0,0,0,0,-78]
[79,"DRACUT                       ",79,null,22,119132,18.5,113200,null,0,0,null,null,119132,113200,null,464704.5,null,0,79,22,119132,0,79,18.5,113200,null,{"$f":"dec!E88","v":29},{"$f":"dec!F88","v":157640},{"$f":"dec!G88","v":26},{"$f":"dec!H88","v":158017},null,-7,-38508,-7.5,-44817,-79]
[80,"DUDLEY                       ",80,null,0,0,0,0,null,0,0,null,null,0,0,null,0,null,0,80,null,null,0,80,null,null,null,{"$f":"dec!E89","v":0},{"$f":"dec!F89","v":0},{"$f":"dec!G89","v":0},{"$f":"dec!H89","v":0},null,0,0,0,0,-80]
[81,"DUNSTABLE                    ",81,null,0,0,0,0,null,0,0,null,null,0,0,null,0,null,0,81,null,null,0,81,null,null,null,{"$f":"dec!E90","v":0},{"$f":"dec!F90","v":0},{"$f":"dec!G90","v":0},{"$f":"dec!H90","v":0},null,0,0,0,0,-81]
[82,"DUXBURY                      ",82,null,0,0,0,0,null,0,0,null,null,0,0,null,0,null,0,82,null,null,0,82,null,null,null,{"$f":"dec!E91","v":0},{"$f":"dec!F91","v":0},{"$f":"dec!G91","v":1},{"$f":"dec!H91","v":6700},null,0,0,-1,-6700,-82]
[83,"EAST BRIDGEWATER             ",83,null,16,100000,27,187542,null,0,-50,null,null,100000,187492,null,575027,null,0,83,16,100000,0,83,27,187542,null,{"$f":"dec!E92","v":27},{"$f":"dec!F92","v":201000},{"$f":"dec!G92","v":22},{"$f":"dec!H92","v":154021},null,-11,-101000,5,33521,-83]
[84,"EAST BROOKFIELD              ",84,null,0,0,6,30000,null,0,0,null,null,0,30000,null,60006,null,0,84,null,null,0,84,6,30000,null,{"$f":"dec!E93","v":0},{"$f":"dec!F93","v":0},{"$f":"dec!G93","v":6},{"$f":"dec!H93","v":30000},null,0,0,0,0,-84]
[85,"EASTHAM                      ",86,null,0,0,7,42000,null,0,0,null,null,0,42000,null,84007,null,0,85,null,null,0,85,7,42000,null,{"$f":"dec!E94","v":0},{"$f":"dec!F94","v":0},{"$f":"dec!G94","v":7},{"$f":"dec!H94","v":37560},null,0,0,0,4440,-85]
[86,"EASTHAMPTON                  ",87,null,85,443691,189,1251370,null,0,0,null,null,443691,1251370,null,3390396,null,0,86,85,443691,0,86,189,1251370,null,{"$f":"dec!E95","v":86},{"$f":"dec!F95","v":467402},{"$f":"dec!G95","v":173},{"$f":"dec!H95","v":1154611},null,-1,-23711,16,96759,-86]
[87,"EAST LONGMEADOW              ",85,null,0,0,7,44100,null,0,0,null,null,0,44100,null,88207,null,0,87,null,null,0,87,7,44100,null,{"$f":"dec!E96","v":0},{"$f":"dec!F96","v":0},{"$f":"dec!G96","v":9},{"$f":"dec!H96","v":62800},null,0,0,-2,-18700,-87]
[88,"EASTON                       ",88,null,0,0,10,60829,null,0,0,null,null,0,60829,null,121668,null,0,88,null,null,0,88,10,60829,null,{"$f":"dec!E97","v":0},{"$f":"dec!F97","v":0},{"$f":"dec!G97","v":9},{"$f":"dec!H97","v":54921},null,0,0,1,5908,-88]
[89,"EDGARTOWN                    ",89,null,13,83593,34,184491,null,0,0,null,null,83593,184491,null,536215,null,0,89,13,83593,0,89,34,184491,null,{"$f":"dec!E98","v":8},{"$f":"dec!F98","v":51028},{"$f":"dec!G98","v":33},{"$f":"dec!H98","v":189337},null,5,32565,1,-4846,-89]
[90,"EGREMONT                     ",90,null,0,0,0,0,null,0,0,null,null,0,0,null,0,null,0,90,null,null,0,90,null,null,null,{"$f":"dec!E99","v":0},{"$f":"dec!F99","v":0},{"$f":"dec!G99","v":0},{"$f":"dec!H99","v":0},null,0,0,0,0,-90]
[91,"ERVING                       ",91,null,0,0,44,308509,null,0,0,null,null,0,308509,null,617062,null,0,91,null,null,0,91,44,308509,null,{"$f":"dec!E100","v":0},{"$f":"dec!F100","v":0},{"$f":"dec!G100","v":34},{"$f":"dec!H100","v":183768},null,0,0,10,124741,-91]
[92,"ESSEX                        ",92,null,0,0,0,0,null,0,0,null,null,0,0,null,0,null,0,92,null,null,0,92,null,null,null,{"$f":"dec!E101","v":0},{"$f":"dec!F101","v":0},{"$f":"dec!G101","v":0},{"$f":"dec!H101","v":0},null,0,0,0,0,-92]
[93,"EVERETT                      ",93,null,0,0,17,98287,null,0,0,null,null,0,98287,null,196591,null,0,93,null,null,0,93,17,98287,null,{"$f":"dec!E102","v":0},{"$f":"dec!F102","v":0},{"$f":"dec!G102","v":16},{"$f":"dec!H102","v":100274},null,0,0,1,-1987,-93]
[94,"FAIRHAVEN                    ",94,null,0,0,12,68694,null,0,0,null,null,0,68694,null,137400,null,0,94,null,null,0,94,12,68694,null,{"$f":"dec!E103","v":0},{"$f":"dec!F103","v":0},{"$f":"dec!G103","v":12},{"$f":"dec!H103","v":72646},null,0,0,0,-3952,-94]
[95,"FALL RIVER                   ",95,null,22,110000,78,473041,null,0,23828,null,null,110000,496869,null,1213838,null,0,95,22,110000,0,95,78,473041,null,{"$f":"dec!E104","v":33},{"$f":"dec!F104","v":213000},{"$f":"dec!G104","v":106},{"$f":"dec!H104","v":633074},null,-11,-103000,-28,-160033,-95]
[96,"FALMOUTH                     ",96,null,97,554143,49,291413,null,0,0,null,null,554143,291413,null,1691258,null,0,96,97,554143,0,96,49,291413,null,{"$f":"dec!E105","v":112},{"$f":"dec!F105","v":696289},{"$f":"dec!G105","v":35},{"$f":"dec!H105","v":200977},null,-15,-142146,14,90436,-96]
[97,"FITCHBURG                    ",97,null,185.5,1080242,421,2478843,null,0,605,null,null,1080242,2479448,null,7119986.5,null,0,97,185.5,1080242,0,97,421,2478843,null,{"$f":"dec!E106","v":170},{"$f":"dec!F106","v":973989},{"$f":"dec!G106","v":426},{"$f":"dec!H106","v":2504850},null,15.5,106253,-5,-26007,-97]
[98,"FLORIDA                      ",98,null,1,5000,4,20000,null,0,0,null,null,5000,20000,null,50005,null,0,98,1,5000,0,98,4,20000,null,{"$f":"dec!E107","v":1},{"$f":"dec!F107","v":5000},{"$f":"dec!G107","v":7},{"$f":"dec!H107","v":47000},null,0,0,-3,-27000,-98]
[99,"FOXBOROUGH                   ",99,null,0,0,1,6700,null,0,0,null,null,0,6700,null,13401,null,0,99,null,null,0,99,1,6700,null,{"$f":"dec!E108","v":0},{"$f":"dec!F108","v":0},{"$f":"dec!G108","v":5},{"$f":"dec!H108","v":28400},null,0,0,-4,-21700,-99]
[100,"FRAMINGHAM                   ",100,null,0,0,42,237324,null,0,0,null,null,0,237324,null,474690,null,0,100,null,null,0,100,42,237324,null,{"$f":"dec!E109","v":0},{"$f":"dec!F109","v":0},{"$f":"dec!G109","v":61},{"$f":"dec!H109","v":377803},null,0,0,-19,-140479,-100]
[101,"FRANKLIN                     ",101,null,14,87852,24,143228,null,0,0,null,null,87852,143228,null,462198,null,0,101,14,87852,0,101,24,143228,null,{"$f":"dec!E110","v":7},{"$f":"dec!F110","v":39000},{"$f":"dec!G110","v":31.5},{"$f":"dec!H110","v":193953},null,7,48852,-7.5,-50725,-101]
[102,"FREETOWN                     ",102,null,0,0,0,0,null,0,0,null,null,0,0,null,0,null,0,102,null,null,0,102,null,null,null,{"$f":"dec!E111","v":0},{"$f":"dec!F111","v":0},{"$f":"dec!G111","v":1},{"$f":"dec!H111","v":5000},null,0,0,-1,-5000,-102]
[103,"GARDNER                      ",103,null,140,921429,183,1014451,null,0,19181,null,null,921429,1033632,null,3910445,null,0,103,140,921429,0,103,183,1014451,null,{"$f":"dec!E112","v":116},{"$f":"dec!F112","v":667591},{"$f":"dec!G112","v":241},{"$f":"dec!H112","v":1311559},null,24,253838,-58,-297108,-103]
[104,"GAY HEAD                     ",104,null,0,0,0,0,null,0,0,null,null,0,0,null,0,null,0,104,null,null,0,104,null,null,null,{"$f":"dec!E113","v":0},{"$f":"dec!F113","v":0},{"$f":"dec!G113","v":0},{"$f":"dec!H113","v":0},null,0,0,0,0,-104]
[105,"GEORGETOWN                   ",105,null,37,193768,24,221445,null,0,0,null,null,193768,221445,null,830487,null,0,105,37,193768,0,105,24,221445,null,{"$f":"dec!E114","v":37},{"$f":"dec!F114","v":190439},{"$f":"dec!G114","v":22},{"$f":"dec!H114","v":191661},null,0,3329,2,29784,-105]
[106,"GILL                         ",106,null,0,0,0,0,null,0,0,null,null,0,0,null,0,null,0,106,null,null,0,106,null,null,null,{"$f":"dec!E115","v":0},{"$f":"dec!F115","v":0},{"$f":"dec!G115","v":0},{"$f":"dec!H115","v":0},null,0,0,0,0,-106]
[107,"GLOUCESTER                   ",107,null,39,223405,302,1643777,null,0,0,null,null,223405,1643777,null,3734705,null,0,107,39,223405,0,107,302,1643777,null,{"$f":"dec!E116","v":36},{"$f":"dec!F116","v":193525},{"$f":"dec!G116","v":303},{"$f":"dec!H116","v":1675296},null,3,29880,-1,-31519,-107]
[108,"GOSHEN                       ",108,null,0,0,0,0,null,0,0,null,null,0,0,null,0,null,0,108,null,null,0,108,null,null,null,{"$f":"dec!E117","v":0},{"$f":"dec!F117","v":0},{"$f":"dec!G117","v":0},{"$f":"dec!H117","v":0},null,0,0,0,0,-108]
[109,"GOSNOLD                      ",109,null,0,0,0,0,null,0,0,null,null,0,0,null,0,null,0,109,null,null,0,109,null,null,null,{"$f":"dec!E118","v":0},{"$f":"dec!F118","v":0},{"$f":"dec!G118","v":0},{"$f":"dec!H118","v":0},null,0,0,0,0,-109]
[110,"GRAFTON                      ",110,null,33,191869,23,149526,null,0,4381,null,null,191869,153907,null,691608,null,0,110,33,191869,0,110,23,149526,null,{"$f":"dec!E119","v":42},{"$f":"dec!F119","v":266367},{"$f":"dec!G119","v":35},{"$f":"dec!H119","v":202296},null,-9,-74498,-12,-52770,-110]
[111,"GRANBY                       ",111,null,133,771227,48,310673,null,0,0,null,null,771227,310673,null,2163981,null,0,111,133,771227,0,111,48,310673,null,{"$f":"dec!E120","v":116},{"$f":"dec!F120","v":667038},{"$f":"dec!G120","v":48},{"$f":"dec!H120","v":303479},null,17,104189,0,7194,-111]
[112,"GRANVILLE                    ",112,null,0,0,0,0,null,0,0,null,null,0,0,null,0,null,0,112,null,null,0,112,null,null,null,{"$f":"dec!E121","v":0},{"$f":"dec!F121","v":0},{"$f":"dec!G121","v":0},{"$f":"dec!H121","v":0},null,0,0,0,0,-112]
[113,"GREAT BARRINGTON             ",113,null,0,0,0,0,null,0,0,null,null,0,0,null,0,null,0,113,null,null,0,113,null,null,null,{"$f":"dec!E122","v":0},{"$f":"dec!F122","v":0},{"$f":"dec!G122","v":0},{"$f":"dec!H122","v":0},null,0,0,0,0,-113]
[114,"GREENFIELD                   ",114,null,83,508768,331,2199691,null,0,17102,null,null,508768,2216793,null,5451536,null,0,114,83,508768,0,114,331,2199691,null,{"$f":"dec!E123","v":109},{"$f":"dec!F123","v":661041},{"$f":"dec!G123","v":319.5},{"$f":"dec!H123","v":2219044},null,-26,-152273,11.5,-19353,-114]
[115,"GROTON                       ",115,null,0,0,0,0,null,0,0,null,null,0,0,null,0,null,0,115,null,null,0,115,null,null,null,{"$f":"dec!E124","v":0},{"$f":"dec!F124","v":0},{"$f":"dec!G124","v":0},{"$f":"dec!H124","v":0},null,0,0,0,0,-115]
[116,"GROVELAND                    ",116,null,0,0,0,0,null,0,0,null,null,0,0,null,0,null,0,116,null,null,0,116,null,null,null,{"$f":"dec!E125","v":0},{"$f":"dec!F125","v":0},{"$f":"dec!G125","v":0},{"$f":"dec!H125","v":0},null,0,0,0,0,-116]
[117,"HADLEY                       ",117,null,99,551534,62,419383,null,0,0,null,null,551534,419383,null,1941995,null,0,117,99,551534,0,117,62,419383,null,{"$f":"dec!E126","v":97},{"$f":"dec!F126","v":545205},{"$f":"dec!G126","v":48},{"$f":"dec!H126","v":314228},null,2,6329,14,105155,-117]
[118,"HALIFAX                      ",118,null,0,0,1,5000,null,0,0,null,null,0,5000,null,10001,null,0,118,null,null,0,118,1,5000,null,{"$f":"dec!E127","v":0},{"$f":"dec!F127","v":0},{"$f":"dec!G127","v":1},{"$f":"dec!H127","v":5000},null,0,0,0,0,-118]
[119,"HAMILTON                     ",119,null,0,0,0,0,null,0,0,null,null,0,0,null,0,null,0,119,null,null,0,119,null,null,null,{"$f":"dec!E128","v":0},{"$f":"dec!F128","v":0},{"$f":"dec!G128","v":0},{"$f":"dec!H128","v":0},null,0,0,0,0,-119]
[120,"HAMPDEN                      ",120,null,0,0,0,0,null,0,0,null,null,0,0,null,0,null,0,120,null,null,0,120,null,null,null,{"$f":"dec!E129","v":0},{"$f":"dec!F129","v":0},{"$f":"dec!G129","v":0},{"$f":"dec!H129","v":0},null,0,0,0,0,-120]
[121,"HANCOCK                      ",121,null,3,39986,9,45000,null,0,0,null,null,39986,45000,null,169984,null,0,121,3,39986,0,121,9,45000,null,{"$f":"dec!E130","v":4},{"$f":"dec!F130","v":24000},{"$f":"dec!G130","v":5},{"$f":"dec!H130","v":25000},null,-1,15986,4,20000,-121]
[122,"HANOVER                      ",122,null,0,0,1,6700,null,0,0,null,null,0,6700,null,13401,null,0,122,null,null,0,122,1,6700,null,{"$f":"dec!E131","v":0},{"$f":"dec!F131","v":0},{"$f":"dec!G131","v":2},{"$f":"dec!H131","v":10000},null,0,0,-1,-3300,-122]
[123,"HANSON                       ",123,null,0,0,0,0,null,0,0,null,null,0,0,null,0,null,0,123,null,null,0,123,null,null,null,{"$f":"dec!E132","v":0},{"$f":"dec!F132","v":0},{"$f":"dec!G132","v":0},{"$f":"dec!H132","v":0},null,0,0,0,0,-123]
[124,"HARDWICK                     ",124,null,0,0,0,0,null,0,0,null,null,0,0,null,0,null,0,124,null,null,0,124,null,null,null,{"$f":"dec!E133","v":0},{"$f":"dec!F133","v":0},{"$f":"dec!G133","v":0},{"$f":"dec!H133","v":0},null,0,0,0,0,-124]
[125,"HARVARD                      ",125,null,70,374135,6,36515,null,0,0,null,null,374135,36515,null,821376,null,0,125,70,374135,0,125,6,36515,null,{"$f":"dec!E134","v":68},{"$f":"dec!F134","v":358354},{"$f":"dec!G134","v":4},{"$f":"dec!H134","v":20000},null,2,15781,2,16515,-125]
[126,"HARWICH                      ",126,null,0,0,0,0,null,0,0,null,null,0,0,null,0,null,0,126,null,null,0,126,null,null,null,{"$f":"dec!E135","v":0},{"$f":"dec!F135","v":0},{"$f":"dec!G135","v":0},{"$f":"dec!H135","v":0},null,0,0,0,0,-126]
[127,"HATFIELD                     ",127,null,121,769752,33,235641,null,0,0,null,null,769752,235641,null,2010940,null,0,127,121,769752,0,127,33,235641,null,{"$f":"dec!E136","v":131},{"$f":"dec!F136","v":850119},{"$f":"dec!G136","v":30},{"$f":"dec!H136","v":205121},null,-10,-80367,3,30520,-127]
[128,"HAVERHILL                    ",128,null,53,418989,207,1148177,null,0,0,null,null,418989,1148177,null,3134592,null,0,128,53,418989,0,128,207,1148177,null,{"$f":"dec!E137","v":36},{"$f":"dec!F137","v":191343},{"$f":"dec!G137","v":189},{"$f":"dec!H137","v":1095599},null,17,227646,18,52578,-128]
[129,"HAWLEY                       ",129,null,0,0,0,0,null,0,0,null,null,0,0,null,{"$f":"SUM(E138:O138)","v":0},null,{"$f":"ABS(A138-T138)","v":0},129,null,null,{"$f":"ABS(X138-A138)","v":0},129,null,null,null,{"$f":"dec!E138","v":0},{"$f":"dec!F138","v":0},{"$f":"dec!G138","v":0},{"$f":"dec!H138","v":0},null,0,0,0,0,-129]
[130,"HEATH                        ",130,null,{"$f":"U139","v":0},0,{"$f":"Y139","v":0},0,null,0,0,null,null,{"$f":"F139+J139","v":0},{"$f":"H139+K139","v":0},null,0,null,0,130,null,null,0,130,null,null,null,{"$f":"dec!E139","v":0},{"$f":"dec!F139","v":0},{"$f":"dec!G139","v":0},{"$f":"dec!H139","v":0},null,{"$f":"U139-AB139","v":0},0,{"$f":"Y139-AD139","v":0},0,{"$f":"AL139-A139","v":-130}]
[131,"HINGHAM                      ",131,null,0,0,0,0,null,0,0,null,null,0,0,null,0,null,0,131,null,null,0,131,null,null,null,{"$f":"dec!E140","v":0},{"$f":"dec!F140","v":0},{"$f":"dec!G140","v":3},{"$f":"dec!H140","v":28100},null,0,0,-3,-28100,-131]
[132,"HINSDALE                     ",132,null,0,0,0,0,null,0,0,null,null,0,0,null,0,null,0,132,null,null,0,132,null,null,null,{"$f":"dec!E141","v":0},{"$f":"dec!F141","v":0},{"$f":"dec!G141","v":0},{"$f":"dec!H141","v":0},null,0,0,0,0,-132]
[133,"HOLBROOK                     ",133,null,59,328985,16.5,96700,null,0,0,null,null,328985,96700,null,851445.5,null,0,133,59,328985,0,133,16.5,96700,null,{"$f":"dec!E142","v":57},{"$f":"dec!F142","v":306291},{"$f":"dec!G142","v":15},{"$f":"dec!H142","v":85200},null,2,22694,1.5,11500,-133]
[134,"HOLDEN                       ",134,null,0,0,0,0,null,0,0,null,null,0,0,null,0,null,0,134,null,null,0,134,null,null,null,{"$f":"dec!E143","v":0},{"$f":"dec!F143","v":0},{"$f":"dec!G143","v":0},{"$f":"dec!H143","v":0},null,0,0,0,0,-134]
[135,"HOLLAND                      ",135,null,40,247160,1,5000,null,0,0,null,null,247160,5000,null,504361,null,0,135,40,247160,0,135,1,5000,null,{"$f":"dec!E144","v":50},{"$f":"dec!F144","v":275872},{"$f":"dec!G144","v":1},{"$f":"dec!H144","v":5000},null,-10,-28712,0,0,-135]
[136,"HOLLISTON                    ",136,null,155.5,920466,5.5,41948,null,0,0,null,null,920466,41948,null,1924989,null,0,136,155.5,920466,0,136,5.5,41948,null,{"$f":"dec!E145","v":163},{"$f":"dec!F145","v":1058438},{"$f":"dec!G145","v":14},{"$f":"dec!H145","v":94295},null,-7.5,-137972,-8.5,-52347,-136]
[137,"HOLYOKE                      ",137,null,57,355704,330,1952896,null,0,5715,null,null,355704,1958611,null,4629017,null,0,137,57,355704,0,137,330,1952896,null,{"$f":"dec!E146","v":56},{"$f":"dec!F146","v":316976},{"$f":"dec!G146","v":339},{"$f":"dec!H146","v":2020196},null,1,38728,-9,-67300,-137]
[138,"HOPEDALE                     ",138,null,128,714636,48.5,288792,null,0,0,null,null,714636,288792,null,2007032.5,null,0,138,128,714636,0,138,48.5,288792,null,{"$f":"dec!E147","v":120},{"$f":"dec!F147","v":666244},{"$f":"dec!G147","v":43},{"$f":"dec!H147","v":260019},null,8,48392,5.5,28773,-138]
[139,"HOPKINTON                    ",139,null,0,0,13.5,69483,null,0,0,null,null,0,69483,null,138979.5,null,0,139,null,null,0,139,13.5,69483,null,{"$f":"dec!E148","v":0},{"$f":"dec!F148","v":0},{"$f":"dec!G148","v":18.5},{"$f":"dec!H148","v":104415},null,0,0,-5,-34932,-139]
[140,"HUBBARDSTON                  ",140,null,0,0,0,0,null,0,0,null,null,0,0,null,0,null,0,140,null,null,0,140,null,null,null,{"$f":"dec!E149","v":0},{"$f":"dec!F149","v":0},{"$f":"dec!G149","v":0},{"$f":"dec!H149","v":0},null,0,0,0,0,-140]
[141,"HUDSON                       ",141,null,97,533666,20,108684,null,0,0,null,null,533666,108684,null,1284817,null,0,141,97,533666,0,141,20,108684,null,{"$f":"dec!E150","v":92},{"$f":"dec!F150","v":554577},{"$f":"dec!G150","v":15},{"$f":"dec!H150","v":104422},null,5,-20911,5,4262,-141]
[142,"HULL                         ",142,null,0,0,5,37500,null,0,738,null,null,0,38238,null,76481,null,0,142,null,null,0,142,5,37500,null,{"$f":"dec!E151","v":0},{"$f":"dec!F151","v":0},{"$f":"dec!G151","v":5},{"$f":"dec!H151","v":38189},null,0,0,0,-689,-142]
[143,"HUNTINGTON                   ",143,null,0,0,0,0,null,0,0,null,null,0,0,null,0,null,0,143,null,null,0,143,null,null,null,{"$f":"dec!E152","v":0},{"$f":"dec!F152","v":0},{"$f":"dec!G152","v":1},{"$f":"dec!H152","v":5000},null,0,0,-1,-5000,-143]
[144,"IPSWICH                      ",144,null,70,371756,19,104411,null,0,0,null,null,371756,104411,null,952423,null,0,144,70,371756,0,144,19,104411,null,{"$f":"dec!E153","v":66},{"$f":"dec!F153","v":365038},{"$f":"dec!G153","v":17},{"$f":"dec!H153","v":99253},null,4,6718,2,5158,-144]
[145,"KINGSTON                     ",145,null,0,0,0,0,null,0,0,null,null,0,0,null,0,null,0,145,null,null,0,145,null,null,null,{"$f":"dec!E154","v":0},{"$f":"dec!F154","v":0},{"$f":"dec!G154","v":0},{"$f":"dec!H154","v":0},null,0,0,0,0,-145]
[146,"LAKEVILLE                    ",146,null,0,0,0,0,null,0,0,null,null,0,0,null,0,null,0,146,null,null,0,146,null,null,null,{"$f":"dec!E155","v":0},{"$f":"dec!F155","v":0},{"$f":"dec!G155","v":0},{"$f":"dec!H155","v":0},null,0,0,0,0,-146]
[147,"LANCASTER                    ",147,null,0,0,0,0,null,0,0,null,null,0,0,null,0,null,0,147,null,null,0,147,null,null,null,{"$f":"dec!E156","v":0},{"$f":"dec!F156","v":0},{"$f":"dec!G156","v":0},{"$f":"dec!H156","v":0},null,0,0,0,0,-147]
[148,"LANESBOROUGH                 ",148,null,20,120334,23,120028,null,0,0,null,null,120334,120028,null,480767,null,0,148,20,120334,0,148,23,120028,null,{"$f":"dec!E157","v":19},{"$f":"dec!F157","v":115999},{"$f":"dec!G157","v":22},{"$f":"dec!H157","v":111635},null,1,4335,1,8393,-148]
[149,"LAWRENCE                     ",149,null,0,0,56,400251,null,0,12349,null,null,0,412600,null,825256,null,0,149,null,null,0,149,56,400251,null,{"$f":"dec!E158","v":0},{"$f":"dec!F158","v":0},{"$f":"dec!G158","v":70.5},{"$f":"dec!H158","v":444484},null,0,0,-14.5,-44233,-149]
[150,"LEE                          ",150,null,128,714186,84,458556,null,0,0,null,null,714186,458556,null,2345696,null,0,150,128,714186,0,150,84,458556,null,{"$f":"dec!E159","v":128},{"$f":"dec!F159","v":729588},{"$f":"dec!G159","v":100},{"$f":"dec!H159","v":561288},null,0,-15402,-16,-102732,-150]
[151,"LEICESTER                    ",151,null,84,498433,33,170236,null,0,0,null,null,498433,170236,null,1337455,null,0,151,84,498433,0,151,33,170236,null,{"$f":"dec!E160","v":97},{"$f":"dec!F160","v":558265},{"$f":"dec!G160","v":34.5},{"$f":"dec!H160","v":190973},null,-13,-59832,-1.5,-20737,-151]
[152,"LENOX                        ",152,null,248,1279572,48,304655,null,0,0,null,null,1279572,304655,null,3168750,null,0,152,248,1279572,0,152,48,304655,null,{"$f":"dec!E161","v":255},{"$f":"dec!F161","v":1329856},{"$f":"dec!G161","v":50},{"$f":"dec!H161","v":286394},null,-7,-50284,-2,18261,-152]
[153,"LEOMINSTER                   ",153,null,246,1441093,333,1971663,null,0,0,null,null,1441093,1971663,null,6826091,null,0,153,246,1441093,0,153,333,1971663,null,{"$f":"dec!E162","v":246},{"$f":"dec!F162","v":1367932},{"$f":"dec!G162","v":322.5},{"$f":"dec!H162","v":1886475},null,0,73161,10.5,85188,-153]
[154,"LEVERETT                     ",154,null,20,187743,7,35000,null,0,0,null,null,187743,35000,null,445513,null,0,154,20,187743,0,154,7,35000,null,{"$f":"dec!E163","v":21},{"$f":"dec!F163","v":139816},{"$f":"dec!G163","v":6},{"$f":"dec!H163","v":31700},null,-1,47927,1,3300,-154]
[155,"LEXINGTON                    ",155,null,0,0,3,56700,null,0,0,null,null,0,56700,null,113403,null,0,155,null,null,0,155,3,56700,null,{"$f":"dec!E164","v":0},{"$f":"dec!F164","v":0},{"$f":"dec!G164","v":6},{"$f":"dec!H164","v":38500},null,0,0,-3,18200,-155]
[156,"LEYDEN                       ",156,null,0,0,0,0,null,0,0,null,null,0,0,null,0,null,0,156,null,null,0,156,null,null,null,{"$f":"dec!E165","v":0},{"$f":"dec!F165","v":0},{"$f":"dec!G165","v":0},{"$f":"dec!H165","v":0},null,0,0,0,0,-156]
[157,"LINCOLN                      ",157,null,0,0,1,6700,null,0,0,null,null,0,6700,null,13401,null,0,157,null,null,0,157,1,6700,null,{"$f":"dec!E166","v":0},{"$f":"dec!F166","v":0},{"$f":"dec!G166","v":3},{"$f":"dec!H166","v":20100},null,0,0,-2,-13400,-157]
[158,"LITTLETON                    ",158,null,67.5,387790,20,111400,null,0,0,null,null,387790,111400,null,998467.5,null,0,158,67.5,387790,0,158,20,111400,null,{"$f":"dec!E167","v":79.5},{"$f":"dec!F167","v":453343},{"$f":"dec!G167","v":22},{"$f":"dec!H167","v":145578},null,-12,-65553,-2,-34178,-158]
[159,"LONGMEADOW                   ",159,null,39,282043,2,15700,null,0,0,null,null,282043,15700,null,595527,null,0,159,39,282043,0,159,2,15700,null,{"$f":"dec!E168","v":38},{"$f":"dec!F168","v":284642},{"$f":"dec!G168","v":1},{"$f":"dec!H168","v":5000},null,1,-2599,1,10700,-159]
[160,"LOWELL                       ",160,null,0,0,100.5,719918,null,0,11678,null,null,0,731596,null,1463292.5,null,0,160,null,null,0,160,100.5,719918,null,{"$f":"dec!E169","v":0},{"$f":"dec!F169","v":0},{"$f":"dec!G169","v":140},{"$f":"dec!H169","v":889811},null,0,0,-39.5,-169893,-160]
[161,"LUDLOW                       ",161,null,82,485208,34,195700,null,0,0,null,null,485208,195700,null,1361932,null,0,161,82,485208,0,161,34,195700,null,{"$f":"dec!E170","v":96},{"$f":"dec!F170","v":611083},{"$f":"dec!G170","v":39},{"$f":"dec!H170","v":212834},null,-14,-125875,-5,-17134,-161]
[162,"LUNENBURG                    ",162,null,39,215790,87,530969,null,0,0,null,null,215790,530969,null,1493644,null,0,162,39,215790,0,162,87,530969,null,{"$f":"dec!E171","v":53},{"$f":"dec!F171","v":303389},{"$f":"dec!G171","v":75},{"$f":"dec!H171","v":439103},null,-14,-87599,12,91866,-162]
[163,"LYNN                         ",163,null,0,0,75,444312,null,0,26818,null,null,0,471130,null,942335,null,0,163,null,null,0,163,75,444312,null,{"$f":"dec!E172","v":0},{"$f":"dec!F172","v":0},{"$f":"dec!G172","v":99},{"$f":"dec!H172","v":606998},null,0,0,-24,-162686,-163]
[164,"LYNNFIELD                    ",164,null,0,0,1,5000,null,0,0,null,null,0,5000,null,10001,null,0,164,null,null,0,164,1,5000,null,{"$f":"dec!E173","v":0},{"$f":"dec!F173","v":0},{"$f":"dec!G173","v":0},{"$f":"dec!H173","v":0},null,0,0,1,5000,-164]
[165,"MALDEN                       ",165,null,0,0,6.5,39662,null,0,738,null,null,0,40400,null,80806.5,null,0,165,null,null,0,165,6.5,39662,null,{"$f":"dec!E174","v":0},{"$f":"dec!F174","v":0},{"$f":"dec!G174","v":8},{"$f":"dec!H174","v":50800},null,0,0,-1.5,-11138,-165]
[166,"MANCHESTER                   ",166,null,0,0,0,0,null,0,0,null,null,0,0,null,0,null,0,166,null,null,0,166,null,null,null,{"$f":"dec!E175","v":0},{"$f":"dec!F175","v":0},{"$f":"dec!G175","v":0},{"$f":"dec!H175","v":0},null,0,0,0,0,-166]
[167,"MANSFIELD                    ",167,null,0,0,5,28400,null,0,0,null,null,0,28400,null,56805,null,0,167,null,null,0,167,5,28400,null,{"$f":"dec!E176","v":0},{"$f":"dec!F176","v":0},{"$f":"dec!G176","v":6.5},{"$f":"dec!H176","v":37600},null,0,0,-1.5,-9200,-167]
[168,"MARBLEHEAD                   ",168,null,0,0,1,6700,null,0,3984,null,null,0,10684,null,21369,null,0,168,null,null,0,168,1,6700,null,{"$f":"dec!E177","v":0},{"$f":"dec!F177","v":0},{"$f":"dec!G177","v":5},{"$f":"dec!H177","v":34100},null,0,0,-4,-27400,-168]
[169,"MARION                       ",169,null,0,0,1,13700,null,0,0,null,null,0,13700,null,27401,null,0,169,null,null,0,169,1,13700,null,{"$f":"dec!E178","v":0},{"$f":"dec!F178","v":0},{"$f":"dec!G178","v":0},{"$f":"dec!H178","v":0},null,0,0,1,13700,-169]
[170,"MARLBOROUGH                  ",170,null,0,0,86.5,506070,null,0,0,null,null,0,506070,null,1012226.5,null,0,170,null,null,0,170,86.5,506070,null,{"$f":"dec!E179","v":0},{"$f":"dec!F179","v":0},{"$f":"dec!G179","v":87.5},{"$f":"dec!H179","v":526099},null,0,0,-1,-20029,-170]
[171,"MARSHFIELD                   ",171,null,6,41000,7,43800,null,0,3123,null,null,41000,46923,null,175859,null,0,171,6,41000,0,171,7,43800,null,{"$f":"dec!E180","v":5},{"$f":"dec!F180","v":25000},{"$f":"dec!G180","v":5},{"$f":"dec!H180","v":33500},null,1,16000,2,10300,-171]
[172,"MASHPEE                      ",172,null,67,383169,69,379407,null,0,0,null,null,383169,379407,null,1525288,null,0,172,67,383169,0,172,69,379407,null,{"$f":"dec!E181","v":68},{"$f":"dec!F181","v":397671},{"$f":"dec!G181","v":82},{"$f":"dec!H181","v":476511},null,-1,-14502,-13,-97104,-172]
[173,"MATTAPOISETT                 ",173,null,3,19000,0,0,null,0,0,null,null,19000,0,null,38003,null,0,173,3,19000,0,173,null,null,null,{"$f":"dec!E182","v":2},{"$f":"dec!F182","v":37512},{"$f":"dec!G182","v":2},{"$f":"dec!H182","v":14481},null,1,-18512,-2,-14481,-173]
[174,"MAYNARD                      ",174,null,33,203091,15.5,80082,null,0,0,null,null,203091,80082,null,566394.5,null,0,174,33,203091,0,174,15.5,80082,null,{"$f":"dec!E183","v":40.5},{"$f":"dec!F183","v":335347},{"$f":"dec!G183","v":10},{"$f":"dec!H183","v":52445},null,-7.5,-132256,5.5,27637,-174]
[175,"MEDFIELD                     ",175,null,0,0,3,15000,null,0,0,null,null,0,15000,null,30003,null,0,175,null,null,0,175,3,15000,null,{"$f":"dec!E184","v":0},{"$f":"dec!F184","v":0},{"$f":"dec!G184","v":5},{"$f":"dec!H184","v":34100},null,0,0,-2,-19100,-175]
[176,"MEDFORD                      ",176,null,0,0,1.5,10088,null,0,8431,null,null,0,18519,null,37039.5,null,0,176,null,null,0,176,1.5,10088,null,{"$f":"dec!E185","v":0},{"$f":"dec!F185","v":0},{"$f":"dec!G185","v":9},{"$f":"dec!H185","v":62200},null,0,0,-7.5,-52112,-176]
[177,"MEDWAY                       ",177,null,72.5,418729,40,221298,null,0,0,null,null,418729,221298,null,1280166.5,null,0,177,72.5,418729,0,177,40,221298,null,{"$f":"dec!E186","v":88},{"$f":"dec!F186","v":501540},{"$f":"dec!G186","v":46},{"$f":"dec!H186","v":261598},null,-15.5,-82811,-6,-40300,-177]
[178,"MELROSE                      ",178,null,9,42633,4,36100,null,0,0,null,null,42633,36100,null,157479,null,0,178,9,42633,0,178,4,36100,null,{"$f":"dec!E187","v":23},{"$f":"dec!F187","v":130000},{"$f":"dec!G187","v":3},{"$f":"dec!H187","v":20103},null,-14,-87367,1,15997,-178]
[179,"MENDON                       ",179,null,0,0,0,0,null,0,0,null,null,0,0,null,0,null,0,179,null,null,0,179,null,null,null,{"$f":"dec!E188","v":0},{"$f":"dec!F188","v":0},{"$f":"dec!G188","v":0},{"$f":"dec!H188","v":0},null,0,0,0,0,-179]
[180,"MERRIMAC                     ",180,null,0,0,0,0,null,0,0,null,null,0,0,null,0,null,0,180,null,null,0,180,null,null,null,{"$f":"dec!E189","v":0},{"$f":"dec!F189","v":0},{"$f":"dec!G189","v":0},{"$f":"dec!H189","v":0},null,0,0,0,0,-180]
[181,"METHUEN                      ",181,null,0,0,21,133500,null,0,5574,null,null,0,139074,null,278169,null,0,181,null,null,0,181,21,133500,null,{"$f":"dec!E190","v":0},{"$f":"dec!F190","v":0},{"$f":"dec!G190","v":24},{"$f":"dec!H190","v":142700},null,0,0,-3,-9200,-181]
[182,"MIDDLEBOROUGH                ",182,null,3,15000,48,270252,null,0,0,null,null,15000,270252,null,570555,null,0,182,3,15000,0,182,48,270252,null,{"$f":"dec!E191","v":5},{"$f":"dec!F191","v":25000},{"$f":"dec!G191","v":43},{"$f":"dec!H191","v":245319},null,-2,-10000,5,24933,-182]
[183,"MIDDLEFIELD                  ",183,null,0,0,0,0,null,0,0,null,null,0,0,null,0,null,0,183,null,null,0,183,null,null,null,{"$f":"dec!E192","v":0},{"$f":"dec!F192","v":0},{"$f":"dec!G192","v":0},{"$f":"dec!H192","v":0},null,0,0,0,0,-183]
[184,"MIDDLETON                    ",184,null,0,0,0,0,null,0,0,null,null,0,0,null,0,null,0,184,null,null,0,184,null,null,null,{"$f":"dec!E193","v":0},{"$f":"dec!F193","v":0},{"$f":"dec!G193","v":1},{"$f":"dec!H193","v":6700},null,0,0,-1,-6700,-184]
[185,"MILFORD                      ",185,null,80,438321,178.5,1039597,null,0,0,null,null,438321,1039597,null,2956094.5,null,0,185,80,438321,0,185,178.5,1039597,null,{"$f":"dec!E194","v":77},{"$f":"dec!F194","v":442124},{"$f":"dec!G194","v":198},{"$f":"dec!H194","v":1168463},null,3,-3803,-19.5,-128866,-185]
[186,"MILLBURY                     ",186,null,0,0,20,114993,null,0,0,null,null,0,114993,null,230006,null,0,186,null,null,0,186,20,114993,null,{"$f":"dec!E195","v":0},{"$f":"dec!F195","v":0},{"$f":"dec!G195","v":26},{"$f":"dec!H195","v":159604},null,0,0,-6,-44611,-186]
[187,"MILLIS                       ",187,null,64,358571,30.5,167460,null,0,0,null,null,358571,167460,null,1052156.5,null,0,187,64,358571,0,187,30.5,167460,null,{"$f":"dec!E196","v":70},{"$f":"dec!F196","v":376474},{"$f":"dec!G196","v":29},{"$f":"dec!H196","v":182848},null,-6,-17903,1.5,-15388,-187]
[188,"MILLVILLE                    ",188,null,0,0,0,0,null,0,0,null,null,0,0,null,0,null,0,188,null,null,0,188,null,null,null,{"$f":"dec!E197","v":0},{"$f":"dec!F197","v":0},{"$f":"dec!G197","v":0},{"$f":"dec!H197","v":0},null,0,0,0,0,-188]
[189,"MILTON                       ",189,null,0,0,4,26800,null,0,0,null,null,0,26800,null,53604,null,0,189,null,null,0,189,4,26800,null,{"$f":"dec!E198","v":0},{"$f":"dec!F198","v":0},{"$f":"dec!G198","v":4},{"$f":"dec!H198","v":26800},null,0,0,0,0,-189]
[190,"MONROE                       ",190,null,0,0,0,0,null,0,0,null,null,0,0,null,0,null,0,190,null,null,0,190,null,null,null,{"$f":"dec!E199","v":0},{"$f":"dec!F199","v":0},{"$f":"dec!G199","v":1},{"$f":"dec!H199","v":5000},null,0,0,-1,-5000,-190]
[191,"MONSON                       ",191,null,40,222996,41,225879,null,0,0,null,null,222996,225879,null,897831,null,0,191,40,222996,0,191,41,225879,null,{"$f":"dec!E200","v":52},{"$f":"dec!F200","v":308926},{"$f":"dec!G200","v":37},{"$f":"dec!H200","v":207987},null,-12,-85930,4,17892,-191]
[192,"MONTAGUE                     ",192,null,0,0,0,0,null,0,0,null,null,0,0,null,0,null,0,192,null,null,0,192,null,null,null,{"$f":"dec!E201","v":0},{"$f":"dec!F201","v":0},{"$f":"dec!G201","v":0},{"$f":"dec!H201","v":0},null,0,0,0,0,-192]
[193,"MONTEREY                     ",193,null,0,0,0,0,null,0,0,null,null,0,0,null,{"$f":"SUM(E202:O202)","v":0},null,{"$f":"ABS(A202-T202)","v":0},193,null,null,{"$f":"ABS(X202-A202)","v":0},193,null,null,null,{"$f":"dec!E202","v":0},{"$f":"dec!F202","v":0},{"$f":"dec!G202","v":0},{"$f":"dec!H202","v":0},null,0,0,0,0,-193]
[194,"MONTGOMERY                   ",194,null,{"$f":"U203","v":0},0,{"$f":"Y203","v":0},0,null,0,0,null,null,{"$f":"F203+J203","v":0},{"$f":"H203+K203","v":0},null,0,null,0,194,null,null,0,194,null,null,null,{"$f":"dec!E203","v":0},{"$f":"dec!F203","v":0},{"$f":"dec!G203","v":0},{"$f":"dec!H203","v":0},null,{"$f":"U203-AB203","v":0},0,{"$f":"Y203-AD203","v":0},0,{"$f":"AL203-A203","v":-194}]
[195,"MOUNT WASHINGTON             ",195,null,0,0,1,5000,null,0,0,null,null,0,5000,null,10001,null,0,195,null,null,0,195,1,5000,null,{"$f":"dec!E204","v":0},{"$f":"dec!F204","v":0},{"$f":"dec!G204","v":1},{"$f":"dec!H204","v":5000},null,0,0,0,0,-195]
[196,"NAHANT                       ",196,null,0,0,0,0,null,0,0,null,null,0,0,null,0,null,0,196,null,null,0,196,null,null,null,{"$f":"dec!E205","v":0},{"$f":"dec!F205","v":0},{"$f":"dec!G205","v":0},{"$f":"dec!H205","v":0},null,0,0,0,0,-196]
[197,"NANTUCKET                    ",197,null,0,0,0,0,null,0,0,null,null,0,0,null,0,null,0,197,null,null,0,197,null,null,null,{"$f":"dec!E206","v":0},{"$f":"dec!F206","v":0},{"$f":"dec!G206","v":1},{"$f":"dec!H206","v":6700},null,0,0,-1,-6700,-197]
[198,"NATICK                       ",198,null,37,218775,9,53500,null,0,3454,null,null,218775,56954,null,551504,null,0,198,37,218775,0,198,9,53500,null,{"$f":"dec!E207","v":39},{"$f":"dec!F207","v":261473},{"$f":"dec!G207","v":11},{"$f":"dec!H207","v":74094},null,-2,-42698,-2,-20594,-198]
[199,"NEEDHAM                      ",199,null,0,0,3,20700,null,0,0,null,null,0,20700,null,41403,null,0,199,null,null,0,199,3,20700,null,{"$f":"dec!E208","v":0},{"$f":"dec!F208","v":0},{"$f":"dec!G208","v":6},{"$f":"dec!H208","v":42500},null,0,0,-3,-21800,-199]
[200,"NEW ASHFORD                  ",200,null,0,0,3,43825,null,0,0,null,null,0,43825,null,87653,null,0,200,null,null,0,200,3,43825,null,{"$f":"dec!E209","v":0},{"$f":"dec!F209","v":0},{"$f":"dec!G209","v":1},{"$f":"dec!H209","v":5000},null,0,0,2,38825,-200]
[201,"NEW BEDFORD                  ",201,null,0,0,54,346748,null,0,10352,null,null,0,357100,null,714254,null,0,201,null,null,0,201,54,346748,null,{"$f":"dec!E210","v":0},{"$f":"dec!F210","v":0},{"$f":"dec!G210","v":78},{"$f":"dec!H210","v":505748},null,0,0,-24,-159000,-201]
[202,"NEW BRAINTREE                ",202,null,0,0,0,0,null,0,0,null,null,0,0,null,0,null,0,202,null,null,0,202,null,null,null,{"$f":"dec!E211","v":0},{"$f":"dec!F211","v":0},{"$f":"dec!G211","v":0},{"$f":"dec!H211","v":0},null,0,0,0,0,-202]
[203,"NEWBURY                      ",205,null,0,0,0,0,null,0,0,null,null,0,0,null,0,null,0,203,null,null,0,203,null,null,null,{"$f":"dec!E212","v":0},{"$f":"dec!F212","v":0},{"$f":"dec!G212","v":0},{"$f":"dec!H212","v":0},null,0,0,0,0,-203]
[204,"NEWBURYPORT                  ",206,null,57,751375,52.5,330300,null,0,1731,null,null,751375,332031,null,2166921.5,null,0,204,57,751375,0,204,52.5,330300,null,{"$f":"dec!E213","v":43},{"$f":"dec!F213","v":671478},{"$f":"dec!G213","v":44},{"$f":"dec!H213","v":288690},null,14,79897,8.5,41610,-204]
[205,"NEW MARLBOROUGH              ",203,null,0,0,0,0,null,0,0,null,null,0,0,null,0,null,0,205,null,null,0,205,null,null,null,{"$f":"dec!E214","v":0},{"$f":"dec!F214","v":0},{"$f":"dec!G214","v":0},{"$f":"dec!H214","v":0},null,0,0,0,0,-205]
[206,"NEW SALEM                    ",204,null,0,0,0,0,null,0,0,null,null,0,0,null,0,null,0,206,null,null,0,206,null,null,null,{"$f":"dec!E215","v":0},{"$f":"dec!F215","v":0},{"$f":"dec!G215","v":0},{"$f":"dec!H215","v":0},null,0,0,0,0,-206]
[207,"NEWTON                       ",207,null,0,0,0,0,null,0,4448,null,null,0,4448,null,8896,null,0,207,null,null,0,207,null,null,null,{"$f":"dec!E216","v":0},{"$f":"dec!F216","v":0},{"$f":"dec!G216","v":7},{"$f":"dec!H216","v":50900},null,0,0,-7,-50900,-207]
[208,"NORFOLK                      ",208,null,0,0,3,16700,null,0,0,null,null,0,16700,null,33403,null,0,208,null,null,0,208,3,16700,null,{"$f":"dec!E217","v":0},{"$f":"dec!F217","v":0},{"$f":"dec!G217","v":2},{"$f":"dec!H217","v":11700},null,0,0,1,5000,-208]
[209,"NORTH ADAMS                  ",209,null,31,185082,126,772400,null,0,0,null,null,185082,772400,null,1915121,null,0,209,31,185082,0,209,126,772400,null,{"$f":"dec!E218","v":40},{"$f":"dec!F218","v":283731},{"$f":"dec!G218","v":109.5},{"$f":"dec!H218","v":668937},null,-9,-98649,16.5,103463,-209]
[210,"NORTHAMPTON                  ",214,null,220,1402463,68,432243,null,0,6122,null,null,1402463,438365,null,3681944,null,0,210,220,1402463,0,210,68,432243,null,{"$f":"dec!E219","v":219},{"$f":"dec!F219","v":1716289},{"$f":"dec!G219","v":85},{"$f":"dec!H219","v":572388},null,1,-313826,-17,-140145,-210]
[211,"NORTH ANDOVER                ",210,null,0,0,2,19000,null,0,0,null,null,0,19000,null,38002,null,0,211,null,null,0,211,2,19000,null,{"$f":"dec!E220","v":0},{"$f":"dec!F220","v":0},{"$f":"dec!G220","v":0},{"$f":"dec!H220","v":0},null,0,0,2,19000,-211]
[212,"NORTH ATTLEBOROUGH           ",211,null,0,0,9.5,61100,null,0,16655,null,null,0,77755,null,155519.5,null,0,212,null,null,0,212,9.5,61100,null,{"$f":"dec!E221","v":0},{"$f":"dec!F221","v":0},{"$f":"dec!G221","v":11},{"$f":"dec!H221","v":70300},null,0,0,-1.5,-9200,-212]
[213,"NORTHBOROUGH                 ",215,null,0,0,7,37090,null,0,3586,null,null,0,40676,null,81359,null,0,213,null,null,0,213,7,37090,null,{"$f":"dec!E222","v":0},{"$f":"dec!F222","v":0},{"$f":"dec!G222","v":3},{"$f":"dec!H222","v":22400},null,0,0,4,14690,-213]
[214,"NORTHBRIDGE                  ",216,null,98,524025,107,683442,null,0,1400,null,null,524025,684842,null,2417939,null,0,214,98,524025,0,214,107,683442,null,{"$f":"dec!E223","v":106.5},{"$f":"dec!F223","v":575388},{"$f":"dec!G223","v":121},{"$f":"dec!H223","v":740327},null,-8.5,-51363,-14,-56885,-214]
[215,"NORTH BROOKFIELD             ",212,null,62,363794,128,755133,null,0,0,null,null,363794,755133,null,2238044,null,0,215,62,363794,0,215,128,755133,null,{"$f":"dec!E224","v":68},{"$f":"dec!F224","v":373679},{"$f":"dec!G224","v":109.5},{"$f":"dec!H224","v":623298},null,-6,-9885,18.5,131835,-215]
[216,"NORTHFIELD                   ",217,null,0,0,0,0,null,0,0,null,null,0,0,null,0,null,0,216,null,null,0,216,null,null,null,{"$f":"dec!E225","v":0},{"$f":"dec!F225","v":0},{"$f":"dec!G225","v":0},{"$f":"dec!H225","v":0},null,0,0,0,0,-216]
[217,"NORTH READING                ",213,null,0,0,2,13400,null,0,0,null,null,0,13400,null,26802,null,0,217,null,null,0,217,2,13400,null,{"$f":"dec!E226","v":0},{"$f":"dec!F226","v":0},{"$f":"dec!G226","v":5},{"$f":"dec!H226","v":30100},null,0,0,-3,-16700,-217]
[218,"NORTON                       ",218,null,11,67000,20,139242,null,0,0,null,null,67000,139242,null,412515,null,0,218,11,67000,0,218,20,139242,null,{"$f":"dec!E227","v":34.5},{"$f":"dec!F227","v":207200},{"$f":"dec!G227","v":19},{"$f":"dec!H227","v":116783},null,-23.5,-140200,1,22459,-218]
[219,"NORWELL                      ",219,null,0,0,1,9000,null,0,0,null,null,0,9000,null,18001,null,0,219,null,null,0,219,1,9000,null,{"$f":"dec!E228","v":0},{"$f":"dec!F228","v":0},{"$f":"dec!G228","v":1},{"$f":"dec!H228","v":10700},null,0,0,0,-1700,-219]
[220,"NORWOOD                      ",220,null,0,0,3,21526,null,0,0,null,null,0,21526,null,43055,null,0,220,null,null,0,220,3,21526,null,{"$f":"dec!E229","v":0},{"$f":"dec!F229","v":0},{"$f":"dec!G229","v":9},{"$f":"dec!H229","v":63910},null,0,0,-6,-42384,-220]
[221,"OAK BLUFFS                   ",221,null,34,207707,31,185653,null,0,0,null,null,207707,185653,null,786785,null,0,221,34,207707,0,221,31,185653,null,{"$f":"dec!E230","v":36},{"$f":"dec!F230","v":214429},{"$f":"dec!G230","v":29},{"$f":"dec!H230","v":189683},null,-2,-6722,2,-4030,-221]
[222,"OAKHAM                       ",222,null,0,0,0,0,null,0,0,null,null,0,0,null,0,null,0,222,null,null,0,222,null,null,null,{"$f":"dec!E231","v":0},{"$f":"dec!F231","v":0},{"$f":"dec!G231","v":0},{"$f":"dec!H231","v":0},null,0,0,0,0,-222]
[223,"ORANGE                       ",223,null,49,323386,62,377750,null,0,0,null,null,323386,377750,null,1402383,null,0,223,49,323386,0,223,62,377750,null,{"$f":"dec!E232","v":56},{"$f":"dec!F232","v":373608},{"$f":"dec!G232","v":56},{"$f":"dec!H232","v":323919},null,-7,-50222,6,53831,-223]
[224,"ORLEANS                      ",224,null,1,5000,2,11700,null,0,0,null,null,5000,11700,null,33403,null,0,224,1,5000,0,224,2,11700,null,{"$f":"dec!E233","v":1},{"$f":"dec!F233","v":5000},{"$f":"dec!G233","v":1},{"$f":"dec!H233","v":5000},null,0,0,1,6700,-224]
[225,"OTIS                         ",225,null,0,0,0,0,null,0,0,null,null,0,0,null,0,null,0,225,null,null,0,225,null,null,null,{"$f":"dec!E234","v":0},{"$f":"dec!F234","v":0},{"$f":"dec!G234","v":0},{"$f":"dec!H234","v":0},null,0,0,0,0,-225]
[226,"OXFORD                       ",226,null,4,25052,81,453486,null,0,9103,null,null,25052,462589,null,975367,null,0,226,4,25052,0,226,81,453486,null,{"$f":"dec!E235","v":5},{"$f":"dec!F235","v":25000},{"$f":"dec!G235","v":83},{"$f":"dec!H235","v":469422},null,-1,52,-2,-15936,-226]
[227,"PALMER                       ",227,null,21,113553,73,417143,null,0,8431,null,null,113553,425574,null,1078348,null,0,227,21,113553,0,227,73,417143,null,{"$f":"dec!E236","v":21},{"$f":"dec!F236","v":111006},{"$f":"dec!G236","v":82},{"$f":"dec!H236","v":484241},null,0,2547,-9,-67098,-227]
[228,"PAXTON                       ",228,null,0,0,0,0,null,0,0,null,null,0,0,null,0,null,0,228,null,null,0,228,null,null,null,{"$f":"dec!E237","v":0},{"$f":"dec!F237","v":0},{"$f":"dec!G237","v":0},{"$f":"dec!H237","v":0},null,0,0,0,0,-228]
[229,"PEABODY                      ",229,null,71,376641,57,330916,null,0,4116,null,null,376641,335032,null,1423474,null,0,229,71,376641,0,229,57,330916,null,{"$f":"dec!E238","v":89},{"$f":"dec!F238","v":478459},{"$f":"dec!G238","v":49},{"$f":"dec!H238","v":263896},null,-18,-101818,8,67020,-229]
[230,"PELHAM                       ",230,null,49,317163,2,14000,null,0,0,null,null,317163,14000,null,662377,null,0,230,49,317163,0,230,2,14000,null,{"$f":"dec!E239","v":52},{"$f":"dec!F239","v":373116},{"$f":"dec!G239","v":1},{"$f":"dec!H239","v":5000},null,-3,-55953,1,9000,-230]
[231,"PEMBROKE                     ",231,null,0,0,6,40800,null,0,0,null,null,0,40800,null,81606,null,0,231,null,null,0,231,6,40800,null,{"$f":"dec!E240","v":0},{"$f":"dec!F240","v":0},{"$f":"dec!G240","v":8},{"$f":"dec!H240","v":46800},null,0,0,-2,-6000,-231]
[232,"PEPPERELL                    ",232,null,0,0,0,0,null,0,0,null,null,0,0,null,0,null,0,232,null,null,0,232,null,null,null,{"$f":"dec!E241","v":0},{"$f":"dec!F241","v":0},{"$f":"dec!G241","v":0},{"$f":"dec!H241","v":0},null,0,0,0,0,-232]
[233,"PERU                         ",233,null,0,0,0,0,null,0,0,null,null,0,0,null,0,null,0,233,null,null,0,233,null,null,null,{"$f":"dec!E242","v":0},{"$f":"dec!F242","v":0},{"$f":"dec!G242","v":0},{"$f":"dec!H242","v":0},null,0,0,0,0,-233]
[234,"PETERSHAM                    ",234,null,65,365994,10,50000,null,0,0,null,null,365994,50000,null,832063,null,0,234,65,365994,0,234,10,50000,null,{"$f":"dec!E243","v":65},{"$f":"dec!F243","v":384684},{"$f":"dec!G243","v":8},{"$f":"dec!H243","v":40000},null,0,-18690,2,10000,-234]
[235,"PHILLIPSTON                  ",235,null,0,0,0,0,null,0,0,null,null,0,0,null,0,null,0,235,null,null,0,235,null,null,null,{"$f":"dec!E244","v":0},{"$f":"dec!F244","v":0},{"$f":"dec!G244","v":0},{"$f":"dec!H244","v":0},null,0,0,0,0,-235]
[236,"PITTSFIELD                   ",236,null,95,521024,431,2389331,null,0,539,null,null,521024,2389870,null,5822314,null,0,236,95,521024,0,236,431,2389331,null,{"$f":"dec!E245","v":91},{"$f":"dec!F245","v":515935},{"$f":"dec!G245","v":466.5},{"$f":"dec!H245","v":2654601},null,4,5089,-35.5,-265270,-236]
[237,"PLAINFIELD                   ",237,null,0,0,0,0,null,0,0,null,null,0,0,null,0,null,0,237,null,null,0,237,null,null,null,{"$f":"dec!E246","v":0},{"$f":"dec!F246","v":0},{"$f":"dec!G246","v":0},{"$f":"dec!H246","v":0},null,0,0,0,0,-237]
[238,"PLAINVILLE                   ",238,null,0,0,0,0,null,0,0,null,null,0,0,null,0,null,0,238,null,null,0,238,null,null,null,{"$f":"dec!E247","v":0},{"$f":"dec!F247","v":0},{"$f":"dec!G247","v":0},{"$f":"dec!H247","v":0},null,0,0,0,0,-238]
[239,"PLYMOUTH                     ",239,null,0,0,50,274591,null,0,0,null,null,0,274591,null,549232,null,0,239,null,null,0,239,50,274591,null,{"$f":"dec!E248","v":0},{"$f":"dec!F248","v":0},{"$f":"dec!G248","v":55.5},{"$f":"dec!H248","v":325368},null,0,0,-5.5,-50777,-239]
[240,"PLYMPTON                     ",240,null,4,20000,1,5000,null,0,0,null,null,20000,5000,null,50005,null,0,240,4,20000,0,240,1,5000,null,{"$f":"dec!E249","v":5},{"$f":"dec!F249","v":25000},{"$f":"dec!G249","v":1},{"$f":"dec!H249","v":5000},null,-1,-5000,0,0,-240]
[241,"PRINCETON                    ",241,null,0,0,0,0,null,0,0,null,null,0,0,null,0,null,0,241,null,null,0,241,null,null,null,{"$f":"dec!E250","v":0},{"$f":"dec!F250","v":0},{"$f":"dec!G250","v":0},{"$f":"dec!H250","v":0},null,0,0,0,0,-241]
[242,"PROVINCETOWN                 ",242,null,28,245261,20,131511,null,0,0,null,null,245261,131511,null,753592,null,0,242,28,245261,0,242,20,131511,null,{"$f":"dec!E251","v":37},{"$f":"dec!F251","v":245160},{"$f":"dec!G251","v":21},{"$f":"dec!H251","v":129934},null,-9,101,-1,1577,-242]
[243,"QUINCY                       ",243,null,0,0,11,78202,null,0,0,null,null,0,78202,null,156415,null,0,243,null,null,0,243,11,78202,null,{"$f":"dec!E252","v":0},{"$f":"dec!F252","v":0},{"$f":"dec!G252","v":10},{"$f":"dec!H252","v":79440},null,0,0,1,-1238,-243]
[244,"RANDOLPH                     ",244,null,4,22039,152.5,888638,null,-40012,75,null,null,-17973,888713,null,1741636.5,null,0,244,4,22039,0,244,152.5,888638,null,{"$f":"dec!E253","v":6},{"$f":"dec!F253","v":47950},{"$f":"dec!G253","v":161},{"$f":"dec!H253","v":889801},null,-2,-25911,-8.5,-1163,-244]
[245,"RAYNHAM                      ",245,null,0,0,0,0,null,0,0,null,null,0,0,null,0,null,0,245,null,null,0,245,null,null,null,{"$f":"dec!E254","v":0},{"$f":"dec!F254","v":0},{"$f":"dec!G254","v":0},{"$f":"dec!H254","v":0},null,0,0,0,0,-245]
[246,"READING                      ",246,null,0,0,3,18400,null,0,0,null,null,0,18400,null,36803,null,0,246,null,null,0,246,3,18400,null,{"$f":"dec!E255","v":0},{"$f":"dec!F255","v":0},{"$f":"dec!G255","v":5},{"$f":"dec!H255","v":39800},null,0,0,-2,-21400,-246]
[247,"REHOBOTH                     ",247,null,0,0,0,0,null,0,0,null,null,0,0,null,0,null,0,247,null,null,0,247,null,null,null,{"$f":"dec!E256","v":0},{"$f":"dec!F256","v":0},{"$f":"dec!G256","v":0},{"$f":"dec!H256","v":0},null,0,0,0,0,-247]
[248,"REVERE                       ",248,null,0,0,11,63632,null,0,0,null,null,0,63632,null,127275,null,0,248,null,null,0,248,11,63632,null,{"$f":"dec!E257","v":0},{"$f":"dec!F257","v":0},{"$f":"dec!G257","v":12},{"$f":"dec!H257","v":70824},null,0,0,-1,-7192,-248]
[249,"RICHMOND                     ",249,null,65,329000,17,89505,null,0,0,null,null,329000,89505,null,837092,null,0,249,65,329000,0,249,17,89505,null,{"$f":"dec!E258","v":80.5},{"$f":"dec!F258","v":418500},{"$f":"dec!G258","v":15},{"$f":"dec!H258","v":83198},null,-15.5,-89500,2,6307,-249]
[250,"ROCHESTER                    ",250,null,0,0,2,10000,null,0,0,null,null,0,10000,null,20002,null,0,250,null,null,0,250,2,10000,null,{"$f":"dec!E259","v":0},{"$f":"dec!F259","v":0},{"$f":"dec!G259","v":0},{"$f":"dec!H259","v":0},null,0,0,2,10000,-250]
[251,"ROCKLAND                     ",251,null,33,175000,15,99030,null,40012,0,null,null,215012,99030,null,628132,null,0,251,33,175000,0,251,15,99030,null,{"$f":"dec!E260","v":33},{"$f":"dec!F260","v":181877},{"$f":"dec!G260","v":15},{"$f":"dec!H260","v":96000},null,0,-6877,0,3030,-251]
[252,"ROCKPORT                     ",252,null,222,1218900,29,162715,null,0,0,null,null,1218900,162715,null,2763481,null,0,252,222,1218900,0,252,29,162715,null,{"$f":"dec!E261","v":234},{"$f":"dec!F261","v":1312827},{"$f":"dec!G261","v":26},{"$f":"dec!H261","v":134446},null,-12,-93927,3,28269,-252]
[253,"ROWE                         ",253,null,17.5,93500,2,13378,null,0,0,null,null,93500,13378,null,213775.5,null,0,253,17.5,93500,0,253,2,13378,null,{"$f":"dec!E262","v":18.5},{"$f":"dec!F262","v":110368},{"$f":"dec!G262","v":3},{"$f":"dec!H262","v":21970},null,-1,-16868,-1,-8592,-253]
[254,"ROWLEY                       ",254,null,0,0,0,0,null,0,0,null,null,0,0,null,0,null,0,254,null,null,0,254,null,null,null,{"$f":"dec!E263","v":0},{"$f":"dec!F263","v":0},{"$f":"dec!G263","v":0},{"$f":"dec!H263","v":0},null,0,0,0,0,-254]
[255,"ROYALSTON                    ",255,null,0,0,0,0,null,0,0,null,null,0,0,null,0,null,0,255,null,null,0,255,null,null,null,{"$f":"dec!E264","v":0},{"$f":"dec!F264","v":0},{"$f":"dec!G264","v":0},{"$f":"dec!H264","v":0},null,0,0,0,0,-255]
[256,"RUSSELL                      ",256,null,0,0,0,0,null,0,0,null,null,0,0,null,0,null,0,256,null,null,0,256,null,null,null,{"$f":"dec!E265","v":0},{"$f":"dec!F265","v":0},{"$f":"dec!G265","v":0},{"$f":"dec!H265","v":0},null,0,0,0,0,-256]
[257,"RUTLAND                      ",257,null,0,0,0,0,null,0,0,null,null,0,0,null,{"$f":"SUM(E266:O266)","v":0},null,{"$f":"ABS(A266-T266)","v":0},257,null,null,{"$f":"ABS(X266-A266)","v":0},257,null,null,null,{"$f":"dec!E266","v":0},{"$f":"dec!F266","v":0},{"$f":"dec!G266","v":0},{"$f":"dec!H266","v":0},null,0,0,0,0,-257]
[258,"SALEM                        ",258,null,{"$f":"U267","v":0},0,{"$f":"Y267","v":77.5},463770,null,0,0,null,null,{"$f":"F267+J267","v":0},{"$f":"H267+K267","v":463770},null,927617.5,null,0,258,null,null,0,258,77.5,463770,null,{"$f":"dec!E267","v":0},{"$f":"dec!F267","v":0},{"$f":"dec!G267","v":77.5},{"$f":"dec!H267","v":445533},null,{"$f":"U267-AB267","v":0},0,{"$f":"Y267-AD267","v":0},18237,{"$f":"AL267-A267","v":-258}]
[259,"SALISBURY                    ",259,null,0,0,0,0,null,0,0,null,null,0,0,null,0,null,0,259,null,null,0,259,null,null,null,{"$f":"dec!E268","v":0},{"$f":"dec!F268","v":0},{"$f":"dec!G268","v":0},{"$f":"dec!H268","v":0},null,0,0,0,0,-259]
[260,"SANDISFIELD                  ",260,null,0,0,0,0,null,0,0,null,null,0,0,null,0,null,0,260,null,null,0,260,null,null,null,{"$f":"dec!E269","v":0},{"$f":"dec!F269","v":0},{"$f":"dec!G269","v":0},{"$f":"dec!H269","v":0},null,0,0,0,0,-260]
[261,"SANDWICH                     ",261,null,81.5,442958,55.5,342202,null,0,3321,null,null,442958,345523,null,1577099,null,0,261,81.5,442958,0,261,55.5,342202,null,{"$f":"dec!E270","v":81},{"$f":"dec!F270","v":456274},{"$f":"dec!G270","v":56},{"$f":"dec!H270","v":333800},null,0.5,-13316,-0.5,8402,-261]
[262,"SAUGUS                       ",262,null,0,0,7,41874,null,0,0,null,null,0,41874,null,83755,null,0,262,null,null,0,262,7,41874,null,{"$f":"dec!E271","v":0},{"$f":"dec!F271","v":0},{"$f":"dec!G271","v":14},{"$f":"dec!H271","v":85500},null,0,0,-7,-43626,-262]
[263,"SAVOY                        ",263,null,14,71705,23,122055,null,0,0,null,null,71705,122055,null,387557,null,0,263,14,71705,0,263,23,122055,null,{"$f":"dec!E272","v":9},{"$f":"dec!F272","v":47846},{"$f":"dec!G272","v":21},{"$f":"dec!H272","v":114631},null,5,23859,2,7424,-263]
[264,"SCITUATE                     ",264,null,0,0,3,20100,null,0,0,null,null,0,20100,null,40203,null,0,264,null,null,0,264,3,20100,null,{"$f":"dec!E273","v":0},{"$f":"dec!F273","v":0},{"$f":"dec!G273","v":0},{"$f":"dec!H273","v":0},null,0,0,3,20100,-264]
[265,"SEEKONK                      ",265,null,0,0,2,13400,null,0,0,null,null,0,13400,null,26802,null,0,265,null,null,0,265,2,13400,null,{"$f":"dec!E274","v":0},{"$f":"dec!F274","v":0},{"$f":"dec!G274","v":4},{"$f":"dec!H274","v":32100},null,0,0,-2,-18700,-265]
[266,"SHARON                       ",266,null,0,0,1,6700,null,0,1201,null,null,0,7901,null,15803,null,0,266,null,null,0,266,1,6700,null,{"$f":"dec!E275","v":0},{"$f":"dec!F275","v":0},{"$f":"dec!G275","v":3},{"$f":"dec!H275","v":20700},null,0,0,-2,-14000,-266]
[267,"SHEFFIELD                    ",267,null,0,0,0,0,null,0,0,null,null,0,0,null,0,null,0,267,null,null,0,267,null,null,null,{"$f":"dec!E276","v":0},{"$f":"dec!F276","v":0},{"$f":"dec!G276","v":0},{"$f":"dec!H276","v":0},null,0,0,0,0,-267]
[268,"SHELBURNE                    ",268,null,0,0,0,0,null,0,0,null,null,0,0,null,0,null,0,268,null,null,0,268,null,null,null,{"$f":"dec!E277","v":0},{"$f":"dec!F277","v":0},{"$f":"dec!G277","v":0},{"$f":"dec!H277","v":0},null,0,0,0,0,-268]
[269,"SHERBORN                     ",269,null,0,0,0,0,null,0,0,null,null,0,0,null,0,null,0,269,null,null,0,269,null,null,null,{"$f":"dec!E278","v":0},{"$f":"dec!F278","v":0},{"$f":"dec!G278","v":0},{"$f":"dec!H278","v":0},null,0,0,0,0,-269]
[270,"SHIRLEY                      ",270,null,0,0,0,0,null,0,0,null,null,0,0,null,0,null,0,270,null,null,0,270,null,null,null,{"$f":"dec!E279","v":0},{"$f":"dec!F279","v":0},{"$f":"dec!G279","v":0},{"$f":"dec!H279","v":0},null,0,0,0,0,-270]
[271,"SHREWSBURY                   ",271,null,1,7026,31,179092,null,0,671,null,null,7026,179763,null,373610,null,0,271,1,7026,0,271,31,179092,null,{"$f":"dec!E280","v":0},{"$f":"dec!F280","v":0},{"$f":"dec!G280","v":30},{"$f":"dec!H280","v":184243},null,1,7026,1,-5151,-271]
[272,"SHUTESBURY                   ",272,null,0,0,9,45000,null,0,0,null,null,0,45000,null,90009,null,0,272,null,null,0,272,9,45000,null,{"$f":"dec!E281","v":0},{"$f":"dec!F281","v":0},{"$f":"dec!G281","v":11},{"$f":"dec!H281","v":59000},null,0,0,-2,-14000,-272]
[273,"SOMERSET                     ",273,null,0,0,7,38115,null,0,0,null,null,0,38115,null,76237,null,0,273,null,null,0,273,7,38115,null,{"$f":"dec!E282","v":0},{"$f":"dec!F282","v":0},{"$f":"dec!G282","v":15},{"$f":"dec!H282","v":100700},null,0,0,-8,-62585,-273]
[274,"SOMERVILLE                   ",274,null,0,0,2,13400,null,0,0,null,null,0,13400,null,26802,null,0,274,null,null,0,274,2,13400,null,{"$f":"dec!E283","v":0},{"$f":"dec!F283","v":0},{"$f":"dec!G283","v":2},{"$f":"dec!H283","v":13400},null,0,0,0,0,-274]
[275,"SOUTHAMPTON                  ",276,null,65,393793,8,54887,null,0,0,null,null,393793,54887,null,897433,null,0,275,65,393793,0,275,8,54887,null,{"$f":"dec!E284","v":71},{"$f":"dec!F284","v":416610},{"$f":"dec!G284","v":10},{"$f":"dec!H284","v":78109},null,-6,-22817,-2,-23222,-275]
[276,"SOUTHBOROUGH                 ",277,null,0,0,3,20100,null,0,0,null,null,0,20100,null,40203,null,0,276,null,null,0,276,3,20100,null,{"$f":"dec!E285","v":0},{"$f":"dec!F285","v":0},{"$f":"dec!G285","v":5},{"$f":"dec!H285","v":37500},null,0,0,-2,-17400,-276]
[277,"SOUTHBRIDGE                  ",278,null,7,66692,238,1356992,null,0,6577,null,null,66692,1363569,null,2860767,null,0,277,7,66692,0,277,238,1356992,null,{"$f":"dec!E286","v":6},{"$f":"dec!F286","v":48902},{"$f":"dec!G286","v":261},{"$f":"dec!H286","v":1492451},null,1,17790,-23,-135459,-277]
[278,"SOUTH HADLEY                 ",275,null,153,818031,115,754836,null,0,8762,null,null,818031,763598,null,3163526,null,0,278,153,818031,0,278,115,754836,null,{"$f":"dec!E287","v":161.5},{"$f":"dec!F287","v":868955},{"$f":"dec!G287","v":116},{"$f":"dec!H287","v":741097},null,-8.5,-50924,-1,13739,-278]
[279,"SOUTHWICK                    ",279,null,0,0,0,0,null,0,0,null,null,0,0,null,0,null,0,279,null,null,0,279,null,null,null,{"$f":"dec!E288","v":0},{"$f":"dec!F288","v":0},{"$f":"dec!G288","v":0},{"$f":"dec!H288","v":0},null,0,0,0,0,-279]
[280,"SPENCER                      ",280,null,0,0,0,0,null,0,0,null,null,0,0,null,0,null,0,280,null,null,0,280,null,null,null,{"$f":"dec!E289","v":0},{"$f":"dec!F289","v":0},{"$f":"dec!G289","v":0},{"$f":"dec!H289","v":0},null,0,0,0,0,-280]
[281,"SPRINGFIELD                  ",281,null,9,68260,763.5,4432563,null,0,32645,null,null,68260,4465208,null,9067708.5,null,0,281,9,68260,0,281,763.5,4432563,null,{"$f":"dec!E290","v":6},{"$f":"dec!F290","v":30000},{"$f":"dec!G290","v":766},{"$f":"dec!H290","v":4482138},null,3,38260,-2.5,-49575,-281]
[282,"STERLING                     ",282,null,0,0,0,0,null,0,0,null,null,0,0,null,0,null,0,282,null,null,0,282,null,null,null,{"$f":"dec!E291","v":0},{"$f":"dec!F291","v":0},{"$f":"dec!G291","v":0},{"$f":"dec!H291","v":0},null,0,0,0,0,-282]
[283,"STOCKBRIDGE                  ",283,null,0,0,0,0,null,0,0,null,null,0,0,null,0,null,0,283,null,null,0,283,null,null,null,{"$f":"dec!E292","v":0},{"$f":"dec!F292","v":0},{"$f":"dec!G292","v":0},{"$f":"dec!H292","v":0},null,0,0,0,0,-283]
[284,"STONEHAM                     ",284,null,0,0,2,23103,null,0,0,null,null,0,23103,null,46208,null,0,284,null,null,0,284,2,23103,null,{"$f":"dec!E293","v":0},{"$f":"dec!F293","v":0},{"$f":"dec!G293","v":5},{"$f":"dec!H293","v":38274},null,0,0,-3,-15171,-284]
[285,"STOUGHTON                    ",285,null,0,0,15,93200,null,0,3554,null,null,0,96754,null,193523,null,0,285,null,null,0,285,15,93200,null,{"$f":"dec!E294","v":0},{"$f":"dec!F294","v":0},{"$f":"dec!G294","v":17},{"$f":"dec!H294","v":119452},null,0,0,-2,-26252,-285]
[286,"STOW                         ",286,null,0,0,0,0,null,0,0,null,null,0,0,null,0,null,0,286,null,null,0,286,null,null,null,{"$f":"dec!E295","v":0},{"$f":"dec!F295","v":0},{"$f":"dec!G295","v":0},{"$f":"dec!H295","v":0},null,0,0,0,0,-286]
[287,"STURBRIDGE                   ",287,null,0,0,5,26700,null,0,406,null,null,0,27106,null,54217,null,0,287,null,null,0,287,5,26700,null,{"$f":"dec!E296","v":0},{"$f":"dec!F296","v":0},{"$f":"dec!G296","v":7.5},{"$f":"dec!H296","v":46200},null,0,0,-2.5,-19500,-287]
[288,"SUDBURY                      ",288,null,0,0,3,26000,null,0,0,null,null,0,26000,null,52003,null,0,288,null,null,0,288,3,26000,null,{"$f":"dec!E297","v":0},{"$f":"dec!F297","v":0},{"$f":"dec!G297","v":3},{"$f":"dec!H297","v":29230},null,0,0,0,-3230,-288]
[289,"SUNDERLAND                   ",289,null,37,291752,18,90000,null,0,0,null,null,291752,90000,null,763559,null,0,289,37,291752,0,289,18,90000,null,{"$f":"dec!E298","v":43},{"$f":"dec!F298","v":320512},{"$f":"dec!G298","v":8},{"$f":"dec!H298","v":40000},null,-6,-28760,10,50000,-289]
[290,"SUTTON                       ",290,null,50,276793,18,100332,null,0,5110,null,null,276793,105442,null,764538,null,0,290,50,276793,0,290,18,100332,null,{"$f":"dec!E299","v":44},{"$f":"dec!F299","v":244538},{"$f":"dec!G299","v":19},{"$f":"dec!H299","v":112031},null,6,32255,-1,-11699,-290]
[291,"SWAMPSCOTT                   ",291,null,0,0,1,5000,null,0,0,null,null,0,5000,null,10001,null,0,291,null,null,0,291,1,5000,null,{"$f":"dec!E300","v":0},{"$f":"dec!F300","v":0},{"$f":"dec!G300","v":4},{"$f":"dec!H300","v":25100},null,0,0,-3,-20100,-291]
[292,"SWANSEA                      ",292,null,0,0,12,60000,null,0,0,null,null,0,60000,null,120012,null,0,292,null,null,0,292,12,60000,null,{"$f":"dec!E301","v":0},{"$f":"dec!F301","v":0},{"$f":"dec!G301","v":16},{"$f":"dec!H301","v":95400},null,0,0,-4,-35400,-292]
[293,"TAUNTON                      ",293,null,77,406921,70,413739,null,0,4059,null,null,406921,417798,null,1649585,null,0,293,77,406921,0,293,70,413739,null,{"$f":"dec!E302","v":81},{"$f":"dec!F302","v":422939},{"$f":"dec!G302","v":110},{"$f":"dec!H302","v":660353},null,-4,-16018,-40,-246614,-293]
[294,"TEMPLETON                    ",294,null,0,0,0,0,null,0,0,null,null,0,0,null,0,null,0,294,null,null,0,294,null,null,null,{"$f":"dec!E303","v":0},{"$f":"dec!F303","v":0},{"$f":"dec!G303","v":0},{"$f":"dec!H303","v":0},null,0,0,0,0,-294]
[295,"TEWKSBURY                    ",295,null,0,0,4,27400,null,0,0,null,null,0,27400,null,54804,null,0,295,null,null,0,295,4,27400,null,{"$f":"dec!E304","v":0},{"$f":"dec!F304","v":0},{"$f":"dec!G304","v":7},{"$f":"dec!H304","v":49200},null,0,0,-3,-21800,-295]
[296,"TISBURY                      ",296,null,22,121092,37,225951,null,0,0,null,null,121092,225951,null,694145,null,0,296,22,121092,0,296,37,225951,null,{"$f":"dec!E305","v":18},{"$f":"dec!F305","v":95144},{"$f":"dec!G305","v":43},{"$f":"dec!H305","v":260852},null,4,25948,-6,-34901,-296]
[297,"TOLLAND                      ",297,null,0,0,0,0,null,0,0,null,null,0,0,null,0,null,0,297,null,null,0,297,null,null,null,{"$f":"dec!E306","v":0},{"$f":"dec!F306","v":0},{"$f":"dec!G306","v":0},{"$f":"dec!H306","v":0},null,0,0,0,0,-297]
[298,"TOPSFIELD                    ",298,null,0,0,0,0,null,0,0,null,null,0,0,null,0,null,0,298,null,null,0,298,null,null,null,{"$f":"dec!E307","v":0},{"$f":"dec!F307","v":0},{"$f":"dec!G307","v":0},{"$f":"dec!H307","v":0},null,0,0,0,0,-298]
[299,"TOWNSEND                     ",299,null,0,0,0,0,null,0,0,null,null,0,0,null,0,null,0,299,null,null,0,299,null,null,null,{"$f":"dec!E308","v":0},{"$f":"dec!F308","v":0},{"$f":"dec!G308","v":0},{"$f":"dec!H308","v":0},null,0,0,0,0,-299]
[300,"TRURO                        ",300,null,19,122511,16,93941,null,0,0,null,null,122511,93941,null,432939,null,0,300,19,122511,0,300,16,93941,null,{"$f":"dec!E309","v":16},{"$f":"dec!F309","v":98389},{"$f":"dec!G309","v":20},{"$f":"dec!H309","v":145606},null,3,24122,-4,-51665,-300]
[301,"TYNGSBOROUGH                 ",301,null,42,261328,26,142651,null,0,0,null,null,261328,142651,null,808026,null,0,301,42,261328,0,301,26,142651,null,{"$f":"dec!E310","v":40.5},{"$f":"dec!F310","v":223196},{"$f":"dec!G310","v":24},{"$f":"dec!H310","v":127400},null,1.5,38132,2,15251,-301]
[302,"TYRINGHAM                    ",302,null,0,0,13,67788,null,0,0,null,null,0,67788,null,135589,null,0,302,null,null,0,302,13,67788,null,{"$f":"dec!E311","v":0},{"$f":"dec!F311","v":0},{"$f":"dec!G311","v":12},{"$f":"dec!H311","v":60000},null,0,0,1,7788,-302]
[303,"UPTON                        ",303,null,0,0,0,0,null,0,0,null,null,0,0,null,0,null,0,303,null,null,0,303,null,null,null,{"$f":"dec!E312","v":0},{"$f":"dec!F312","v":0},{"$f":"dec!G312","v":0},{"$f":"dec!H312","v":0},null,0,0,0,0,-303]
[304,"UXBRIDGE                     ",304,null,82,535400,190.5,1086357,null,0,0,null,null,535400,1086357,null,3243786.5,null,0,304,82,535400,0,304,190.5,1086357,null,{"$f":"dec!E313","v":145},{"$f":"dec!F313","v":851098},{"$f":"dec!G313","v":192.5},{"$f":"dec!H313","v":1086333},null,-63,-315698,-2,24,-304]
[305,"WAKEFIELD                    ",305,null,0,0,1,5000,null,0,0,null,null,0,5000,null,10001,null,0,305,null,null,0,305,1,5000,null,{"$f":"dec!E314","v":0},{"$f":"dec!F314","v":0},{"$f":"dec!G314","v":8},{"$f":"dec!H314","v":50800},null,0,0,-7,-45800,-305]
[306,"WALES                        ",306,null,10,54836,13,74569,null,0,0,null,null,54836,74569,null,258833,null,0,306,10,54836,0,306,13,74569,null,{"$f":"dec!E315","v":7},{"$f":"dec!F315","v":35000},{"$f":"dec!G315","v":14},{"$f":"dec!H315","v":73880},null,3,19836,-1,689,-306]
[307,"WALPOLE                      ",307,null,0,0,7,42808,null,0,0,null,null,0,42808,null,85623,null,0,307,null,null,0,307,7,42808,null,{"$f":"dec!E316","v":0},{"$f":"dec!F316","v":0},{"$f":"dec!G316","v":9.5},{"$f":"dec!H316","v":63973},null,0,0,-2.5,-21165,-307]
[308,"WALTHAM                      ",308,null,0,0,4,25100,null,0,0,null,null,0,25100,null,50204,null,0,308,null,null,0,308,4,25100,null,{"$f":"dec!E317","v":0},{"$f":"dec!F317","v":0},{"$f":"dec!G317","v":9},{"$f":"dec!H317","v":60900},null,0,0,-5,-35800,-308]
[309,"WARE                         ",309,null,32,200144,181,1044834,null,0,0,null,null,200144,1044834,null,2490169,null,0,309,32,200144,0,309,181,1044834,null,{"$f":"dec!E318","v":49},{"$f":"dec!F318","v":309186},{"$f":"dec!G318","v":187},{"$f":"dec!H318","v":1065949},null,-17,-109042,-6,-21115,-309]
[310,"WAREHAM                      ",310,null,25,134440,155.5,919200,null,0,5176,null,null,134440,924376,null,2117812.5,null,0,310,25,134440,0,310,155.5,919200,null,{"$f":"dec!E319","v":20},{"$f":"dec!F319","v":104000},{"$f":"dec!G319","v":163},{"$f":"dec!H319","v":1058430},null,5,30440,-7.5,-139230,-310]
[311,"WARREN                       ",311,null,0,0,0,0,null,0,0,null,null,0,0,null,0,null,0,311,null,null,0,311,null,null,null,{"$f":"dec!E320","v":0},{"$f":"dec!F320","v":0},{"$f":"dec!G320","v":0},{"$f":"dec!H320","v":0},null,0,0,0,0,-311]
[312,"WARWICK                      ",312,null,0,0,0,0,null,0,0,null,null,0,0,null,0,null,0,312,null,null,0,312,null,null,null,{"$f":"dec!E321","v":0},{"$f":"dec!F321","v":0},{"$f":"dec!G321","v":0},{"$f":"dec!H321","v":0},null,0,0,0,0,-312]
[313,"WASHINGTON                   ",313,null,0,0,0,0,null,0,0,null,null,0,0,null,0,null,0,313,null,null,0,313,null,null,null,{"$f":"dec!E322","v":0},{"$f":"dec!F322","v":0},{"$f":"dec!G322","v":0},{"$f":"dec!H322","v":0},null,0,0,0,0,-313]
[314,"WATERTOWN                    ",314,null,0,0,3,20100,null,0,5110,null,null,0,25210,null,50423,null,0,314,null,null,0,314,3,20100,null,{"$f":"dec!E323","v":0},{"$f":"dec!F323","v":0},{"$f":"dec!G323","v":8},{"$f":"dec!H323","v":51900},null,0,0,-5,-31800,-314]
[315,"WAYLAND                      ",315,null,0,0,1,5000,null,0,0,null,null,0,5000,null,10001,null,0,315,null,null,0,315,1,5000,null,{"$f":"dec!E324","v":0},{"$f":"dec!F324","v":0},{"$f":"dec!G324","v":3},{"$f":"dec!H324","v":20700},null,0,0,-2,-15700,-315]
[316,"WEBSTER                      ",316,null,32,196000,123,745194,null,0,0,null,null,196000,745194,null,1882543,null,0,316,32,196000,0,316,123,745194,null,{"$f":"dec!E325","v":31},{"$f":"dec!F325","v":161248},{"$f":"dec!G325","v":113},{"$f":"dec!H325","v":642176},null,1,34752,10,103018,-316]
[317,"WELLESLEY                    ",317,null,0,0,1,5000,null,0,0,null,null,0,5000,null,10001,null,0,317,null,null,0,317,1,5000,null,{"$f":"dec!E326","v":0},{"$f":"dec!F326","v":0},{"$f":"dec!G326","v":1},{"$f":"dec!H326","v":5000},null,0,0,0,0,-317]
[318,"WELLFLEET                    ",318,null,0,0,12,142747,null,0,0,null,null,0,142747,null,285506,null,0,318,null,null,0,318,12,142747,null,{"$f":"dec!E327","v":0},{"$f":"dec!F327","v":0},{"$f":"dec!G327","v":8},{"$f":"dec!H327","v":40000},null,0,0,4,102747,-318]
[319,"WENDELL                      ",319,null,0,0,0,0,null,0,0,null,null,0,0,null,0,null,0,319,null,null,0,319,null,null,null,{"$f":"dec!E328","v":0},{"$f":"dec!F328","v":0},{"$f":"dec!G328","v":0},{"$f":"dec!H328","v":0},null,0,0,0,0,-319]
[320,"WENHAM                       ",320,null,0,0,0,0,null,0,0,null,null,0,0,null,0,null,0,320,null,null,0,320,null,null,null,{"$f":"dec!E329","v":0},{"$f":"dec!F329","v":0},{"$f":"dec!G329","v":0},{"$f":"dec!H329","v":0},null,0,0,0,0,-320]
[321,"WESTBOROUGH                  ",328,null,0,0,14,83670,null,0,0,null,null,0,83670,null,{"$f":"SUM(E330:O330)","v":167354},null,{"$f":"ABS(A330-T330)","v":0},321,null,null,{"$f":"ABS(X330-A330)","v":0},321,14,83670,null,{"$f":"dec!E330","v":0},{"$f":"dec!F330","v":0},{"$f":"dec!G330","v":6},{"$f":"dec!H330","v":43700},null,0,0,8,39970,-321]
[322,"WEST BOYLSTON                ",321,null,{"$f":"U331","v":153},855798,{"$f":"Y331","v":36},228299,null,0,0,null,null,{"$f":"F331+J331","v":855798},{"$f":"H331+K331","v":228299},null,2168383,null,0,322,153,855798,0,322,36,228299,null,{"$f":"dec!E331","v":162},{"$f":"dec!F331","v":880072},{"$f":"dec!G331","v":32},{"$f":"dec!H331","v":201058},null,{"$f":"U331-AB331","v":-9},-24274,{"$f":"Y331-AD331","v":4},27241,{"$f":"AL331-A331","v":-322}]
[323,"WEST BRIDGEWATER             ",322,null,225.5,1232926,5,30100,null,0,0,null,null,1232926,30100,null,2526282.5,null,0,323,225.5,1232926,0,323,5,30100,null,{"$f":"dec!E332","v":248},{"$f":"dec!F332","v":1339979},{"$f":"dec!G332","v":5},{"$f":"dec!H332","v":48400},null,-22.5,-107053,0,-18300,-323]
[324,"WEST BROOKFIELD              ",323,null,0,0,8,49299,null,0,0,null,null,0,49299,null,98606,null,0,324,null,null,0,324,8,49299,null,{"$f":"dec!E333","v":0},{"$f":"dec!F333","v":0},{"$f":"dec!G333","v":10},{"$f":"dec!H333","v":57246},null,0,0,-2,-7947,-324]
[325,"WESTFIELD                    ",329,null,137,770221,106,600921,null,0,0,null,null,770221,600921,null,2742527,null,0,325,137,770221,0,325,106,600921,null,{"$f":"dec!E334","v":118},{"$f":"dec!F334","v":645980},{"$f":"dec!G334","v":125},{"$f":"dec!H334","v":703620},null,19,124241,-19,-102699,-325]
[326,"WESTFORD                     ",330,null,65,358756,3,16700,null,0,0,null,null,358756,16700,null,750980,null,0,326,65,358756,0,326,3,16700,null,{"$f":"dec!E335","v":70},{"$f":"dec!F335","v":416298},{"$f":"dec!G335","v":10},{"$f":"dec!H335","v":67612},null,-5,-57542,-7,-50912,-326]
[327,"WESTHAMPTON                  ",331,null,16,122336,4,35588,null,0,0,null,null,122336,35588,null,315868,null,0,327,16,122336,0,327,4,35588,null,{"$f":"dec!E336","v":19},{"$f":"dec!F336","v":129181},{"$f":"dec!G336","v":5},{"$f":"dec!H336","v":38649},null,-3,-6845,-1,-3061,-327]
[328,"WESTMINSTER                  ",332,null,0,0,0,0,null,0,0,null,null,0,0,null,0,null,0,328,null,null,0,328,null,null,null,{"$f":"dec!E337","v":0},{"$f":"dec!F337","v":0},{"$f":"dec!G337","v":0},{"$f":"dec!H337","v":0},null,0,0,0,0,-328]
[329,"WEST NEWBURY                 ",324,null,0,0,0,0,null,0,0,null,null,0,0,null,0,null,0,329,null,null,0,329,null,null,null,{"$f":"dec!E338","v":0},{"$f":"dec!F338","v":0},{"$f":"dec!G338","v":0},{"$f":"dec!H338","v":0},null,0,0,0,0,-329]
[330,"WESTON                       ",333,null,0,0,0,0,null,0,0,null,null,0,0,null,0,null,0,330,null,null,0,330,null,null,null,{"$f":"dec!E339","v":0},{"$f":"dec!F339","v":0},{"$f":"dec!G339","v":3},{"$f":"dec!H339","v":20700},null,0,0,-3,-20700,-330]
[331,"WESTPORT                     ",334,null,0,0,9,49883,null,0,0,null,null,0,49883,null,99775,null,0,331,null,null,0,331,9,49883,null,{"$f":"dec!E340","v":0},{"$f":"dec!F340","v":0},{"$f":"dec!G340","v":14},{"$f":"dec!H340","v":83175},null,0,0,-5,-33292,-331]
[332,"WEST SPRINGFIELD             ",325,null,119.5,720693,39,246271,null,0,2659,null,null,720693,248930,null,1939404.5,null,0,332,119.5,720693,0,332,39,246271,null,{"$f":"dec!E341","v":114},{"$f":"dec!F341","v":684643},{"$f":"dec!G341","v":38},{"$f":"dec!H341","v":260688},null,5.5,36050,1,-14417,-332]
[333,"WEST STOCKBRIDGE             ",326,null,0,0,0,0,null,0,0,null,null,0,0,null,0,null,0,333,null,null,0,333,null,null,null,{"$f":"dec!E342","v":0},{"$f":"dec!F342","v":0},{"$f":"dec!G342","v":0},{"$f":"dec!H342","v":0},null,0,0,0,0,-333]
[334,"WEST TISBURY                 ",327,null,0,0,0,0,null,0,0,null,null,0,0,null,0,null,0,334,null,null,0,334,null,null,null,{"$f":"dec!E343","v":0},{"$f":"dec!F343","v":0},{"$f":"dec!G343","v":0},{"$f":"dec!H343","v":0},null,0,0,0,0,-334]
[335,"WESTWOOD                     ",335,null,0,0,1,6700,null,0,0,null,null,0,6700,null,13401,null,0,335,null,null,0,335,1,6700,null,{"$f":"dec!E344","v":0},{"$f":"dec!F344","v":0},{"$f":"dec!G344","v":0},{"$f":"dec!H344","v":0},null,0,0,1,6700,-335]
[336,"WEYMOUTH                     ",336,null,0,0,14.5,88688,null,0,0,null,null,0,88688,null,177390.5,null,0,336,null,null,0,336,14.5,88688,null,{"$f":"dec!E345","v":0},{"$f":"dec!F345","v":0},{"$f":"dec!G345","v":20},{"$f":"dec!H345","v":127800},null,0,0,-5.5,-39112,-336]
[337,"WHATELY                      ",337,null,51,281066,12,115210,null,0,13438,null,null,281066,128648,null,819491,null,0,337,51,281066,0,337,12,115210,null,{"$f":"dec!E346","v":46},{"$f":"dec!F346","v":249559},{"$f":"dec!G346","v":5},{"$f":"dec!H346","v":61392},null,5,31507,7,53818,-337]
[338,"WHITMAN                      ",338,null,0,0,0,0,null,0,0,null,null,0,0,null,0,null,0,338,null,null,0,338,null,null,null,{"$f":"dec!E347","v":0},{"$f":"dec!F347","v":0},{"$f":"dec!G347","v":0},{"$f":"dec!H347","v":0},null,0,0,0,0,-338]
[339,"WILBRAHAM                    ",339,null,0,0,0,0,null,0,0,null,null,0,0,null,0,null,0,339,null,null,0,339,null,null,null,{"$f":"dec!E348","v":0},{"$f":"dec!F348","v":0},{"$f":"dec!G348","v":0},{"$f":"dec!H348","v":0},null,0,0,0,0,-339]
[340,"WILLIAMSBURG                 ",340,null,11,55000,22,146475,null,0,0,null,null,55000,146475,null,402983,null,0,340,11,55000,0,340,22,146475,null,{"$f":"dec!E349","v":18},{"$f":"dec!F349","v":98000},{"$f":"dec!G349","v":17},{"$f":"dec!H349","v":99181},null,-7,-43000,5,47294,-340]
[341,"WILLIAMSTOWN                 ",341,null,43,248862,4,20000,null,0,0,null,null,248862,20000,null,537771,null,0,341,43,248862,0,341,4,20000,null,{"$f":"dec!E350","v":32},{"$f":"dec!F350","v":169190},{"$f":"dec!G350","v":2},{"$f":"dec!H350","v":10000},null,11,79672,2,10000,-341]
[342,"WILMINGTON                   ",342,null,0,0,2,11700,null,0,0,null,null,0,11700,null,23402,null,0,342,null,null,0,342,2,11700,null,{"$f":"dec!E351","v":0},{"$f":"dec!F351","v":0},{"$f":"dec!G351","v":1},{"$f":"dec!H351","v":10700},null,0,0,1,1000,-342]
[343,"WINCHENDON                   ",343,null,36,239470,131,737260,null,0,0,null,null,239470,737260,null,1953627,null,0,343,36,239470,0,343,131,737260,null,{"$f":"dec!E352","v":30},{"$f":"dec!F352","v":216487},{"$f":"dec!G352","v":140},{"$f":"dec!H352","v":785601},null,6,22983,-9,-48341,-343]
[344,"WINCHESTER                   ",344,null,0,0,3,20100,null,0,0,null,null,0,20100,null,40203,null,0,344,null,null,0,344,3,20100,null,{"$f":"dec!E353","v":0},{"$f":"dec!F353","v":0},{"$f":"dec!G353","v":4},{"$f":"dec!H353","v":30800},null,0,0,-1,-10700,-344]
[345,"WINDSOR                      ",345,null,0,0,0,0,null,0,0,null,null,0,0,null,0,null,0,345,null,null,0,345,null,null,null,{"$f":"dec!E354","v":0},{"$f":"dec!F354","v":0},{"$f":"dec!G354","v":0},{"$f":"dec!H354","v":0},null,0,0,0,0,-345]
[346,"WINTHROP                     ",346,null,13,65000,4,26800,null,0,8564,null,null,65000,35364,null,200745,null,0,346,13,65000,0,346,4,26800,null,{"$f":"dec!E355","v":11},{"$f":"dec!F355","v":62000},{"$f":"dec!G355","v":2},{"$f":"dec!H355","v":13400},null,2,3000,2,13400,-346]
[347,"WOBURN",347,null,0,0,12,60000,null,0,804,null,null,0,60804,null,121620,null,0,347,null,null,0,347,12,60000,null,{"$f":"dec!E356","v":0},{"$f":"dec!F356","v":0},{"$f":"dec!G356","v":13},{"$f":"dec!H356","v":66700},null,0,0,-1,-6700,-347]
[348,"WORCESTER                    ",348,null,69,374533,466,2641818,null,0,23182,null,null,374533,2665000,null,6079601,null,0,348,69,374533,0,348,466,2641818,null,{"$f":"dec!E357","v":73},{"$f":"dec!F357","v":423431},{"$f":"dec!G357","v":471.5},{"$f":"dec!H357","v":2686481},null,-4,-48898,-5.5,-44663,-348]
[349,"WORTHINGTON                  ",349,null,0,0,0,0,null,0,0,null,null,0,0,null,0,null,0,349,null,null,0,349,null,null,null,{"$f":"dec!E358","v":5},{"$f":"dec!F358","v":25000},{"$f":"dec!G358","v":57},{"$f":"dec!H358","v":428885},null,-5,-25000,-57,-428885,-349]
[350,"WRENTHAM                     ",350,null,0,0,4,20000,null,0,0,null,null,0,20000,null,40004,null,0,350,null,null,0,350,4,20000,null,{"$f":"dec!E359","v":0},{"$f":"dec!F359","v":0},{"$f":"dec!G359","v":3.5},{"$f":"dec!H359","v":17500},null,0,0,0.5,2500,-350]
[351,"YARMOUTH                     ",351,null,0,0,0,0,null,0,0,null,null,0,0,null,0,null,0,351,null,null,0,351,null,null,null,{"$f":"dec!E360","v":0},{"$f":"dec!F360","v":0},{"$f":"dec!G360","v":0},{"$f":"dec!H360","v":0},null,0,0,0,0,-351]
[352,"DEVENS",352,null,0,0,5,27087,null,0,-4850,null,null,0,22237,null,44479,null,0,352,null,null,0,352,5,27087,null,{"$f":"dec!E361","v":0},{"$f":"dec!F361","v":0},{"$f":"dec!G361","v":6},{"$f":"dec!H361","v":33408},null,0,0,-1,-6321,-352]
[406,"NORTHAMPTON SMITH            ",406,null,0,0,0,0,null,0,0,null,null,0,0,null,0,null,0,406,null,null,0,406,null,null,null,{"$f":"dec!E362","v":0},{"$f":"dec!F362","v":0},{"$f":"dec!G362","v":0},{"$f":"dec!H362","v":0},null,0,0,0,0,-406]
[600,"ACTON BOXBOROUGH             ",701,null,42.5,256488,14.5,103099,null,0,0,null,null,256488,103099,null,719231,null,0,600,42.5,256488,0,600,14.5,103099,null,{"$f":"dec!E363","v":39},{"$f":"dec!F363","v":241662},{"$f":"dec!G363","v":12},{"$f":"dec!H363","v":110698},null,3.5,14826,2.5,-7599,-600]
[603,"ADAMS CHESHIRE               ",702,null,59,378546,69,413977,null,0,0,null,null,378546,413977,null,1585174,null,0,603,59,378546,0,603,69,413977,null,{"$f":"dec!E364","v":50},{"$f":"dec!F364","v":297454},{"$f":"dec!G364","v":70.5},{"$f":"dec!H364","v":451780},null,9,81092,-1.5,-37803,-603]
[605,"AMHERST PELHAM               ",703,null,89,614793,31,224666,null,0,0,null,null,614793,224666,null,1679038,null,0,605,89,614793,0,605,31,224666,null,{"$f":"dec!E365","v":73},{"$f":"dec!F365","v":482749},{"$f":"dec!G365","v":31},{"$f":"dec!H365","v":241845},null,16,132044,0,-17179,-605]
[610,"ASHBURNHAM WESTMINSTER       ",704,null,150,829230,54.5,305100,null,0,3189,null,null,829230,308289,null,2275242.5,null,0,610,150,829230,0,610,54.5,305100,null,{"$f":"dec!E366","v":197},{"$f":"dec!F366","v":1042442},{"$f":"dec!G366","v":61},{"$f":"dec!H366","v":338615},null,-47,-213212,-6.5,-33515,-610]
[615,"ATHOL ROYALSTON              ",705,null,57,330215,367,2214962,null,0,2990,null,null,330215,2217952,null,5096758,null,0,615,57,330215,0,615,367,2214962,null,{"$f":"dec!E367","v":52},{"$f":"dec!F367","v":335741},{"$f":"dec!G367","v":355},{"$f":"dec!H367","v":2145696},null,5,-5526,12,69266,-615]
[616,"AYER SHIRLEY",616,null,120,794895,123,737982,null,0,3189,null,null,794895,741171,null,3072375,null,0,616,120,794895,0,616,123,737982,null,{"$f":"dec!E368","v":134},{"$f":"dec!F368","v":819792},{"$f":"dec!G368","v":126.5},{"$f":"dec!H368","v":727004},null,-14,-24897,-3.5,10978,-616]
[618,"BERKSHIRE HILLS              ",706,null,241,1307314,106,621157,null,0,0,null,null,1307314,621157,null,3857289,null,0,618,241,1307314,0,618,106,621157,null,{"$f":"dec!E369","v":226},{"$f":"dec!F369","v":1270730},{"$f":"dec!G369","v":96.5},{"$f":"dec!H369","v":558660},null,15,36584,9.5,62497,-618]
[620,"BERLIN BOYLSTON              ",707,null,93,520315,32,171333,null,0,0,null,null,520315,171333,null,1383421,null,0,620,93,520315,0,620,32,171333,null,{"$f":"dec!E370","v":90},{"$f":"dec!F370","v":514387},{"$f":"dec!G370","v":28},{"$f":"dec!H370","v":158266},null,3,5928,4,13067,-620]
[622,"BLACKSTONE MILLVILLE         ",765,null,41,205000,74.5,433005,null,0,0,null,null,205000,433005,null,1276125.5,null,0,622,41,205000,0,622,74.5,433005,null,{"$f":"dec!E371","v":43},{"$f":"dec!F371","v":226000},{"$f":"dec!G371","v":81.5},{"$f":"dec!H371","v":471917},null,-2,-21000,-7,-38912,-622]
[625,"BRIDGEWATER RAYNHAM          ",710,null,30,170248,152,799823,null,0,0,null,null,170248,799823,null,1940324,null,0,625,30,170248,0,625,152,799823,null,{"$f":"dec!E372","v":29},{"$f":"dec!F372","v":172000},{"$f":"dec!G372","v":151},{"$f":"dec!H372","v":780499},null,1,-1752,1,19324,-625]
[632,"CHESTERFIELD GOSHEN",632,null,19,98525,10,50000,null,0,0,null,null,98525,50000,null,297079,null,0,632,19,98525,0,632,10,50000,null,{"$f":"dec!E373","v":26},{"$f":"dec!F373","v":145189},{"$f":"dec!G373","v":11},{"$f":"dec!H373","v":59000},null,-7,-46664,-1,-9000,-632]
[635,"CENTRAL BERKSHIRE            ",712,null,148,868465,143,783177,null,0,0,null,null,868465,783177,null,3303575,null,0,635,148,868465,0,635,143,783177,null,{"$f":"dec!E374","v":161},{"$f":"dec!F374","v":1022486},{"$f":"dec!G374","v":158},{"$f":"dec!H374","v":882971},null,-13,-154021,-15,-99794,-635]
[640,"CONCORD CARLISLE             ",713,null,0,0,0,0,null,0,0,null,null,0,0,null,0,null,0,640,null,null,0,640,null,null,null,{"$f":"dec!E375","v":0},{"$f":"dec!F375","v":0},{"$f":"dec!G375","v":1},{"$f":"dec!H375","v":6700},null,0,0,-1,-6700,-640]
[645,"DENNIS YARMOUTH              ",714,null,97,674906,352.5,2225619,null,0,0,null,null,674906,2225619,null,5801499.5,null,0,645,97,674906,0,645,352.5,2225619,null,{"$f":"dec!E376","v":107},{"$f":"dec!F376","v":709268},{"$f":"dec!G376","v":358},{"$f":"dec!H376","v":2119758},null,-10,-34362,-5.5,105861,-645]
[650,"DIGHTON REHOBOTH             ",715,null,0,0,16,94873,null,0,0,null,null,0,94873,null,189762,null,0,650,null,null,0,650,16,94873,null,{"$f":"dec!E377","v":12},{"$f":"dec!F377","v":64000},{"$f":"dec!G377","v":23.5},{"$f":"dec!H377","v":140935},null,-12,-64000,-7.5,-46062,-650]
[655,"DOVER SHERBORN               ",716,null,0,0,4,26800,null,0,0,null,null,0,26800,null,53604,null,0,655,null,null,0,655,4,26800,null,{"$f":"dec!E378","v":0},{"$f":"dec!F378","v":0},{"$f":"dec!G378","v":3},{"$f":"dec!H378","v":18400},null,0,0,1,8400,-655]
[658,"DUDLEY CHARLTON              ",780,null,140,805317,39,231626,null,0,0,null,null,805317,231626,null,2074065,null,0,658,140,805317,0,658,39,231626,null,{"$f":"dec!E379","v":148},{"$f":"dec!F379","v":827821},{"$f":"dec!G379","v":55.5},{"$f":"dec!H379","v":333517},null,-8,-22504,-16.5,-101891,-658]
[660,"NAUSET                       ",776,null,263,1600484,37,292635,null,0,0,null,null,1600484,292635,null,3786538,null,0,660,263,1600484,0,660,37,292635,null,{"$f":"dec!E380","v":279},{"$f":"dec!F380","v":1642868},{"$f":"dec!G380","v":34},{"$f":"dec!H380","v":266949},null,-16,-42384,3,25686,-660]
[662,"FARMINGTON RIVER",788,null,16,89001,52,286165,null,0,0,null,null,89001,286165,null,750400,null,0,662,16,89001,0,662,52,286165,null,{"$f":"dec!E381","v":15},{"$f":"dec!F381","v":85719},{"$f":"dec!G381","v":48},{"$f":"dec!H381","v":257451},null,1,3282,4,28714,-662]
[665,"FREETOWN LAKEVILLE           ",718,null,22,129204,27,167000,null,0,0,null,null,129204,167000,null,592457,null,0,665,22,129204,0,665,27,167000,null,{"$f":"dec!E382","v":33},{"$f":"dec!F382","v":165000},{"$f":"dec!G382","v":28},{"$f":"dec!H382","v":152500},null,-11,-35796,-1,14500,-665]
[670,"FRONTIER                     ",720,null,127,935795,50,327431,null,0,0,null,null,935795,327431,null,2526629,null,0,670,127,935795,0,670,50,327431,null,{"$f":"dec!E383","v":126},{"$f":"dec!F383","v":878160},{"$f":"dec!G383","v":52},{"$f":"dec!H383","v":323204},null,1,57635,-2,4227,-670]
[672,"GATEWAY                      ",721,null,26,150440,124,698758,null,0,0,null,null,150440,698758,null,1698546,null,0,672,26,150440,0,672,124,698758,null,{"$f":"dec!E384","v":43},{"$f":"dec!F384","v":249799},{"$f":"dec!G384","v":69},{"$f":"dec!H384","v":385422},null,-17,-99359,55,313336,-672]
[673,"GROTON DUNSTABLE             ",772,null,55,293838,16,107534,null,0,0,null,null,293838,107534,null,802815,null,0,673,55,293838,0,673,16,107534,null,{"$f":"dec!E385","v":46},{"$f":"dec!F385","v":239169},{"$f":"dec!G385","v":22.5},{"$f":"dec!H385","v":139576},null,9,54669,-6.5,-32042,-673]
[674,"GILL MONTAGUE                ",764,null,107,732335,223,1398346,null,22785,-18140,null,null,755120,1380206,null,4270982,null,0,674,107,732335,0,674,223,1398346,null,{"$f":"dec!E386","v":85},{"$f":"dec!F386","v":657010},{"$f":"dec!G386","v":240},{"$f":"dec!H386","v":1472954},null,22,75325,-17,-74608,-674]
[675,"HAMILTON WENHAM              ",724,null,98,520887,5,30100,null,0,0,null,null,520887,30100,null,1102077,null,0,675,98,520887,0,675,5,30100,null,{"$f":"dec!E387","v":90},{"$f":"dec!F387","v":471098},{"$f":"dec!G387","v":8},{"$f":"dec!H387","v":49100},null,8,49789,-3,-19000,-675]
[680,"HAMPDEN WILBRAHAM            ",725,null,121,670636,8,46800,null,0,11148,null,null,670636,57948,null,1457297,null,0,680,121,670636,0,680,8,46800,null,{"$f":"dec!E388","v":113},{"$f":"dec!F388","v":639375},{"$f":"dec!G388","v":10},{"$f":"dec!H388","v":63100},null,8,31261,-2,-16300,-680]
[683,"HAMPSHIRE                    ",726,null,112,764131,65,357580,null,0,3388,null,null,764131,360968,null,2250375,null,0,683,112,764131,0,683,65,357580,null,{"$f":"dec!E389","v":96},{"$f":"dec!F389","v":660492},{"$f":"dec!G389","v":64},{"$f":"dec!H389","v":361171},null,16,103639,1,-3591,-683]
[685,"HAWLEMONT                    ",727,null,13,83195,12,79120,null,0,0,null,null,83195,79120,null,324655,null,0,685,13,83195,0,685,12,79120,null,{"$f":"dec!E390","v":15},{"$f":"dec!F390","v":96596},{"$f":"dec!G390","v":12},{"$f":"dec!H390","v":76860},null,-2,-13401,0,2260,-685]
[690,"KING PHILIP                  ",728,null,0,0,12,82319,null,0,0,null,null,0,82319,null,164650,null,0,690,null,null,0,690,12,82319,null,{"$f":"dec!E391","v":0},{"$f":"dec!F391","v":0},{"$f":"dec!G391","v":16},{"$f":"dec!H391","v":123508},null,0,0,-4,-41189,-690]
[695,"LINCOLN SUDBURY              ",729,null,0,0,0,0,null,0,0,null,null,0,0,null,0,null,0,695,null,null,0,695,null,null,null,{"$f":"dec!E392","v":0},{"$f":"dec!F392","v":0},{"$f":"dec!G392","v":3},{"$f":"dec!H392","v":17854},null,0,0,-3,-17854,-695]
[698,"MANCHESTER ESSEX",698,null,74,389858,11,67700,null,0,0,null,null,389858,67700,null,915201,null,0,698,74,389858,0,698,11,67700,null,{"$f":"dec!E393","v":70},{"$f":"dec!F393","v":358097},{"$f":"dec!G393","v":7},{"$f":"dec!H393","v":35855},null,4,31761,4,31845,-698]
[700,"MARTHAS VINEYARD             ",731,null,0,0,0,0,null,0,0,null,null,0,0,null,{"$f":"SUM(E394:O394)","v":0},null,{"$f":"ABS(A394-T394)","v":0},700,null,null,{"$f":"ABS(X394-A394)","v":0},700,null,null,null,{"$f":"dec!E394","v":0},{"$f":"dec!F394","v":0},{"$f":"dec!G394","v":2},{"$f":"dec!H394","v":17400},null,0,0,-2,-17400,-700]
[705,"MASCONOMET                   ",732,null,{"$f":"U395","v":0},0,{"$f":"Y395","v":0},0,null,0,0,null,null,{"$f":"F395+J395","v":0},{"$f":"H395+K395","v":0},null,0,null,0,705,null,null,0,705,null,null,null,{"$f":"dec!E395","v":0},{"$f":"dec!F395","v":0},{"$f":"dec!G395","v":3},{"$f":"dec!H395","v":16700},null,{"$f":"U395-AB395","v":0},0,{"$f":"Y395-AD395","v":-3},-16700,{"$f":"AL395-A395","v":-705}]
[710,"MENDON UPTON                 ",733,null,139,855262,58,339069,null,1400,10026,null,null,856662,349095,null,2411711,null,0,710,139,855262,0,710,58,339069,null,{"$f":"dec!E396","v":150},{"$f":"dec!F396","v":875255},{"$f":"dec!G396","v":51},{"$f":"dec!H396","v":313564},null,-11,-19993,7,25505,-710]
[712,"MONOMOY",811,null,271,1662336,171,982311,null,0,0,null,null,1662336,982311,null,5289736,null,0,712,271,1662336,0,712,171,982311,null,{"$f":"dec!E397","v":258},{"$f":"dec!F397","v":1467354},{"$f":"dec!G397","v":185},{"$f":"dec!H397","v":1111009},null,13,194982,-14,-128698,-712]
[715,"MOUNT GREYLOCK               ",736,null,63,366761,16,87034,null,0,0,null,null,366761,87034,null,907669,null,0,715,63,366761,0,715,16,87034,null,{"$f":"dec!E398","v":64},{"$f":"dec!F398","v":356522},{"$f":"dec!G398","v":25},{"$f":"dec!H398","v":140152},null,-1,10239,-9,-53118,-715]
[717,"MOHAWK TRAIL                 ",734,null,71,454103,70.5,432491,null,0,0,null,null,454103,432491,null,1773329.5,null,0,717,71,454103,0,717,70.5,432491,null,{"$f":"dec!E399","v":71},{"$f":"dec!F399","v":443381},{"$f":"dec!G399","v":80},{"$f":"dec!H399","v":684405},null,0,10722,-9.5,-251914,-717]
[720,"NARRAGANSETT                 ",737,null,157,886150,135,902380,null,0,0,null,null,886150,902380,null,3577352,null,0,720,157,886150,0,720,135,902380,null,{"$f":"dec!E400","v":184},{"$f":"dec!F400","v":1033420},{"$f":"dec!G400","v":137},{"$f":"dec!H400","v":776163},null,-27,-147270,-2,126217,-720]
[725,"NASHOBA                      ",738,null,169,885949,77,454156,null,0,0,null,null,885949,454156,null,2680456,null,0,725,169,885949,0,725,77,454156,null,{"$f":"dec!E401","v":136},{"$f":"dec!F401","v":720937},{"$f":"dec!G401","v":63},{"$f":"dec!H401","v":400345},null,33,165012,14,53811,-725]
[728,"NEW SALEM WENDELL            ",787,null,27,151531,8,44000,null,0,0,null,null,151531,44000,null,391097,null,0,728,27,151531,0,728,8,44000,null,{"$f":"dec!E402","v":23},{"$f":"dec!F402","v":116803},{"$f":"dec!G402","v":12},{"$f":"dec!H402","v":72000},null,4,34728,-4,-28000,-728]
[730,"NORTHBORO SOUTHBORO          ",741,null,0,0,5,25938,null,0,0,null,null,0,25938,null,51881,null,0,730,null,null,0,730,5,25938,null,{"$f":"dec!E403","v":0},{"$f":"dec!F403","v":0},{"$f":"dec!G403","v":5},{"$f":"dec!H403","v":66700},null,0,0,0,-40762,-730]
[735,"NORTH MIDDLESEX              ",740,null,73,469568,91.5,497902,null,0,2195,null,null,469568,500097,null,1939494.5,null,0,735,73,469568,0,735,91.5,497902,null,{"$f":"dec!E404","v":83},{"$f":"dec!F404","v":467037},{"$f":"dec!G404","v":94.5},{"$f":"dec!H404","v":514481},null,-10,2531,-3,-16579,-735]
[740,"OLD ROCHESTER                ",745,null,84,439207,5,26700,null,0,0,null,null,439207,26700,null,931903,null,0,740,84,439207,0,740,5,26700,null,{"$f":"dec!E405","v":70},{"$f":"dec!F405","v":376398},{"$f":"dec!G405","v":8},{"$f":"dec!H405","v":53170},null,14,62809,-3,-26470,-740]
[745,"PENTUCKET                    ",746,null,130.5,751286,38,245393,null,0,0,null,null,751286,245393,null,1993526.5,null,0,745,130.5,751286,0,745,38,245393,null,{"$f":"dec!E406","v":110.5},{"$f":"dec!F406","v":598369},{"$f":"dec!G406","v":32},{"$f":"dec!H406","v":195715},null,20,152917,6,49678,-745]
[750,"PIONEER                      ",747,null,170,1025415,46,346567,null,-13140,22785,null,null,1012275,369352,null,2763470,null,0,750,170,1025415,0,750,46,346567,null,{"$f":"dec!E407","v":154},{"$f":"dec!F407","v":886731},{"$f":"dec!G407","v":44},{"$f":"dec!H407","v":335670},null,16,138684,2,10897,-750]
[753,"QUABBIN                      ",749,null,348,1938360,87,549965,null,0,0,null,null,1938360,549965,null,4977085,null,0,753,348,1938360,0,753,87,549965,null,{"$f":"dec!E408","v":331},{"$f":"dec!F408","v":1832098},{"$f":"dec!G408","v":107},{"$f":"dec!H408","v":638983},null,17,106262,-20,-89018,-753]
[755,"RALPH C MAHAR                ",730,null,223,1345022,62,364498,null,0,0,null,null,1345022,364498,null,3419325,null,0,755,223,1345022,0,755,62,364498,null,{"$f":"dec!E409","v":234},{"$f":"dec!F409","v":1321657},{"$f":"dec!G409","v":50},{"$f":"dec!H409","v":287184},null,-11,23365,12,77314,-755]
[760,"SILVER LAKE                  ",752,null,0,0,3,16700,null,0,0,null,null,0,16700,null,33403,null,0,760,null,null,0,760,3,16700,null,{"$f":"dec!E410","v":0},{"$f":"dec!F410","v":0},{"$f":"dec!G410","v":7},{"$f":"dec!H410","v":40100},null,0,0,-4,-23400,-760]
[763,"SOMERSET BERKLEY",790,null,25,159000,7,36700,null,0,0,null,null,159000,36700,null,391432,null,0,763,25,159000,0,763,7,36700,null,{"$f":"dec!E411","v":53},{"$f":"dec!F411","v":299197},{"$f":"dec!G411","v":7},{"$f":"dec!H411","v":36700},null,-28,-140197,0,0,-763]
[765,"SOUTHERN BERKSHIRE           ",755,null,122,709145,135,705211,null,0,5375,null,null,709145,710586,null,2839719,null,0,765,122,709145,0,765,135,705211,null,{"$f":"dec!E412","v":118},{"$f":"dec!F412","v":673764},{"$f":"dec!G412","v":111},{"$f":"dec!H412","v":592028},null,4,35381,24,113183,-765]
[766,"SOUTHWICK TOLLAND GRANVILLE",766,null,105,574454,51,265646,null,0,0,null,null,574454,265646,null,1680356,null,0,766,105,574454,0,766,51,265646,null,{"$f":"dec!E413","v":124},{"$f":"dec!F413","v":683195},{"$f":"dec!G413","v":48},{"$f":"dec!H413","v":264532},null,-19,-108741,3,1114,-766]
[767,"SPENCER EAST BROOKFIELD      ",756,null,59,376645,192,1105553,null,0,0,null,null,376645,1105553,null,2964647,null,0,767,59,376645,0,767,192,1105553,null,{"$f":"dec!E414","v":42.5},{"$f":"dec!F414","v":271187},{"$f":"dec!G414","v":212},{"$f":"dec!H414","v":1212400},null,16.5,105458,-20,-106847,-767]
[770,"TANTASQUA                    ",757,null,160,901111,23,137990,null,0,0,null,null,901111,137990,null,2078385,null,0,770,160,901111,0,770,23,137990,null,{"$f":"dec!E415","v":155},{"$f":"dec!F415","v":902593},{"$f":"dec!G415","v":25},{"$f":"dec!H415","v":160653},null,5,-1482,-2,-22663,-770]
[773,"TRITON                       ",763,null,175.5,1075745,100,996518,null,0,1135,null,null,1075745,997653,null,4147071.5,null,0,773,175.5,1075745,0,773,100,996518,null,{"$f":"dec!E416","v":163.5},{"$f":"dec!F416","v":1035310},{"$f":"dec!G416","v":83},{"$f":"dec!H416","v":866809},null,12,40435,17,129709,-773]
[774,"UPISLAND",789,null,50,286634,17,102931,null,0,0,null,null,286634,102931,null,779197,null,0,774,50,286634,0,774,17,102931,null,{"$f":"dec!E417","v":57},{"$f":"dec!F417","v":360039},{"$f":"dec!G417","v":14},{"$f":"dec!H417","v":80768},null,-7,-73405,3,22163,-774]
[775,"WACHUSETT                    ",759,null,208,1098992,99,590215,null,0,0,null,null,1098992,590215,null,3378721,null,0,775,208,1098992,0,775,99,590215,null,{"$f":"dec!E418","v":176},{"$f":"dec!F418","v":955202},{"$f":"dec!G418","v":109},{"$f":"dec!H418","v":637551},null,32,143790,-10,-47336,-775]
[778,"QUABOAG",750,null,189,1042919,89,568801,null,0,0,null,null,1042919,568801,null,3223718,null,0,778,189,1042919,0,778,89,568801,null,{"$f":"dec!E419","v":189},{"$f":"dec!F419","v":1047949},{"$f":"dec!G419","v":90.5},{"$f":"dec!H419","v":557343},null,0,-5030,-1.5,11458,-778]
[780,"WHITMAN HANSON               ",761,null,17,90124,15,95500,null,0,0,null,null,90124,95500,null,371280,null,0,780,17,90124,0,780,15,95500,null,{"$f":"dec!E420","v":31},{"$f":"dec!F420","v":179000},{"$f":"dec!G420","v":18},{"$f":"dec!H420","v":120920},null,-14,-88876,-3,-25420,-780]
[801,"ASSABET VALLEY               ",770,null,0,0,2,10000,null,0,0,null,null,0,10000,null,20002,null,0,801,null,null,0,801,2,10000,null,{"$f":"dec!E421","v":0},{"$f":"dec!F421","v":0},{"$f":"dec!G421","v":0},{"$f":"dec!H421","v":0},null,0,0,2,10000,-801]
[805,"BLACKSTONE VALLEY            ",708,null,0,0,0,0,null,0,0,null,null,0,0,null,0,null,0,805,null,null,0,805,null,null,null,{"$f":"dec!E422","v":0},{"$f":"dec!F422","v":0},{"$f":"dec!G422","v":0},{"$f":"dec!H422","v":0},null,0,0,0,0,-805]
[806,"BLUE HILLS                   ",709,null,0,0,1,5000,null,0,0,null,null,0,5000,null,10001,null,0,806,null,null,0,806,1,5000,null,{"$f":"dec!E423","v":0},{"$f":"dec!F423","v":0},{"$f":"dec!G423","v":0},{"$f":"dec!H423","v":0},null,0,0,1,5000,-806]
[810,"BRISTOL PLYMOUTH             ",771,null,0,0,4,20000,null,0,0,null,null,0,20000,null,40004,null,0,810,null,null,0,810,4,20000,null,{"$f":"dec!E424","v":0},{"$f":"dec!F424","v":0},{"$f":"dec!G424","v":9},{"$f":"dec!H424","v":49000},null,0,0,-5,-29000,-810]
[815,"CAPE COD                     ",779,null,0,0,2,10000,null,0,0,null,null,0,10000,null,20002,null,0,815,null,null,0,815,2,10000,null,{"$f":"dec!E425","v":0},{"$f":"dec!F425","v":0},{"$f":"dec!G425","v":3},{"$f":"dec!H425","v":29000},null,0,0,-1,-19000,-815]
[817,"NORTH SHORE                  ",783,null,2,10000,15,89241,null,0,0,null,null,10000,89241,null,198499,null,0,817,2,10000,0,817,15,89241,null,{"$f":"dec!E426","v":1},{"$f":"dec!F426","v":5000},{"$f":"dec!G426","v":20},{"$f":"dec!H426","v":117224},null,1,5000,-5,-27983,-817]
[818,"FRANKLIN COUNTY              ",782,null,0,0,2,10000,null,0,0,null,null,0,10000,null,20002,null,0,818,null,null,0,818,2,10000,null,{"$f":"dec!E427","v":0},{"$f":"dec!F427","v":0},{"$f":"dec!G427","v":2},{"$f":"dec!H427","v":10000},null,0,0,0,0,-818]
[821,"GREATER FALL RIVER           ",722,null,0,0,1,5000,null,0,0,null,null,0,5000,null,10001,null,0,821,null,null,0,821,1,5000,null,{"$f":"dec!E428","v":0},{"$f":"dec!F428","v":0},{"$f":"dec!G428","v":8},{"$f":"dec!H428","v":44000},null,0,0,-7,-39000,-821]
[823,"GREATER LAWRENCE             ",723,null,5,29000,142,773150,null,0,0,null,null,29000,773150,null,1604447,null,0,823,5,29000,0,823,142,773150,null,{"$f":"dec!E429","v":5},{"$f":"dec!F429","v":29000},{"$f":"dec!G429","v":117},{"$f":"dec!H429","v":642141},null,0,0,25,131009,-823]
[825,"GREATER NEW BEDFORD          ",786,null,0,0,2,10000,null,0,0,null,null,0,10000,null,20002,null,0,825,null,null,0,825,2,10000,null,{"$f":"dec!E430","v":0},{"$f":"dec!F430","v":0},{"$f":"dec!G430","v":5},{"$f":"dec!H430","v":25000},null,0,0,-3,-15000,-825]
[828,"GREATER LOWELL               ",767,null,4,31284,27,149246,null,0,0,null,null,31284,149246,null,361091,null,0,828,4,31284,0,828,27,149246,null,{"$f":"dec!E431","v":2},{"$f":"dec!F431","v":14232},{"$f":"dec!G431","v":26},{"$f":"dec!H431","v":139425},null,2,17052,1,9821,-828]
[829,"SOUTH MIDDLESEX              ",778,null,0,0,0,0,null,0,0,null,null,0,0,null,0,null,0,829,null,null,0,829,null,null,null,{"$f":"dec!E432","v":0},{"$f":"dec!F432","v":0},{"$f":"dec!G432","v":0},{"$f":"dec!H432","v":0},null,0,0,0,0,-829]
[830,"MINUTEMAN                    ",781,null,0,0,2,10000,null,0,0,null,null,0,10000,null,20002,null,0,830,null,null,0,830,2,10000,null,{"$f":"dec!E433","v":0},{"$f":"dec!F433","v":0},{"$f":"dec!G433","v":1},{"$f":"dec!H433","v":5000},null,0,0,1,5000,-830]
[832,"MONTACHUSETT                 ",735,null,26,137729,46,277464,null,0,0,null,null,137729,277464,null,830458,null,0,832,26,137729,0,832,46,277464,null,{"$f":"dec!E434","v":20},{"$f":"dec!F434","v":107121},{"$f":"dec!G434","v":62},{"$f":"dec!H434","v":359000},null,6,30608,-16,-81536,-832]
[851,"NORTHERN BERKSHIRE           ",743,null,0,0,4,20000,null,0,0,null,null,0,20000,null,40004,null,0,851,null,null,0,851,4,20000,null,{"$f":"dec!E435","v":0},{"$f":"dec!F435","v":0},{"$f":"dec!G435","v":1},{"$f":"dec!H435","v":5000},null,0,0,3,15000,-851]
[852,"NASHOBA VALLEY               ",739,null,65,362076,7,55237,null,0,0,null,null,362076,55237,null,834698,null,0,852,65,362076,0,852,7,55237,null,{"$f":"dec!E436","v":60},{"$f":"dec!F436","v":335948},{"$f":"dec!G436","v":5},{"$f":"dec!H436","v":39584},null,5,26128,2,15653,-852]
[853,"NORTHEAST METROPOLITAN       ",742,null,34,194041,0,0,null,0,0,null,null,194041,0,null,388116,null,0,853,34,194041,0,853,null,null,null,{"$f":"dec!E437","v":30},{"$f":"dec!F437","v":188361},{"$f":"dec!G437","v":2},{"$f":"dec!H437","v":14000},null,4,5680,-2,-14000,-853]
[855,"OLD COLONY                   ",784,null,0,0,0,0,null,0,0,null,null,0,0,null,0,null,0,855,null,null,0,855,null,null,null,{"$f":"dec!E438","v":0},{"$f":"dec!F438","v":0},{"$f":"dec!G438","v":2},{"$f":"dec!H438","v":10000},null,0,0,-2,-10000,-855]
[860,"PATHFINDER                   ",773,null,21,122826,12,86100,null,0,0,null,null,122826,86100,null,417885,null,0,860,21,122826,0,860,12,86100,null,{"$f":"dec!E439","v":34},{"$f":"dec!F439","v":194801},{"$f":"dec!G439","v":12},{"$f":"dec!H439","v":67235},null,-13,-71975,0,18865,-860]
[871,"SHAWSHEEN VALLEY             ",751,null,0,0,21,114377,null,0,0,null,null,0,114377,null,228775,null,0,871,null,null,0,871,21,114377,null,{"$f":"dec!E440","v":0},{"$f":"dec!F440","v":0},{"$f":"dec!G440","v":18},{"$f":"dec!H440","v":104477},null,0,0,3,9900,-871]
[872,"SOUTHEASTERN                 ",754,null,0,0,4,27554,null,0,0,null,null,0,27554,null,55112,null,0,872,null,null,0,872,4,27554,null,{"$f":"dec!E441","v":0},{"$f":"dec!F441","v":0},{"$f":"dec!G441","v":3},{"$f":"dec!H441","v":15000},null,0,0,1,12554,-872]
[873,"SOUTH SHORE                  ",753,null,0,0,1,5000,null,0,0,null,null,0,5000,null,10001,null,0,873,null,null,0,873,1,5000,null,{"$f":"dec!E442","v":0},{"$f":"dec!F442","v":0},{"$f":"dec!G442","v":1},{"$f":"dec!H442","v":5000},null,0,0,0,0,-873]
[876,"SOUTHERN WORCESTER           ",762,null,0,0,31,176878,null,0,0,null,null,0,176878,null,353787,null,0,876,null,null,0,876,31,176878,null,{"$f":"dec!E443","v":0},{"$f":"dec!F443","v":0},{"$f":"dec!G443","v":28},{"$f":"dec!H443","v":170155},null,0,0,3,6723,-876]
[878,"TRI COUNTY                   ",785,null,0,0,0,0,null,0,0,null,null,0,0,null,0,null,0,878,null,null,0,878,null,null,null,{"$f":"dec!E444","v":0},{"$f":"dec!F444","v":0},{"$f":"dec!G444","v":1},{"$f":"dec!H444","v":5000},null,0,0,-1,-5000,-878]
[879,"UPPER CAPE COD               ",758,null,0,0,4,20000,null,0,0,null,null,0,20000,null,40004,null,0,879,null,null,0,879,4,20000,null,{"$f":"dec!E445","v":0},{"$f":"dec!F445","v":0},{"$f":"dec!G445","v":3},{"$f":"dec!H445","v":15000},null,0,0,1,5000,-879]
[885,"WHITTIER                     ",774,null,141,774119,6,38000,null,0,0,null,null,774119,38000,null,1624385,null,0,885,141,774119,0,885,6,38000,null,{"$f":"dec!E446","v":116},{"$f":"dec!F446","v":641668},{"$f":"dec!G446","v":4},{"$f":"dec!H446","v":24000},null,25,132451,2,14000,-885]
[910,"BRISTOL COUNTY               ",810,null,0,0,0,0,null,0,0,null,null,0,0,null,0,null,0,910,null,null,0,910,null,null,null,{"$f":"dec!E447","v":0},{"$f":"dec!F447","v":0},{"$f":"dec!G447","v":0},{"$f":"dec!H447","v":0},null,0,0,0,0,-910]
[915,"NORFOLK COUNTY               ",830,null,0,0,0,0,null,0,0,null,null,0,0,null,0,null,0,915,null,null,0,915,null,null,null,{"$f":"dec!E448","v":0},{"$f":"dec!F448","v":0},{"$f":"dec!G448","v":0},{"$f":"dec!H448","v":0},null,0,0,0,0,-915]
[3901,"MASS VIRTUAL ACADEMY",950,null,692,5081219,0,0,null,432359,0,null,null,5513578,0,null,11027848,null,0,3901,692,5081219,0,3901,null,null,null,{"$f":"dec!E449","v":621},{"$f":"dec!F449","v":4490820},{"$f":"dec!G449","v":0},{"$f":"dec!H449","v":0},null,71,590399,0,0,-3901]
[3902,"TECCA",null,null,391,2895179,0,0,null,0,0,null,null,2895179,0,null,5790749,null,0,3902,391,2895179,3902,3902,null,null,null,{"$f":"dec!E450","v":795.5},{"$f":"dec!F450","v":5822365},{"$f":"dec!G450","v":0},{"$f":"dec!H450","v":0},null,-404.5,-2927186,0,0,-3902]
[9999,"State Total",null,null,{"$f":"SUM(E10:E450)","v":14711.5},{"$f":"SUM(F10:F450)","v":88045565},{"$f":"SUM(G10:G450)","v":14711.5},{"$f":"SUM(H10:H450)","v":88045565},null,456842,466442,null,null,{"$f":"SUM(N11:N450)","v":88492407},{"$f":"SUM(O11:O450)","v":88322707},null,353858951,null,null,null,null,null,999,null,null,null,null,{"$f":"SUM(AB10:AB450)","v":15341.5},{"$f":"SUM(AC10:AC450)","v":92043792},{"$f":"SUM(AD10:AD450)","v":15341.5},{"$f":"SUM(AE10:AE450)","v":92151127},null,{"$f":"SUM(AG11:AG450)","v":-631},{"$f":"SUM(AH11:AH450)","v":-4003227},{"$f":"SUM(AI11:AI450)","v":-624},{"$f":"SUM(AJ11:AJ450)","v":-4063785}]

{"sheet":"may","index":8,"n_rows":451,"n_cols":36,"rows_kept":451,"cut":false,"hidden":true,"merged":[[1,0,1,14],[2,0,2,14],[4,0,4,14]]}
[null,null,null,null,null,null,null,null,null,"proj16aug, may13"]
["Massachusetts Department of Elementary and Secondary Education",null,null,null,null,null,null,null,null,null,null,null,null,null,null,null,null,null,null,null," ---may13  1:30pm---",null,null,null," ---may13  2:30pm---"]
["Office of School Finance"]
[]
["School Choice Pupils and Tuition, FY16, May 2016"]
[null,null,null,null,null,null,null,null,null,"Adjustment","Adjustment",null,null,null,null,null,null,null,null,null,null,null,null,null,null,null,null,null,null,null,null,null,"change","change","change","change"]
[null,null,null,null,"FY16","FY16","FY16","FY16",null,"FY15","FY15",null,null,"Net FY16","Net FY16",null,null,null,null,null,"incoming","incoming",null,null,"incoming","incoming",null,"dec","dec","dec","dec",null,"dec to ","dec to ","dec to ","dec to "]
[null,null,null,null,"Receiving","Receiving","Sending","Sending",null,"Receiving","Sending",null,null,"Receiving","Sending",null,null,null,null,null,"Receiving","Receiving",null,null,"Sending","Sending",null,"Receiving","Receiving","Sending","Sending",null,"may","may"," may"," may"]
["LEA","district","dor",null,"FTE","Tuition","FTE","Tuition",null,"Tuition","Tuition",null,null,"Tuition","Tuition",null,null,null,{"$f":"SUM(S10:S448)","v":0},"lea","FTE","Tuition",{"$f":"SUM(W10:W448)","v":0},"lea","FTE","Tuition",null,"FTE","Tuition","FTE","Tuition",null,"rec fte","rec tuit","send fte","send tuit"]
[1,"ABINGTON                     ",1,null,{"$f":"U10","v":1},{"$f":"V10","v":5000},{"$f":"Y10","v":35.489999999999995},{"$f":"Z10","v":228621},null,0,0,null,null,{"$f":"F10+J10","v":5000},{"$f":"H10+K10","v":228621},null,{"$f":"SUM(E10:O10)","v":467278.49},null,{"$f":"ABS(A10-T10)","v":0},1,1,5000,{"$f":"ABS(X10-A10)","v":0},1,35.489999999999995,228621,null,{"$f":"dec!E10","v":1},{"$f":"dec!F10","v":5000},{"$f":"dec!G10","v":36},{"$f":"dec!H10","v":231077},null,{"$f":"U10-AB10","v":0},{"$f":"V10-AC10","v":0},{"$f":"Y10-AD10","v":-0.51000000000000512},{"$f":"Z10-AE10","v":-2456}]
[2,"ACTON                        ",2,null,{"$f":"U11","v":0},{"$f":"V11","v":0},{"$f":"Y11","v":0},{"$f":"Z11","v":0},null,0,0,null,null,{"$f":"F11+J11","v":0},{"$f":"H11+K11","v":0},null,0,null,0,2,null,null,0,2,null,null,null,{"$f":"dec!E11","v":0},{"$f":"dec!F11","v":0},{"$f":"dec!G11","v":0},{"$f":"dec!H11","v":0},null,{"$f":"U11-AB11","v":0},{"$f":"V11-AC11","v":0},{"$f":"Y11-AD11","v":0},{"$f":"Z11-AE11","v":0}]
[3,"ACUSHNET                     ",3,null,0,0,18.63,98585,null,0,0,null,null,0,98585,null,197188.63,null,0,3,null,null,0,3,18.63,98585,null,{"$f":"dec!E12","v":0},{"$f":"dec!F12","v":0},{"$f":"dec!G12","v":15},{"$f":"dec!H12","v":76700},null,0,0,3.629999999999999,21885]
[4,"ADAMS                        ",4,null,0,0,0,0,null,0,0,null,null,0,0,null,0,null,0,4,null,null,0,4,null,null,null,{"$f":"dec!E13","v":0},{"$f":"dec!F13","v":0},{"$f":"dec!G13","v":0},{"$f":"dec!H13","v":0},null,0,0,0,0]
[5,"AGAWAM                       ",5,null,79,429476,49.03,308100,null,0,0,null,null,429476,308100,null,1475280.03,null,0,5,79,429476,0,5,49.03,308100,null,{"$f":"dec!E14","v":79},{"$f":"dec!F14","v":429476},{"$f":"dec!G14","v":45},{"$f":"dec!H14","v":294983},null,0,0,4.0300000000000011,13117]
[6,"ALFORD                       ",6,null,0,0,0,0,null,0,0,null,null,0,0,null,0,null,0,6,null,null,0,6,null,null,null,{"$f":"dec!E15","v":0},{"$f":"dec!F15","v":0},{"$f":"dec!G15","v":0},{"$f":"dec!H15","v":0},null,0,0,0,0]
[7,"AMESBURY                     ",7,null,16,121524,60.33,383721,null,0,0,null,null,121524,383721,null,1010566.3300000001,null,0,7,16,121524,0,7,60.33,383721,null,{"$f":"dec!E16","v":16},{"$f":"dec!F16","v":121524},{"$f":"dec!G16","v":63},{"$f":"dec!H16","v":394457},null,0,0,-2.6700000000000017,-10736]
[8,"AMHERST                      ",8,null,49,319432,23.480000000000004,228041,null,0,0,null,null,319432,228041,null,1095018.48,null,0,8,49,319432,0,8,23.480000000000004,228041,null,{"$f":"dec!E17","v":49},{"$f":"dec!F17","v":319432},{"$f":"dec!G17","v":21},{"$f":"dec!H17","v":134194},null,0,0,2.480000000000004,93847]
[9,"ANDOVER                      ",9,null,0,0,4,26467,null,0,0,null,null,0,26467,null,52938,null,0,9,null,null,0,9,4,26467,null,{"$f":"dec!E18","v":0},{"$f":"dec!F18","v":0},{"$f":"dec!G18","v":4},{"$f":"dec!H18","v":29100},null,0,0,0,-2633]
[10,"ARLINGTON                    ",10,null,0,0,2.7800000000000002,20238,null,0,0,null,null,0,20238,null,40478.78,null,0,10,null,null,0,10,2.7800000000000002,20238,null,{"$f":"dec!E19","v":0},{"$f":"dec!F19","v":0},{"$f":"dec!G19","v":2},{"$f":"dec!H19","v":21400},null,0,0,0.78000000000000025,-1162]
[11,"ASHBURNHAM                   ",11,null,0,0,0,0,null,0,0,null,null,0,0,null,0,null,0,11,null,null,0,11,null,null,null,{"$f":"dec!E20","v":0},{"$f":"dec!F20","v":0},{"$f":"dec!G20","v":0},{"$f":"dec!H20","v":0},null,0,0,0,0]
[12,"ASHBY                        ",12,null,0,0,0,0,null,0,0,null,null,0,0,null,0,null,0,12,null,null,0,12,null,null,null,{"$f":"dec!E21","v":0},{"$f":"dec!F21","v":0},{"$f":"dec!G21","v":0},{"$f":"dec!H21","v":0},null,0,0,0,0]
[13,"ASHFIELD                     ",13,null,0,0,0,0,null,0,0,null,null,0,0,null,0,null,0,13,null,null,0,13,null,null,null,{"$f":"dec!E22","v":0},{"$f":"dec!F22","v":0},{"$f":"dec!G22","v":0},{"$f":"dec!H22","v":0},null,0,0,0,0]
[14,"ASHLAND                      ",14,null,43.43,266615,13.86,89173,null,0,0,null,null,266615,89173,null,711633.29,null,0,14,43.43,266615,0,14,13.86,89173,null,{"$f":"dec!E23","v":45},{"$f":"dec!F23","v":287724},{"$f":"dec!G23","v":12.5},{"$f":"dec!H23","v":84632},null,-1.5700000000000003,-21109,1.3599999999999994,4541]
[15,"ATHOL                        ",15,null,0,0,0,0,null,0,0,null,null,0,0,null,0,null,0,15,null,null,0,15,null,null,null,{"$f":"dec!E24","v":0},{"$f":"dec!F24","v":0},{"$f":"dec!G24","v":0},{"$f":"dec!H24","v":0},null,0,0,0,0]
[16,"ATTLEBORO                    ",16,null,0,0,27.72,174584,null,0,0,null,null,0,174584,null,349195.72,null,0,16,null,null,0,16,27.72,174584,null,{"$f":"dec!E25","v":0},{"$f":"dec!F25","v":0},{"$f":"dec!G25","v":28},{"$f":"dec!H25","v":183900},null,0,0,-0.28000000000000114,-9316]
[17,"AUBURN                       ",17,null,62.089999999999996,327610,18.73,107043,null,0,0,null,null,327610,107043,null,869386.82000000007,null,0,17,62.089999999999996,327610,0,17,18.73,107043,null,{"$f":"dec!E26","v":63},{"$f":"dec!F26","v":327404},{"$f":"dec!G26","v":20},{"$f":"dec!H26","v":112071},null,-0.91000000000000369,206,-1.2699999999999996,-5028]
[18,"AVON                         ",18,null,188.18,980670,1.69,10067,null,0,0,null,null,980670,10067,null,1981663.87,null,0,18,188.18,980670,0,18,1.69,10067,null,{"$f":"dec!E27","v":193},{"$f":"dec!F27","v":1024920},{"$f":"dec!G27","v":2},{"$f":"dec!H27","v":10000},null,-4.8199999999999932,-44250,-0.31000000000000005,67]
[19,"AYER                         ",19,null,0,0,0,0,null,0,0,null,null,0,0,null,0,null,0,19,null,null,0,19,null,null,null,{"$f":"dec!E28","v":0},{"$f":"dec!F28","v":0},{"$f":"dec!G28","v":0},{"$f":"dec!H28","v":0},null,0,0,0,0]
[20,"BARNSTABLE                   ",20,null,101.78000000000002,650718,157.30000000000004,915697,null,0,0,null,null,650718,915697,null,3133089.08,null,0,20,101.78000000000002,650718,0,20,157.30000000000004,915697,null,{"$f":"dec!E29","v":104},{"$f":"dec!F29","v":658306},{"$f":"dec!G29","v":155},{"$f":"dec!H29","v":934327},null,-2.2199999999999847,-7588,2.3000000000000398,-18630]
[21,"BARRE                        ",21,null,0,0,0,0,null,0,0,null,null,0,0,null,0,null,0,21,null,null,0,21,null,null,null,{"$f":"dec!E30","v":0},{"$f":"dec!F30","v":0},{"$f":"dec!G30","v":0},{"$f":"dec!H30","v":0},null,0,0,0,0]
[22,"BECKET                       ",22,null,0,0,3,15000,null,0,0,null,null,0,15000,null,30003,null,0,22,null,null,0,22,3,15000,null,{"$f":"dec!E31","v":0},{"$f":"dec!F31","v":0},{"$f":"dec!G31","v":3},{"$f":"dec!H31","v":15000},null,0,0,0,0]
[23,"BEDFORD                      ",23,null,0,0,5.16,31665,null,0,0,null,null,0,31665,null,63335.16,null,0,23,null,null,0,23,5.16,31665,null,{"$f":"dec!E32","v":0},{"$f":"dec!F32","v":0},{"$f":"dec!G32","v":4},{"$f":"dec!H32","v":23400},null,0,0,1.1600000000000001,8265]
[24,"BELCHERTOWN                  ",24,null,122,760087,96.75,660608,null,0,0,null,null,760087,660608,null,2841608.75,null,0,24,122,760087,0,24,96.75,660608,null,{"$f":"dec!E33","v":122},{"$f":"dec!F33","v":760087},{"$f":"dec!G33","v":96},{"$f":"dec!H33","v":659834},null,0,0,0.75,774]
[25,"BELLINGHAM                   ",25,null,39.19,218670,140.38999999999999,847684,null,0,12500,null,null,218670,860184,null,2157887.58,null,0,25,39.19,218670,0,25,140.38999999999999,847684,null,{"$f":"dec!E34","v":33},{"$f":"dec!F34","v":202459},{"$f":"dec!G34","v":132.5},{"$f":"dec!H34","v":818894},null,6.1899999999999977,16211,7.8899999999999864,28790]
[26,"BELMONT                      ",26,null,0,0,1.3,8920,null,0,0,null,null,0,8920,null,17841.3,null,0,26,null,null,0,26,1.3,8920,null,{"$f":"dec!E35","v":0},{"$f":"dec!F35","v":0},{"$f":"dec!G35","v":0},{"$f":"dec!H35","v":0},null,0,0,1.3,8920]
[27,"BERKLEY                      ",27,null,104.15999999999997,520800,2.69,13450,null,0,0,null,null,520800,13450,null,1068606.8500000001,null,0,27,104.15999999999997,520800,0,27,2.69,13450,null,{"$f":"dec!E36","v":108},{"$f":"dec!F36","v":582114},{"$f":"dec!G36","v":2},{"$f":"dec!H36","v":10000},null,-3.8400000000000318,-61314,0.69,3450]
[28,"BERLIN                       ",28,null,20,149051,1,5000,null,0,0,null,null,149051,5000,null,308123,null,0,28,20,149051,0,28,1,5000,null,{"$f":"dec!E37","v":20},{"$f":"dec!F37","v":149051},{"$f":"dec!G37","v":0},{"$f":"dec!H37","v":0},null,0,0,1,5000]
[29,"BERNARDSTON                  ",29,null,0,0,0,0,null,0,0,null,null,0,0,null,0,null,0,29,null,null,0,29,null,null,null,{"$f":"dec!E38","v":0},{"$f":"dec!F38","v":0},{"$f":"dec!G38","v":0},{"$f":"dec!H38","v":0},null,0,0,0,0]
[30,"BEVERLY                      ",30,null,106,601926,58.48,334610,null,0,0,null,null,601926,334610,null,1873236.48,null,0,30,106,601926,0,30,58.48,334610,null,{"$f":"dec!E39","v":106},{"$f":"dec!F39","v":601926},{"$f":"dec!G39","v":60},{"$f":"dec!H39","v":340184},null,0,0,-1.5200000000000031,-5574]
[31,"BILLERICA                    ",31,null,0,0,19.420000000000002,126858,null,0,0,null,null,0,126858,null,253735.41999999998,null,0,31,null,null,0,31,19.420000000000002,126858,null,{"$f":"dec!E40","v":0},{"$f":"dec!F40","v":0},{"$f":"dec!G40","v":16},{"$f":"dec!H40","v":105600},null,0,0,3.4200000000000017,21258]
[32,"BLACKSTONE                   ",32,null,0,0,0,0,null,0,0,null,null,0,0,null,0,null,0,32,null,null,0,32,null,null,null,{"$f":"dec!E41","v":0},{"$f":"dec!F41","v":0},{"$f":"dec!G41","v":0},{"$f":"dec!H41","v":0},null,0,0,0,0]
[33,"BLANDFORD                    ",33,null,0,0,2,12120,null,0,0,null,null,0,12120,null,24242,null,0,33,null,null,0,33,2,12120,null,{"$f":"dec!E42","v":0},{"$f":"dec!F42","v":0},{"$f":"dec!G42","v":2},{"$f":"dec!H42","v":12120},null,0,0,0,0]
[34,"BOLTON                       ",34,null,0,0,0,0,null,0,0,null,null,0,0,null,0,null,0,34,null,null,0,34,null,null,null,{"$f":"dec!E43","v":0},{"$f":"dec!F43","v":0},{"$f":"dec!G43","v":0},{"$f":"dec!H43","v":0},null,0,0,0,0]
[35,"BOSTON                       ",35,null,0,0,98.83,656653,null,0,0,null,null,0,656653,null,1313404.83,null,0,35,null,null,0,35,98.83,656653,null,{"$f":"dec!E44","v":0},{"$f":"dec!F44","v":0},{"$f":"dec!G44","v":88},{"$f":"dec!H44","v":608120},null,0,0,10.829999999999998,48533]
[36,"BOURNE                       ",36,null,134.9,800520,95.580000000000013,564917,null,0,0,null,null,800520,564917,null,2731104.48,null,0,36,134.9,800520,0,36,95.580000000000013,564917,null,{"$f":"dec!E45","v":118.5},{"$f":"dec!F45","v":696677},{"$f":"dec!G45","v":98},{"$f":"dec!H45","v":584253},null,16.400000000000006,103843,-2.4199999999999875,-19336]
[37,"BOXBOROUGH                   ",37,null,0,0,0,0,null,0,0,null,null,0,0,null,0,null,0,37,null,null,0,37,null,null,null,{"$f":"dec!E46","v":0},{"$f":"dec!F46","v":0},{"$f":"dec!G46","v":0},{"$f":"dec!H46","v":0},null,0,0,0,0]
[38,"BOXFORD                      ",38,null,0,0,3,16700,null,0,0,null,null,0,16700,null,33403,null,0,38,null,null,0,38,3,16700,null,{"$f":"dec!E47","v":0},{"$f":"dec!F47","v":0},{"$f":"dec!G47","v":3},{"$f":"dec!H47","v":16700},null,0,0,0,0]
[39,"BOYLSTON                     ",39,null,17,90513,5.58,74969,null,0,0,null,null,90513,74969,null,330986.58,null,0,39,17,90513,0,39,5.58,74969,null,{"$f":"dec!E48","v":17},{"$f":"dec!F48","v":90513},{"$f":"dec!G48","v":8},{"$f":"dec!H48","v":91045},null,0,0,-2.42,-16076]
[40,"BRAINTREE                    ",40,null,0,0,5.43,34920,null,0,0,null,null,0,34920,null,69845.429999999993,null,0,40,null,null,0,40,5.43,34920,null,{"$f":"dec!E49","v":0},{"$f":"dec!F49","v":0},{"$f":"dec!G49","v":3},{"$f":"dec!H49","v":18400},null,0,0,2.4299999999999997,16520]
[41,"BREWSTER                     ",41,null,0,0,33.269999999999996,201136,null,0,0,null,null,0,201136,null,402305.27,null,0,41,null,null,0,41,33.269999999999996,201136,null,{"$f":"dec!E50","v":0},{"$f":"dec!F50","v":0},{"$f":"dec!G50","v":27},{"$f":"dec!H50","v":166964},null,0,0,6.269999999999996,34172]
[42,"BRIDGEWATER                  ",42,null,0,0,0,0,null,0,0,null,null,0,0,null,0,null,0,42,null,null,0,42,null,null,null,{"$f":"dec!E51","v":0},{"$f":"dec!F51","v":0},{"$f":"dec!G51","v":0},{"$f":"dec!H51","v":0},null,0,0,0,0]
[43,"BRIMFIELD                    ",43,null,0,0,7.1300000000000008,62760,null,0,0,null,null,0,62760,null,125527.13,null,0,43,null,null,0,43,7.1300000000000008,62760,null,{"$f":"dec!E52","v":0},{"$f":"dec!F52","v":0},{"$f":"dec!G52","v":6},{"$f":"dec!H52","v":64508},null,0,0,1.1300000000000008,-1748]
[44,"BROCKTON                     ",44,null,23.43,227944,235.03000000000003,1272709,null,0,0,null,null,227944,1272709,null,3001564.46,null,0,44,23.43,227944,0,44,235.03000000000003,1272709,null,{"$f":"dec!E53","v":25},{"$f":"dec!F53","v":136000},{"$f":"dec!G53","v":239},{"$f":"dec!H53","v":1328445},null,-1.5700000000000003,91944,-3.9699999999999704,-55736]
[45,"BROOKFIELD                   ",45,null,56.91,354773,2.65,22884,null,0,0,null,null,354773,22884,null,755373.56,null,0,45,56.91,354773,0,45,2.65,22884,null,{"$f":"dec!E54","v":57},{"$f":"dec!F54","v":350618},{"$f":"dec!G54","v":1},{"$f":"dec!H54","v":5000},null,-9.0000000000003411E-2,4155,1.65,17884]
[46,"BROOKLINE                    ",46,null,0,0,1.31,8829,null,0,0,null,null,0,8829,null,17659.309999999998,null,0,46,null,null,0,46,1.31,8829,null,{"$f":"dec!E55","v":0},{"$f":"dec!F55","v":0},{"$f":"dec!G55","v":1},{"$f":"dec!H55","v":6700},null,0,0,0.31000000000000005,2129]
[47,"BUCKLAND                     ",47,null,0,0,0,0,null,0,0,null,null,0,0,null,0,null,0,47,null,null,0,47,null,null,null,{"$f":"dec!E56","v":0},{"$f":"dec!F56","v":0},{"$f":"dec!G56","v":0},{"$f":"dec!H56","v":0},null,0,0,0,0]
[48,"BURLINGTON                   ",48,null,29,153000,3.88,26005,null,0,0,null,null,153000,26005,null,358042.88,null,0,48,29,153000,0,48,3.88,26005,null,{"$f":"dec!E57","v":29},{"$f":"dec!F57","v":153000},{"$f":"dec!G57","v":3},{"$f":"dec!H57","v":20100},null,0,0,0.87999999999999989,5905]
[49,"CAMBRIDGE                    ",49,null,0,0,5.41,36291,null,0,0,null,null,0,36291,null,72587.41,null,0,49,null,null,0,49,5.41,36291,null,{"$f":"dec!E58","v":0},{"$f":"dec!F58","v":0},{"$f":"dec!G58","v":5},{"$f":"dec!H58","v":33500},null,0,0,0.41000000000000014,2791]
[50,"CANTON                       ",50,null,0,0,1.4,9836,null,0,0,null,null,0,9836,null,19673.400000000001,null,0,50,null,null,0,50,1.4,9836,null,{"$f":"dec!E59","v":0},{"$f":"dec!F59","v":0},{"$f":"dec!G59","v":1},{"$f":"dec!H59","v":6700},null,0,0,0.39999999999999991,3136]
[51,"CARLISLE                     ",51,null,0,0,0,0,null,0,0,null,null,0,0,null,0,null,0,51,null,null,0,51,null,null,null,{"$f":"dec!E60","v":0},{"$f":"dec!F60","v":0},{"$f":"dec!G60","v":0},{"$f":"dec!H60","v":0},null,0,0,0,0]
[52,"CARVER                       ",52,null,22.560000000000002,174142,5.5,34622,null,0,0,null,null,174142,34622,null,417556.06,null,0,52,22.560000000000002,174142,0,52,5.5,34622,null,{"$f":"dec!E61","v":23},{"$f":"dec!F61","v":167791},{"$f":"dec!G61","v":6},{"$f":"dec!H61","v":40200},null,-0.43999999999999773,6351,-0.5,-5578]
[53,"CHARLEMONT                   ",53,null,0,0,0,0,null,0,0,null,null,0,0,null,0,null,0,53,null,null,0,53,null,null,null,{"$f":"dec!E62","v":0},{"$f":"dec!F62","v":0},{"$f":"dec!G62","v":0},{"$f":"dec!H62","v":0},null,0,0,0,0]
[54,"CHARLTON                     ",54,null,0,0,0,0,null,0,0,null,null,0,0,null,0,null,0,54,null,null,0,54,null,null,null,{"$f":"dec!E63","v":0},{"$f":"dec!F63","v":0},{"$f":"dec!G63","v":0},{"$f":"dec!H63","v":0},null,0,0,0,0]
[55,"CHATHAM                      ",55,null,0,0,0,0,null,0,0,null,null,0,0,null,0,null,0,55,null,null,0,55,null,null,null,{"$f":"dec!E64","v":0},{"$f":"dec!F64","v":0},{"$f":"dec!G64","v":0},{"$f":"dec!H64","v":0},null,0,0,0,0]
[56,"CHELMSFORD                   ",56,null,57.89,425721,30.27,160391,null,0,0,null,null,425721,160391,null,1172312.1600000001,null,0,56,57.89,425721,0,56,30.27,160391,null,{"$f":"dec!E65","v":59},{"$f":"dec!F65","v":375373},{"$f":"dec!G65","v":29.5},{"$f":"dec!H65","v":207601},null,-1.1099999999999994,50348,0.76999999999999957,-47210]
[57,"CHELSEA                      ",57,null,0,0,10.89,71497,null,0,0,null,null,0,71497,null,143004.89000000001,null,0,57,null,null,0,57,10.89,71497,null,{"$f":"dec!E66","v":0},{"$f":"dec!F66","v":0},{"$f":"dec!G66","v":8},{"$f":"dec!H66","v":51900},null,0,0,2.8900000000000006,19597]
[58,"CHESHIRE                     ",58,null,0,0,0,0,null,0,0,null,null,0,0,null,0,null,0,58,null,null,0,58,null,null,null,{"$f":"dec!E67","v":0},{"$f":"dec!F67","v":0},{"$f":"dec!G67","v":0},{"$f":"dec!H67","v":0},null,0,0,0,0]
[59,"CHESTER                      ",59,null,0,0,0,0,null,0,0,null,null,0,0,null,0,null,0,59,null,null,0,59,null,null,null,{"$f":"dec!E68","v":0},{"$f":"dec!F68","v":0},{"$f":"dec!G68","v":0},{"$f":"dec!H68","v":0},null,0,0,0,0]
[60,"CHESTERFIELD                 ",60,null,0,0,0,0,null,0,0,null,null,0,0,null,0,null,0,60,null,null,0,60,null,null,null,{"$f":"dec!E69","v":0},{"$f":"dec!F69","v":0},{"$f":"dec!G69","v":0},{"$f":"dec!H69","v":0},null,0,0,0,0]
[61,"CHICOPEE                     ",61,null,190.44,988909,145.31000000000003,880719,null,0,0,null,null,988909,880719,null,3739591.75,null,0,61,190.44,988909,0,61,145.31000000000003,880719,null,{"$f":"dec!E70","v":195},{"$f":"dec!F70","v":1009093},{"$f":"dec!G70","v":136},{"$f":"dec!H70","v":777720},null,-4.5600000000000023,-20184,9.3100000000000307,102999]
[62,"CHILMARK                     ",62,null,0,0,0,0,null,0,0,null,null,0,0,null,0,null,0,62,null,null,0,62,null,null,null,{"$f":"dec!E71","v":0},{"$f":"dec!F71","v":0},{"$f":"dec!G71","v":0},{"$f":"dec!H71","v":0},null,0,0,0,0]
[63,"CLARKSBURG                   ",63,null,35.39,203013,17.779999999999998,133934,null,0,0,null,null,203013,133934,null,673947.17,null,0,63,35.39,203013,0,63,17.779999999999998,133934,null,{"$f":"dec!E72","v":33},{"$f":"dec!F72","v":203974},{"$f":"dec!G72","v":16},{"$f":"dec!H72","v":107823},null,2.3900000000000006,-961,1.7799999999999976,26111]
[64,"CLINTON                      ",64,null,82.429999999999993,640152,122.29,686451,null,0,0,null,null,640152,686451,null,2653410.7200000002,null,0,64,82.429999999999993,640152,0,64,122.29,686451,null,{"$f":"dec!E73","v":79},{"$f":"dec!F73","v":585285},{"$f":"dec!G73","v":121.5},{"$f":"dec!H73","v":675727},null,3.4299999999999926,54867,0.79000000000000625,10724]
[65,"COHASSET                     ",65,null,0,0,0,0,null,0,0,null,null,0,0,null,{"$f":"SUM(E74:O74)","v":0},null,{"$f":"ABS(A74-T74)","v":0},65,null,null,{"$f":"ABS(X74-A74)","v":0},65,null,null,null,{"$f":"dec!E74","v":0},{"$f":"dec!F74","v":0},{"$f":"dec!G74","v":0},{"$f":"dec!H74","v":0},null,0,0,0,0]
[66,"COLRAIN                      ",66,null,{"$f":"U75","v":0},{"$f":"V75","v":0},{"$f":"Y75","v":0},{"$f":"Z75","v":0},null,0,0,null,null,{"$f":"F75+J75","v":0},{"$f":"H75+K75","v":0},null,0,null,0,66,null,null,0,66,null,null,null,{"$f":"dec!E75","v":0},{"$f":"dec!F75","v":0},{"$f":"dec!G75","v":0},{"$f":"dec!H75","v":0},null,{"$f":"U75-AB75","v":0},{"$f":"V75-AC75","v":0},{"$f":"Y75-AD75","v":0},{"$f":"Z75-AE75","v":0}]
[67,"CONCORD                      ",67,null,0,0,2,13400,null,0,0,null,null,0,13400,null,26802,null,0,67,null,null,0,67,2,13400,null,{"$f":"dec!E76","v":0},{"$f":"dec!F76","v":0},{"$f":"dec!G76","v":3},{"$f":"dec!H76","v":18400},null,0,0,-1,-5000]
[68,"CONWAY                       ",68,null,19.990000000000002,127995,11.36,91093,null,0,0,null,null,127995,91093,null,438207.35,null,0,68,19.990000000000002,127995,0,68,11.36,91093,null,{"$f":"dec!E77","v":21},{"$f":"dec!F77","v":148737},{"$f":"dec!G77","v":9},{"$f":"dec!H77","v":72060},null,-1.009999999999998,-20742,2.3599999999999994,19033]
[69,"CUMMINGTON                   ",69,null,0,0,0,0,null,0,0,null,null,0,0,null,0,null,0,69,null,null,0,69,null,null,null,{"$f":"dec!E78","v":0},{"$f":"dec!F78","v":0},{"$f":"dec!G78","v":0},{"$f":"dec!H78","v":0},null,0,0,0,0]
[70,"DALTON                       ",70,null,0,0,0,0,null,0,0,null,null,0,0,null,0,null,0,70,null,null,0,70,null,null,null,{"$f":"dec!E79","v":0},{"$f":"dec!F79","v":0},{"$f":"dec!G79","v":0},{"$f":"dec!H79","v":0},null,0,0,0,0]
[71,"DANVERS                      ",71,null,0,0,53.1,292362,null,0,0,null,null,0,292362,null,584777.1,null,0,71,null,null,0,71,53.1,292362,null,{"$f":"dec!E80","v":0},{"$f":"dec!F80","v":0},{"$f":"dec!G80","v":52},{"$f":"dec!H80","v":278474},null,0,0,1.1000000000000014,13888]
[72,"DARTMOUTH                    ",72,null,0,0,6,38575,null,0,0,null,null,0,38575,null,77156,null,0,72,null,null,0,72,6,38575,null,{"$f":"dec!E81","v":0},{"$f":"dec!F81","v":0},{"$f":"dec!G81","v":3},{"$f":"dec!H81","v":20100},null,0,0,3,18475]
[73,"DEDHAM                       ",73,null,0,0,3.17,17853,null,0,0,null,null,0,17853,null,35709.17,null,0,73,null,null,0,73,3.17,17853,null,{"$f":"dec!E82","v":0},{"$f":"dec!F82","v":0},{"$f":"dec!G82","v":5},{"$f":"dec!H82","v":36400},null,0,0,-1.83,-18547]
[74,"DEERFIELD                    ",74,null,89.79,647624,21.43,118375,null,0,0,null,null,647624,118375,null,1532109.2200000002,null,0,74,89.79,647624,0,74,21.43,118375,null,{"$f":"dec!E83","v":88},{"$f":"dec!F83","v":572511},{"$f":"dec!G83","v":22},{"$f":"dec!H83","v":126100},null,1.7900000000000063,75113,-0.57000000000000028,-7725]
[75,"DENNIS                       ",75,null,0,0,0,0,null,0,0,null,null,0,0,null,0,null,0,75,null,null,0,75,null,null,null,{"$f":"dec!E84","v":0},{"$f":"dec!F84","v":0},{"$f":"dec!G84","v":0},{"$f":"dec!H84","v":0},null,0,0,0,0]
[76,"DIGHTON                      ",76,null,0,0,0,0,null,0,0,null,null,0,0,null,0,null,0,76,null,null,0,76,null,null,null,{"$f":"dec!E85","v":0},{"$f":"dec!F85","v":0},{"$f":"dec!G85","v":0},{"$f":"dec!H85","v":0},null,0,0,0,0]
[77,"DOUGLAS                      ",77,null,116.61,656288,47.12,279417,null,0,0,null,null,656288,279417,null,1871573.73,null,0,77,116.61,656288,0,77,47.12,279417,null,{"$f":"dec!E86","v":111},{"$f":"dec!F86","v":614852},{"$f":"dec!G86","v":49},{"$f":"dec!H86","v":284393},null,5.6099999999999994,41436,-1.8800000000000026,-4976]
[78,"DOVER                        ",78,null,0,0,0,0,null,0,0,null,null,0,0,null,0,null,0,78,null,null,0,78,null,null,null,{"$f":"dec!E87","v":0},{"$f":"dec!F87","v":0},{"$f":"dec!G87","v":0},{"$f":"dec!H87","v":0},null,0,0,0,0]
[79,"DRACUT                       ",79,null,35.93,201770,26.120000000000005,183541,null,0,0,null,null,201770,183541,null,770684.05,null,0,79,35.93,201770,0,79,26.120000000000005,183541,null,{"$f":"dec!E88","v":29},{"$f":"dec!F88","v":157640},{"$f":"dec!G88","v":26},{"$f":"dec!H88","v":158017},null,6.93,44130,0.12000000000000455,25524]
[80,"DUDLEY                       ",80,null,0,0,0,0,null,0,0,null,null,0,0,null,0,null,0,80,null,null,0,80,null,null,null,{"$f":"dec!E89","v":0},{"$f":"dec!F89","v":0},{"$f":"dec!G89","v":0},{"$f":"dec!H89","v":0},null,0,0,0,0]
[81,"DUNSTABLE                    ",81,null,0,0,0,0,null,0,0,null,null,0,0,null,0,null,0,81,null,null,0,81,null,null,null,{"$f":"dec!E90","v":0},{"$f":"dec!F90","v":0},{"$f":"dec!G90","v":0},{"$f":"dec!H90","v":0},null,0,0,0,0]
[82,"DUXBURY                      ",82,null,0,0,1.77,12477,null,0,0,null,null,0,12477,null,24955.77,null,0,82,null,null,0,82,1.77,12477,null,{"$f":"dec!E91","v":0},{"$f":"dec!F91","v":0},{"$f":"dec!G91","v":1},{"$f":"dec!H91","v":6700},null,0,0,0.77,5777]
[83,"EAST BRIDGEWATER             ",83,null,27,201000,19.68,152777,null,0,0,null,null,201000,152777,null,707600.67999999993,null,0,83,27,201000,0,83,19.68,152777,null,{"$f":"dec!E92","v":27},{"$f":"dec!F92","v":201000},{"$f":"dec!G92","v":22},{"$f":"dec!H92","v":154021},null,0,0,-2.3200000000000003,-1244]
[84,"EAST BROOKFIELD              ",84,null,0,0,5,25000,null,0,0,null,null,0,25000,null,50005,null,0,84,null,null,0,84,5,25000,null,{"$f":"dec!E93","v":0},{"$f":"dec!F93","v":0},{"$f":"dec!G93","v":6},{"$f":"dec!H93","v":30000},null,0,0,-1,-5000]
[85,"EASTHAM                      ",86,null,0,0,7.91,46279,null,0,0,null,null,0,46279,null,92565.91,null,0,85,null,null,0,85,7.91,46279,null,{"$f":"dec!E94","v":0},{"$f":"dec!F94","v":0},{"$f":"dec!G94","v":7},{"$f":"dec!H94","v":37560},null,0,0,0.91000000000000014,8719]
[86,"EASTHAMPTON                  ",87,null,86.1,490764,175.29999999999998,1187147,null,0,0,null,null,490764,1187147,null,3356083.4,null,0,86,86.1,490764,0,86,175.29999999999998,1187147,null,{"$f":"dec!E95","v":86},{"$f":"dec!F95","v":467402},{"$f":"dec!G95","v":173},{"$f":"dec!H95","v":1154611},null,9.9999999999994316E-2,23362,2.2999999999999829,32536]
[87,"EAST LONGMEADOW              ",85,null,0,0,10.6,95650,null,0,0,null,null,0,95650,null,191310.6,null,0,87,null,null,0,87,10.6,95650,null,{"$f":"dec!E96","v":0},{"$f":"dec!F96","v":0},{"$f":"dec!G96","v":9},{"$f":"dec!H96","v":62800},null,0,0,1.5999999999999996,32850]
[88,"EASTON                       ",88,null,0,0,9.64,58783,null,0,0,null,null,0,58783,null,117575.64,null,0,88,null,null,0,88,9.64,58783,null,{"$f":"dec!E97","v":0},{"$f":"dec!F97","v":0},{"$f":"dec!G97","v":9},{"$f":"dec!H97","v":54921},null,0,0,0.64000000000000057,3862]
[89,"EDGARTOWN                    ",89,null,8,63812,33,189314,null,0,0,null,null,63812,189314,null,506293,null,0,89,8,63812,0,89,33,189314,null,{"$f":"dec!E98","v":8},{"$f":"dec!F98","v":51028},{"$f":"dec!G98","v":33},{"$f":"dec!H98","v":189337},null,0,12784,0,-23]
[90,"EGREMONT                     ",90,null,0,0,0,0,null,0,0,null,null,0,0,null,0,null,0,90,null,null,0,90,null,null,null,{"$f":"dec!E99","v":0},{"$f":"dec!F99","v":0},{"$f":"dec!G99","v":0},{"$f":"dec!H99","v":0},null,0,0,0,0]
[91,"ERVING                       ",91,null,0,0,35.159999999999997,196657,null,0,0,null,null,0,196657,null,393349.16000000003,null,0,91,null,null,0,91,35.159999999999997,196657,null,{"$f":"dec!E100","v":0},{"$f":"dec!F100","v":0},{"$f":"dec!G100","v":34},{"$f":"dec!H100","v":183768},null,0,0,1.1599999999999966,12889]
[92,"ESSEX                        ",92,null,0,0,0,0,null,0,0,null,null,0,0,null,0,null,0,92,null,null,0,92,null,null,null,{"$f":"dec!E101","v":0},{"$f":"dec!F101","v":0},{"$f":"dec!G101","v":0},{"$f":"dec!H101","v":0},null,0,0,0,0]
[93,"EVERETT                      ",93,null,0,0,16.259999999999998,92517,null,0,0,null,null,0,92517,null,185050.26,null,0,93,null,null,0,93,16.259999999999998,92517,null,{"$f":"dec!E102","v":0},{"$f":"dec!F102","v":0},{"$f":"dec!G102","v":16},{"$f":"dec!H102","v":100274},null,0,0,0.25999999999999801,-7757]
[94,"FAIRHAVEN                    ",94,null,0,0,13.35,76133,null,0,0,null,null,0,76133,null,152279.35,null,0,94,null,null,0,94,13.35,76133,null,{"$f":"dec!E103","v":0},{"$f":"dec!F103","v":0},{"$f":"dec!G103","v":12},{"$f":"dec!H103","v":72646},null,0,0,1.3499999999999996,3487]
[95,"FALL RIVER                   ",95,null,33,213000,104.39999999999999,621330,null,0,0,null,null,213000,621330,null,1668797.4,null,0,95,33,213000,0,95,104.39999999999999,621330,null,{"$f":"dec!E104","v":33},{"$f":"dec!F104","v":213000},{"$f":"dec!G104","v":106},{"$f":"dec!H104","v":633074},null,0,0,-1.6000000000000085,-11744]
[96,"FALMOUTH                     ",96,null,112.21,662649,40.450000000000003,241071,null,0,0,null,null,662649,241071,null,1807592.66,null,0,96,112.21,662649,0,96,40.450000000000003,241071,null,{"$f":"dec!E105","v":112},{"$f":"dec!F105","v":696289},{"$f":"dec!G105","v":35},{"$f":"dec!H105","v":200977},null,0.20999999999999375,-33640,5.4500000000000028,40094]
[97,"FITCHBURG                    ",97,null,175.74999999999983,1014558,437.81999999999994,2521797,null,0,0,null,null,1014558,2521797,null,7073323.5700000003,null,0,97,175.74999999999983,1014558,0,97,437.81999999999994,2521797,null,{"$f":"dec!E106","v":170},{"$f":"dec!F106","v":973989},{"$f":"dec!G106","v":426},{"$f":"dec!H106","v":2504850},null,5.7499999999998295,40569,11.819999999999936,16947]
[98,"FLORIDA                      ",98,null,3.42,19506,7,39198,null,0,0,null,null,19506,39198,null,117418.42,null,0,98,3.42,19506,0,98,7,39198,null,{"$f":"dec!E107","v":1},{"$f":"dec!F107","v":5000},{"$f":"dec!G107","v":7},{"$f":"dec!H107","v":47000},null,2.42,14506,0,-7802]
[99,"FOXBOROUGH                   ",99,null,0,0,5.75,33639,null,0,0,null,null,0,33639,null,67283.75,null,0,99,null,null,0,99,5.75,33639,null,{"$f":"dec!E108","v":0},{"$f":"dec!F108","v":0},{"$f":"dec!G108","v":5},{"$f":"dec!H108","v":28400},null,0,0,0.75,5239]
[100,"FRAMINGHAM                   ",100,null,0,0,55.47,333182,null,0,0,null,null,0,333182,null,666419.47,null,0,100,null,null,0,100,55.47,333182,null,{"$f":"dec!E109","v":0},{"$f":"dec!F109","v":0},{"$f":"dec!G109","v":61},{"$f":"dec!H109","v":377803},null,0,0,-5.5300000000000011,-44621]
[101,"FRANKLIN                     ",101,null,7,40017,34.789999999999992,204723,null,0,10000,null,null,40017,214723,null,509521.79000000004,null,0,101,7,40017,0,101,34.789999999999992,204723,null,{"$f":"dec!E110","v":7},{"$f":"dec!F110","v":39000},{"$f":"dec!G110","v":31.5},{"$f":"dec!H110","v":193953},null,0,1017,3.289999999999992,10770]
[102,"FREETOWN                     ",102,null,0,0,2,10000,null,0,0,null,null,0,10000,null,20002,null,0,102,null,null,0,102,2,10000,null,{"$f":"dec!E111","v":0},{"$f":"dec!F111","v":0},{"$f":"dec!G111","v":1},{"$f":"dec!H111","v":5000},null,0,0,1,5000]
[103,"GARDNER                      ",103,null,121.98000000000003,679099,248.50999999999993,1416132,null,0,0,null,null,679099,1416132,null,4190832.49,null,0,103,121.98000000000003,679099,0,103,248.50999999999993,1416132,null,{"$f":"dec!E112","v":116},{"$f":"dec!F112","v":667591},{"$f":"dec!G112","v":241},{"$f":"dec!H112","v":1311559},null,5.9800000000000324,11508,7.5099999999999341,104573]
[104,"GAY HEAD                     ",104,null,0,0,0,0,null,0,0,null,null,0,0,null,0,null,0,104,null,null,0,104,null,null,null,{"$f":"dec!E113","v":0},{"$f":"dec!F113","v":0},{"$f":"dec!G113","v":0},{"$f":"dec!H113","v":0},null,0,0,0,0]
[105,"GEORGETOWN                   ",105,null,37,190439,23.900000000000002,190348,null,0,0,null,null,190439,190348,null,761634.9,null,0,105,37,190439,0,105,23.900000000000002,190348,null,{"$f":"dec!E114","v":37},{"$f":"dec!F114","v":190439},{"$f":"dec!G114","v":22},{"$f":"dec!H114","v":191661},null,0,0,1.9000000000000021,-1313]
[106,"GILL                         ",106,null,0,0,0,0,null,0,0,null,null,0,0,null,0,null,0,106,null,null,0,106,null,null,null,{"$f":"dec!E115","v":0},{"$f":"dec!F115","v":0},{"$f":"dec!G115","v":0},{"$f":"dec!H115","v":0},null,0,0,0,0]
[107,"GLOUCESTER                   ",107,null,38.539999999999992,201875,310.14000000000004,1863193,null,0,0,null,null,201875,1863193,null,4130484.6799999997,null,0,107,38.539999999999992,201875,0,107,310.14000000000004,1863193,null,{"$f":"dec!E116","v":36},{"$f":"dec!F116","v":193525},{"$f":"dec!G116","v":303},{"$f":"dec!H116","v":1675296},null,2.539999999999992,8350,7.1400000000000432,187897]
[108,"GOSHEN                       ",108,null,0,0,0,0,null,0,0,null,null,0,0,null,0,null,0,108,null,null,0,108,null,null,null,{"$f":"dec!E117","v":0},{"$f":"dec!F117","v":0},{"$f":"dec!G117","v":0},{"$f":"dec!H117","v":0},null,0,0,0,0]
[109,"GOSNOLD                      ",109,null,0,0,0,0,null,0,0,null,null,0,0,null,0,null,0,109,null,null,0,109,null,null,null,{"$f":"dec!E118","v":0},{"$f":"dec!F118","v":0},{"$f":"dec!G118","v":0},{"$f":"dec!H118","v":0},null,0,0,0,0]
[110,"GRAFTON                      ",110,null,42,266367,37.199999999999996,209804,null,0,0,null,null,266367,209804,null,952421.2,null,0,110,42,266367,0,110,37.199999999999996,209804,null,{"$f":"dec!E119","v":42},{"$f":"dec!F119","v":266367},{"$f":"dec!G119","v":35},{"$f":"dec!H119","v":202296},null,0,0,2.1999999999999957,7508]
[111,"GRANBY                       ",111,null,117.09,662813,52.689999999999991,325725,null,0,0,null,null,662813,325725,null,1977245.7799999998,null,0,111,117.09,662813,0,111,52.689999999999991,325725,null,{"$f":"dec!E120","v":116},{"$f":"dec!F120","v":667038},{"$f":"dec!G120","v":48},{"$f":"dec!H120","v":303479},null,1.0900000000000034,-4225,4.6899999999999906,22246]
[112,"GRANVILLE                    ",112,null,0,0,0,0,null,0,0,null,null,0,0,null,0,null,0,112,null,null,0,112,null,null,null,{"$f":"dec!E121","v":0},{"$f":"dec!F121","v":0},{"$f":"dec!G121","v":0},{"$f":"dec!H121","v":0},null,0,0,0,0]
[113,"GREAT BARRINGTON             ",113,null,0,0,0,0,null,0,0,null,null,0,0,null,0,null,0,113,null,null,0,113,null,null,null,{"$f":"dec!E122","v":0},{"$f":"dec!F122","v":0},{"$f":"dec!G122","v":0},{"$f":"dec!H122","v":0},null,0,0,0,0]
[114,"GREENFIELD                   ",114,null,116.54999999999997,710935,331.76,2561654,null,0,0,null,null,710935,2561654,null,6545626.3100000005,null,0,114,116.54999999999997,710935,0,114,331.76,2561654,null,{"$f":"dec!E123","v":109},{"$f":"dec!F123","v":661041},{"$f":"dec!G123","v":319.5},{"$f":"dec!H123","v":2219044},null,7.5499999999999687,49894,12.259999999999991,342610]
[115,"GROTON                       ",115,null,0,0,0,0,null,0,0,null,null,0,0,null,0,null,0,115,null,null,0,115,null,null,null,{"$f":"dec!E124","v":0},{"$f":"dec!F124","v":0},{"$f":"dec!G124","v":0},{"$f":"dec!H124","v":0},null,0,0,0,0]
[116,"GROVELAND                    ",116,null,0,0,0,0,null,0,0,null,null,0,0,null,0,null,0,116,null,null,0,116,null,null,null,{"$f":"dec!E125","v":0},{"$f":"dec!F125","v":0},{"$f":"dec!G125","v":0},{"$f":"dec!H125","v":0},null,0,0,0,0]
[117,"HADLEY                       ",117,null,101.26999999999998,636679,51.089999999999996,322325,null,0,0,null,null,636679,322325,null,1918160.3599999999,null,0,117,101.26999999999998,636679,0,117,51.089999999999996,322325,null,{"$f":"dec!E126","v":97},{"$f":"dec!F126","v":545205},{"$f":"dec!G126","v":48},{"$f":"dec!H126","v":314228},null,4.2699999999999818,91474,3.0899999999999963,8097]
[118,"HALIFAX                      ",118,null,0,0,1,5000,null,0,0,null,null,0,5000,null,10001,null,0,118,null,null,0,118,1,5000,null,{"$f":"dec!E127","v":0},{"$f":"dec!F127","v":0},{"$f":"dec!G127","v":1},{"$f":"dec!H127","v":5000},null,0,0,0,0]
[119,"HAMILTON                     ",119,null,0,0,0,0,null,0,0,null,null,0,0,null,0,null,0,119,null,null,0,119,null,null,null,{"$f":"dec!E128","v":0},{"$f":"dec!F128","v":0},{"$f":"dec!G128","v":0},{"$f":"dec!H128","v":0},null,0,0,0,0]
[120,"HAMPDEN                      ",120,null,0,0,0,0,null,0,0,null,null,0,0,null,0,null,0,120,null,null,0,120,null,null,null,{"$f":"dec!E129","v":0},{"$f":"dec!F129","v":0},{"$f":"dec!G129","v":0},{"$f":"dec!H129","v":0},null,0,0,0,0]
[121,"HANCOCK                      ",121,null,4,24000,5.6899999999999995,28450,null,0,0,null,null,24000,28450,null,104909.69,null,0,121,4,24000,0,121,5.6899999999999995,28450,null,{"$f":"dec!E130","v":4},{"$f":"dec!F130","v":24000},{"$f":"dec!G130","v":5},{"$f":"dec!H130","v":25000},null,0,0,0.6899999999999995,3450]
[122,"HANOVER                      ",122,null,0,0,2,10000,null,0,0,null,null,0,10000,null,20002,null,0,122,null,null,0,122,2,10000,null,{"$f":"dec!E131","v":0},{"$f":"dec!F131","v":0},{"$f":"dec!G131","v":2},{"$f":"dec!H131","v":10000},null,0,0,0,0]
[123,"HANSON                       ",123,null,0,0,0,0,null,0,0,null,null,0,0,null,0,null,0,123,null,null,0,123,null,null,null,{"$f":"dec!E132","v":0},{"$f":"dec!F132","v":0},{"$f":"dec!G132","v":0},{"$f":"dec!H132","v":0},null,0,0,0,0]
[124,"HARDWICK                     ",124,null,0,0,0,0,null,0,0,null,null,0,0,null,0,null,0,124,null,null,0,124,null,null,null,{"$f":"dec!E133","v":0},{"$f":"dec!F133","v":0},{"$f":"dec!G133","v":0},{"$f":"dec!H133","v":0},null,0,0,0,0]
[125,"HARVARD                      ",125,null,67.38,336900,4,20000,null,0,0,null,null,336900,20000,null,713871.38,null,0,125,67.38,336900,0,125,4,20000,null,{"$f":"dec!E134","v":68},{"$f":"dec!F134","v":358354},{"$f":"dec!G134","v":4},{"$f":"dec!H134","v":20000},null,-0.62000000000000455,-21454,0,0]
[126,"HARWICH                      ",126,null,0,0,0,0,null,0,0,null,null,0,0,null,0,null,0,126,null,null,0,126,null,null,null,{"$f":"dec!E135","v":0},{"$f":"dec!F135","v":0},{"$f":"dec!G135","v":0},{"$f":"dec!H135","v":0},null,0,0,0,0]
[127,"HATFIELD                     ",127,null,130.80000000000001,916915,30.78,194914,null,0,0,null,null,916915,194914,null,2223819.58,null,0,127,130.80000000000001,916915,0,127,30.78,194914,null,{"$f":"dec!E136","v":131},{"$f":"dec!F136","v":850119},{"$f":"dec!G136","v":30},{"$f":"dec!H136","v":205121},null,-0.19999999999998863,66796,0.78000000000000114,-10207]
[128,"HAVERHILL                    ",128,null,36,191343,186.9,1072909,null,0,0,null,null,191343,1072909,null,2528726.9,null,0,128,36,191343,0,128,186.9,1072909,null,{"$f":"dec!E137","v":36},{"$f":"dec!F137","v":191343},{"$f":"dec!G137","v":189},{"$f":"dec!H137","v":1095599},null,0,0,-2.0999999999999943,-22690]
[129,"HAWLEY                       ",129,null,0,0,0,0,null,0,0,null,null,0,0,null,{"$f":"SUM(E138:O138)","v":0},null,{"$f":"ABS(A138-T138)","v":0},129,null,null,{"$f":"ABS(X138-A138)","v":0},129,null,null,null,{"$f":"dec!E138","v":0},{"$f":"dec!F138","v":0},{"$f":"dec!G138","v":0},{"$f":"dec!H138","v":0},null,0,0,0,0]
[130,"HEATH                        ",130,null,{"$f":"U139","v":0},{"$f":"V139","v":0},{"$f":"Y139","v":0},{"$f":"Z139","v":0},null,0,0,null,null,{"$f":"F139+J139","v":0},{"$f":"H139+K139","v":0},null,0,null,0,130,null,null,0,130,null,null,null,{"$f":"dec!E139","v":0},{"$f":"dec!F139","v":0},{"$f":"dec!G139","v":0},{"$f":"dec!H139","v":0},null,{"$f":"U139-AB139","v":0},{"$f":"V139-AC139","v":0},{"$f":"Y139-AD139","v":0},{"$f":"Z139-AE139","v":0}]
[131,"HINGHAM                      ",131,null,0,0,3.96,27352,null,0,0,null,null,0,27352,null,54707.96,null,0,131,null,null,0,131,3.96,27352,null,{"$f":"dec!E140","v":0},{"$f":"dec!F140","v":0},{"$f":"dec!G140","v":3},{"$f":"dec!H140","v":28100},null,0,0,0.96,-748]
[132,"HINSDALE                     ",132,null,0,0,0,0,null,0,0,null,null,0,0,null,0,null,0,132,null,null,0,132,null,null,null,{"$f":"dec!E141","v":0},{"$f":"dec!F141","v":0},{"$f":"dec!G141","v":0},{"$f":"dec!H141","v":0},null,0,0,0,0]
[133,"HOLBROOK                     ",133,null,57,306291,17.84,123056,null,0,0,null,null,306291,123056,null,858768.84000000008,null,0,133,57,306291,0,133,17.84,123056,null,{"$f":"dec!E142","v":57},{"$f":"dec!F142","v":306291},{"$f":"dec!G142","v":15},{"$f":"dec!H142","v":85200},null,0,0,2.84,37856]
[134,"HOLDEN                       ",134,null,0,0,0,0,null,0,0,null,null,0,0,null,0,null,0,134,null,null,0,134,null,null,null,{"$f":"dec!E143","v":0},{"$f":"dec!F143","v":0},{"$f":"dec!G143","v":0},{"$f":"dec!H143","v":0},null,0,0,0,0]
[135,"HOLLAND                      ",135,null,52.93,299281,2.52,13520,null,0,0,null,null,299281,13520,null,625657.44999999995,null,0,135,52.93,299281,0,135,2.52,13520,null,{"$f":"dec!E144","v":50},{"$f":"dec!F144","v":275872},{"$f":"dec!G144","v":1},{"$f":"dec!H144","v":5000},null,2.9299999999999997,23409,1.52,8520]
[136,"HOLLISTON                    ",136,null,163,1058438,14.33,84812,null,0,0,null,null,1058438,84812,null,2286677.33,null,0,136,163,1058438,0,136,14.33,84812,null,{"$f":"dec!E145","v":163},{"$f":"dec!F145","v":1058438},{"$f":"dec!G145","v":14},{"$f":"dec!H145","v":94295},null,0,0,0.33000000000000007,-9483]
[137,"HOLYOKE                      ",137,null,53.17,295466,337.09,2132745,null,0,0,null,null,295466,2132745,null,4856812.26,null,0,137,53.17,295466,0,137,337.09,2132745,null,{"$f":"dec!E146","v":56},{"$f":"dec!F146","v":316976},{"$f":"dec!G146","v":339},{"$f":"dec!H146","v":2020196},null,-2.8299999999999983,-21510,-1.910000000000025,112549]
[138,"HOPEDALE                     ",138,null,122.77,694534,48.559999999999995,287564,null,0,0,null,null,694534,287564,null,1964367.33,null,0,138,122.77,694534,0,138,48.559999999999995,287564,null,{"$f":"dec!E147","v":120},{"$f":"dec!F147","v":666244},{"$f":"dec!G147","v":43},{"$f":"dec!H147","v":260019},null,2.769999999999996,28290,5.5599999999999952,27545]
[139,"HOPKINTON                    ",139,null,0,0,20.190000000000001,120564,null,0,0,null,null,0,120564,null,241148.19,null,0,139,null,null,0,139,20.190000000000001,120564,null,{"$f":"dec!E148","v":0},{"$f":"dec!F148","v":0},{"$f":"dec!G148","v":18.5},{"$f":"dec!H148","v":104415},null,0,0,1.6900000000000013,16149]
[140,"HUBBARDSTON                  ",140,null,0,0,0,0,null,0,0,null,null,0,0,null,0,null,0,140,null,null,0,140,null,null,null,{"$f":"dec!E149","v":0},{"$f":"dec!F149","v":0},{"$f":"dec!G149","v":0},{"$f":"dec!H149","v":0},null,0,0,0,0]
[141,"HUDSON                       ",141,null,96.160000000000025,617583,21.259999999999998,137725,null,0,0,null,null,617583,137725,null,1510733.42,null,0,141,96.160000000000025,617583,0,141,21.259999999999998,137725,null,{"$f":"dec!E150","v":92},{"$f":"dec!F150","v":554577},{"$f":"dec!G150","v":15},{"$f":"dec!H150","v":104422},null,4.160000000000025,63006,6.259999999999998,33303]
[142,"HULL                         ",142,null,0,0,6,42278,null,0,0,null,null,0,42278,null,84562,null,0,142,null,null,0,142,6,42278,null,{"$f":"dec!E151","v":0},{"$f":"dec!F151","v":0},{"$f":"dec!G151","v":5},{"$f":"dec!H151","v":38189},null,0,0,1,4089]
[143,"HUNTINGTON                   ",143,null,0,0,0,0,null,0,0,null,null,0,0,null,0,null,0,143,null,null,0,143,null,null,null,{"$f":"dec!E152","v":0},{"$f":"dec!F152","v":0},{"$f":"dec!G152","v":1},{"$f":"dec!H152","v":5000},null,0,0,-1,-5000]
[144,"IPSWICH                      ",144,null,66,365038,16.66,95239,null,0,0,null,null,365038,95239,null,920636.65999999992,null,0,144,66,365038,0,144,16.66,95239,null,{"$f":"dec!E153","v":66},{"$f":"dec!F153","v":365038},{"$f":"dec!G153","v":17},{"$f":"dec!H153","v":99253},null,0,0,-0.33999999999999986,-4014]
[145,"KINGSTON                     ",145,null,0,0,0,0,null,0,0,null,null,0,0,null,0,null,0,145,null,null,0,145,null,null,null,{"$f":"dec!E154","v":0},{"$f":"dec!F154","v":0},{"$f":"dec!G154","v":0},{"$f":"dec!H154","v":0},null,0,0,0,0]
[146,"LAKEVILLE                    ",146,null,0,0,0,0,null,0,0,null,null,0,0,null,0,null,0,146,null,null,0,146,null,null,null,{"$f":"dec!E155","v":0},{"$f":"dec!F155","v":0},{"$f":"dec!G155","v":0},{"$f":"dec!H155","v":0},null,0,0,0,0]
[147,"LANCASTER                    ",147,null,0,0,0,0,null,0,0,null,null,0,0,null,0,null,0,147,null,null,0,147,null,null,null,{"$f":"dec!E156","v":0},{"$f":"dec!F156","v":0},{"$f":"dec!G156","v":0},{"$f":"dec!H156","v":0},null,0,0,0,0]
[148,"LANESBOROUGH                 ",148,null,19,109804,23.090000000000003,121158,null,0,0,null,null,109804,121158,null,461966.08999999997,null,0,148,19,109804,0,148,23.090000000000003,121158,null,{"$f":"dec!E157","v":19},{"$f":"dec!F157","v":115999},{"$f":"dec!G157","v":22},{"$f":"dec!H157","v":111635},null,0,-6195,1.0900000000000034,9523]
[149,"LAWRENCE                     ",149,null,0,0,66.72,419332,null,0,0,null,null,0,419332,null,838730.72,null,0,149,null,null,0,149,66.72,419332,null,{"$f":"dec!E158","v":0},{"$f":"dec!F158","v":0},{"$f":"dec!G158","v":70.5},{"$f":"dec!H158","v":444484},null,0,0,-3.7800000000000011,-25152]
[150,"LEE                          ",150,null,128.54000000000002,743454,101.32,561868,null,0,0,null,null,743454,561868,null,2610873.86,null,0,150,128.54000000000002,743454,0,150,101.32,561868,null,{"$f":"dec!E159","v":128},{"$f":"dec!F159","v":729588},{"$f":"dec!G159","v":100},{"$f":"dec!H159","v":561288},null,0.54000000000002046,13866,1.3199999999999932,580]
[151,"LEICESTER                    ",151,null,97,558265,35.340000000000003,198520,null,0,0,null,null,558265,198520,null,1513702.3399999999,null,0,151,97,558265,0,151,35.340000000000003,198520,null,{"$f":"dec!E160","v":97},{"$f":"dec!F160","v":558265},{"$f":"dec!G160","v":34.5},{"$f":"dec!H160","v":190973},null,0,0,0.84000000000000341,7547]
[152,"LENOX                        ",152,null,253.16,1310194,48.66,267978,null,0,-1050,null,null,1310194,266928,null,3154545.82,null,0,152,253.16,1310194,0,152,48.66,267978,null,{"$f":"dec!E161","v":255},{"$f":"dec!F161","v":1329856},{"$f":"dec!G161","v":50},{"$f":"dec!H161","v":286394},null,-1.8400000000000034,-19662,-1.3400000000000034,-18416]
[153,"LEOMINSTER                   ",153,null,246.22000000000006,1350796,325.38,1885899,null,0,0,null,null,1350796,1885899,null,6473961.5999999996,null,0,153,246.22000000000006,1350796,0,153,325.38,1885899,null,{"$f":"dec!E162","v":246},{"$f":"dec!F162","v":1367932},{"$f":"dec!G162","v":322.5},{"$f":"dec!H162","v":1886475},null,0.22000000000005571,-17136,2.8799999999999955,-576]
[154,"LEVERETT                     ",154,null,21.2,145160,5.37,27526,null,0,0,null,null,145160,27526,null,345398.57,null,0,154,21.2,145160,0,154,5.37,27526,null,{"$f":"dec!E163","v":21},{"$f":"dec!F163","v":139816},{"$f":"dec!G163","v":6},{"$f":"dec!H163","v":31700},null,0.19999999999999929,5344,-0.62999999999999989,-4174]
[155,"LEXINGTON                    ",155,null,0,0,6.34,40828,null,0,0,null,null,0,40828,null,81662.34,null,0,155,null,null,0,155,6.34,40828,null,{"$f":"dec!E164","v":0},{"$f":"dec!F164","v":0},{"$f":"dec!G164","v":6},{"$f":"dec!H164","v":38500},null,0,0,0.33999999999999986,2328]
[156,"LEYDEN                       ",156,null,0,0,0,0,null,0,0,null,null,0,0,null,0,null,0,156,null,null,0,156,null,null,null,{"$f":"dec!E165","v":0},{"$f":"dec!F165","v":0},{"$f":"dec!G165","v":0},{"$f":"dec!H165","v":0},null,0,0,0,0]
[157,"LINCOLN                      ",157,null,0,0,3,20100,null,0,0,null,null,0,20100,null,40203,null,0,157,null,null,0,157,3,20100,null,{"$f":"dec!E166","v":0},{"$f":"dec!F166","v":0},{"$f":"dec!G166","v":3},{"$f":"dec!H166","v":20100},null,0,0,0,0]
[158,"LITTLETON                    ",158,null,79.680000000000007,438047,21.42,140174,null,0,0,null,null,438047,140174,null,1156543.1000000001,null,0,158,79.680000000000007,438047,0,158,21.42,140174,null,{"$f":"dec!E167","v":79.5},{"$f":"dec!F167","v":453343},{"$f":"dec!G167","v":22},{"$f":"dec!H167","v":145578},null,0.18000000000000682,-15296,-0.57999999999999829,-5404]
[159,"LONGMEADOW                   ",159,null,39.630000000000003,328156,2.06,12248,null,0,0,null,null,328156,12248,null,680849.69,null,0,159,39.630000000000003,328156,0,159,2.06,12248,null,{"$f":"dec!E168","v":38},{"$f":"dec!F168","v":284642},{"$f":"dec!G168","v":1},{"$f":"dec!H168","v":5000},null,1.6300000000000026,43514,1.06,7248]
[160,"LOWELL                       ",160,null,0,0,144.48999999999998,933044,null,0,0,null,null,0,933044,null,1866232.49,null,0,160,null,null,0,160,144.48999999999998,933044,null,{"$f":"dec!E169","v":0},{"$f":"dec!F169","v":0},{"$f":"dec!G169","v":140},{"$f":"dec!H169","v":889811},null,0,0,4.4899999999999807,43233]
[161,"LUDLOW                       ",161,null,93.99,562404,40.08,217372,null,0,0,null,null,562404,217372,null,1559686.0699999998,null,0,161,93.99,562404,0,161,40.08,217372,null,{"$f":"dec!E170","v":96},{"$f":"dec!F170","v":611083},{"$f":"dec!G170","v":39},{"$f":"dec!H170","v":212834},null,-2.0100000000000051,-48679,1.0799999999999983,4538]
[162,"LUNENBURG                    ",162,null,51.269999999999996,286673,78.859999999999985,464729,null,0,0,null,null,286673,464729,null,1502934.13,null,0,162,51.269999999999996,286673,0,162,78.859999999999985,464729,null,{"$f":"dec!E171","v":53},{"$f":"dec!F171","v":303389},{"$f":"dec!G171","v":75},{"$f":"dec!H171","v":439103},null,-1.730000000000004,-16716,3.8599999999999852,25626]
[163,"LYNN                         ",163,null,0,0,101.62,608593,null,0,0,null,null,0,608593,null,1217287.6200000001,null,0,163,null,null,0,163,101.62,608593,null,{"$f":"dec!E172","v":0},{"$f":"dec!F172","v":0},{"$f":"dec!G172","v":99},{"$f":"dec!H172","v":606998},null,0,0,2.6200000000000045,1595]
[164,"LYNNFIELD                    ",164,null,0,0,0,0,null,0,0,null,null,0,0,null,0,null,0,164,null,null,0,164,null,null,null,{"$f":"dec!E173","v":0},{"$f":"dec!F173","v":0},{"$f":"dec!G173","v":0},{"$f":"dec!H173","v":0},null,0,0,0,0]
[165,"MALDEN                       ",165,null,0,0,10.379999999999999,64311,null,0,0,null,null,0,64311,null,128632.38,null,0,165,null,null,0,165,10.379999999999999,64311,null,{"$f":"dec!E174","v":0},{"$f":"dec!F174","v":0},{"$f":"dec!G174","v":8},{"$f":"dec!H174","v":50800},null,0,0,2.379999999999999,13511]
[166,"MANCHESTER                   ",166,null,0,0,0,0,null,0,0,null,null,0,0,null,0,null,0,166,null,null,0,166,null,null,null,{"$f":"dec!E175","v":0},{"$f":"dec!F175","v":0},{"$f":"dec!G175","v":0},{"$f":"dec!H175","v":0},null,0,0,0,0]
[167,"MANSFIELD                    ",167,null,0,0,6.43,37250,null,0,0,null,null,0,37250,null,74506.429999999993,null,0,167,null,null,0,167,6.43,37250,null,{"$f":"dec!E176","v":0},{"$f":"dec!F176","v":0},{"$f":"dec!G176","v":6.5},{"$f":"dec!H176","v":37600},null,0,0,-7.0000000000000284E-2,-350]
[168,"MARBLEHEAD                   ",168,null,0,0,5.41,33177,null,0,0,null,null,0,33177,null,66359.41,null,0,168,null,null,0,168,5.41,33177,null,{"$f":"dec!E177","v":0},{"$f":"dec!F177","v":0},{"$f":"dec!G177","v":5},{"$f":"dec!H177","v":34100},null,0,0,0.41000000000000014,-923]
[169,"MARION                       ",169,null,0,0,0.72,5096,null,0,0,null,null,0,5096,null,10192.720000000001,null,0,169,null,null,0,169,0.72,5096,null,{"$f":"dec!E178","v":0},{"$f":"dec!F178","v":0},{"$f":"dec!G178","v":0},{"$f":"dec!H178","v":0},null,0,0,0.72,5096]
[170,"MARLBOROUGH                  ",170,null,0,0,92.399999999999991,539261,null,0,0,null,null,0,539261,null,1078614.3999999999,null,0,170,null,null,0,170,92.399999999999991,539261,null,{"$f":"dec!E179","v":0},{"$f":"dec!F179","v":0},{"$f":"dec!G179","v":87.5},{"$f":"dec!H179","v":526099},null,0,0,4.8999999999999915,13162]
[171,"MARSHFIELD                   ",171,null,5,25000,6.14,43122,null,0,0,null,null,25000,43122,null,136255.14000000001,null,0,171,5,25000,0,171,6.14,43122,null,{"$f":"dec!E180","v":5},{"$f":"dec!F180","v":25000},{"$f":"dec!G180","v":5},{"$f":"dec!H180","v":33500},null,0,0,1.1399999999999997,9622]
[172,"MASHPEE                      ",172,null,64.739999999999995,384970,80.670000000000016,441636,null,0,0,null,null,384970,441636,null,1653357.41,null,0,172,64.739999999999995,384970,0,172,80.670000000000016,441636,null,{"$f":"dec!E181","v":68},{"$f":"dec!F181","v":397671},{"$f":"dec!G181","v":82},{"$f":"dec!H181","v":476511},null,-3.2600000000000051,-12701,-1.3299999999999841,-34875]
[173,"MATTAPOISETT                 ",173,null,2,38577,1.33,10208,null,0,0,null,null,38577,10208,null,97573.33,null,0,173,2,38577,0,173,1.33,10208,null,{"$f":"dec!E182","v":2},{"$f":"dec!F182","v":37512},{"$f":"dec!G182","v":2},{"$f":"dec!H182","v":14481},null,0,1065,-0.66999999999999993,-4273]
[174,"MAYNARD                      ",174,null,39.519999999999996,197600,9.01,46613,null,0,0,null,null,197600,46613,null,488474.53,null,0,174,39.519999999999996,197600,0,174,9.01,46613,null,{"$f":"dec!E183","v":40.5},{"$f":"dec!F183","v":335347},{"$f":"dec!G183","v":10},{"$f":"dec!H183","v":52445},null,-0.98000000000000398,-137747,-0.99000000000000021,-5832]
[175,"MEDFIELD                     ",175,null,0,0,7.8200000000000012,48743,null,0,0,null,null,0,48743,null,97493.82,null,0,175,null,null,0,175,7.8200000000000012,48743,null,{"$f":"dec!E184","v":0},{"$f":"dec!F184","v":0},{"$f":"dec!G184","v":5},{"$f":"dec!H184","v":34100},null,0,0,2.8200000000000012,14643]
[176,"MEDFORD                      ",176,null,0,0,7.4099999999999993,52371,null,0,0,null,null,0,52371,null,104749.41,null,0,176,null,null,0,176,7.4099999999999993,52371,null,{"$f":"dec!E185","v":0},{"$f":"dec!F185","v":0},{"$f":"dec!G185","v":9},{"$f":"dec!H185","v":62200},null,0,0,-1.5900000000000007,-9829]
[177,"MEDWAY                       ",177,null,94.000000000000014,470000,49.12,280528,null,47500,0,null,null,517500,280528,null,1596199.12,null,0,177,94.000000000000014,470000,0,177,49.12,280528,null,{"$f":"dec!E186","v":88},{"$f":"dec!F186","v":501540},{"$f":"dec!G186","v":46},{"$f":"dec!H186","v":261598},null,6.0000000000000142,-31540,3.1199999999999974,18930]
[178,"MELROSE                      ",178,null,25.29,140055,3,19302,null,0,0,null,null,140055,19302,null,318742.29000000004,null,0,178,25.29,140055,0,178,3,19302,null,{"$f":"dec!E187","v":23},{"$f":"dec!F187","v":130000},{"$f":"dec!G187","v":3},{"$f":"dec!H187","v":20103},null,2.2899999999999991,10055,0,-801]
[179,"MENDON                       ",179,null,0,0,0,0,null,0,0,null,null,0,0,null,0,null,0,179,null,null,0,179,null,null,null,{"$f":"dec!E188","v":0},{"$f":"dec!F188","v":0},{"$f":"dec!G188","v":0},{"$f":"dec!H188","v":0},null,0,0,0,0]
[180,"MERRIMAC                     ",180,null,0,0,0,0,null,0,0,null,null,0,0,null,0,null,0,180,null,null,0,180,null,null,null,{"$f":"dec!E189","v":0},{"$f":"dec!F189","v":0},{"$f":"dec!G189","v":0},{"$f":"dec!H189","v":0},null,0,0,0,0]
[181,"METHUEN                      ",181,null,0,0,24.689999999999998,149338,null,0,0,null,null,0,149338,null,298700.69,null,0,181,null,null,0,181,24.689999999999998,149338,null,{"$f":"dec!E190","v":0},{"$f":"dec!F190","v":0},{"$f":"dec!G190","v":24},{"$f":"dec!H190","v":142700},null,0,0,0.68999999999999773,6638]
[182,"MIDDLEBOROUGH                ",182,null,5,25000,52.07,302003,null,0,0,null,null,25000,302003,null,654063.07000000007,null,0,182,5,25000,0,182,52.07,302003,null,{"$f":"dec!E191","v":5},{"$f":"dec!F191","v":25000},{"$f":"dec!G191","v":43},{"$f":"dec!H191","v":245319},null,0,0,9.07,56684]
[183,"MIDDLEFIELD                  ",183,null,0,0,0,0,null,0,0,null,null,0,0,null,0,null,0,183,null,null,0,183,null,null,null,{"$f":"dec!E192","v":0},{"$f":"dec!F192","v":0},{"$f":"dec!G192","v":0},{"$f":"dec!H192","v":0},null,0,0,0,0]
[184,"MIDDLETON                    ",184,null,0,0,1,6700,null,0,0,null,null,0,6700,null,13401,null,0,184,null,null,0,184,1,6700,null,{"$f":"dec!E193","v":0},{"$f":"dec!F193","v":0},{"$f":"dec!G193","v":1},{"$f":"dec!H193","v":6700},null,0,0,0,0]
[185,"MILFORD                      ",185,null,86.799999999999983,513108,200.86,1164513,null,0,10000,null,null,513108,1174513,null,3375529.66,null,0,185,86.799999999999983,513108,0,185,200.86,1164513,null,{"$f":"dec!E194","v":77},{"$f":"dec!F194","v":442124},{"$f":"dec!G194","v":198},{"$f":"dec!H194","v":1168463},null,9.7999999999999829,70984,2.8600000000000136,-3950]
[186,"MILLBURY                     ",186,null,0,0,24.339999999999996,158945,null,0,0,null,null,0,158945,null,317914.33999999997,null,0,186,null,null,0,186,24.339999999999996,158945,null,{"$f":"dec!E195","v":0},{"$f":"dec!F195","v":0},{"$f":"dec!G195","v":26},{"$f":"dec!H195","v":159604},null,0,0,-1.6600000000000037,-659]
[187,"MILLIS                       ",187,null,79.259999999999991,423920,29.800000000000004,182824,null,0,15000,null,null,423920,197824,null,1243597.06,null,0,187,79.259999999999991,423920,0,187,29.800000000000004,182824,null,{"$f":"dec!E196","v":70},{"$f":"dec!F196","v":376474},{"$f":"dec!G196","v":29},{"$f":"dec!H196","v":182848},null,9.2599999999999909,47446,0.80000000000000426,-24]
[188,"MILLVILLE                    ",188,null,0,0,0,0,null,0,0,null,null,0,0,null,0,null,0,188,null,null,0,188,null,null,null,{"$f":"dec!E197","v":0},{"$f":"dec!F197","v":0},{"$f":"dec!G197","v":0},{"$f":"dec!H197","v":0},null,0,0,0,0]
[189,"MILTON                       ",189,null,0,0,4,26800,null,0,0,null,null,0,26800,null,53604,null,0,189,null,null,0,189,4,26800,null,{"$f":"dec!E198","v":0},{"$f":"dec!F198","v":0},{"$f":"dec!G198","v":4},{"$f":"dec!H198","v":26800},null,0,0,0,0]
[190,"MONROE                       ",190,null,0,0,0.74,3984,null,0,0,null,null,0,3984,null,7968.74,null,0,190,null,null,0,190,0.74,3984,null,{"$f":"dec!E199","v":0},{"$f":"dec!F199","v":0},{"$f":"dec!G199","v":1},{"$f":"dec!H199","v":5000},null,0,0,-0.26,-1016]
[191,"MONSON                       ",191,null,52,323728,40.980000000000004,229751,null,0,0,null,null,323728,229751,null,1107050.98,null,0,191,52,323728,0,191,40.980000000000004,229751,null,{"$f":"dec!E200","v":52},{"$f":"dec!F200","v":308926},{"$f":"dec!G200","v":37},{"$f":"dec!H200","v":207987},null,0,14802,3.980000000000004,21764]
[192,"MONTAGUE                     ",192,null,0,0,0,0,null,0,0,null,null,0,0,null,0,null,0,192,null,null,0,192,null,null,null,{"$f":"dec!E201","v":0},{"$f":"dec!F201","v":0},{"$f":"dec!G201","v":0},{"$f":"dec!H201","v":0},null,0,0,0,0]
[193,"MONTEREY                     ",193,null,0,0,0,0,null,0,0,null,null,0,0,null,{"$f":"SUM(E202:O202)","v":0},null,{"$f":"ABS(A202-T202)","v":0},193,null,null,{"$f":"ABS(X202-A202)","v":0},193,null,null,null,{"$f":"dec!E202","v":0},{"$f":"dec!F202","v":0},{"$f":"dec!G202","v":0},{"$f":"dec!H202","v":0},null,0,0,0,0]
[194,"MONTGOMERY                   ",194,null,{"$f":"U203","v":0},{"$f":"V203","v":0},{"$f":"Y203","v":0},{"$f":"Z203","v":0},null,0,0,null,null,{"$f":"F203+J203","v":0},{"$f":"H203+K203","v":0},null,0,null,0,194,null,null,0,194,null,null,null,{"$f":"dec!E203","v":0},{"$f":"dec!F203","v":0},{"$f":"dec!G203","v":0},{"$f":"dec!H203","v":0},null,{"$f":"U203-AB203","v":0},{"$f":"V203-AC203","v":0},{"$f":"Y203-AD203","v":0},{"$f":"Z203-AE203","v":0}]
[195,"MOUNT WASHINGTON             ",195,null,0,0,1,5000,null,0,0,null,null,0,5000,null,10001,null,0,195,null,null,0,195,1,5000,null,{"$f":"dec!E204","v":0},{"$f":"dec!F204","v":0},{"$f":"dec!G204","v":1},{"$f":"dec!H204","v":5000},null,0,0,0,0]
[196,"NAHANT                       ",196,null,0,0,1.48,7400,null,0,0,null,null,0,7400,null,14801.48,null,0,196,null,null,0,196,1.48,7400,null,{"$f":"dec!E205","v":0},{"$f":"dec!F205","v":0},{"$f":"dec!G205","v":0},{"$f":"dec!H205","v":0},null,0,0,1.48,7400]
[197,"NANTUCKET                    ",197,null,0,0,1.62,10883,null,0,0,null,null,0,10883,null,21767.620000000003,null,0,197,null,null,0,197,1.62,10883,null,{"$f":"dec!E206","v":0},{"$f":"dec!F206","v":0},{"$f":"dec!G206","v":1},{"$f":"dec!H206","v":6700},null,0,0,0.62000000000000011,4183]
[198,"NATICK                       ",198,null,39,261473,13.229999999999999,87515,null,0,0,null,null,261473,87515,null,698028.23,null,0,198,39,261473,0,198,13.229999999999999,87515,null,{"$f":"dec!E207","v":39},{"$f":"dec!F207","v":261473},{"$f":"dec!G207","v":11},{"$f":"dec!H207","v":74094},null,0,0,2.2299999999999986,13421]
[199,"NEEDHAM                      ",199,null,0,0,5.91,38205,null,0,0,null,null,0,38205,null,76415.91,null,0,199,null,null,0,199,5.91,38205,null,{"$f":"dec!E208","v":0},{"$f":"dec!F208","v":0},{"$f":"dec!G208","v":6},{"$f":"dec!H208","v":42500},null,0,0,-8.9999999999999858E-2,-4295]
[200,"NEW ASHFORD                  ",200,null,0,0,1,5000,null,0,0,null,null,0,5000,null,10001,null,0,200,null,null,0,200,1,5000,null,{"$f":"dec!E209","v":0},{"$f":"dec!F209","v":0},{"$f":"dec!G209","v":1},{"$f":"dec!H209","v":5000},null,0,0,0,0]
[201,"NEW BEDFORD                  ",201,null,0,0,97.01,618448,null,0,0,null,null,0,618448,null,1236993.01,null,0,201,null,null,0,201,97.01,618448,null,{"$f":"dec!E210","v":0},{"$f":"dec!F210","v":0},{"$f":"dec!G210","v":78},{"$f":"dec!H210","v":505748},null,0,0,19.010000000000005,112700]
[202,"NEW BRAINTREE                ",202,null,0,0,0,0,null,0,0,null,null,0,0,null,0,null,0,202,null,null,0,202,null,null,null,{"$f":"dec!E211","v":0},{"$f":"dec!F211","v":0},{"$f":"dec!G211","v":0},{"$f":"dec!H211","v":0},null,0,0,0,0]
[203,"NEWBURY                      ",205,null,0,0,0,0,null,0,0,null,null,0,0,null,0,null,0,203,null,null,0,203,null,null,null,{"$f":"dec!E212","v":0},{"$f":"dec!F212","v":0},{"$f":"dec!G212","v":0},{"$f":"dec!H212","v":0},null,0,0,0,0]
[204,"NEWBURYPORT                  ",206,null,42.019999999999996,641809,43.919999999999995,272752,null,0,0,null,null,641809,272752,null,1829207.94,null,0,204,42.019999999999996,641809,0,204,43.919999999999995,272752,null,{"$f":"dec!E213","v":43},{"$f":"dec!F213","v":671478},{"$f":"dec!G213","v":44},{"$f":"dec!H213","v":288690},null,-0.98000000000000398,-29669,-8.00000000000054E-2,-15938]
[205,"NEW MARLBOROUGH              ",203,null,0,0,0,0,null,0,0,null,null,0,0,null,0,null,0,205,null,null,0,205,null,null,null,{"$f":"dec!E214","v":0},{"$f":"dec!F214","v":0},{"$f":"dec!G214","v":0},{"$f":"dec!H214","v":0},null,0,0,0,0]
[206,"NEW SALEM                    ",204,null,0,0,0,0,null,0,0,null,null,0,0,null,0,null,0,206,null,null,0,206,null,null,null,{"$f":"dec!E215","v":0},{"$f":"dec!F215","v":0},{"$f":"dec!G215","v":0},{"$f":"dec!H215","v":0},null,0,0,0,0]
[207,"NEWTON                       ",207,null,0,0,5.32,35846,null,0,0,null,null,0,35846,null,71697.320000000007,null,0,207,null,null,0,207,5.32,35846,null,{"$f":"dec!E216","v":0},{"$f":"dec!F216","v":0},{"$f":"dec!G216","v":7},{"$f":"dec!H216","v":50900},null,0,0,-1.6799999999999997,-15054]
[208,"NORFOLK                      ",208,null,0,0,3,16700,null,0,0,null,null,0,16700,null,33403,null,0,208,null,null,0,208,3,16700,null,{"$f":"dec!E217","v":0},{"$f":"dec!F217","v":0},{"$f":"dec!G217","v":2},{"$f":"dec!H217","v":11700},null,0,0,1,5000]
[209,"NORTH ADAMS                  ",209,null,44.169999999999987,323759,113.39999999999999,662143,null,0,0,null,null,323759,662143,null,1971961.57,null,0,209,44.169999999999987,323759,0,209,113.39999999999999,662143,null,{"$f":"dec!E218","v":40},{"$f":"dec!F218","v":283731},{"$f":"dec!G218","v":109.5},{"$f":"dec!H218","v":668937},null,4.1699999999999875,40028,3.8999999999999915,-6794]
[210,"NORTHAMPTON                  ",214,null,221.36,1829052,83.420000000000016,637820,null,0,0,null,null,1829052,637820,null,4934048.78,null,0,210,221.36,1829052,0,210,83.420000000000016,637820,null,{"$f":"dec!E219","v":219},{"$f":"dec!F219","v":1716289},{"$f":"dec!G219","v":85},{"$f":"dec!H219","v":572388},null,2.3600000000000136,112763,-1.5799999999999841,65432]
[211,"NORTH ANDOVER                ",210,null,0,0,0,0,null,0,0,null,null,0,0,null,0,null,0,211,null,null,0,211,null,null,null,{"$f":"dec!E220","v":0},{"$f":"dec!F220","v":0},{"$f":"dec!G220","v":0},{"$f":"dec!H220","v":0},null,0,0,0,0]
[212,"NORTH ATTLEBOROUGH           ",211,null,0,0,13.169999999999998,86639,null,0,0,null,null,0,86639,null,173291.16999999998,null,0,212,null,null,0,212,13.169999999999998,86639,null,{"$f":"dec!E221","v":0},{"$f":"dec!F221","v":0},{"$f":"dec!G221","v":11},{"$f":"dec!H221","v":70300},null,0,0,2.1699999999999982,16339]
[213,"NORTHBOROUGH                 ",215,null,0,0,3,22400,null,0,0,null,null,0,22400,null,44803,null,0,213,null,null,0,213,3,22400,null,{"$f":"dec!E222","v":0},{"$f":"dec!F222","v":0},{"$f":"dec!G222","v":3},{"$f":"dec!H222","v":22400},null,0,0,0,0]
[214,"NORTHBRIDGE                  ",216,null,104.20000000000003,566303,126.92000000000003,847420,null,0,0,null,null,566303,847420,null,2827677.12,null,0,214,104.20000000000003,566303,0,214,126.92000000000003,847420,null,{"$f":"dec!E223","v":106.5},{"$f":"dec!F223","v":575388},{"$f":"dec!G223","v":121},{"$f":"dec!H223","v":740327},null,-2.2999999999999687,-9085,5.9200000000000301,107093]
[215,"NORTH BROOKFIELD             ",212,null,64.63,334523,113.81,661765,null,0,0,null,null,334523,661765,null,1992754.44,null,0,215,64.63,334523,0,215,113.81,661765,null,{"$f":"dec!E224","v":68},{"$f":"dec!F224","v":373679},{"$f":"dec!G224","v":109.5},{"$f":"dec!H224","v":623298},null,-3.3700000000000045,-39156,4.3100000000000023,38467]
[216,"NORTHFIELD                   ",217,null,0,0,0,0,null,0,0,null,null,0,0,null,0,null,0,216,null,null,0,216,null,null,null,{"$f":"dec!E225","v":0},{"$f":"dec!F225","v":0},{"$f":"dec!G225","v":0},{"$f":"dec!H225","v":0},null,0,0,0,0]
[217,"NORTH READING                ",213,null,0,0,5.74,35078,null,0,0,null,null,0,35078,null,70161.739999999991,null,0,217,null,null,0,217,5.74,35078,null,{"$f":"dec!E226","v":0},{"$f":"dec!F226","v":0},{"$f":"dec!G226","v":5},{"$f":"dec!H226","v":30100},null,0,0,0.74000000000000021,4978]
[218,"NORTON                       ",218,null,34.5,207200,20.82,129632,null,0,0,null,null,207200,129632,null,673719.32000000007,null,0,218,34.5,207200,0,218,20.82,129632,null,{"$f":"dec!E227","v":34.5},{"$f":"dec!F227","v":207200},{"$f":"dec!G227","v":19},{"$f":"dec!H227","v":116783},null,0,0,1.8200000000000003,12849]
[219,"NORWELL                      ",219,null,0,0,1,6941,null,0,0,null,null,0,6941,null,13883,null,0,219,null,null,0,219,1,6941,null,{"$f":"dec!E228","v":0},{"$f":"dec!F228","v":0},{"$f":"dec!G228","v":1},{"$f":"dec!H228","v":10700},null,0,0,0,-3759]
[220,"NORWOOD                      ",220,null,0,0,9.370000000000001,62615,null,0,0,null,null,0,62615,null,125239.37,null,0,220,null,null,0,220,9.370000000000001,62615,null,{"$f":"dec!E229","v":0},{"$f":"dec!F229","v":0},{"$f":"dec!G229","v":9},{"$f":"dec!H229","v":63910},null,0,0,0.37000000000000099,-1295]
[221,"OAK BLUFFS                   ",221,null,36,214429,32.090000000000003,218307,null,0,0,null,null,214429,218307,null,865540.09,null,0,221,36,214429,0,221,32.090000000000003,218307,null,{"$f":"dec!E230","v":36},{"$f":"dec!F230","v":214429},{"$f":"dec!G230","v":29},{"$f":"dec!H230","v":189683},null,0,0,3.0900000000000034,28624]
[222,"OAKHAM                       ",222,null,0,0,0,0,null,0,0,null,null,0,0,null,0,null,0,222,null,null,0,222,null,null,null,{"$f":"dec!E231","v":0},{"$f":"dec!F231","v":0},{"$f":"dec!G231","v":0},{"$f":"dec!H231","v":0},null,0,0,0,0]
[223,"ORANGE                       ",223,null,61.230000000000011,414143,62.050000000000004,402478,null,0,0,null,null,414143,402478,null,1633365.28,null,0,223,61.230000000000011,414143,0,223,62.050000000000004,402478,null,{"$f":"dec!E232","v":56},{"$f":"dec!F232","v":373608},{"$f":"dec!G232","v":56},{"$f":"dec!H232","v":323919},null,5.2300000000000111,40535,6.0500000000000043,78559]
[224,"ORLEANS                      ",224,null,1,5000,2.4900000000000002,13321,null,0,0,null,null,5000,13321,null,36645.49,null,0,224,1,5000,0,224,2.4900000000000002,13321,null,{"$f":"dec!E233","v":1},{"$f":"dec!F233","v":5000},{"$f":"dec!G233","v":1},{"$f":"dec!H233","v":5000},null,0,0,1.4900000000000002,8321]
[225,"OTIS                         ",225,null,0,0,0,0,null,0,0,null,null,0,0,null,0,null,0,225,null,null,0,225,null,null,null,{"$f":"dec!E234","v":0},{"$f":"dec!F234","v":0},{"$f":"dec!G234","v":0},{"$f":"dec!H234","v":0},null,0,0,0,0]
[226,"OXFORD                       ",226,null,5,25000,82.72,471023,null,0,0,null,null,25000,471023,null,992133.72,null,0,226,5,25000,0,226,82.72,471023,null,{"$f":"dec!E235","v":5},{"$f":"dec!F235","v":25000},{"$f":"dec!G235","v":83},{"$f":"dec!H235","v":469422},null,0,0,-0.28000000000000114,1601]
[227,"PALMER                       ",227,null,27.34,148882,85.59,525387,null,0,0,null,null,148882,525387,null,1348650.93,null,0,227,27.34,148882,0,227,85.59,525387,null,{"$f":"dec!E236","v":21},{"$f":"dec!F236","v":111006},{"$f":"dec!G236","v":82},{"$f":"dec!H236","v":484241},null,6.34,37876,3.5900000000000034,41146]
[228,"PAXTON                       ",228,null,0,0,0,0,null,0,0,null,null,0,0,null,0,null,0,228,null,null,0,228,null,null,null,{"$f":"dec!E237","v":0},{"$f":"dec!F237","v":0},{"$f":"dec!G237","v":0},{"$f":"dec!H237","v":0},null,0,0,0,0]
[229,"PEABODY                      ",229,null,91.089999999999961,486595,49.730000000000004,266643,null,0,0,null,null,486595,266643,null,1506616.82,null,0,229,91.089999999999961,486595,0,229,49.730000000000004,266643,null,{"$f":"dec!E238","v":89},{"$f":"dec!F238","v":478459},{"$f":"dec!G238","v":49},{"$f":"dec!H238","v":263896},null,2.0899999999999608,8136,0.73000000000000398,2747]
[230,"PELHAM                       ",230,null,52,373116,1,5000,null,0,0,null,null,373116,5000,null,756285,null,0,230,52,373116,0,230,1,5000,null,{"$f":"dec!E239","v":52},{"$f":"dec!F239","v":373116},{"$f":"dec!G239","v":1},{"$f":"dec!H239","v":5000},null,0,0,0,0]
[231,"PEMBROKE                     ",231,null,0,0,7.51,43629,null,0,0,null,null,0,43629,null,87265.510000000009,null,0,231,null,null,0,231,7.51,43629,null,{"$f":"dec!E240","v":0},{"$f":"dec!F240","v":0},{"$f":"dec!G240","v":8},{"$f":"dec!H240","v":46800},null,0,0,-0.49000000000000021,-3171]
[232,"PEPPERELL                    ",232,null,0,0,0,0,null,0,0,null,null,0,0,null,0,null,0,232,null,null,0,232,null,null,null,{"$f":"dec!E241","v":0},{"$f":"dec!F241","v":0},{"$f":"dec!G241","v":0},{"$f":"dec!H241","v":0},null,0,0,0,0]
[233,"PERU                         ",233,null,0,0,0,0,null,0,0,null,null,0,0,null,0,null,0,233,null,null,0,233,null,null,null,{"$f":"dec!E242","v":0},{"$f":"dec!F242","v":0},{"$f":"dec!G242","v":0},{"$f":"dec!H242","v":0},null,0,0,0,0]
[234,"PETERSHAM                    ",234,null,66.670000000000016,403775,8,40000,null,0,0,null,null,403775,40000,null,887624.66999999993,null,0,234,66.670000000000016,403775,0,234,8,40000,null,{"$f":"dec!E243","v":65},{"$f":"dec!F243","v":384684},{"$f":"dec!G243","v":8},{"$f":"dec!H243","v":40000},null,1.6700000000000159,19091,0,0]
[235,"PHILLIPSTON                  ",235,null,0,0,0,0,null,0,0,null,null,0,0,null,0,null,0,235,null,null,0,235,null,null,null,{"$f":"dec!E244","v":0},{"$f":"dec!F244","v":0},{"$f":"dec!G244","v":0},{"$f":"dec!H244","v":0},null,0,0,0,0]
[236,"PITTSFIELD                   ",236,null,101.66000000000001,564099,470.82000000000005,2691695,null,0,0,null,null,564099,2691695,null,6512160.4800000004,null,0,236,101.66000000000001,564099,0,236,470.82000000000005,2691695,null,{"$f":"dec!E245","v":91},{"$f":"dec!F245","v":515935},{"$f":"dec!G245","v":466.5},{"$f":"dec!H245","v":2654601},null,10.660000000000011,48164,4.32000000000005,37094]
[237,"PLAINFIELD                   ",237,null,0,0,0,0,null,0,0,null,null,0,0,null,0,null,0,237,null,null,0,237,null,null,null,{"$f":"dec!E246","v":0},{"$f":"dec!F246","v":0},{"$f":"dec!G246","v":0},{"$f":"dec!H246","v":0},null,0,0,0,0]
[238,"PLAINVILLE                   ",238,null,0,0,0,0,null,0,0,null,null,0,0,null,0,null,0,238,null,null,0,238,null,null,null,{"$f":"dec!E247","v":0},{"$f":"dec!F247","v":0},{"$f":"dec!G247","v":0},{"$f":"dec!H247","v":0},null,0,0,0,0]
[239,"PLYMOUTH                     ",239,null,0,0,55.320000000000007,302985,null,0,0,null,null,0,302985,null,606025.32000000007,null,0,239,null,null,0,239,55.320000000000007,302985,null,{"$f":"dec!E248","v":0},{"$f":"dec!F248","v":0},{"$f":"dec!G248","v":55.5},{"$f":"dec!H248","v":325368},null,0,0,-0.17999999999999261,-22383]
[240,"PLYMPTON                     ",240,null,6,30000,1,5000,null,0,0,null,null,30000,5000,null,70007,null,0,240,6,30000,0,240,1,5000,null,{"$f":"dec!E249","v":5},{"$f":"dec!F249","v":25000},{"$f":"dec!G249","v":1},{"$f":"dec!H249","v":5000},null,1,5000,0,0]
[241,"PRINCETON                    ",241,null,0,0,0,0,null,0,0,null,null,0,0,null,0,null,0,241,null,null,0,241,null,null,null,{"$f":"dec!E250","v":0},{"$f":"dec!F250","v":0},{"$f":"dec!G250","v":0},{"$f":"dec!H250","v":0},null,0,0,0,0]
[242,"PROVINCETOWN                 ",242,null,42.529999999999994,368932,19.940000000000001,112882,null,0,0,null,null,368932,112882,null,963690.47,null,0,242,42.529999999999994,368932,0,242,19.940000000000001,112882,null,{"$f":"dec!E251","v":37},{"$f":"dec!F251","v":245160},{"$f":"dec!G251","v":21},{"$f":"dec!H251","v":129934},null,5.529999999999994,123772,-1.0599999999999987,-17052]
[243,"QUINCY                       ",243,null,0,0,11.23,79263,null,0,0,null,null,0,79263,null,158537.22999999998,null,0,243,null,null,0,243,11.23,79263,null,{"$f":"dec!E252","v":0},{"$f":"dec!F252","v":0},{"$f":"dec!G252","v":10},{"$f":"dec!H252","v":79440},null,0,0,1.2300000000000004,-177]
[244,"RANDOLPH                     ",244,null,7,38519,159.39999999999998,856894,null,0,0,null,null,38519,856894,null,1790992.4,null,0,244,7,38519,0,244,159.39999999999998,856894,null,{"$f":"dec!E253","v":6},{"$f":"dec!F253","v":47950},{"$f":"dec!G253","v":161},{"$f":"dec!H253","v":889801},null,1,-9431,-1.6000000000000227,-32907]
[245,"RAYNHAM                      ",245,null,0,0,0,0,null,0,0,null,null,0,0,null,0,null,0,245,null,null,0,245,null,null,null,{"$f":"dec!E254","v":0},{"$f":"dec!F254","v":0},{"$f":"dec!G254","v":0},{"$f":"dec!H254","v":0},null,0,0,0,0]
[246,"READING                      ",246,null,0,0,6.8000000000000007,46681,null,0,0,null,null,0,46681,null,93368.8,null,0,246,null,null,0,246,6.8000000000000007,46681,null,{"$f":"dec!E255","v":0},{"$f":"dec!F255","v":0},{"$f":"dec!G255","v":5},{"$f":"dec!H255","v":39800},null,0,0,1.8000000000000007,6881]
[247,"REHOBOTH                     ",247,null,0,0,0,0,null,0,0,null,null,0,0,null,0,null,0,247,null,null,0,247,null,null,null,{"$f":"dec!E256","v":0},{"$f":"dec!F256","v":0},{"$f":"dec!G256","v":0},{"$f":"dec!H256","v":0},null,0,0,0,0]
[248,"REVERE                       ",248,null,0,0,13.96,82363,null,0,0,null,null,0,82363,null,164739.96000000002,null,0,248,null,null,0,248,13.96,82363,null,{"$f":"dec!E257","v":0},{"$f":"dec!F257","v":0},{"$f":"dec!G257","v":12},{"$f":"dec!H257","v":70824},null,0,0,1.9600000000000009,11539]
[249,"RICHMOND                     ",249,null,80.5,418500,15.739999999999998,86898,null,0,0,null,null,418500,86898,null,1010892.24,null,0,249,80.5,418500,0,249,15.739999999999998,86898,null,{"$f":"dec!E258","v":80.5},{"$f":"dec!F258","v":418500},{"$f":"dec!G258","v":15},{"$f":"dec!H258","v":83198},null,0,0,0.73999999999999844,3700]
[250,"ROCHESTER                    ",250,null,0,0,1,5000,null,0,0,null,null,0,5000,null,10001,null,0,250,null,null,0,250,1,5000,null,{"$f":"dec!E259","v":0},{"$f":"dec!F259","v":0},{"$f":"dec!G259","v":0},{"$f":"dec!H259","v":0},null,0,0,1,5000]
[251,"ROCKLAND                     ",251,null,37.119999999999997,192819,15.15,96018,null,0,0,null,null,192819,96018,null,577726.27,null,0,251,37.119999999999997,192819,0,251,15.15,96018,null,{"$f":"dec!E260","v":33},{"$f":"dec!F260","v":181877},{"$f":"dec!G260","v":15},{"$f":"dec!H260","v":96000},null,4.1199999999999974,10942,0.15000000000000036,18]
[252,"ROCKPORT                     ",252,null,237.83,1386244,28.48,143510,null,0,0,null,null,1386244,143510,null,3059774.31,null,0,252,237.83,1386244,0,252,28.48,143510,null,{"$f":"dec!E261","v":234},{"$f":"dec!F261","v":1312827},{"$f":"dec!G261","v":26},{"$f":"dec!H261","v":134446},null,3.8300000000000125,73417,2.4800000000000004,9064]
[253,"ROWE                         ",253,null,19,97354,3,21957,null,0,0,null,null,97354,21957,null,238644,null,0,253,19,97354,0,253,3,21957,null,{"$f":"dec!E262","v":18.5},{"$f":"dec!F262","v":110368},{"$f":"dec!G262","v":3},{"$f":"dec!H262","v":21970},null,0.5,-13014,0,-13]
[254,"ROWLEY                       ",254,null,0,0,0,0,null,0,0,null,null,0,0,null,0,null,0,254,null,null,0,254,null,null,null,{"$f":"dec!E263","v":0},{"$f":"dec!F263","v":0},{"$f":"dec!G263","v":0},{"$f":"dec!H263","v":0},null,0,0,0,0]
[255,"ROYALSTON                    ",255,null,0,0,0,0,null,0,0,null,null,0,0,null,0,null,0,255,null,null,0,255,null,null,null,{"$f":"dec!E264","v":0},{"$f":"dec!F264","v":0},{"$f":"dec!G264","v":0},{"$f":"dec!H264","v":0},null,0,0,0,0]
[256,"RUSSELL                      ",256,null,0,0,0,0,null,0,0,null,null,0,0,null,0,null,0,256,null,null,0,256,null,null,null,{"$f":"dec!E265","v":0},{"$f":"dec!F265","v":0},{"$f":"dec!G265","v":0},{"$f":"dec!H265","v":0},null,0,0,0,0]
[257,"RUTLAND                      ",257,null,0,0,0,0,null,0,0,null,null,0,0,null,{"$f":"SUM(E266:O266)","v":0},null,{"$f":"ABS(A266-T266)","v":0},257,null,null,{"$f":"ABS(X266-A266)","v":0},257,null,null,null,{"$f":"dec!E266","v":0},{"$f":"dec!F266","v":0},{"$f":"dec!G266","v":0},{"$f":"dec!H266","v":0},null,0,0,0,0]
[258,"SALEM                        ",258,null,{"$f":"U267","v":0},{"$f":"V267","v":0},{"$f":"Y267","v":79.25},{"$f":"Z267","v":448282},null,0,0,null,null,{"$f":"F267+J267","v":0},{"$f":"H267+K267","v":448282},null,896643.25,null,0,258,null,null,0,258,79.25,448282,null,{"$f":"dec!E267","v":0},{"$f":"dec!F267","v":0},{"$f":"dec!G267","v":77.5},{"$f":"dec!H267","v":445533},null,{"$f":"U267-AB267","v":0},{"$f":"V267-AC267","v":0},{"$f":"Y267-AD267","v":1.75},{"$f":"Z267-AE267","v":2749}]
[259,"SALISBURY                    ",259,null,0,0,0,0,null,0,0,null,null,0,0,null,0,null,0,259,null,null,0,259,null,null,null,{"$f":"dec!E268","v":0},{"$f":"dec!F268","v":0},{"$f":"dec!G268","v":0},{"$f":"dec!H268","v":0},null,0,0,0,0]
[260,"SANDISFIELD                  ",260,null,0,0,0,0,null,0,0,null,null,0,0,null,0,null,0,260,null,null,0,260,null,null,null,{"$f":"dec!E269","v":0},{"$f":"dec!F269","v":0},{"$f":"dec!G269","v":0},{"$f":"dec!H269","v":0},null,0,0,0,0]
[261,"SANDWICH                     ",261,null,76.400000000000006,412038,64.03,372631,null,0,0,null,null,412038,372631,null,1569478.4300000002,null,0,261,76.400000000000006,412038,0,261,64.03,372631,null,{"$f":"dec!E270","v":81},{"$f":"dec!F270","v":456274},{"$f":"dec!G270","v":56},{"$f":"dec!H270","v":333800},null,-4.5999999999999943,-44236,8.0300000000000011,38831]
[262,"SAUGUS                       ",262,null,0,0,15.99,97576,null,0,0,null,null,0,97576,null,195167.99,null,0,262,null,null,0,262,15.99,97576,null,{"$f":"dec!E271","v":0},{"$f":"dec!F271","v":0},{"$f":"dec!G271","v":14},{"$f":"dec!H271","v":85500},null,0,0,1.9900000000000002,12076]
[263,"SAVOY                        ",263,null,11,57305,23.15,125881,null,0,0,null,null,57305,125881,null,366406.15,null,0,263,11,57305,0,263,23.15,125881,null,{"$f":"dec!E272","v":9},{"$f":"dec!F272","v":47846},{"$f":"dec!G272","v":21},{"$f":"dec!H272","v":114631},null,2,9459,2.1499999999999986,11250]
[264,"SCITUATE                     ",264,null,0,0,1.3,9081,null,0,0,null,null,0,9081,null,18163.3,null,0,264,null,null,0,264,1.3,9081,null,{"$f":"dec!E273","v":0},{"$f":"dec!F273","v":0},{"$f":"dec!G273","v":0},{"$f":"dec!H273","v":0},null,0,0,1.3,9081]
[265,"SEEKONK                      ",265,null,0,0,5.3,36631,null,0,0,null,null,0,36631,null,73267.3,null,0,265,null,null,0,265,5.3,36631,null,{"$f":"dec!E274","v":0},{"$f":"dec!F274","v":0},{"$f":"dec!G274","v":4},{"$f":"dec!H274","v":32100},null,0,0,1.2999999999999998,4531]
[266,"SHARON                       ",266,null,0,0,3,17856,null,0,0,null,null,0,17856,null,35715,null,0,266,null,null,0,266,3,17856,null,{"$f":"dec!E275","v":0},{"$f":"dec!F275","v":0},{"$f":"dec!G275","v":3},{"$f":"dec!H275","v":20700},null,0,0,0,-2844]
[267,"SHEFFIELD                    ",267,null,0,0,0,0,null,0,0,null,null,0,0,null,0,null,0,267,null,null,0,267,null,null,null,{"$f":"dec!E276","v":0},{"$f":"dec!F276","v":0},{"$f":"dec!G276","v":0},{"$f":"dec!H276","v":0},null,0,0,0,0]
[268,"SHELBURNE                    ",268,null,0,0,0,0,null,0,0,null,null,0,0,null,0,null,0,268,null,null,0,268,null,null,null,{"$f":"dec!E277","v":0},{"$f":"dec!F277","v":0},{"$f":"dec!G277","v":0},{"$f":"dec!H277","v":0},null,0,0,0,0]
[269,"SHERBORN                     ",269,null,0,0,0,0,null,0,0,null,null,0,0,null,0,null,0,269,null,null,0,269,null,null,null,{"$f":"dec!E278","v":0},{"$f":"dec!F278","v":0},{"$f":"dec!G278","v":0},{"$f":"dec!H278","v":0},null,0,0,0,0]
[270,"SHIRLEY                      ",270,null,0,0,0,0,null,0,0,null,null,0,0,null,0,null,0,270,null,null,0,270,null,null,null,{"$f":"dec!E279","v":0},{"$f":"dec!F279","v":0},{"$f":"dec!G279","v":0},{"$f":"dec!H279","v":0},null,0,0,0,0]
[271,"SHREWSBURY                   ",271,null,0,0,28.66,173357,null,0,0,null,null,0,173357,null,346742.66000000003,null,0,271,null,null,0,271,28.66,173357,null,{"$f":"dec!E280","v":0},{"$f":"dec!F280","v":0},{"$f":"dec!G280","v":30},{"$f":"dec!H280","v":184243},null,0,0,-1.3399999999999999,-10886]
[272,"SHUTESBURY                   ",272,null,0,0,10.92,59086,null,0,0,null,null,0,59086,null,118182.92,null,0,272,null,null,0,272,10.92,59086,null,{"$f":"dec!E281","v":0},{"$f":"dec!F281","v":0},{"$f":"dec!G281","v":11},{"$f":"dec!H281","v":59000},null,0,0,-8.0000000000000071E-2,86]
[273,"SOMERSET                     ",273,null,0,0,15.69,99226,null,0,0,null,null,0,99226,null,198467.69,null,0,273,null,null,0,273,15.69,99226,null,{"$f":"dec!E282","v":0},{"$f":"dec!F282","v":0},{"$f":"dec!G282","v":15},{"$f":"dec!H282","v":100700},null,0,0,0.6899999999999995,-1474]
[274,"SOMERVILLE                   ",274,null,0,0,5,28400,null,0,0,null,null,0,28400,null,56805,null,0,274,null,null,0,274,5,28400,null,{"$f":"dec!E283","v":0},{"$f":"dec!F283","v":0},{"$f":"dec!G283","v":2},{"$f":"dec!H283","v":13400},null,0,0,3,15000]
[275,"SOUTHAMPTON                  ",276,null,70.88,435026,9.9499999999999993,75203,null,0,0,null,null,435026,75203,null,1020538.8300000001,null,0,275,70.88,435026,0,275,9.9499999999999993,75203,null,{"$f":"dec!E284","v":71},{"$f":"dec!F284","v":416610},{"$f":"dec!G284","v":10},{"$f":"dec!H284","v":78109},null,-0.12000000000000455,18416,-5.0000000000000711E-2,-2906]
[276,"SOUTHBOROUGH                 ",277,null,0,0,4.17,29818,null,0,0,null,null,0,29818,null,59640.17,null,0,276,null,null,0,276,4.17,29818,null,{"$f":"dec!E285","v":0},{"$f":"dec!F285","v":0},{"$f":"dec!G285","v":5},{"$f":"dec!H285","v":37500},null,0,0,-0.83000000000000007,-7682]
[277,"SOUTHBRIDGE                  ",278,null,6,48902,261.99,1476269,null,0,0,null,null,48902,1476269,null,3050609.99,null,0,277,6,48902,0,277,261.99,1476269,null,{"$f":"dec!E286","v":6},{"$f":"dec!F286","v":48902},{"$f":"dec!G286","v":261},{"$f":"dec!H286","v":1492451},null,0,0,0.99000000000000909,-16182]
[278,"SOUTH HADLEY                 ",275,null,162.39000000000001,903146,115.36000000000001,753267,null,0,0,null,null,903146,753267,null,3313103.75,null,0,278,162.39000000000001,903146,0,278,115.36000000000001,753267,null,{"$f":"dec!E287","v":161.5},{"$f":"dec!F287","v":868955},{"$f":"dec!G287","v":116},{"$f":"dec!H287","v":741097},null,0.89000000000001478,34191,-0.63999999999998636,12170]
[279,"SOUTHWICK                    ",279,null,0,0,0,0,null,0,0,null,null,0,0,null,0,null,0,279,null,null,0,279,null,null,null,{"$f":"dec!E288","v":0},{"$f":"dec!F288","v":0},{"$f":"dec!G288","v":0},{"$f":"dec!H288","v":0},null,0,0,0,0]
[280,"SPENCER                      ",280,null,0,0,0,0,null,0,0,null,null,0,0,null,0,null,0,280,null,null,0,280,null,null,null,{"$f":"dec!E289","v":0},{"$f":"dec!F289","v":0},{"$f":"dec!G289","v":0},{"$f":"dec!H289","v":0},null,0,0,0,0]
[281,"SPRINGFIELD                  ",281,null,14.419999999999996,80452,765.06000000000017,4523859,null,0,0,null,null,80452,4523859,null,9209401.4800000004,null,0,281,14.419999999999996,80452,0,281,765.06000000000017,4523859,null,{"$f":"dec!E290","v":6},{"$f":"dec!F290","v":30000},{"$f":"dec!G290","v":766},{"$f":"dec!H290","v":4482138},null,8.4199999999999964,50452,-0.9399999999998272,41721]
[282,"STERLING                     ",282,null,0,0,0,0,null,0,0,null,null,0,0,null,0,null,0,282,null,null,0,282,null,null,null,{"$f":"dec!E291","v":0},{"$f":"dec!F291","v":0},{"$f":"dec!G291","v":0},{"$f":"dec!H291","v":0},null,0,0,0,0]
[283,"STOCKBRIDGE                  ",283,null,0,0,0,0,null,0,0,null,null,0,0,null,0,null,0,283,null,null,0,283,null,null,null,{"$f":"dec!E292","v":0},{"$f":"dec!F292","v":0},{"$f":"dec!G292","v":0},{"$f":"dec!H292","v":0},null,0,0,0,0]
[284,"STONEHAM                     ",284,null,0,0,8.23,58825,null,0,0,null,null,0,58825,null,117658.23000000001,null,0,284,null,null,0,284,8.23,58825,null,{"$f":"dec!E293","v":0},{"$f":"dec!F293","v":0},{"$f":"dec!G293","v":5},{"$f":"dec!H293","v":38274},null,0,0,3.2300000000000004,20551]
[285,"STOUGHTON                    ",285,null,0,0,16.630000000000003,140256,null,0,0,null,null,0,140256,null,280528.63,null,0,285,null,null,0,285,16.630000000000003,140256,null,{"$f":"dec!E294","v":0},{"$f":"dec!F294","v":0},{"$f":"dec!G294","v":17},{"$f":"dec!H294","v":119452},null,0,0,-0.36999999999999744,20804]
[286,"STOW                         ",286,null,0,0,0,0,null,0,0,null,null,0,0,null,0,null,0,286,null,null,0,286,null,null,null,{"$f":"dec!E295","v":0},{"$f":"dec!F295","v":0},{"$f":"dec!G295","v":0},{"$f":"dec!H295","v":0},null,0,0,0,0]
[287,"STURBRIDGE                   ",287,null,0,0,7.38,51935,null,0,0,null,null,0,51935,null,103877.38,null,0,287,null,null,0,287,7.38,51935,null,{"$f":"dec!E296","v":0},{"$f":"dec!F296","v":0},{"$f":"dec!G296","v":7.5},{"$f":"dec!H296","v":46200},null,0,0,-0.12000000000000011,5735]
[288,"SUDBURY                      ",288,null,0,0,2.5,15356,null,0,0,null,null,0,15356,null,30714.5,null,0,288,null,null,0,288,2.5,15356,null,{"$f":"dec!E297","v":0},{"$f":"dec!F297","v":0},{"$f":"dec!G297","v":3},{"$f":"dec!H297","v":29230},null,0,0,-0.5,-13874]
[289,"SUNDERLAND                   ",289,null,42.349999999999994,307557,8,40000,null,0,0,null,null,307557,40000,null,695164.35,null,0,289,42.349999999999994,307557,0,289,8,40000,null,{"$f":"dec!E298","v":43},{"$f":"dec!F298","v":320512},{"$f":"dec!G298","v":8},{"$f":"dec!H298","v":40000},null,-0.65000000000000568,-12955,0,0]
[290,"SUTTON                       ",290,null,44,244083,23.9,135295,null,0,0,null,null,244083,135295,null,758823.9,null,0,290,44,244083,0,290,23.9,135295,null,{"$f":"dec!E299","v":44},{"$f":"dec!F299","v":244538},{"$f":"dec!G299","v":19},{"$f":"dec!H299","v":112031},null,0,-455,4.8999999999999986,23264]
[291,"SWAMPSCOTT                   ",291,null,0,0,4.88,31837,null,0,0,null,null,0,31837,null,63678.880000000005,null,0,291,null,null,0,291,4.88,31837,null,{"$f":"dec!E300","v":0},{"$f":"dec!F300","v":0},{"$f":"dec!G300","v":4},{"$f":"dec!H300","v":25100},null,0,0,0.87999999999999989,6737]
[292,"SWANSEA                      ",292,null,0,0,16,95201,null,0,0,null,null,0,95201,null,190418,null,0,292,null,null,0,292,16,95201,null,{"$f":"dec!E301","v":0},{"$f":"dec!F301","v":0},{"$f":"dec!G301","v":16},{"$f":"dec!H301","v":95400},null,0,0,0,-199]
[293,"TAUNTON                      ",293,null,91.62,478718,111.67999999999999,649973,null,0,0,null,null,478718,649973,null,2257585.2999999998,null,0,293,91.62,478718,0,293,111.67999999999999,649973,null,{"$f":"dec!E302","v":81},{"$f":"dec!F302","v":422939},{"$f":"dec!G302","v":110},{"$f":"dec!H302","v":660353},null,10.620000000000005,55779,1.6799999999999926,-10380]
[294,"TEMPLETON                    ",294,null,0,0,0,0,null,0,0,null,null,0,0,null,0,null,0,294,null,null,0,294,null,null,null,{"$f":"dec!E303","v":0},{"$f":"dec!F303","v":0},{"$f":"dec!G303","v":0},{"$f":"dec!H303","v":0},null,0,0,0,0]
[295,"TEWKSBURY                    ",295,null,0,0,6.35,40779,null,0,0,null,null,0,40779,null,81564.350000000006,null,0,295,null,null,0,295,6.35,40779,null,{"$f":"dec!E304","v":0},{"$f":"dec!F304","v":0},{"$f":"dec!G304","v":7},{"$f":"dec!H304","v":49200},null,0,0,-0.65000000000000036,-8421]
[296,"TISBURY                      ",296,null,21.030000000000005,110661,43,260852,null,0,0,null,null,110661,260852,null,743090.03,null,0,296,21.030000000000005,110661,0,296,43,260852,null,{"$f":"dec!E305","v":18},{"$f":"dec!F305","v":95144},{"$f":"dec!G305","v":43},{"$f":"dec!H305","v":260852},null,3.0300000000000047,15517,0,0]
[297,"TOLLAND                      ",297,null,0,0,0,0,null,0,0,null,null,0,0,null,0,null,0,297,null,null,0,297,null,null,null,{"$f":"dec!E306","v":0},{"$f":"dec!F306","v":0},{"$f":"dec!G306","v":0},{"$f":"dec!H306","v":0},null,0,0,0,0]
[298,"TOPSFIELD                    ",298,null,0,0,0,0,null,0,0,null,null,0,0,null,0,null,0,298,null,null,0,298,null,null,null,{"$f":"dec!E307","v":0},{"$f":"dec!F307","v":0},{"$f":"dec!G307","v":0},{"$f":"dec!H307","v":0},null,0,0,0,0]
[299,"TOWNSEND                     ",299,null,0,0,0,0,null,0,0,null,null,0,0,null,0,null,0,299,null,null,0,299,null,null,null,{"$f":"dec!E308","v":0},{"$f":"dec!F308","v":0},{"$f":"dec!G308","v":0},{"$f":"dec!H308","v":0},null,0,0,0,0]
[300,"TRURO                        ",300,null,14.87,80283,23.009999999999998,253107,null,0,0,null,null,80283,253107,null,666817.88,null,0,300,14.87,80283,0,300,23.009999999999998,253107,null,{"$f":"dec!E309","v":16},{"$f":"dec!F309","v":98389},{"$f":"dec!G309","v":20},{"$f":"dec!H309","v":145606},null,-1.1300000000000008,-18106,3.009999999999998,107501]
[301,"TYNGSBOROUGH                 ",301,null,42.78,243391,26.63,136550,null,0,0,null,null,243391,136550,null,759951.41,null,0,301,42.78,243391,0,301,26.63,136550,null,{"$f":"dec!E310","v":40.5},{"$f":"dec!F310","v":223196},{"$f":"dec!G310","v":24},{"$f":"dec!H310","v":127400},null,2.2800000000000011,20195,2.629999999999999,9150]
[302,"TYRINGHAM                    ",302,null,0,0,13,67175,null,0,0,null,null,0,67175,null,134363,null,0,302,null,null,0,302,13,67175,null,{"$f":"dec!E311","v":0},{"$f":"dec!F311","v":0},{"$f":"dec!G311","v":12},{"$f":"dec!H311","v":60000},null,0,0,1,7175]
[303,"UPTON                        ",303,null,0,0,0,0,null,0,0,null,null,0,0,null,0,null,0,303,null,null,0,303,null,null,null,{"$f":"dec!E312","v":0},{"$f":"dec!F312","v":0},{"$f":"dec!G312","v":0},{"$f":"dec!H312","v":0},null,0,0,0,0]
[304,"UXBRIDGE                     ",304,null,136.1,869723,179.47000000000006,988989,null,0,0,null,null,869723,988989,null,3717739.57,null,0,304,136.1,869723,0,304,179.47000000000006,988989,null,{"$f":"dec!E313","v":145},{"$f":"dec!F313","v":851098},{"$f":"dec!G313","v":192.5},{"$f":"dec!H313","v":1086333},null,-8.9000000000000057,18625,-13.029999999999944,-97344]
[305,"WAKEFIELD                    ",305,null,0,0,13.21,82996,null,0,0,null,null,0,82996,null,166005.21000000002,null,0,305,null,null,0,305,13.21,82996,null,{"$f":"dec!E314","v":0},{"$f":"dec!F314","v":0},{"$f":"dec!G314","v":8},{"$f":"dec!H314","v":50800},null,0,0,5.2100000000000009,32196]
[306,"WALES                        ",306,null,6.17,30850,12,65395,null,0,0,null,null,30850,65395,null,192508.16999999998,null,0,306,6.17,30850,0,306,12,65395,null,{"$f":"dec!E315","v":7},{"$f":"dec!F315","v":35000},{"$f":"dec!G315","v":14},{"$f":"dec!H315","v":73880},null,-0.83000000000000007,-4150,-2,-8485]
[307,"WALPOLE                      ",307,null,0,0,9.879999999999999,61154,null,0,0,null,null,0,61154,null,122317.88,null,0,307,null,null,0,307,9.879999999999999,61154,null,{"$f":"dec!E316","v":0},{"$f":"dec!F316","v":0},{"$f":"dec!G316","v":9.5},{"$f":"dec!H316","v":63973},null,0,0,0.37999999999999901,-2819]
[308,"WALTHAM                      ",308,null,0,0,8.83,59324,null,0,0,null,null,0,59324,null,118656.83,null,0,308,null,null,0,308,8.83,59324,null,{"$f":"dec!E317","v":0},{"$f":"dec!F317","v":0},{"$f":"dec!G317","v":9},{"$f":"dec!H317","v":60900},null,0,0,-0.16999999999999993,-1576]
[309,"WARE                         ",309,null,49.810000000000009,312803,184.08,1058217,null,0,0,null,null,312803,1058217,null,2742273.89,null,0,309,49.810000000000009,312803,0,309,184.08,1058217,null,{"$f":"dec!E318","v":49},{"$f":"dec!F318","v":309186},{"$f":"dec!G318","v":187},{"$f":"dec!H318","v":1065949},null,0.81000000000000938,3617,-2.9199999999999875,-7732]
[310,"WAREHAM                      ",310,null,26.95,146058,185.8,1193155,null,0,0,null,null,146058,1193155,null,2678638.75,null,0,310,26.95,146058,0,310,185.8,1193155,null,{"$f":"dec!E319","v":20},{"$f":"dec!F319","v":104000},{"$f":"dec!G319","v":163},{"$f":"dec!H319","v":1058430},null,6.9499999999999993,42058,22.800000000000011,134725]
[311,"WARREN                       ",311,null,0,0,0,0,null,0,0,null,null,0,0,null,0,null,0,311,null,null,0,311,null,null,null,{"$f":"dec!E320","v":0},{"$f":"dec!F320","v":0},{"$f":"dec!G320","v":0},{"$f":"dec!H320","v":0},null,0,0,0,0]
[312,"WARWICK                      ",312,null,0,0,0,0,null,0,0,null,null,0,0,null,0,null,0,312,null,null,0,312,null,null,null,{"$f":"dec!E321","v":0},{"$f":"dec!F321","v":0},{"$f":"dec!G321","v":0},{"$f":"dec!H321","v":0},null,0,0,0,0]
[313,"WASHINGTON                   ",313,null,0,0,0,0,null,0,0,null,null,0,0,null,0,null,0,313,null,null,0,313,null,null,null,{"$f":"dec!E322","v":0},{"$f":"dec!F322","v":0},{"$f":"dec!G322","v":0},{"$f":"dec!H322","v":0},null,0,0,0,0]
[314,"WATERTOWN                    ",314,null,0,0,8.32,57084,null,0,0,null,null,0,57084,null,114176.32000000001,null,0,314,null,null,0,314,8.32,57084,null,{"$f":"dec!E323","v":0},{"$f":"dec!F323","v":0},{"$f":"dec!G323","v":8},{"$f":"dec!H323","v":51900},null,0,0,0.32000000000000028,5184]
[315,"WAYLAND                      ",315,null,0,0,3.95,27144,null,0,0,null,null,0,27144,null,54291.95,null,0,315,null,null,0,315,3.95,27144,null,{"$f":"dec!E324","v":0},{"$f":"dec!F324","v":0},{"$f":"dec!G324","v":3},{"$f":"dec!H324","v":20700},null,0,0,0.95000000000000018,6444]
[316,"WEBSTER                      ",316,null,31,161248,111.97,626887,null,0,0,null,null,161248,626887,null,1576412.97,null,0,316,31,161248,0,316,111.97,626887,null,{"$f":"dec!E325","v":31},{"$f":"dec!F325","v":161248},{"$f":"dec!G325","v":113},{"$f":"dec!H325","v":642176},null,0,0,-1.0300000000000011,-15289]
[317,"WELLESLEY                    ",317,null,0,0,0.11,550,null,0,0,null,null,0,550,null,1100.1100000000001,null,0,317,null,null,0,317,0.11,550,null,{"$f":"dec!E326","v":0},{"$f":"dec!F326","v":0},{"$f":"dec!G326","v":1},{"$f":"dec!H326","v":5000},null,0,0,-0.89,-4450]
[318,"WELLFLEET                    ",318,null,0,0,10.02,67587,null,0,0,null,null,0,67587,null,135184.02000000002,null,0,318,null,null,0,318,10.02,67587,null,{"$f":"dec!E327","v":0},{"$f":"dec!F327","v":0},{"$f":"dec!G327","v":8},{"$f":"dec!H327","v":40000},null,0,0,2.0199999999999996,27587]
[319,"WENDELL                      ",319,null,0,0,0,0,null,0,0,null,null,0,0,null,0,null,0,319,null,null,0,319,null,null,null,{"$f":"dec!E328","v":0},{"$f":"dec!F328","v":0},{"$f":"dec!G328","v":0},{"$f":"dec!H328","v":0},null,0,0,0,0]
[320,"WENHAM                       ",320,null,0,0,0,0,null,0,0,null,null,0,0,null,0,null,0,320,null,null,0,320,null,null,null,{"$f":"dec!E329","v":0},{"$f":"dec!F329","v":0},{"$f":"dec!G329","v":0},{"$f":"dec!H329","v":0},null,0,0,0,0]
[321,"WESTBOROUGH                  ",328,null,0,0,6.52,34300,null,0,0,null,null,0,34300,null,{"$f":"SUM(E330:O330)","v":68606.51999999999},null,{"$f":"ABS(A330-T330)","v":0},321,null,null,{"$f":"ABS(X330-A330)","v":0},321,6.52,34300,null,{"$f":"dec!E330","v":0},{"$f":"dec!F330","v":0},{"$f":"dec!G330","v":6},{"$f":"dec!H330","v":43700},null,0,0,0.51999999999999957,-9400]
[322,"WEST BOYLSTON                ",321,null,{"$f":"U331","v":161.24},{"$f":"V331","v":897277},{"$f":"Y331","v":30.95},{"$f":"Z331","v":195808},null,0,0,null,null,{"$f":"F331+J331","v":897277},{"$f":"H331+K331","v":195808},null,2186362.19,null,0,322,161.24,897277,0,322,30.95,195808,null,{"$f":"dec!E331","v":162},{"$f":"dec!F331","v":880072},{"$f":"dec!G331","v":32},{"$f":"dec!H331","v":201058},null,{"$f":"U331-AB331","v":-0.75999999999999091},{"$f":"V331-AC331","v":17205},{"$f":"Y331-AD331","v":-1.0500000000000007},{"$f":"Z331-AE331","v":-5250}]
[323,"WEST BRIDGEWATER             ",322,null,246.23,1425839,7.4399999999999995,57740,null,0,0,null,null,1425839,57740,null,2967411.67,null,0,323,246.23,1425839,0,323,7.4399999999999995,57740,null,{"$f":"dec!E332","v":248},{"$f":"dec!F332","v":1339979},{"$f":"dec!G332","v":5},{"$f":"dec!H332","v":48400},null,-1.7700000000000102,85860,2.4399999999999995,9340]
[324,"WEST BROOKFIELD              ",323,null,0,0,11.049999999999999,61303,null,0,0,null,null,0,61303,null,122617.05,null,0,324,null,null,0,324,11.049999999999999,61303,null,{"$f":"dec!E333","v":0},{"$f":"dec!F333","v":0},{"$f":"dec!G333","v":10},{"$f":"dec!H333","v":57246},null,0,0,1.0499999999999989,4057]
[325,"WESTFIELD                    ",329,null,131.73000000000005,796969,134.30000000000001,789386,null,0,0,null,null,796969,789386,null,3172976.0300000003,null,0,325,131.73000000000005,796969,0,325,134.30000000000001,789386,null,{"$f":"dec!E334","v":118},{"$f":"dec!F334","v":645980},{"$f":"dec!G334","v":125},{"$f":"dec!H334","v":703620},null,13.730000000000047,150989,9.3000000000000114,85766]
[326,"WESTFORD                     ",330,null,68.490000000000009,337450,12.760000000000002,87977,null,0,0,null,null,337450,87977,null,850935.25,null,0,326,68.490000000000009,337450,0,326,12.760000000000002,87977,null,{"$f":"dec!E335","v":70},{"$f":"dec!F335","v":416298},{"$f":"dec!G335","v":10},{"$f":"dec!H335","v":67612},null,-1.5099999999999909,-78848,2.7600000000000016,20365]
[327,"WESTHAMPTON                  ",331,null,18.600000000000001,148579,7,46027,null,0,0,null,null,148579,46027,null,389237.6,null,0,327,18.600000000000001,148579,0,327,7,46027,null,{"$f":"dec!E336","v":19},{"$f":"dec!F336","v":129181},{"$f":"dec!G336","v":5},{"$f":"dec!H336","v":38649},null,-0.39999999999999858,19398,2,7378]
[328,"WESTMINSTER                  ",332,null,0,0,0,0,null,0,0,null,null,0,0,null,0,null,0,328,null,null,0,328,null,null,null,{"$f":"dec!E337","v":0},{"$f":"dec!F337","v":0},{"$f":"dec!G337","v":0},{"$f":"dec!H337","v":0},null,0,0,0,0]
[329,"WEST NEWBURY                 ",324,null,0,0,0,0,null,0,0,null,null,0,0,null,0,null,0,329,null,null,0,329,null,null,null,{"$f":"dec!E338","v":0},{"$f":"dec!F338","v":0},{"$f":"dec!G338","v":0},{"$f":"dec!H338","v":0},null,0,0,0,0]
[330,"WESTON                       ",333,null,0,0,3,20700,null,0,0,null,null,0,20700,null,41403,null,0,330,null,null,0,330,3,20700,null,{"$f":"dec!E339","v":0},{"$f":"dec!F339","v":0},{"$f":"dec!G339","v":3},{"$f":"dec!H339","v":20700},null,0,0,0,0]
[331,"WESTPORT                     ",334,null,0,0,14.02,78127,null,0,0,null,null,0,78127,null,156268.02000000002,null,0,331,null,null,0,331,14.02,78127,null,{"$f":"dec!E340","v":0},{"$f":"dec!F340","v":0},{"$f":"dec!G340","v":14},{"$f":"dec!H340","v":83175},null,0,0,1.9999999999999574E-2,-5048]
[332,"WEST SPRINGFIELD             ",325,null,114,684643,43.08,271352,null,0,0,null,null,684643,271352,null,1912147.08,null,0,332,114,684643,0,332,43.08,271352,null,{"$f":"dec!E341","v":114},{"$f":"dec!F341","v":684643},{"$f":"dec!G341","v":38},{"$f":"dec!H341","v":260688},null,0,0,5.0799999999999983,10664]
[333,"WEST STOCKBRIDGE             ",326,null,0,0,0,0,null,0,0,null,null,0,0,null,0,null,0,333,null,null,0,333,null,null,null,{"$f":"dec!E342","v":0},{"$f":"dec!F342","v":0},{"$f":"dec!G342","v":0},{"$f":"dec!H342","v":0},null,0,0,0,0]
[334,"WEST TISBURY                 ",327,null,0,0,0,0,null,0,0,null,null,0,0,null,0,null,0,334,null,null,0,334,null,null,null,{"$f":"dec!E343","v":0},{"$f":"dec!F343","v":0},{"$f":"dec!G343","v":0},{"$f":"dec!H343","v":0},null,0,0,0,0]
[335,"WESTWOOD                     ",335,null,0,0,0,0,null,0,0,null,null,0,0,null,0,null,0,335,null,null,0,335,null,null,null,{"$f":"dec!E344","v":0},{"$f":"dec!F344","v":0},{"$f":"dec!G344","v":0},{"$f":"dec!H344","v":0},null,0,0,0,0]
[336,"WEYMOUTH                     ",336,null,0,0,19.21,123174,null,0,0,null,null,0,123174,null,246367.21000000002,null,0,336,null,null,0,336,19.21,123174,null,{"$f":"dec!E345","v":0},{"$f":"dec!F345","v":0},{"$f":"dec!G345","v":20},{"$f":"dec!H345","v":127800},null,0,0,-0.78999999999999915,-4626]
[337,"WHATELY                      ",337,null,45.959999999999994,269713,6.1,71711,null,0,0,null,null,269713,71711,null,682900.06,null,0,337,45.959999999999994,269713,0,337,6.1,71711,null,{"$f":"dec!E346","v":46},{"$f":"dec!F346","v":249559},{"$f":"dec!G346","v":5},{"$f":"dec!H346","v":61392},null,-4.0000000000006253E-2,20154,1.0999999999999996,10319]
[338,"WHITMAN                      ",338,null,0,0,0,0,null,0,0,null,null,0,0,null,0,null,0,338,null,null,0,338,null,null,null,{"$f":"dec!E347","v":0},{"$f":"dec!F347","v":0},{"$f":"dec!G347","v":0},{"$f":"dec!H347","v":0},null,0,0,0,0]
[339,"WILBRAHAM                    ",339,null,0,0,0,0,null,0,0,null,null,0,0,null,0,null,0,339,null,null,0,339,null,null,null,{"$f":"dec!E348","v":0},{"$f":"dec!F348","v":0},{"$f":"dec!G348","v":0},{"$f":"dec!H348","v":0},null,0,0,0,0]
[340,"WILLIAMSBURG                 ",340,null,18.409999999999997,102805,17.57,97876,null,0,0,null,null,102805,97876,null,401397.98,null,0,340,18.409999999999997,102805,0,340,17.57,97876,null,{"$f":"dec!E349","v":18},{"$f":"dec!F349","v":98000},{"$f":"dec!G349","v":17},{"$f":"dec!H349","v":99181},null,0.40999999999999659,4805,0.57000000000000028,-1305]
[341,"WILLIAMSTOWN                 ",341,null,31.92,169504,1,5000,null,0,0,null,null,169504,5000,null,349040.92000000004,null,0,341,31.92,169504,0,341,1,5000,null,{"$f":"dec!E350","v":32},{"$f":"dec!F350","v":169190},{"$f":"dec!G350","v":2},{"$f":"dec!H350","v":10000},null,-7.9999999999998295E-2,314,-1,-5000]
[342,"WILMINGTON                   ",342,null,0,0,1.1599999999999999,8571,null,0,0,null,null,0,8571,null,17143.16,null,0,342,null,null,0,342,1.1599999999999999,8571,null,{"$f":"dec!E351","v":0},{"$f":"dec!F351","v":0},{"$f":"dec!G351","v":1},{"$f":"dec!H351","v":10700},null,0,0,0.15999999999999992,-2129]
[343,"WINCHENDON                   ",343,null,30,150000,143.63000000000005,816550,null,0,0,null,null,150000,816550,null,1933273.63,null,0,343,30,150000,0,343,143.63000000000005,816550,null,{"$f":"dec!E352","v":30},{"$f":"dec!F352","v":216487},{"$f":"dec!G352","v":140},{"$f":"dec!H352","v":785601},null,0,-66487,3.6300000000000523,30949]
[344,"WINCHESTER                   ",344,null,0,0,3.8,28183,null,0,0,null,null,0,28183,null,56369.8,null,0,344,null,null,0,344,3.8,28183,null,{"$f":"dec!E353","v":0},{"$f":"dec!F353","v":0},{"$f":"dec!G353","v":4},{"$f":"dec!H353","v":30800},null,0,0,-0.20000000000000018,-2617]
[345,"WINDSOR                      ",345,null,0,0,0,0,null,0,0,null,null,0,0,null,0,null,0,345,null,null,0,345,null,null,null,{"$f":"dec!E354","v":0},{"$f":"dec!F354","v":0},{"$f":"dec!G354","v":0},{"$f":"dec!H354","v":0},null,0,0,0,0]
[346,"WINTHROP                     ",346,null,16,80000,3.8499999999999996,24182,null,0,0,null,null,80000,24182,null,208383.85,null,0,346,16,80000,0,346,3.8499999999999996,24182,null,{"$f":"dec!E355","v":11},{"$f":"dec!F355","v":62000},{"$f":"dec!G355","v":2},{"$f":"dec!H355","v":13400},null,5,18000,1.8499999999999996,10782]
[347,"WOBURN",347,null,0,0,17.48,96964,null,0,0,null,null,0,96964,null,193945.47999999998,null,0,347,null,null,0,347,17.48,96964,null,{"$f":"dec!E356","v":0},{"$f":"dec!F356","v":0},{"$f":"dec!G356","v":13},{"$f":"dec!H356","v":66700},null,0,0,4.4800000000000004,30264]
[348,"WORCESTER                    ",348,null,73,423431,477.12,2714656,null,0,0,null,null,423431,2714656,null,6276724.1200000001,null,0,348,73,423431,0,348,477.12,2714656,null,{"$f":"dec!E357","v":73},{"$f":"dec!F357","v":423431},{"$f":"dec!G357","v":471.5},{"$f":"dec!H357","v":2686481},null,0,0,5.6200000000000045,28175]
[349,"WORTHINGTON                  ",349,null,5.36,26800,53.42,450807,null,0,0,null,null,26800,450807,null,955272.78,null,0,349,5.36,26800,0,349,53.42,450807,null,{"$f":"dec!E358","v":5},{"$f":"dec!F358","v":25000},{"$f":"dec!G358","v":57},{"$f":"dec!H358","v":428885},null,0.36000000000000032,1800,-3.5799999999999983,21922]
[350,"WRENTHAM                     ",350,null,0,0,4.17,20850,null,0,0,null,null,0,20850,null,41704.17,null,0,350,null,null,0,350,4.17,20850,null,{"$f":"dec!E359","v":0},{"$f":"dec!F359","v":0},{"$f":"dec!G359","v":3.5},{"$f":"dec!H359","v":17500},null,0,0,0.66999999999999993,3350]
[351,"YARMOUTH                     ",351,null,0,0,0,0,null,0,0,null,null,0,0,null,0,null,0,351,null,null,0,351,null,null,null,{"$f":"dec!E360","v":0},{"$f":"dec!F360","v":0},{"$f":"dec!G360","v":0},{"$f":"dec!H360","v":0},null,0,0,0,0]
[352,"DEVENS",352,null,0,0,6,33408,null,0,0,null,null,0,33408,null,66822,null,0,352,null,null,0,352,6,33408,null,{"$f":"dec!E361","v":0},{"$f":"dec!F361","v":0},{"$f":"dec!G361","v":6},{"$f":"dec!H361","v":33408},null,0,0,0,0]
[406,"NORTHAMPTON SMITH            ",406,null,0,0,0,0,null,0,0,null,null,0,0,null,0,null,0,406,null,null,0,406,null,null,null,{"$f":"dec!E362","v":0},{"$f":"dec!F362","v":0},{"$f":"dec!G362","v":0},{"$f":"dec!H362","v":0},null,0,0,0,0]
[600,"ACTON BOXBOROUGH             ",701,null,39,224191,13.27,72050,null,0,0,null,null,224191,72050,null,592534.27,null,0,600,39,224191,0,600,13.27,72050,null,{"$f":"dec!E363","v":39},{"$f":"dec!F363","v":241662},{"$f":"dec!G363","v":12},{"$f":"dec!H363","v":110698},null,0,-17471,1.2699999999999996,-38648]
[603,"ADAMS CHESHIRE               ",702,null,54.550000000000011,309389,79.61999999999999,499396,null,0,0,null,null,309389,499396,null,1617704.17,null,0,603,54.550000000000011,309389,0,603,79.61999999999999,499396,null,{"$f":"dec!E364","v":50},{"$f":"dec!F364","v":297454},{"$f":"dec!G364","v":70.5},{"$f":"dec!H364","v":451780},null,4.5500000000000114,11935,9.1199999999999903,47616]
[605,"AMHERST PELHAM               ",703,null,73,482749,34.370000000000005,274787,null,0,0,null,null,482749,274787,null,1515179.37,null,0,605,73,482749,0,605,34.370000000000005,274787,null,{"$f":"dec!E365","v":73},{"$f":"dec!F365","v":482749},{"$f":"dec!G365","v":31},{"$f":"dec!H365","v":241845},null,0,0,3.3700000000000045,32942]
[610,"ASHBURNHAM WESTMINSTER       ",704,null,201.24999999999997,1071445,58.95,315990,null,0,0,null,null,1071445,315990,null,2775130.2,null,0,610,201.24999999999997,1071445,0,610,58.95,315990,null,{"$f":"dec!E366","v":197},{"$f":"dec!F366","v":1042442},{"$f":"dec!G366","v":61},{"$f":"dec!H366","v":338615},null,4.2499999999999716,29003,-2.0499999999999972,-22625]
[615,"ATHOL ROYALSTON              ",705,null,52,335741,367.37000000000012,2265039,null,0,0,null,null,335741,2265039,null,5201979.37,null,0,615,52,335741,0,615,367.37000000000012,2265039,null,{"$f":"dec!E367","v":52},{"$f":"dec!F367","v":335741},{"$f":"dec!G367","v":355},{"$f":"dec!H367","v":2145696},null,0,0,12.370000000000118,119343]
[616,"AYER SHIRLEY",616,null,134,819792,126.73999999999998,687745,null,0,0,null,null,819792,687745,null,3015334.74,null,0,616,134,819792,0,616,126.73999999999998,687745,null,{"$f":"dec!E368","v":134},{"$f":"dec!F368","v":819792},{"$f":"dec!G368","v":126.5},{"$f":"dec!H368","v":727004},null,0,0,0.23999999999998067,-39259]
[618,"BERKSHIRE HILLS              ",706,null,226,1270730,103.19,598812,null,-1050,0,null,null,1269680,598812,null,3737313.19,null,0,618,226,1270730,0,618,103.19,598812,null,{"$f":"dec!E369","v":226},{"$f":"dec!F369","v":1270730},{"$f":"dec!G369","v":96.5},{"$f":"dec!H369","v":558660},null,0,0,6.6899999999999977,40152]
[620,"BERLIN BOYLSTON              ",707,null,90,514387,27.689999999999998,156067,null,0,0,null,null,514387,156067,null,1341025.69,null,0,620,90,514387,0,620,27.689999999999998,156067,null,{"$f":"dec!E370","v":90},{"$f":"dec!F370","v":514387},{"$f":"dec!G370","v":28},{"$f":"dec!H370","v":158266},null,0,0,-0.31000000000000227,-2199]
[622,"BLACKSTONE MILLVILLE         ",765,null,45.800000000000011,246347,89.539999999999978,501594,null,0,0,null,null,246347,501594,null,1496017.3399999999,null,0,622,45.800000000000011,246347,0,622,89.539999999999978,501594,null,{"$f":"dec!E371","v":43},{"$f":"dec!F371","v":226000},{"$f":"dec!G371","v":81.5},{"$f":"dec!H371","v":471917},null,2.8000000000000114,20347,8.0399999999999778,29677]
[625,"BRIDGEWATER RAYNHAM          ",710,null,28.09,154948,158.60999999999999,917133,null,0,0,null,null,154948,917133,null,2144348.7000000002,null,0,625,28.09,154948,0,625,158.60999999999999,917133,null,{"$f":"dec!E372","v":29},{"$f":"dec!F372","v":172000},{"$f":"dec!G372","v":151},{"$f":"dec!H372","v":780499},null,-0.91000000000000014,-17052,7.6099999999999852,136634]
[632,"CHESTERFIELD GOSHEN",632,null,23.580000000000002,155514,11,62761,null,0,0,null,null,155514,62761,null,436584.57999999996,null,0,632,23.580000000000002,155514,0,632,11,62761,null,{"$f":"dec!E373","v":26},{"$f":"dec!F373","v":145189},{"$f":"dec!G373","v":11},{"$f":"dec!H373","v":59000},null,-2.4199999999999982,10325,0,3761]
[635,"CENTRAL BERKSHIRE            ",712,null,161,1022486,167.95,962498,null,0,0,null,null,1022486,962498,null,3970296.95,null,0,635,161,1022486,0,635,167.95,962498,null,{"$f":"dec!E374","v":161},{"$f":"dec!F374","v":1022486},{"$f":"dec!G374","v":158},{"$f":"dec!H374","v":882971},null,0,0,9.9499999999999886,79527]
[640,"CONCORD CARLISLE             ",713,null,0,0,1.88,12742,null,0,0,null,null,0,12742,null,25485.879999999997,null,0,640,null,null,0,640,1.88,12742,null,{"$f":"dec!E375","v":0},{"$f":"dec!F375","v":0},{"$f":"dec!G375","v":1},{"$f":"dec!H375","v":6700},null,0,0,0.87999999999999989,6042]
[645,"DENNIS YARMOUTH              ",714,null,123.03,797974,353.85000000000025,2148115,null,0,0,null,null,797974,2148115,null,5892654.8799999999,null,0,645,123.03,797974,0,645,353.85000000000025,2148115,null,{"$f":"dec!E376","v":107},{"$f":"dec!F376","v":709268},{"$f":"dec!G376","v":358},{"$f":"dec!H376","v":2119758},null,16.03,88706,-4.1499999999997499,28357]
[650,"DIGHTON REHOBOTH             ",715,null,10,50000,25.05,149688,null,0,0,null,null,50000,149688,null,399411.05,null,0,650,10,50000,0,650,25.05,149688,null,{"$f":"dec!E377","v":12},{"$f":"dec!F377","v":64000},{"$f":"dec!G377","v":23.5},{"$f":"dec!H377","v":140935},null,-2,-14000,1.5500000000000007,8753]
[655,"DOVER SHERBORN               ",716,null,0,0,4.54,28753,null,0,0,null,null,0,28753,null,57510.54,null,0,655,null,null,0,655,4.54,28753,null,{"$f":"dec!E378","v":0},{"$f":"dec!F378","v":0},{"$f":"dec!G378","v":3},{"$f":"dec!H378","v":18400},null,0,0,1.54,10353]
[658,"DUDLEY CHARLTON              ",780,null,145.90999999999997,816691,59.48,338083,null,0,0,null,null,816691,338083,null,2309753.39,null,0,658,145.90999999999997,816691,0,658,59.48,338083,null,{"$f":"dec!E379","v":148},{"$f":"dec!F379","v":827821},{"$f":"dec!G379","v":55.5},{"$f":"dec!H379","v":333517},null,-2.0900000000000318,-11130,3.9799999999999969,4566]
[660,"NAUSET                       ",776,null,279.78999999999996,1612328,32.479999999999997,254076,null,0,0,null,null,1612328,254076,null,3733120.27,null,0,660,279.78999999999996,1612328,0,660,32.479999999999997,254076,null,{"$f":"dec!E380","v":279},{"$f":"dec!F380","v":1642868},{"$f":"dec!G380","v":34},{"$f":"dec!H380","v":266949},null,0.78999999999996362,-30540,-1.5200000000000031,-12873]
[662,"FARMINGTON RIVER",788,null,15,82080,44.91,243875,null,0,0,null,null,82080,243875,null,651969.91,null,0,662,15,82080,0,662,44.91,243875,null,{"$f":"dec!E381","v":15},{"$f":"dec!F381","v":85719},{"$f":"dec!G381","v":48},{"$f":"dec!H381","v":257451},null,0,-3639,-3.0900000000000034,-13576]
[665,"FREETOWN LAKEVILLE           ",718,null,40.97,212263,27.250000000000004,144812,null,0,0,null,null,212263,144812,null,714218.22,null,0,665,40.97,212263,0,665,27.250000000000004,144812,null,{"$f":"dec!E382","v":33},{"$f":"dec!F382","v":165000},{"$f":"dec!G382","v":28},{"$f":"dec!H382","v":152500},null,7.9699999999999989,47263,-0.74999999999999645,-7688]
[670,"FRONTIER                     ",720,null,130.06,1057146,56.930000000000007,344231,null,0,0,null,null,1057146,344231,null,2802940.99,null,0,670,130.06,1057146,0,670,56.930000000000007,344231,null,{"$f":"dec!E383","v":126},{"$f":"dec!F383","v":878160},{"$f":"dec!G383","v":52},{"$f":"dec!H383","v":323204},null,4.0600000000000023,178986,4.9300000000000068,21027]
[672,"GATEWAY                      ",721,null,45.8,309353,75.539999999999992,511973,null,0,0,null,null,309353,511973,null,1642773.3399999999,null,0,672,45.8,309353,0,672,75.539999999999992,511973,null,{"$f":"dec!E384","v":43},{"$f":"dec!F384","v":249799},{"$f":"dec!G384","v":69},{"$f":"dec!H384","v":385422},null,2.7999999999999972,59554,6.539999999999992,126551]
[673,"GROTON DUNSTABLE             ",772,null,46,239169,23.669999999999998,141686,null,0,0,null,null,239169,141686,null,761779.67,null,0,673,46,239169,0,673,23.669999999999998,141686,null,{"$f":"dec!E385","v":46},{"$f":"dec!F385","v":239169},{"$f":"dec!G385","v":22.5},{"$f":"dec!H385","v":139576},null,0,0,1.1699999999999982,2110]
[674,"GILL MONTAGUE                ",764,null,94.81,803098,238.56,1480841,null,0,0,null,null,803098,1480841,null,4568211.37,null,0,674,94.81,803098,0,674,238.56,1480841,null,{"$f":"dec!E386","v":85},{"$f":"dec!F386","v":657010},{"$f":"dec!G386","v":240},{"$f":"dec!H386","v":1472954},null,9.8100000000000023,146088,-1.4399999999999977,7887]
[675,"HAMILTON WENHAM              ",724,null,90,468724,8.0300000000000011,45981,null,0,0,null,null,468724,45981,null,1029508.03,null,0,675,90,468724,0,675,8.0300000000000011,45981,null,{"$f":"dec!E387","v":90},{"$f":"dec!F387","v":471098},{"$f":"dec!G387","v":8},{"$f":"dec!H387","v":49100},null,0,-2374,3.0000000000001137E-2,-3119]
[680,"HAMPDEN WILBRAHAM            ",725,null,111.35,703072,11.56,62786,null,0,0,null,null,703072,62786,null,1531838.9100000001,null,0,680,111.35,703072,0,680,11.56,62786,null,{"$f":"dec!E388","v":113},{"$f":"dec!F388","v":639375},{"$f":"dec!G388","v":10},{"$f":"dec!H388","v":63100},null,-1.6500000000000057,63697,1.5600000000000005,-314]
[683,"HAMPSHIRE                    ",726,null,97.350000000000023,769017,62.96,358173,null,0,0,null,null,769017,358173,null,2254540.31,null,0,683,97.350000000000023,769017,0,683,62.96,358173,null,{"$f":"dec!E389","v":96},{"$f":"dec!F389","v":660492},{"$f":"dec!G389","v":64},{"$f":"dec!H389","v":361171},null,1.3500000000000227,108525,-1.0399999999999991,-2998]
[685,"HAWLEMONT                    ",727,null,15.75,107764,24.91,141979,null,0,0,null,null,107764,141979,null,499526.66000000003,null,0,685,15.75,107764,0,685,24.91,141979,null,{"$f":"dec!E390","v":15},{"$f":"dec!F390","v":96596},{"$f":"dec!G390","v":12},{"$f":"dec!H390","v":76860},null,0.75,11168,12.91,65119]
[690,"KING PHILIP                  ",728,null,0,0,18.28,134797,null,0,0,null,null,0,134797,null,269612.28000000003,null,0,690,null,null,0,690,18.28,134797,null,{"$f":"dec!E391","v":0},{"$f":"dec!F391","v":0},{"$f":"dec!G391","v":16},{"$f":"dec!H391","v":123508},null,0,0,2.2800000000000011,11289]
[695,"LINCOLN SUDBURY              ",729,null,0,0,2.14,13662,null,0,0,null,null,0,13662,null,27326.14,null,0,695,null,null,0,695,2.14,13662,null,{"$f":"dec!E392","v":0},{"$f":"dec!F392","v":0},{"$f":"dec!G392","v":3},{"$f":"dec!H392","v":17854},null,0,0,-0.85999999999999988,-4192]
[698,"MANCHESTER ESSEX",698,null,71,457297,9.6399999999999988,52387,null,0,0,null,null,457297,52387,null,1019448.64,null,0,698,71,457297,0,698,9.6399999999999988,52387,null,{"$f":"dec!E393","v":70},{"$f":"dec!F393","v":358097},{"$f":"dec!G393","v":7},{"$f":"dec!H393","v":35855},null,1,99200,2.6399999999999988,16532]
[700,"MARTHAS VINEYARD             ",731,null,0,0,2.48,17852,null,0,0,null,null,0,17852,null,{"$f":"SUM(E394:O394)","v":35706.479999999996},null,{"$f":"ABS(A394-T394)","v":0},700,null,null,{"$f":"ABS(X394-A394)","v":0},700,2.48,17852,null,{"$f":"dec!E394","v":0},{"$f":"dec!F394","v":0},{"$f":"dec!G394","v":2},{"$f":"dec!H394","v":17400},null,0,0,0.48,452]
[705,"MASCONOMET                   ",732,null,{"$f":"U395","v":0},{"$f":"V395","v":0},{"$f":"Y395","v":3},{"$f":"Z395","v":16700},null,0,0,null,null,{"$f":"F395+J395","v":0},{"$f":"H395+K395","v":16700},null,33403,null,0,705,null,null,0,705,3,16700,null,{"$f":"dec!E395","v":0},{"$f":"dec!F395","v":0},{"$f":"dec!G395","v":3},{"$f":"dec!H395","v":16700},null,{"$f":"U395-AB395","v":0},{"$f":"V395-AC395","v":0},{"$f":"Y395-AD395","v":0},{"$f":"Z395-AE395","v":0}]
[710,"MENDON UPTON                 ",733,null,143.26,811121,55.010000000000005,335287,null,0,0,null,null,811121,335287,null,2293014.27,null,0,710,143.26,811121,0,710,55.010000000000005,335287,null,{"$f":"dec!E396","v":150},{"$f":"dec!F396","v":875255},{"$f":"dec!G396","v":51},{"$f":"dec!H396","v":313564},null,-6.7400000000000091,-64134,4.0100000000000051,21723]
[712,"MONOMOY",811,null,257.89999999999998,1515424,197.82999999999998,1152727,null,0,0,null,null,1515424,1152727,null,5336757.7300000004,null,0,712,257.89999999999998,1515424,0,712,197.82999999999998,1152727,null,{"$f":"dec!E397","v":258},{"$f":"dec!F397","v":1467354},{"$f":"dec!G397","v":185},{"$f":"dec!H397","v":1111009},null,-0.10000000000002274,48070,12.829999999999984,41718]
[715,"MOUNT GREYLOCK               ",736,null,62.639999999999993,343658,23.509999999999998,126525,null,0,0,null,null,343658,126525,null,940452.15,null,0,715,62.639999999999993,343658,0,715,23.509999999999998,126525,null,{"$f":"dec!E398","v":64},{"$f":"dec!F398","v":356522},{"$f":"dec!G398","v":25},{"$f":"dec!H398","v":140152},null,-1.3600000000000065,-12864,-1.490000000000002,-13627]
[717,"MOHAWK TRAIL                 ",734,null,90.320000000000007,664959,79.720000000000013,783526,null,0,0,null,null,664959,783526,null,2897140.04,null,0,717,90.320000000000007,664959,0,717,79.720000000000013,783526,null,{"$f":"dec!E399","v":71},{"$f":"dec!F399","v":443381},{"$f":"dec!G399","v":80},{"$f":"dec!H399","v":684405},null,19.320000000000007,221578,-0.27999999999998693,99121]
[720,"NARRAGANSETT                 ",737,null,185.69,1089651,142.26,816803,null,0,0,null,null,1089651,816803,null,3813235.95,null,0,720,185.69,1089651,0,720,142.26,816803,null,{"$f":"dec!E400","v":184},{"$f":"dec!F400","v":1033420},{"$f":"dec!G400","v":137},{"$f":"dec!H400","v":776163},null,1.6899999999999977,56231,5.2599999999999909,40640]
[725,"NASHOBA                      ",738,null,135.37,725154,71.280000000000015,412446,null,0,0,null,null,725154,412446,null,2275406.65,null,0,725,135.37,725154,0,725,71.280000000000015,412446,null,{"$f":"dec!E401","v":136},{"$f":"dec!F401","v":720937},{"$f":"dec!G401","v":63},{"$f":"dec!H401","v":400345},null,-0.62999999999999545,4217,8.2800000000000153,12101]
[728,"NEW SALEM WENDELL            ",787,null,26.96,143537,12.63,73387,null,0,0,null,null,143537,73387,null,433887.58999999997,null,0,728,26.96,143537,0,728,12.63,73387,null,{"$f":"dec!E402","v":23},{"$f":"dec!F402","v":116803},{"$f":"dec!G402","v":12},{"$f":"dec!H402","v":72000},null,3.9600000000000009,26734,0.63000000000000078,1387]
[730,"NORTHBORO SOUTHBORO          ",741,null,0,0,5.8800000000000008,101135,null,0,0,null,null,0,101135,null,202275.88,null,0,730,null,null,0,730,5.8800000000000008,101135,null,{"$f":"dec!E403","v":0},{"$f":"dec!F403","v":0},{"$f":"dec!G403","v":5},{"$f":"dec!H403","v":66700},null,0,0,0.88000000000000078,34435]
[735,"NORTH MIDDLESEX              ",740,null,87.06,491373,94.61999999999999,514206,null,0,0,null,null,491373,514206,null,2011339.68,null,0,735,87.06,491373,0,735,94.61999999999999,514206,null,{"$f":"dec!E404","v":83},{"$f":"dec!F404","v":467037},{"$f":"dec!G404","v":94.5},{"$f":"dec!H404","v":514481},null,4.0600000000000023,24336,0.11999999999999034,-275]
[740,"OLD ROCHESTER                ",745,null,72.850000000000009,381316,7.82,47704,null,0,0,null,null,381316,47704,null,858120.66999999993,null,0,740,72.850000000000009,381316,0,740,7.82,47704,null,{"$f":"dec!E405","v":70},{"$f":"dec!F405","v":376398},{"$f":"dec!G405","v":8},{"$f":"dec!H405","v":53170},null,2.8500000000000085,4918,-0.17999999999999972,-5466]
[745,"PENTUCKET                    ",746,null,108.53999999999999,599768,30.54,192149,null,0,0,null,null,599768,192149,null,1583973.08,null,0,745,108.53999999999999,599768,0,745,30.54,192149,null,{"$f":"dec!E406","v":110.5},{"$f":"dec!F406","v":598369},{"$f":"dec!G406","v":32},{"$f":"dec!H406","v":195715},null,-1.960000000000008,1399,-1.4600000000000009,-3566]
[750,"PIONEER                      ",747,null,154,886731,47.399999999999991,377899,null,0,0,null,null,886731,377899,null,2529461.4,null,0,750,154,886731,0,750,47.399999999999991,377899,null,{"$f":"dec!E407","v":154},{"$f":"dec!F407","v":886731},{"$f":"dec!G407","v":44},{"$f":"dec!H407","v":335670},null,0,0,3.3999999999999915,42229]
[753,"QUABBIN                      ",749,null,325.26,1861729,111.08000000000003,645422,null,0,0,null,null,1861729,645422,null,5014738.34,null,0,753,325.26,1861729,0,753,111.08000000000003,645422,null,{"$f":"dec!E408","v":331},{"$f":"dec!F408","v":1832098},{"$f":"dec!G408","v":107},{"$f":"dec!H408","v":638983},null,-5.7400000000000091,29631,4.0800000000000267,6439]
[755,"RALPH C MAHAR                ",730,null,245.69,1442867,51.260000000000005,302204,null,0,0,null,null,1442867,302204,null,3490438.95,null,0,755,245.69,1442867,0,755,51.260000000000005,302204,null,{"$f":"dec!E409","v":234},{"$f":"dec!F409","v":1321657},{"$f":"dec!G409","v":50},{"$f":"dec!H409","v":287184},null,11.689999999999998,121210,1.2600000000000051,15020]
[760,"SILVER LAKE                  ",752,null,0,0,7.01,45055,null,0,0,null,null,0,45055,null,90117.010000000009,null,0,760,null,null,0,760,7.01,45055,null,{"$f":"dec!E410","v":0},{"$f":"dec!F410","v":0},{"$f":"dec!G410","v":7},{"$f":"dec!H410","v":40100},null,0,0,9.9999999999997868E-3,4955]
[763,"SOMERSET BERKLEY",790,null,50.86,293733,7.5,40006,null,0,0,null,null,293733,40006,null,667536.36,null,0,763,50.86,293733,0,763,7.5,40006,null,{"$f":"dec!E411","v":53},{"$f":"dec!F411","v":299197},{"$f":"dec!G411","v":7},{"$f":"dec!H411","v":36700},null,-2.1400000000000006,-5464,0.5,3306]
[765,"SOUTHERN BERKSHIRE           ",755,null,121.53,714799,110.52,587703,null,0,0,null,null,714799,587703,null,2605236.0499999998,null,0,765,121.53,714799,0,765,110.52,587703,null,{"$f":"dec!E412","v":118},{"$f":"dec!F412","v":673764},{"$f":"dec!G412","v":111},{"$f":"dec!H412","v":592028},null,3.5300000000000011,41035,-0.48000000000000398,-4325]
[766,"SOUTHWICK TOLLAND GRANVILLE",766,null,127.06,704096,52,290340,null,0,0,null,null,704096,290340,null,1989051.06,null,0,766,127.06,704096,0,766,52,290340,null,{"$f":"dec!E413","v":124},{"$f":"dec!F413","v":683195},{"$f":"dec!G413","v":48},{"$f":"dec!H413","v":264532},null,3.0600000000000023,20901,4,25808]
[767,"SPENCER EAST BROOKFIELD      ",756,null,44.16999999999998,279486,209.15999999999997,1188191,null,0,0,null,null,279486,1188191,null,2935607.33,null,0,767,44.16999999999998,279486,0,767,209.15999999999997,1188191,null,{"$f":"dec!E414","v":42.5},{"$f":"dec!F414","v":271187},{"$f":"dec!G414","v":212},{"$f":"dec!H414","v":1212400},null,1.6699999999999804,8299,-2.8400000000000318,-24209]
[770,"TANTASQUA                    ",757,null,157.76999999999998,933187,25.49,163822,null,0,0,null,null,933187,163822,null,2194201.2599999998,null,0,770,157.76999999999998,933187,0,770,25.49,163822,null,{"$f":"dec!E415","v":155},{"$f":"dec!F415","v":902593},{"$f":"dec!G415","v":25},{"$f":"dec!H415","v":160653},null,2.7699999999999818,30594,0.48999999999999844,3169]
[773,"TRITON                       ",763,null,156.34,996175,84.97999999999999,871631,null,0,0,null,null,996175,871631,null,3735853.32,null,0,773,156.34,996175,0,773,84.97999999999999,871631,null,{"$f":"dec!E416","v":163.5},{"$f":"dec!F416","v":1035310},{"$f":"dec!G416","v":83},{"$f":"dec!H416","v":866809},null,-7.1599999999999966,-39135,1.9799999999999898,4822]
[774,"UPISLAND",789,null,57,360039,13.940000000000001,80468,null,0,0,null,null,360039,80468,null,881084.94,null,0,774,57,360039,0,774,13.940000000000001,80468,null,{"$f":"dec!E417","v":57},{"$f":"dec!F417","v":360039},{"$f":"dec!G417","v":14},{"$f":"dec!H417","v":80768},null,0,0,-5.9999999999998721E-2,-300]
[775,"WACHUSETT                    ",759,null,176,955202,111.77999999999999,652099,null,0,0,null,null,955202,652099,null,3214889.7800000003,null,0,775,176,955202,0,775,111.77999999999999,652099,null,{"$f":"dec!E418","v":176},{"$f":"dec!F418","v":955202},{"$f":"dec!G418","v":109},{"$f":"dec!H418","v":637551},null,0,0,2.7799999999999869,14548]
[778,"QUABOAG",750,null,194.34000000000006,1040901,90.190000000000012,555804,null,0,0,null,null,1040901,555804,null,3193694.53,null,0,778,194.34000000000006,1040901,0,778,90.190000000000012,555804,null,{"$f":"dec!E419","v":189},{"$f":"dec!F419","v":1047949},{"$f":"dec!G419","v":90.5},{"$f":"dec!H419","v":557343},null,5.3400000000000603,-7048,-0.30999999999998806,-1539]
[780,"WHITMAN HANSON               ",761,null,29.76,186073,17.809999999999999,118449,null,0,0,null,null,186073,118449,null,609091.57000000007,null,0,780,29.76,186073,0,780,17.809999999999999,118449,null,{"$f":"dec!E420","v":31},{"$f":"dec!F420","v":179000},{"$f":"dec!G420","v":18},{"$f":"dec!H420","v":120920},null,-1.2399999999999984,7073,-0.19000000000000128,-2471]
[801,"ASSABET VALLEY               ",770,null,0,0,0,0,null,0,0,null,null,0,0,null,0,null,0,801,null,null,0,801,null,null,null,{"$f":"dec!E421","v":0},{"$f":"dec!F421","v":0},{"$f":"dec!G421","v":0},{"$f":"dec!H421","v":0},null,0,0,0,0]
[805,"BLACKSTONE VALLEY            ",708,null,0,0,0,0,null,0,0,null,null,0,0,null,0,null,0,805,null,null,0,805,null,null,null,{"$f":"dec!E422","v":0},{"$f":"dec!F422","v":0},{"$f":"dec!G422","v":0},{"$f":"dec!H422","v":0},null,0,0,0,0]
[806,"BLUE HILLS                   ",709,null,0,0,0,0,null,0,0,null,null,0,0,null,0,null,0,806,null,null,0,806,null,null,null,{"$f":"dec!E423","v":0},{"$f":"dec!F423","v":0},{"$f":"dec!G423","v":0},{"$f":"dec!H423","v":0},null,0,0,0,0]
[810,"BRISTOL PLYMOUTH             ",771,null,0,0,6.83,34150,null,0,0,null,null,0,34150,null,68306.83,null,0,810,null,null,0,810,6.83,34150,null,{"$f":"dec!E424","v":0},{"$f":"dec!F424","v":0},{"$f":"dec!G424","v":9},{"$f":"dec!H424","v":49000},null,0,0,-2.17,-14850]
[815,"CAPE COD                     ",779,null,0,0,3.7800000000000002,26261,null,0,0,null,null,0,26261,null,52525.78,null,0,815,null,null,0,815,3.7800000000000002,26261,null,{"$f":"dec!E425","v":0},{"$f":"dec!F425","v":0},{"$f":"dec!G425","v":3},{"$f":"dec!H425","v":29000},null,0,0,0.78000000000000025,-2739]
[817,"NORTH SHORE                  ",783,null,1,5000,21.240000000000002,119061,null,0,0,null,null,5000,119061,null,248144.24,null,0,817,1,5000,{"$f":"ABS(X426-A426)","v":0},817,21.240000000000002,119061,null,{"$f":"dec!E426","v":1},{"$f":"dec!F426","v":5000},{"$f":"dec!G426","v":20},{"$f":"dec!H426","v":117224},null,0,0,1.240000000000002,1837]
[818,"FRANKLIN COUNTY              ",782,null,0,0,1.52,7600,null,0,0,null,null,0,7600,null,15201.52,null,0,818,null,null,0,818,1.52,7600,null,{"$f":"dec!E427","v":0},{"$f":"dec!F427","v":0},{"$f":"dec!G427","v":2},{"$f":"dec!H427","v":10000},null,0,0,-0.48,-2400]
[821,"GREATER FALL RIVER           ",722,null,0,0,7.85,93959,null,0,0,null,null,0,93959,null,187925.85,null,0,821,null,null,0,821,7.85,93959,null,{"$f":"dec!E428","v":0},{"$f":"dec!F428","v":0},{"$f":"dec!G428","v":8},{"$f":"dec!H428","v":44000},null,0,0,-0.15000000000000036,49959]
[823,"GREATER LAWRENCE             ",723,null,6.22,31991,115.58,631540,null,0,0,null,null,31991,631540,null,1327183.8,null,0,823,6.22,31991,0,823,115.58,631540,null,{"$f":"dec!E429","v":5},{"$f":"dec!F429","v":29000},{"$f":"dec!G429","v":117},{"$f":"dec!H429","v":642141},null,1.2199999999999998,2991,-1.4200000000000017,-10601]
[825,"GREATER NEW BEDFORD          ",786,null,0,0,5,25000,null,0,0,null,null,0,25000,null,50005,null,0,825,null,null,0,825,5,25000,null,{"$f":"dec!E430","v":0},{"$f":"dec!F430","v":0},{"$f":"dec!G430","v":5},{"$f":"dec!H430","v":25000},null,0,0,0,0]
[828,"GREATER LOWELL               ",767,null,2,14232,26.41,141475,null,0,0,null,null,14232,141475,null,311442.41000000003,null,0,828,2,14232,0,828,26.41,141475,null,{"$f":"dec!E431","v":2},{"$f":"dec!F431","v":14232},{"$f":"dec!G431","v":26},{"$f":"dec!H431","v":139425},null,0,0,0.41000000000000014,2050]
[829,"SOUTH MIDDLESEX              ",778,null,0,0,0,0,null,0,0,null,null,0,0,null,0,null,0,829,null,null,0,829,null,null,null,{"$f":"dec!E432","v":0},{"$f":"dec!F432","v":0},{"$f":"dec!G432","v":0},{"$f":"dec!H432","v":0},null,0,0,0,0]
[830,"MINUTEMAN                    ",781,null,0,0,1,5000,null,0,0,null,null,0,5000,null,10001,null,0,830,null,null,0,830,1,5000,null,{"$f":"dec!E433","v":0},{"$f":"dec!F433","v":0},{"$f":"dec!G433","v":1},{"$f":"dec!H433","v":5000},null,0,0,0,0]
[832,"MONTACHUSETT                 ",735,null,21.099999999999998,109611,63.690000000000005,363280,null,0,0,null,null,109611,363280,null,945866.79,null,0,832,21.099999999999998,109611,0,832,63.690000000000005,363280,null,{"$f":"dec!E434","v":20},{"$f":"dec!F434","v":107121},{"$f":"dec!G434","v":62},{"$f":"dec!H434","v":359000},null,1.0999999999999979,2490,1.6900000000000048,4280]
[851,"NORTHERN BERKSHIRE           ",743,null,0,0,0,0,null,0,0,null,null,0,0,null,0,null,0,851,null,null,0,851,null,null,null,{"$f":"dec!E435","v":0},{"$f":"dec!F435","v":0},{"$f":"dec!G435","v":1},{"$f":"dec!H435","v":5000},null,0,0,-1,-5000]
[852,"NASHOBA VALLEY               ",739,null,60,335948,4.12,33249,null,0,0,null,null,335948,33249,null,738458.12,null,0,852,60,335948,0,852,4.12,33249,null,{"$f":"dec!E436","v":60},{"$f":"dec!F436","v":335948},{"$f":"dec!G436","v":5},{"$f":"dec!H436","v":39584},null,0,0,-0.87999999999999989,-6335]
[853,"NORTHEAST METROPOLITAN       ",742,null,28.83,163103,2,10748,null,0,0,null,null,163103,10748,null,347732.82999999996,null,0,853,28.83,163103,0,853,2,10748,null,{"$f":"dec!E437","v":30},{"$f":"dec!F437","v":188361},{"$f":"dec!G437","v":2},{"$f":"dec!H437","v":14000},null,-1.1700000000000017,-25258,0,-3252]
[855,"OLD COLONY                   ",784,null,0,0,0.81,4050,null,0,0,null,null,0,4050,null,8100.8099999999995,null,0,855,null,null,0,855,0.81,4050,null,{"$f":"dec!E438","v":0},{"$f":"dec!F438","v":0},{"$f":"dec!G438","v":2},{"$f":"dec!H438","v":10000},null,0,0,-1.19,-5950]
[860,"PATHFINDER                   ",773,null,33.700000000000003,183358,11,59162,null,0,0,null,null,183358,59162,null,485084.7,null,0,860,33.700000000000003,183358,0,860,11,59162,null,{"$f":"dec!E439","v":34},{"$f":"dec!F439","v":194801},{"$f":"dec!G439","v":12},{"$f":"dec!H439","v":67235},null,-0.29999999999999716,-11443,-1,-8073]
[871,"SHAWSHEEN VALLEY             ",751,null,0,0,17.59,99401,null,0,0,null,null,0,99401,null,198819.59,null,0,871,null,null,0,871,17.59,99401,null,{"$f":"dec!E440","v":0},{"$f":"dec!F440","v":0},{"$f":"dec!G440","v":18},{"$f":"dec!H440","v":104477},null,0,0,-0.41000000000000014,-5076]
[872,"SOUTHEASTERN                 ",754,null,0,0,4,20000,null,0,0,null,null,0,20000,null,40004,null,0,872,null,null,0,872,4,20000,null,{"$f":"dec!E441","v":0},{"$f":"dec!F441","v":0},{"$f":"dec!G441","v":3},{"$f":"dec!H441","v":15000},null,0,0,1,5000]
[873,"SOUTH SHORE                  ",753,null,0,0,1,5000,null,0,0,null,null,0,5000,null,10001,null,0,873,null,null,0,873,1,5000,null,{"$f":"dec!E442","v":0},{"$f":"dec!F442","v":0},{"$f":"dec!G442","v":1},{"$f":"dec!H442","v":5000},null,0,0,0,0]
[876,"SOUTHERN WORCESTER           ",762,null,0,0,30.49,181431,null,0,0,null,null,0,181431,null,362892.49,null,0,876,null,null,0,876,30.49,181431,null,{"$f":"dec!E443","v":0},{"$f":"dec!F443","v":0},{"$f":"dec!G443","v":28},{"$f":"dec!H443","v":170155},null,0,0,2.4899999999999984,11276]
[878,"TRI COUNTY                   ",785,null,0,0,0.69,3450,null,0,0,null,null,0,3450,null,6900.6900000000005,null,0,878,null,null,0,878,0.69,3450,null,{"$f":"dec!E444","v":0},{"$f":"dec!F444","v":0},{"$f":"dec!G444","v":1},{"$f":"dec!H444","v":5000},null,0,0,-0.31000000000000005,-1550]
[879,"UPPER CAPE COD               ",758,null,0,0,2.1100000000000003,10550,null,0,0,null,null,0,10550,null,21102.11,null,0,879,null,null,0,879,2.1100000000000003,10550,null,{"$f":"dec!E445","v":0},{"$f":"dec!F445","v":0},{"$f":"dec!G445","v":3},{"$f":"dec!H445","v":15000},null,0,0,-0.88999999999999968,-4450]
[885,"WHITTIER                     ",774,null,114.58,628063,4.8099999999999996,24941,null,0,0,null,null,628063,24941,null,1306127.3900000001,null,0,885,114.58,628063,0,885,4.8099999999999996,24941,null,{"$f":"dec!E446","v":116},{"$f":"dec!F446","v":641668},{"$f":"dec!G446","v":4},{"$f":"dec!H446","v":24000},null,-1.4200000000000017,-13605,0.80999999999999961,941]
[910,"BRISTOL COUNTY               ",810,null,0,0,0,0,null,0,0,null,null,0,0,null,0,null,0,910,null,null,0,910,null,null,null,{"$f":"dec!E447","v":0},{"$f":"dec!F447","v":0},{"$f":"dec!G447","v":0},{"$f":"dec!H447","v":0},null,0,0,0,0]
[915,"NORFOLK COUNTY               ",830,null,0,0,0,0,null,0,0,null,null,0,0,null,0,null,0,915,null,null,0,915,null,null,null,{"$f":"dec!E448","v":0},{"$f":"dec!F448","v":0},{"$f":"dec!G448","v":0},{"$f":"dec!H448","v":0},null,0,0,0,0]
[3901,"MASS VIRTUAL ACADEMY",3901,null,730.9499999999997,{"$f":"V449-55350","v":5027267},0,0,null,0,0,null,null,5027267,0,null,10055264.949999999,null,0,3901,730.9499999999997,5082617,0,3901,null,null,null,{"$f":"dec!E449","v":621},{"$f":"dec!F449","v":4490820},{"$f":"dec!G449","v":0},{"$f":"dec!H449","v":0},null,109.9499999999997,591797,0,0]
[3902,"TECCA",3902,null,895.26000000000295,{"$f":"V450-99900","v":6137680},0,0,null,0,0,null,null,6137680,0,null,12276255.26,null,0,3902,895.26000000000295,6237580,3902,3902,null,null,null,{"$f":"dec!E450","v":795.5},{"$f":"dec!F450","v":5822365},{"$f":"dec!G450","v":0},{"$f":"dec!H450","v":0},null,99.760000000002947,415215,0,0]
[9999,"State Total",null,null,{"$f":"SUM(E10:E450)","v":15783.180000000004},{"$f":"SUM(F10:F450)","v":95495863},{"$f":"SUM(G10:G450)","v":15783.179999999997},{"$f":"SUM(H10:H450)","v":95651113},null,46450,46450,null,null,{"$f":"SUM(N10:N450)","v":95542313},{"$f":"SUM(O10:O450)","v":95697563},null,382511318.36000001,null,null,null,{"$f":"SUM(U10:U450)","v":15783.180000000004},{"$f":"SUM(V10:V450)","v":95651113},999,null,{"$f":"SUM(Y10:Y450)","v":15783.179999999997},{"$f":"SUM(Z10:Z450)","v":95651113},null,{"$f":"SUM(AB10:AB450)","v":15341.5},{"$f":"SUM(AC10:AC450)","v":92043792},{"$f":"SUM(AD10:AD450)","v":15341.5},{"$f":"SUM(AE10:AE450)","v":92151127},null,{"$f":"SUM(AG11:AG450)","v":441.68000000000251},{"$f":"SUM(AH11:AH450)","v":3607321},{"$f":"SUM(AI11:AI450)","v":442.19000000000068},{"$f":"SUM(AJ11:AJ450)","v":3502442}]

{"sheet":"june","index":9,"n_rows":452,"n_cols":44,"rows_kept":452,"cut":false,"hidden":true,"merged":[[1,0,1,14],[2,0,2,14],[4,0,4,14]]}
[null,null,null,null,null,null,null,null,null,"chosum15final, june 13 2016",null,null,null,null,null,null,null,null,null,null,"jun19, 3:37 pm",null,null,null,"jun19, 3:40 pm",null,null,null,null,null,null,null,null,null,null,null,null,"jun19, 3:37 pm",null,null,null,"jun19, 3:40 pm"]
["Massachusetts Department of Elementary and Secondary Education"]
["Office of School Finance"]
[]
["FY16 School Choice Pupils and Tuition, June 2016"]
[null,null,null,null,null,null,null,null,null,"Adjustment","Adjustment",null,null,"Net ","Net ",null,null,null,null,null,null,null,null,null,null,null,null,null,null,null,null,null,"change","change","change","change"]
[null,null,null,null,"FY16","FY16","FY16","FY16",null,"FY15","FY15",null,null,"Receiving","Sending",null,null,null,null,null,"incoming","incoming",null,null,"incoming","incoming",null,"may","may","may","may",null,"may to","may to","may to","may to",null,"incoming","incoming",null,null,"incoming","incoming"]
[null,null,null,null,"Receiving","Receiving","Sending","Sending",null,"Receiving","Sending",null,null,"Tuition","Tuition",null,null,"Virtual School",null,null,"Receiving","Receiving",null,null,"Sending","Sending",null,"Receiving","Receiving","Sending","Sending",null,"jun","jun","jun","jun",null,"Receiving","Receiving",null,null,"Sending","Sending"]
["LEA","district","dor",null,"FTE","Tuition","FTE","Tuition",null,"Tuition","Tuition",null,null,"FY16","FY16",null,null,"Transfer",{"$f":"SUM(S10:S448)","v":0},"lea","FTE","Tuition",{"$f":"SUM(W10:W448)","v":0},"lea","FTE","Tuition",null,"FTE","Tuition","FTE","Tuition",null,"rec fte","rec tuit","send fte","send tuit",null,"FTE","Tuition",0,"lea","FTE","Tuition"]
[1,"ABINGTON                     ",1,null,{"$f":"U10","v":1},{"$f":"V10","v":5000},{"$f":"Y10","v":33.489999999999995},{"$f":"Z10","v":202621},null,0,0,null,null,{"$f":"F10+J10","v":5000},{"$f":"H10+K10","v":202621},null,{"$f":"SUM(E10:O10)","v":415276.49},null,{"$f":"ABS(A10-T10)","v":0},1,1,5000,{"$f":"ABS(X10-A10)","v":0},1,33.489999999999995,202621,null,{"$f":"may!E10","v":1},{"$f":"may!F10","v":5000},{"$f":"may!G10","v":35.489999999999995},{"$f":"may!H10","v":228621},null,{"$f":"U10-AB10","v":0},{"$f":"V10-AC10","v":0},{"$f":"Y10-AD10","v":-2},{"$f":"Z10-AE10","v":-26000},null,1,5000,{"$f":"V10-AM10","v":0},1,33.489999999999995,202621,{"$f":"Z10-AQ10","v":0}]
[2,"ACTON                        ",2,null,{"$f":"U11","v":0},{"$f":"V11","v":0},{"$f":"Y11","v":0},{"$f":"Z11","v":0},null,0,0,null,null,{"$f":"F11+J11","v":0},{"$f":"H11+K11","v":0},null,{"$f":"SUM(E11:O11)","v":0},null,0,2,null,null,0,2,null,null,null,{"$f":"may!E11","v":0},{"$f":"may!F11","v":0},{"$f":"may!G11","v":0},{"$f":"may!H11","v":0},null,{"$f":"U11-AB11","v":0},{"$f":"V11-AC11","v":0},{"$f":"Y11-AD11","v":0},{"$f":"Z11-AE11","v":0},null,null,null,{"$f":"V11-AM11","v":0},2,null,null,{"$f":"Z11-AQ11","v":0}]
[3,"ACUSHNET                     ",3,null,0,0,18.63,98585,null,0,0,null,null,0,98585,null,197188.63,null,0,3,null,null,0,3,18.63,98585,null,{"$f":"may!E12","v":0},{"$f":"may!F12","v":0},{"$f":"may!G12","v":18.63},{"$f":"may!H12","v":98585},null,0,0,0,0,null,null,null,0,3,18.63,98585,0]
[4,"ADAMS                        ",4,null,0,0,0,0,null,0,0,null,null,0,0,null,0,null,0,4,null,null,0,4,null,null,null,{"$f":"may!E13","v":0},{"$f":"may!F13","v":0},{"$f":"may!G13","v":0},{"$f":"may!H13","v":0},null,0,0,0,0,null,null,null,0,4,null,null,0]
[5,"AGAWAM                       ",5,null,76.02,437916,46.1,292059,null,0,0,null,null,437916,292059,null,1460072.12,null,0,5,76.02,437916,0,5,46.1,292059,null,{"$f":"may!E14","v":79},{"$f":"may!F14","v":429476},{"$f":"may!G14","v":49.03},{"$f":"may!H14","v":308100},null,-2.980000000000004,8440,-2.9299999999999997,-16041,null,76.02,437916,0,5,46.1,292059,0]
[6,"ALFORD                       ",6,null,0,0,0,0,null,0,0,null,null,0,0,null,0,null,0,6,null,null,0,6,null,null,null,{"$f":"may!E15","v":0},{"$f":"may!F15","v":0},{"$f":"may!G15","v":0},{"$f":"may!H15","v":0},null,0,0,0,0,null,null,null,0,6,null,null,0]
[7,"AMESBURY                     ",7,null,12.360000000000001,94513,59.69,379481,null,0,0,null,null,94513,379481,null,948060.05,null,0,7,12.360000000000001,94513,0,7,59.69,379481,null,{"$f":"may!E16","v":16},{"$f":"may!F16","v":121524},{"$f":"may!G16","v":60.33},{"$f":"may!H16","v":383721},null,-3.6399999999999988,-27011,-0.64000000000000057,-4240,null,12.360000000000001,94513,0,7,59.69,379481,0]
[8,"AMHERST                      ",8,null,49.96,336133,25.07,238888,null,0,0,null,null,336133,238888,null,1150117.03,null,0,8,49.96,336133,0,8,25.07,238888,null,{"$f":"may!E17","v":49},{"$f":"may!F17","v":319432},{"$f":"may!G17","v":23.480000000000004},{"$f":"may!H17","v":228041},null,0.96000000000000085,16701,1.5899999999999963,10847,null,49.96,336133,0,8,25.07,238888,0]
[9,"ANDOVER                      ",9,null,0,0,4,26467,null,0,0,null,null,0,26467,null,52938,null,0,9,null,null,0,9,4,26467,null,{"$f":"may!E18","v":0},{"$f":"may!F18","v":0},{"$f":"may!G18","v":4},{"$f":"may!H18","v":26467},null,0,0,0,0,null,null,null,0,9,4,26467,0]
[10,"ARLINGTON                    ",10,null,0,0,1.96,14806,null,0,0,null,null,0,14806,null,29613.96,null,0,10,null,null,0,10,1.96,14806,null,{"$f":"may!E19","v":0},{"$f":"may!F19","v":0},{"$f":"may!G19","v":2.7800000000000002},{"$f":"may!H19","v":20238},null,0,0,-0.82000000000000028,-5432,null,null,null,0,10,1.96,14806,0]
[11,"ASHBURNHAM                   ",11,null,0,0,0,0,null,0,0,null,null,0,0,null,0,null,0,11,null,null,0,11,null,null,null,{"$f":"may!E20","v":0},{"$f":"may!F20","v":0},{"$f":"may!G20","v":0},{"$f":"may!H20","v":0},null,0,0,0,0,null,null,null,0,11,null,null,0]
[12,"ASHBY                        ",12,null,0,0,0,0,null,0,0,null,null,0,0,null,0,null,0,12,null,null,0,12,null,null,null,{"$f":"may!E21","v":0},{"$f":"may!F21","v":0},{"$f":"may!G21","v":0},{"$f":"may!H21","v":0},null,0,0,0,0,null,null,null,0,12,null,null,0]
[13,"ASHFIELD                     ",13,null,0,0,0,0,null,0,0,null,null,0,0,null,0,null,0,13,null,null,0,13,null,null,null,{"$f":"may!E22","v":0},{"$f":"may!F22","v":0},{"$f":"may!G22","v":0},{"$f":"may!H22","v":0},null,0,0,0,0,null,null,null,0,13,null,null,0]
[14,"ASHLAND                      ",14,null,43.43,266615,13.860000000000001,89931,null,0,0,null,null,266615,89931,null,713149.29,null,0,14,43.43,266615,0,14,13.860000000000001,89931,null,{"$f":"may!E23","v":43.43},{"$f":"may!F23","v":266615},{"$f":"may!G23","v":13.86},{"$f":"may!H23","v":89173},null,0,0,0,758,null,43.43,266615,0,14,13.860000000000001,89931,0]
[15,"ATHOL                        ",15,null,0,0,0,0,null,0,0,null,null,0,0,null,0,null,0,15,null,null,0,15,null,null,null,{"$f":"may!E24","v":0},{"$f":"may!F24","v":0},{"$f":"may!G24","v":0},{"$f":"may!H24","v":0},null,0,0,0,0,null,null,null,0,15,null,null,0]
[16,"ATTLEBORO                    ",16,null,0,0,26.330000000000002,163391,null,0,0,null,null,0,163391,null,326808.32999999996,null,0,16,null,null,0,16,26.330000000000002,163391,null,{"$f":"may!E25","v":0},{"$f":"may!F25","v":0},{"$f":"may!G25","v":27.72},{"$f":"may!H25","v":174584},null,0,0,-1.389999999999997,-11193,null,null,null,0,16,26.330000000000002,163391,0]
[17,"AUBURN                       ",17,null,62.089999999999996,327610,17.799999999999997,102423,null,0,0,null,null,327610,102423,null,860145.89,null,0,17,62.089999999999996,327610,0,17,17.799999999999997,102423,null,{"$f":"may!E26","v":62.089999999999996},{"$f":"may!F26","v":327610},{"$f":"may!G26","v":18.73},{"$f":"may!H26","v":107043},null,0,0,-0.93000000000000327,-4620,null,62.089999999999996,327610,0,17,17.799999999999997,102423,0]
[18,"AVON                         ",18,null,188.18,980670,1.69,10067,null,0,0,null,null,980670,10067,null,1981663.87,null,0,18,188.18,980670,0,18,1.69,10067,null,{"$f":"may!E27","v":188.18},{"$f":"may!F27","v":980670},{"$f":"may!G27","v":1.69},{"$f":"may!H27","v":10067},null,0,0,0,0,null,188.18,980670,0,18,1.69,10067,0]
[19,"AYER                         ",19,null,0,0,0,0,null,0,0,null,null,0,0,null,0,null,0,19,null,null,0,19,null,null,null,{"$f":"may!E28","v":0},{"$f":"may!F28","v":0},{"$f":"may!G28","v":0},{"$f":"may!H28","v":0},null,0,0,0,0,null,null,null,0,19,null,null,0]
[20,"BARNSTABLE                   ",20,null,101.78000000000002,650718,155.45000000000005,904893,null,0,0,null,null,650718,904893,null,3111479.23,null,0,20,101.78000000000002,650718,0,20,155.45000000000005,904893,null,{"$f":"may!E29","v":101.78000000000002},{"$f":"may!F29","v":650718},{"$f":"may!G29","v":157.30000000000004},{"$f":"may!H29","v":915697},null,0,0,-1.8499999999999943,-10804,null,101.78000000000002,650718,0,20,155.45000000000005,904893,0]
[21,"BARRE                        ",21,null,0,0,0,0,null,0,0,null,null,0,0,null,0,null,0,21,null,null,0,21,null,null,null,{"$f":"may!E30","v":0},{"$f":"may!F30","v":0},{"$f":"may!G30","v":0},{"$f":"may!H30","v":0},null,0,0,0,0,null,null,null,0,21,null,null,0]
[22,"BECKET                       ",22,null,0,0,3,15000,null,0,0,null,null,0,15000,null,30003,null,0,22,null,null,0,22,3,15000,null,{"$f":"may!E31","v":0},{"$f":"may!F31","v":0},{"$f":"may!G31","v":3},{"$f":"may!H31","v":15000},null,0,0,0,0,null,null,null,0,22,3,15000,0]
[23,"BEDFORD                      ",23,null,0,0,4.16,26665,null,0,0,null,null,0,26665,null,53334.16,null,0,23,null,null,0,23,4.16,26665,null,{"$f":"may!E32","v":0},{"$f":"may!F32","v":0},{"$f":"may!G32","v":5.16},{"$f":"may!H32","v":31665},null,0,0,-1,-5000,null,null,null,0,23,4.16,26665,0]
[24,"BELCHERTOWN                  ",24,null,123.48999999999998,749311,95.69,661719,null,0,0,null,null,749311,661719,null,2822279.1799999997,null,0,24,123.48999999999998,749311,0,24,95.69,661719,null,{"$f":"may!E33","v":122},{"$f":"may!F33","v":760087},{"$f":"may!G33","v":96.75},{"$f":"may!H33","v":660608},null,1.4899999999999807,-10776,-1.0600000000000023,1111,null,123.48999999999998,749311,0,24,95.69,661719,0]
[25,"BELLINGHAM                   ",25,null,39.19,218670,135.84999999999997,844393,null,0,-164,null,null,218670,844229,null,2125973.04,null,0,25,39.19,218670,0,25,135.84999999999997,844393,null,{"$f":"may!E34","v":39.19},{"$f":"may!F34","v":218670},{"$f":"may!G34","v":140.38999999999999},{"$f":"may!H34","v":847684},null,0,0,-4.5400000000000205,-3291,null,39.19,218670,0,25,135.84999999999997,844393,0]
[26,"BELMONT                      ",26,null,0,0,1.3,8920,null,0,0,null,null,0,8920,null,17841.3,null,0,26,null,null,0,26,1.3,8920,null,{"$f":"may!E35","v":0},{"$f":"may!F35","v":0},{"$f":"may!G35","v":1.3},{"$f":"may!H35","v":8920},null,0,0,0,0,null,null,null,0,26,1.3,8920,0]
[27,"BERKLEY                      ",27,null,104.15999999999997,520800,1.8499999999999999,9250,null,0,0,null,null,520800,9250,null,1060206.01,null,0,27,104.15999999999997,520800,0,27,1.8499999999999999,9250,null,{"$f":"may!E36","v":104.15999999999997},{"$f":"may!F36","v":520800},{"$f":"may!G36","v":2.69},{"$f":"may!H36","v":13450},null,0,0,-0.84000000000000008,-4200,null,104.15999999999997,520800,0,27,1.8499999999999999,9250,0]
[28,"BERLIN                       ",28,null,19.41,147821,1,5000,null,0,0,null,null,147821,5000,null,305662.41000000003,null,0,28,19.41,147821,0,28,1,5000,null,{"$f":"may!E37","v":20},{"$f":"may!F37","v":149051},{"$f":"may!G37","v":1},{"$f":"may!H37","v":5000},null,-0.58999999999999986,-1230,0,0,null,19.41,147821,0,28,1,5000,0]
[29,"BERNARDSTON                  ",29,null,0,0,0,0,null,0,0,null,null,0,0,null,0,null,0,29,null,null,0,29,null,null,null,{"$f":"may!E38","v":0},{"$f":"may!F38","v":0},{"$f":"may!G38","v":0},{"$f":"may!H38","v":0},null,0,0,0,0,null,null,null,0,29,null,null,0]
[30,"BEVERLY                      ",30,null,103.3,596078,59.339999999999996,338684,null,0,0,null,null,596078,338684,null,1869686.6400000001,null,0,30,103.3,596078,0,30,59.339999999999996,338684,null,{"$f":"may!E39","v":106},{"$f":"may!F39","v":601926},{"$f":"may!G39","v":58.48},{"$f":"may!H39","v":334610},null,-2.7000000000000028,-5848,0.85999999999999943,4074,null,103.3,596078,0,30,59.339999999999996,338684,0]
[31,"BILLERICA                    ",31,null,0,0,17.97,117252,null,0,0,null,null,0,117252,null,234521.97,null,0,31,null,null,0,31,17.97,117252,null,{"$f":"may!E40","v":0},{"$f":"may!F40","v":0},{"$f":"may!G40","v":19.420000000000002},{"$f":"may!H40","v":126858},null,0,0,-1.4500000000000028,-9606,null,null,null,0,31,17.97,117252,0]
[32,"BLACKSTONE                   ",32,null,0,0,0,0,null,0,0,null,null,0,0,null,0,null,0,32,null,null,0,32,null,null,null,{"$f":"may!E41","v":0},{"$f":"may!F41","v":0},{"$f":"may!G41","v":0},{"$f":"may!H41","v":0},null,0,0,0,0,null,null,null,0,32,null,null,0]
[33,"BLANDFORD                    ",33,null,0,0,2,11951,null,0,0,null,null,0,11951,null,23904,null,0,33,null,null,0,33,2,11951,null,{"$f":"may!E42","v":0},{"$f":"may!F42","v":0},{"$f":"may!G42","v":2},{"$f":"may!H42","v":12120},null,0,0,0,-169,null,null,null,0,33,2,11951,0]
[34,"BOLTON                       ",34,null,0,0,0,0,null,0,0,null,null,0,0,null,0,null,0,34,null,null,0,34,null,null,null,{"$f":"may!E43","v":0},{"$f":"may!F43","v":0},{"$f":"may!G43","v":0},{"$f":"may!H43","v":0},null,0,0,0,0,null,null,null,0,34,null,null,0]
[35,"BOSTON                       ",35,null,0,0,93.08,616775,null,0,0,null,null,0,616775,null,1233643.08,null,0,35,null,null,0,35,93.08,616775,null,{"$f":"may!E44","v":0},{"$f":"may!F44","v":0},{"$f":"may!G44","v":98.83},{"$f":"may!H44","v":656653},null,0,0,-5.75,-39878,null,null,null,0,35,93.08,616775,0]
[36,"BOURNE                       ",36,null,134.9,800520,95.580000000000013,564917,null,0,0,null,null,800520,564917,null,2731104.48,null,0,36,134.9,800520,0,36,95.580000000000013,564917,null,{"$f":"may!E45","v":134.9},{"$f":"may!F45","v":800520},{"$f":"may!G45","v":95.580000000000013},{"$f":"may!H45","v":564917},null,0,0,0,0,null,134.9,800520,0,36,95.580000000000013,564917,0]
[37,"BOXBOROUGH                   ",37,null,0,0,0,0,null,0,0,null,null,0,0,null,0,null,0,37,null,null,0,37,null,null,null,{"$f":"may!E46","v":0},{"$f":"may!F46","v":0},{"$f":"may!G46","v":0},{"$f":"may!H46","v":0},null,0,0,0,0,null,null,null,0,37,null,null,0]
[38,"BOXFORD                      ",38,null,0,0,3,16700,null,0,0,null,null,0,16700,null,33403,null,0,38,null,null,0,38,3,16700,null,{"$f":"may!E47","v":0},{"$f":"may!F47","v":0},{"$f":"may!G47","v":3},{"$f":"may!H47","v":16700},null,0,0,0,0,null,null,null,0,38,3,16700,0]
[39,"BOYLSTON                     ",39,null,17,94765,5.6000000000000005,73688,null,0,0,null,null,94765,73688,null,336928.6,null,0,39,17,94765,0,39,5.6000000000000005,73688,null,{"$f":"may!E48","v":17},{"$f":"may!F48","v":90513},{"$f":"may!G48","v":5.58},{"$f":"may!H48","v":74969},null,0,4252,2.0000000000000462E-2,-1281,null,17,94765,0,39,5.6000000000000005,73688,0]
[40,"BRAINTREE                    ",40,null,0,0,5.19,33330,null,0,0,null,null,0,33330,null,66665.19,null,0,40,null,null,0,40,5.19,33330,null,{"$f":"may!E49","v":0},{"$f":"may!F49","v":0},{"$f":"may!G49","v":5.43},{"$f":"may!H49","v":34920},null,0,0,-0.23999999999999932,-1590,null,null,null,0,40,5.19,33330,0]
[41,"BREWSTER                     ",41,null,0,0,32.25,195396,null,0,0,null,null,0,195396,null,390824.25,null,0,41,null,null,0,41,32.25,195396,null,{"$f":"may!E50","v":0},{"$f":"may!F50","v":0},{"$f":"may!G50","v":33.269999999999996},{"$f":"may!H50","v":201136},null,0,0,-1.019999999999996,-5740,null,null,null,0,41,32.25,195396,0]
[42,"BRIDGEWATER                  ",42,null,0,0,0,0,null,0,0,null,null,0,0,null,0,null,0,42,null,null,0,42,null,null,null,{"$f":"may!E51","v":0},{"$f":"may!F51","v":0},{"$f":"may!G51","v":0},{"$f":"may!H51","v":0},null,0,0,0,0,null,null,null,0,42,null,null,0]
[43,"BRIMFIELD                    ",43,null,0,0,7.13,62760,null,0,-102,null,null,0,62658,null,125323.13,null,0,43,null,null,0,43,7.13,62760,null,{"$f":"may!E52","v":0},{"$f":"may!F52","v":0},{"$f":"may!G52","v":7.1300000000000008},{"$f":"may!H52","v":62760},null,0,0,0,0,null,null,null,0,43,7.13,62760,0]
[44,"BROCKTON                     ",44,null,23.43,227944,235.67,1268968,null,0,0,null,null,227944,1268968,null,2994083.1,null,0,44,23.43,227944,0,44,235.67,1268968,null,{"$f":"may!E53","v":23.43},{"$f":"may!F53","v":227944},{"$f":"may!G53","v":235.03000000000003},{"$f":"may!H53","v":1272709},null,0,0,0.63999999999995794,-3741,null,23.43,227944,0,44,235.88999999999996,1270068,-1100]
[45,"BROOKFIELD                   ",45,null,56.91,354773,2.63,22784,null,0,0,null,null,354773,22784,null,755173.54,null,0,45,56.91,354773,0,45,2.63,22784,null,{"$f":"may!E54","v":56.91},{"$f":"may!F54","v":354773},{"$f":"may!G54","v":2.65},{"$f":"may!H54","v":22884},null,0,0,-2.0000000000000018E-2,-100,null,56.91,354773,0,45,2.63,22784,0]
[46,"BROOKLINE                    ",46,null,0,0,1.31,8829,null,0,0,null,null,0,8829,null,17659.309999999998,null,0,46,null,null,0,46,1.31,8829,null,{"$f":"may!E55","v":0},{"$f":"may!F55","v":0},{"$f":"may!G55","v":1.31},{"$f":"may!H55","v":8829},null,0,0,0,0,null,null,null,0,46,1.31,8829,0]
[47,"BUCKLAND                     ",47,null,0,0,0,0,null,0,0,null,null,0,0,null,0,null,0,47,null,null,0,47,null,null,null,{"$f":"may!E56","v":0},{"$f":"may!F56","v":0},{"$f":"may!G56","v":0},{"$f":"may!H56","v":0},null,0,0,0,0,null,null,null,0,47,null,null,0]
[48,"BURLINGTON                   ",48,null,28.93,144650,3.88,26005,null,0,0,null,null,144650,26005,null,341342.81,null,0,48,28.93,144650,0,48,3.88,26005,null,{"$f":"may!E57","v":29},{"$f":"may!F57","v":153000},{"$f":"may!G57","v":3.88},{"$f":"may!H57","v":26005},null,-7.0000000000000284E-2,-8350,0,0,null,28.93,144650,0,48,3.88,26005,0]
[49,"CAMBRIDGE                    ",49,null,0,0,5.41,36291,null,0,0,null,null,0,36291,null,72587.41,null,0,49,null,null,0,49,5.41,36291,null,{"$f":"may!E58","v":0},{"$f":"may!F58","v":0},{"$f":"may!G58","v":5.41},{"$f":"may!H58","v":36291},null,0,0,0,0,null,null,null,0,49,5.41,36291,0]
[50,"CANTON                       ",50,null,0,0,1.4,9836,null,0,0,null,null,0,9836,null,19673.400000000001,null,0,50,null,null,0,50,1.4,9836,null,{"$f":"may!E59","v":0},{"$f":"may!F59","v":0},{"$f":"may!G59","v":1.4},{"$f":"may!H59","v":9836},null,0,0,0,0,null,null,null,0,50,1.4,9836,0]
[51,"CARLISLE                     ",51,null,0,0,0,0,null,0,0,null,null,0,0,null,0,null,0,51,null,null,0,51,null,null,null,{"$f":"may!E60","v":0},{"$f":"may!F60","v":0},{"$f":"may!G60","v":0},{"$f":"may!H60","v":0},null,0,0,0,0,null,null,null,0,51,null,null,0]
[52,"CARVER                       ",52,null,22.560000000000002,174142,4.8099999999999996,30051,null,0,0,null,null,174142,30051,null,408413.37,null,0,52,22.560000000000002,174142,0,52,4.8099999999999996,30051,null,{"$f":"may!E61","v":22.560000000000002},{"$f":"may!F61","v":174142},{"$f":"may!G61","v":5.5},{"$f":"may!H61","v":34622},null,0,0,-0.69000000000000039,-4571,null,22.560000000000002,174142,0,52,4.8099999999999996,30051,0]
[53,"CHARLEMONT                   ",53,null,0,0,0,0,null,0,0,null,null,0,0,null,0,null,0,53,null,null,0,53,null,null,null,{"$f":"may!E62","v":0},{"$f":"may!F62","v":0},{"$f":"may!G62","v":0},{"$f":"may!H62","v":0},null,0,0,0,0,null,null,null,0,53,null,null,0]
[54,"CHARLTON                     ",54,null,0,0,0,0,null,0,0,null,null,0,0,null,0,null,0,54,null,null,0,54,null,null,null,{"$f":"may!E63","v":0},{"$f":"may!F63","v":0},{"$f":"may!G63","v":0},{"$f":"may!H63","v":0},null,0,0,0,0,null,null,null,0,54,null,null,0]
[55,"CHATHAM                      ",55,null,0,0,0,0,null,0,0,null,null,0,0,null,0,null,0,55,null,null,0,55,null,null,null,{"$f":"may!E64","v":0},{"$f":"may!F64","v":0},{"$f":"may!G64","v":0},{"$f":"may!H64","v":0},null,0,0,0,0,null,null,null,0,55,null,null,0]
[56,"CHELMSFORD                   ",56,null,57.89,425721,29.66,214929,null,0,0,null,null,425721,214929,null,1281387.55,null,0,56,57.89,425721,0,56,29.66,214929,null,{"$f":"may!E65","v":57.89},{"$f":"may!F65","v":425721},{"$f":"may!G65","v":30.27},{"$f":"may!H65","v":160391},null,0,0,-0.60999999999999943,54538,null,57.89,425721,0,56,29.66,214929,0]
[57,"CHELSEA                      ",57,null,0,0,10.27,67390,null,0,0,null,null,0,67390,null,134790.27000000002,null,0,57,null,null,0,57,10.27,67390,null,{"$f":"may!E66","v":0},{"$f":"may!F66","v":0},{"$f":"may!G66","v":10.89},{"$f":"may!H66","v":71497},null,0,0,-0.62000000000000099,-4107,null,null,null,0,57,10.27,67390,0]
[58,"CHESHIRE                     ",58,null,0,0,0,0,null,0,0,null,null,0,0,null,0,null,0,58,null,null,0,58,null,null,null,{"$f":"may!E67","v":0},{"$f":"may!F67","v":0},{"$f":"may!G67","v":0},{"$f":"may!H67","v":0},null,0,0,0,0,null,null,null,0,58,null,null,0]
[59,"CHESTER                      ",59,null,0,0,0,0,null,0,0,null,null,0,0,null,0,null,0,59,null,null,0,59,null,null,null,{"$f":"may!E68","v":0},{"$f":"may!F68","v":0},{"$f":"may!G68","v":0},{"$f":"may!H68","v":0},null,0,0,0,0,null,null,null,0,59,null,null,0]
[60,"CHESTERFIELD                 ",60,null,0,0,0,0,null,0,0,null,null,0,0,null,0,null,0,60,null,null,0,60,null,null,null,{"$f":"may!E69","v":0},{"$f":"may!F69","v":0},{"$f":"may!G69","v":0},{"$f":"may!H69","v":0},null,0,0,0,0,null,null,null,0,60,null,null,0]
[61,"CHICOPEE                     ",61,null,190.44,988909,139.67000000000002,838974,null,0,-419,null,null,988909,838555,null,3655258.11,null,0,61,190.44,988909,0,61,139.67000000000002,838974,null,{"$f":"may!E70","v":190.44},{"$f":"may!F70","v":988909},{"$f":"may!G70","v":145.31000000000003},{"$f":"may!H70","v":880719},null,0,0,-5.6400000000000148,-41745,null,190.44,988909,0,61,139.67000000000002,838974,0]
[62,"CHILMARK                     ",62,null,0,0,0,0,null,0,0,null,null,0,0,null,0,null,0,62,null,null,0,62,null,null,null,{"$f":"may!E71","v":0},{"$f":"may!F71","v":0},{"$f":"may!G71","v":0},{"$f":"may!H71","v":0},null,0,0,0,0,null,null,null,0,62,null,null,0]
[63,"CLARKSBURG                   ",63,null,35.39,203013,17.78,133934,null,0,0,null,null,203013,133934,null,673947.17,null,0,63,35.39,203013,0,63,17.78,133934,null,{"$f":"may!E72","v":35.39},{"$f":"may!F72","v":203013},{"$f":"may!G72","v":17.779999999999998},{"$f":"may!H72","v":133934},null,0,0,0,0,null,35.39,203013,0,63,17.78,133934,0]
[64,"CLINTON                      ",64,null,82.430000000000035,640152,117.37,685597,null,3650,0,null,null,643802,685597,null,2658997.7999999998,null,0,64,82.430000000000035,640152,0,64,117.37,685597,null,{"$f":"may!E73","v":82.429999999999993},{"$f":"may!F73","v":640152},{"$f":"may!G73","v":122.29},{"$f":"may!H73","v":686451},null,0,0,-4.9200000000000017,-854,null,82.430000000000035,640152,0,64,117.37,685597,0]
[65,"COHASSET                     ",65,null,0,0,0,0,null,0,0,null,null,0,0,null,0,null,{"$f":"ABS(A74-T74)","v":0},65,null,null,{"$f":"ABS(X74-A74)","v":0},65,null,null,null,{"$f":"may!E74","v":0},{"$f":"may!F74","v":0},{"$f":"may!G74","v":0},{"$f":"may!H74","v":0},null,0,0,0,0,null,null,null,0,65,null,null,0]
[66,"COLRAIN                      ",66,null,{"$f":"U75","v":0},{"$f":"V75","v":0},{"$f":"Y75","v":0},{"$f":"Z75","v":0},null,0,0,null,null,{"$f":"F75+J75","v":0},{"$f":"H75+K75","v":0},null,{"$f":"SUM(E75:O75)","v":0},null,0,66,null,null,0,66,null,null,null,{"$f":"may!E75","v":0},{"$f":"may!F75","v":0},{"$f":"may!G75","v":0},{"$f":"may!H75","v":0},null,{"$f":"U75-AB75","v":0},{"$f":"V75-AC75","v":0},{"$f":"Y75-AD75","v":0},{"$f":"Z75-AE75","v":0},null,null,null,{"$f":"V75-AM75","v":0},66,null,null,{"$f":"Z75-AQ75","v":0}]
[67,"CONCORD                      ",67,null,0,0,2,13400,null,0,0,null,null,0,13400,null,26802,null,0,67,null,null,0,67,2,13400,null,{"$f":"may!E76","v":0},{"$f":"may!F76","v":0},{"$f":"may!G76","v":2},{"$f":"may!H76","v":13400},null,0,0,0,0,null,null,null,0,67,2,13400,0]
[68,"CONWAY                       ",68,null,19.21,124095,10.58,87193,null,-1700,0,null,null,122395,87193,null,419205.79000000004,null,0,68,19.21,124095,0,68,10.58,87193,null,{"$f":"may!E77","v":19.990000000000002},{"$f":"may!F77","v":127995},{"$f":"may!G77","v":11.36},{"$f":"may!H77","v":91093},null,-0.78000000000000114,-3900,-0.77999999999999936,-3900,null,19.21,124095,0,68,10.58,87193,0]
[69,"CUMMINGTON                   ",69,null,0,0,0,0,null,0,0,null,null,0,0,null,0,null,0,69,null,null,0,69,null,null,null,{"$f":"may!E78","v":0},{"$f":"may!F78","v":0},{"$f":"may!G78","v":0},{"$f":"may!H78","v":0},null,0,0,0,0,null,null,null,0,69,null,null,0]
[70,"DALTON                       ",70,null,0,0,0,0,null,0,0,null,null,0,0,null,0,null,0,70,null,null,0,70,null,null,null,{"$f":"may!E79","v":0},{"$f":"may!F79","v":0},{"$f":"may!G79","v":0},{"$f":"may!H79","v":0},null,0,0,0,0,null,null,null,0,70,null,null,0]
[71,"DANVERS                      ",71,null,0,0,55.1,303475,null,0,0,null,null,0,303475,null,607005.1,null,0,71,null,null,0,71,55.1,303475,null,{"$f":"may!E80","v":0},{"$f":"may!F80","v":0},{"$f":"may!G80","v":53.1},{"$f":"may!H80","v":292362},null,0,0,2,11113,null,null,null,0,71,55.1,303475,0]
[72,"DARTMOUTH                    ",72,null,0,0,5.4699999999999989,35064,null,0,0,null,null,0,35064,null,70133.47,null,0,72,null,null,0,72,5.4699999999999989,35064,null,{"$f":"may!E81","v":0},{"$f":"may!F81","v":0},{"$f":"may!G81","v":6},{"$f":"may!H81","v":38575},null,0,0,-0.53000000000000114,-3511,null,null,null,0,72,5.4699999999999989,35064,0]
[73,"DEDHAM                       ",73,null,0,0,3.17,17853,null,0,0,null,null,0,17853,null,35709.17,null,0,73,null,null,0,73,3.17,17853,null,{"$f":"may!E82","v":0},{"$f":"may!F82","v":0},{"$f":"may!G82","v":3.17},{"$f":"may!H82","v":17853},null,0,0,0,0,null,null,null,0,73,3.17,17853,0]
[74,"DEERFIELD                    ",74,null,89.79,647624,22.41,127939,null,0,0,null,null,647624,127939,null,1551238.2000000002,null,0,74,89.79,647624,0,74,22.41,127939,null,{"$f":"may!E83","v":89.79},{"$f":"may!F83","v":647624},{"$f":"may!G83","v":21.43},{"$f":"may!H83","v":118375},null,0,0,0.98000000000000043,9564,null,89.79,647624,0,74,22.41,127939,0]
[75,"DENNIS                       ",75,null,0,0,0,0,null,0,0,null,null,0,0,null,0,null,0,75,null,null,0,75,null,null,null,{"$f":"may!E84","v":0},{"$f":"may!F84","v":0},{"$f":"may!G84","v":0},{"$f":"may!H84","v":0},null,0,0,0,0,null,null,null,0,75,null,null,0]
[76,"DIGHTON                      ",76,null,0,0,0,0,null,0,0,null,null,0,0,null,0,null,0,76,null,null,0,76,null,null,null,{"$f":"may!E85","v":0},{"$f":"may!F85","v":0},{"$f":"may!G85","v":0},{"$f":"may!H85","v":0},null,0,0,0,0,null,null,null,0,76,null,null,0]
[77,"DOUGLAS                      ",77,null,116.61000000000001,656288,47.12,277253,null,0,0,null,null,656288,277253,null,1867245.73,null,0,77,116.61000000000001,656288,0,77,47.12,277253,null,{"$f":"may!E86","v":116.61},{"$f":"may!F86","v":656288},{"$f":"may!G86","v":47.12},{"$f":"may!H86","v":279417},null,0,0,0,-2164,null,116.61000000000001,656288,0,77,47.12,277253,0]
[78,"DOVER                        ",78,null,0,0,0,0,null,0,0,null,null,0,0,null,0,null,0,78,null,null,0,78,null,null,null,{"$f":"may!E87","v":0},{"$f":"may!F87","v":0},{"$f":"may!G87","v":0},{"$f":"may!H87","v":0},null,0,0,0,0,null,null,null,0,78,null,null,0]
[79,"DRACUT                       ",79,null,35.849999999999994,201370,25.61,169495,null,0,0,null,null,201370,169495,null,741791.46,null,0,79,35.849999999999994,201370,0,79,25.61,169495,null,{"$f":"may!E88","v":35.93},{"$f":"may!F88","v":201770},{"$f":"may!G88","v":26.120000000000005},{"$f":"may!H88","v":183541},null,-8.00000000000054E-2,-400,-0.51000000000000512,-14046,null,35.849999999999994,201370,0,79,25.61,169495,0]
[80,"DUDLEY                       ",80,null,0,0,0,0,null,0,0,null,null,0,0,null,0,null,0,80,null,null,0,80,null,null,null,{"$f":"may!E89","v":0},{"$f":"may!F89","v":0},{"$f":"may!G89","v":0},{"$f":"may!H89","v":0},null,0,0,0,0,null,null,null,0,80,null,null,0]
[81,"DUNSTABLE                    ",81,null,0,0,0,0,null,0,0,null,null,0,0,null,0,null,0,81,null,null,0,81,null,null,null,{"$f":"may!E90","v":0},{"$f":"may!F90","v":0},{"$f":"may!G90","v":0},{"$f":"may!H90","v":0},null,0,0,0,0,null,null,null,0,81,null,null,0]
[82,"DUXBURY                      ",82,null,0,0,1.77,12477,null,0,0,null,null,0,12477,null,24955.77,null,0,82,null,null,0,82,1.77,12477,null,{"$f":"may!E91","v":0},{"$f":"may!F91","v":0},{"$f":"may!G91","v":1.77},{"$f":"may!H91","v":12477},null,0,0,0,0,null,null,null,0,82,1.77,12477,0]
[83,"EAST BRIDGEWATER             ",83,null,26.009999999999998,130050,19.68,152777,null,0,0,null,null,130050,152777,null,565699.68999999994,null,0,83,26.009999999999998,130050,0,83,19.68,152777,null,{"$f":"may!E92","v":27},{"$f":"may!F92","v":201000},{"$f":"may!G92","v":19.68},{"$f":"may!H92","v":152777},null,-0.99000000000000199,-70950,0,0,null,26.009999999999998,130930,-880,83,19.68,152777,0]
[84,"EAST BROOKFIELD              ",84,null,0,0,5,25000,null,0,0,null,null,0,25000,null,50005,null,0,84,null,null,0,84,5,25000,null,{"$f":"may!E93","v":0},{"$f":"may!F93","v":0},{"$f":"may!G93","v":5},{"$f":"may!H93","v":25000},null,0,0,0,0,null,null,null,0,84,5,25000,0]
[85,"EASTHAM                      ",86,null,0,0,7.91,46279,null,0,0,null,null,0,46279,null,92565.91,null,0,85,null,null,0,85,7.91,46279,null,{"$f":"may!E94","v":0},{"$f":"may!F94","v":0},{"$f":"may!G94","v":7.91},{"$f":"may!H94","v":46279},null,0,0,0,0,null,null,null,0,85,7.91,46279,0]
[86,"EASTHAMPTON                  ",87,null,86.100000000000009,490764,174.98,1183176,null,0,0,null,null,490764,1183176,null,3348141.08,null,0,86,86.100000000000009,490764,0,86,174.98,1183176,null,{"$f":"may!E95","v":86.1},{"$f":"may!F95","v":490764},{"$f":"may!G95","v":175.29999999999998},{"$f":"may!H95","v":1187147},null,0,0,-0.31999999999999318,-3971,null,86.100000000000009,490764,0,86,174.98,1183176,0]
[87,"EAST LONGMEADOW              ",85,null,0,0,9.9700000000000006,91525,null,0,0,null,null,0,91525,null,183059.97,null,0,87,null,null,0,87,9.9700000000000006,91525,null,{"$f":"may!E96","v":0},{"$f":"may!F96","v":0},{"$f":"may!G96","v":10.6},{"$f":"may!H96","v":95650},null,0,0,-0.62999999999999901,-4125,null,null,null,0,87,9.9700000000000006,91525,0]
[88,"EASTON                       ",88,null,0,0,8.64,53783,null,0,0,null,null,0,53783,null,107574.64,null,0,88,null,null,0,88,8.64,53783,null,{"$f":"may!E97","v":0},{"$f":"may!F97","v":0},{"$f":"may!G97","v":9.64},{"$f":"may!H97","v":58783},null,0,0,-1,-5000,null,null,null,0,88,8.64,53783,0]
[89,"EDGARTOWN                    ",89,null,8,63812,33,189264,null,0,0,null,null,63812,189264,null,506193,null,0,89,8,63812,0,89,33,189264,null,{"$f":"may!E98","v":8},{"$f":"may!F98","v":63812},{"$f":"may!G98","v":33},{"$f":"may!H98","v":189314},null,0,0,0,-50,null,8,63812,0,89,33,189264,0]
[90,"EGREMONT                     ",90,null,0,0,0,0,null,0,0,null,null,0,0,null,0,null,0,90,null,null,0,90,null,null,null,{"$f":"may!E99","v":0},{"$f":"may!F99","v":0},{"$f":"may!G99","v":0},{"$f":"may!H99","v":0},null,0,0,0,0,null,null,null,0,90,null,null,0]
[91,"ERVING                       ",91,null,0,0,35.159999999999997,191798,null,0,-475,null,null,0,191323,null,382681.16000000003,null,0,91,null,null,0,91,35.159999999999997,191798,null,{"$f":"may!E100","v":0},{"$f":"may!F100","v":0},{"$f":"may!G100","v":35.159999999999997},{"$f":"may!H100","v":196657},null,0,0,0,-4859,null,null,null,0,91,35.159999999999997,191798,0]
[92,"ESSEX                        ",92,null,0,0,0,0,null,0,0,null,null,0,0,null,0,null,0,92,null,null,0,92,null,null,null,{"$f":"may!E101","v":0},{"$f":"may!F101","v":0},{"$f":"may!G101","v":0},{"$f":"may!H101","v":0},null,0,0,0,0,null,null,null,0,92,null,null,0]
[93,"EVERETT                      ",93,null,0,0,16.22,99476,null,0,0,null,null,0,99476,null,198968.22,null,0,93,null,null,0,93,16.22,99476,null,{"$f":"may!E102","v":0},{"$f":"may!F102","v":0},{"$f":"may!G102","v":16.259999999999998},{"$f":"may!H102","v":92517},null,0,0,-3.9999999999999147E-2,6959,null,null,null,0,93,16.22,99476,0]
[94,"FAIRHAVEN                    ",94,null,0,0,13.35,76133,null,0,0,null,null,0,76133,null,152279.35,null,0,94,null,null,0,94,13.35,76133,null,{"$f":"may!E103","v":0},{"$f":"may!F103","v":0},{"$f":"may!G103","v":13.35},{"$f":"may!H103","v":76133},null,0,0,0,0,null,null,null,0,94,13.35,76133,0]
[95,"FALL RIVER                   ",95,null,26.349999999999998,131750,102.33999999999997,607684,null,0,0,null,null,131750,607684,null,1478996.69,null,0,95,26.349999999999998,131750,0,95,102.33999999999997,607684,null,{"$f":"may!E104","v":33},{"$f":"may!F104","v":213000},{"$f":"may!G104","v":104.39999999999999},{"$f":"may!H104","v":621330},null,-6.6500000000000021,-81250,-2.0600000000000165,-13646,null,26.349999999999998,131750,0,95,102.33999999999997,607684,0]
[96,"FALMOUTH                     ",96,null,112.14999999999999,662349,40.19,239349,null,-3095,0,null,null,659254,239349,null,1797358.3399999999,null,0,96,112.14999999999999,662349,0,96,40.19,239349,null,{"$f":"may!E105","v":112.21},{"$f":"may!F105","v":662649},{"$f":"may!G105","v":40.450000000000003},{"$f":"may!H105","v":241071},null,-6.0000000000002274E-2,-300,-0.26000000000000512,-1722,null,112.14999999999999,662349,0,96,40.19,239349,0]
[97,"FITCHBURG                    ",97,null,175.74999999999983,1014558,430.6099999999999,2450726,null,0,-51305,null,null,1014558,2399421,null,6828564.3599999994,null,0,97,175.74999999999983,1014558,0,97,430.6099999999999,2450726,null,{"$f":"may!E106","v":175.74999999999983},{"$f":"may!F106","v":1014558},{"$f":"may!G106","v":437.81999999999994},{"$f":"may!H106","v":2521797},null,0,0,-7.2100000000000364,-71071,null,175.74999999999983,1014558,0,97,430.6099999999999,2450726,0]
[98,"FLORIDA                      ",98,null,3.42,19506,7,39198,null,0,0,null,null,19506,39198,null,117418.42,null,0,98,3.42,19506,0,98,7,39198,null,{"$f":"may!E107","v":3.42},{"$f":"may!F107","v":19506},{"$f":"may!G107","v":7},{"$f":"may!H107","v":39198},null,0,0,0,0,null,3.42,19506,0,98,7,39198,0]
[99,"FOXBOROUGH                   ",99,null,0,0,4.7,28389,null,0,0,null,null,0,28389,null,56782.7,null,0,99,null,null,0,99,4.7,28389,null,{"$f":"may!E108","v":0},{"$f":"may!F108","v":0},{"$f":"may!G108","v":5.75},{"$f":"may!H108","v":33639},null,0,0,-1.0499999999999998,-5250,null,null,null,0,99,4.7,28389,0]
[100,"FRAMINGHAM                   ",100,null,0,0,54.689999999999991,327888,null,0,0,null,null,0,327888,null,655830.68999999994,null,0,100,null,null,0,100,54.689999999999991,327888,null,{"$f":"may!E109","v":0},{"$f":"may!F109","v":0},{"$f":"may!G109","v":55.47},{"$f":"may!H109","v":333182},null,0,0,-0.78000000000000824,-5294,null,null,null,0,100,54.689999999999991,327888,0]
[101,"FRANKLIN                     ",101,null,7,40017,34.289999999999992,208665,null,0,10000,null,null,40017,218665,null,517405.29000000004,null,0,101,7,40017,0,101,34.289999999999992,208665,null,{"$f":"may!E110","v":7},{"$f":"may!F110","v":40017},{"$f":"may!G110","v":34.789999999999992},{"$f":"may!H110","v":204723},null,0,0,-0.5,3942,null,7,40017,0,101,34.289999999999992,208665,0]
[102,"FREETOWN                     ",102,null,0,0,2,10000,null,0,0,null,null,0,10000,null,20002,null,0,102,null,null,0,102,2,10000,null,{"$f":"may!E111","v":0},{"$f":"may!F111","v":0},{"$f":"may!G111","v":2},{"$f":"may!H111","v":10000},null,0,0,0,0,null,null,null,0,102,2,10000,0]
[103,"GARDNER                      ",103,null,121.98000000000003,681949,252.39999999999998,1434445,null,0,0,null,null,681949,1434445,null,4233162.38,null,0,103,121.98000000000003,681949,0,103,252.39999999999998,1434445,null,{"$f":"may!E112","v":121.98000000000003},{"$f":"may!F112","v":679099},{"$f":"may!G112","v":248.50999999999993},{"$f":"may!H112","v":1416132},null,0,2850,3.8900000000000432,18313,null,121.98000000000003,681949,0,103,251.39999999999995,1429445,5000]
[104,"GAY HEAD                     ",104,null,0,0,0,0,null,0,0,null,null,0,0,null,0,null,0,104,null,null,0,104,null,null,null,{"$f":"may!E113","v":0},{"$f":"may!F113","v":0},{"$f":"may!G113","v":0},{"$f":"may!H113","v":0},null,0,0,0,0,null,null,null,0,104,null,null,0]
[105,"GEORGETOWN                   ",105,null,40,203823,23.87,190198,null,0,0,null,null,203823,190198,null,788105.87,null,0,105,40,203823,0,105,23.87,190198,null,{"$f":"may!E114","v":37},{"$f":"may!F114","v":190439},{"$f":"may!G114","v":23.900000000000002},{"$f":"may!H114","v":190348},null,3,13384,-3.0000000000001137E-2,-150,null,40,203823,0,105,23.87,190198,0]
[106,"GILL                         ",106,null,0,0,0,0,null,0,0,null,null,0,0,null,0,null,0,106,null,null,0,106,null,null,null,{"$f":"may!E115","v":0},{"$f":"may!F115","v":0},{"$f":"may!G115","v":0},{"$f":"may!H115","v":0},null,0,0,0,0,null,null,null,0,106,null,null,0]
[107,"GLOUCESTER                   ",107,null,38.54,201875,312.14000000000004,1873676,null,0,0,null,null,201875,1873676,null,4151452.6799999997,null,0,107,38.54,201875,0,107,312.14000000000004,1873676,null,{"$f":"may!E116","v":38.539999999999992},{"$f":"may!F116","v":201875},{"$f":"may!G116","v":310.14000000000004},{"$f":"may!H116","v":1863193},null,0,0,2,10483,null,38.54,201875,0,107,312.14000000000004,1873676,0]
[108,"GOSHEN                       ",108,null,0,0,0,0,null,0,0,null,null,0,0,null,0,null,0,108,null,null,0,108,null,null,null,{"$f":"may!E117","v":0},{"$f":"may!F117","v":0},{"$f":"may!G117","v":0},{"$f":"may!H117","v":0},null,0,0,0,0,null,null,null,0,108,null,null,0]
[109,"GOSNOLD                      ",109,null,0,0,0,0,null,0,0,null,null,0,0,null,0,null,0,109,null,null,0,109,null,null,null,{"$f":"may!E118","v":0},{"$f":"may!F118","v":0},{"$f":"may!G118","v":0},{"$f":"may!H118","v":0},null,0,0,0,0,null,null,null,0,109,null,null,0]
[110,"GRAFTON                      ",110,null,42.559999999999995,286180,37.1,209294,null,0,0,null,null,286180,209294,null,991027.65999999992,null,0,110,42.559999999999995,286180,0,110,37.1,209294,null,{"$f":"may!E119","v":42},{"$f":"may!F119","v":266367},{"$f":"may!G119","v":37.199999999999996},{"$f":"may!H119","v":209804},null,0.55999999999999517,19813,-9.9999999999994316E-2,-510,null,42.559999999999995,286180,0,110,37.1,209294,0]
[111,"GRANBY                       ",111,null,117.09,662813,52.089999999999989,310859,null,0,0,null,null,662813,310859,null,1947513.18,null,0,111,117.09,662813,0,111,52.089999999999989,310859,null,{"$f":"may!E120","v":117.09},{"$f":"may!F120","v":662813},{"$f":"may!G120","v":52.689999999999991},{"$f":"may!H120","v":325725},null,0,0,-0.60000000000000142,-14866,null,117.09,662813,0,111,52.089999999999989,310859,0]
[112,"GRANVILLE                    ",112,null,0,0,0,0,null,0,0,null,null,0,0,null,0,null,0,112,null,null,0,112,null,null,null,{"$f":"may!E121","v":0},{"$f":"may!F121","v":0},{"$f":"may!G121","v":0},{"$f":"may!H121","v":0},null,0,0,0,0,null,null,null,0,112,null,null,0]
[113,"GREAT BARRINGTON             ",113,null,0,0,0,0,null,0,0,null,null,0,0,null,0,null,0,113,null,null,0,113,null,null,null,{"$f":"may!E122","v":0},{"$f":"may!F122","v":0},{"$f":"may!G122","v":0},{"$f":"may!H122","v":0},null,0,0,0,0,null,null,null,0,113,null,null,0]
[114,"GREENFIELD                   ",114,null,116.54999999999997,710935,323.16000000000003,2503449,null,-7504,0,null,null,703431,2503449,null,6414199.71,null,0,114,116.54999999999997,710935,0,114,323.16000000000003,2503449,null,{"$f":"may!E123","v":116.54999999999997},{"$f":"may!F123","v":710935},{"$f":"may!G123","v":331.76},{"$f":"may!H123","v":2561654},null,0,0,-8.5999999999999659,-58205,null,116.54999999999997,710935,0,114,321.05,2490229,13220]
[115,"GROTON                       ",115,null,0,0,0,0,null,0,0,null,null,0,0,null,0,null,0,115,null,null,0,115,null,null,null,{"$f":"may!E124","v":0},{"$f":"may!F124","v":0},{"$f":"may!G124","v":0},{"$f":"may!H124","v":0},null,0,0,0,0,null,null,null,0,115,null,null,0]
[116,"GROVELAND                    ",116,null,0,0,0,0,null,0,0,null,null,0,0,null,0,null,0,116,null,null,0,116,null,null,null,{"$f":"may!E125","v":0},{"$f":"may!F125","v":0},{"$f":"may!G125","v":0},{"$f":"may!H125","v":0},null,0,0,0,0,null,null,null,0,116,null,null,0]
[117,"HADLEY                       ",117,null,98.469999999999985,622679,47.480000000000004,302977,null,0,0,null,null,622679,302977,null,1851457.95,null,0,117,98.469999999999985,622679,0,117,47.480000000000004,302977,null,{"$f":"may!E126","v":101.26999999999998},{"$f":"may!F126","v":636679},{"$f":"may!G126","v":51.089999999999996},{"$f":"may!H126","v":322325},null,-2.7999999999999972,-14000,-3.6099999999999923,-19348,null,98.469999999999985,622679,0,117,47.480000000000004,302977,0]
[118,"HALIFAX                      ",118,null,0,0,1,5000,null,0,0,null,null,0,5000,null,10001,null,0,118,null,null,0,118,1,5000,null,{"$f":"may!E127","v":0},{"$f":"may!F127","v":0},{"$f":"may!G127","v":1},{"$f":"may!H127","v":5000},null,0,0,0,0,null,null,null,0,118,1,5000,0]
[119,"HAMILTON                     ",119,null,0,0,0,0,null,0,0,null,null,0,0,null,0,null,0,119,null,null,0,119,null,null,null,{"$f":"may!E128","v":0},{"$f":"may!F128","v":0},{"$f":"may!G128","v":0},{"$f":"may!H128","v":0},null,0,0,0,0,null,null,null,0,119,null,null,0]
[120,"HAMPDEN                      ",120,null,0,0,0,0,null,0,0,null,null,0,0,null,0,null,0,120,null,null,0,120,null,null,null,{"$f":"may!E129","v":0},{"$f":"may!F129","v":0},{"$f":"may!G129","v":0},{"$f":"may!H129","v":0},null,0,0,0,0,null,null,null,0,120,null,null,0]
[121,"HANCOCK                      ",121,null,5,28564,4.6899999999999995,23450,null,0,0,null,null,28564,23450,null,104037.69,null,0,121,5,28564,0,121,4.6899999999999995,23450,null,{"$f":"may!E130","v":4},{"$f":"may!F130","v":24000},{"$f":"may!G130","v":5.6899999999999995},{"$f":"may!H130","v":28450},null,1,4564,-1,-5000,null,5,28564,0,121,4.6899999999999995,23450,0]
[122,"HANOVER                      ",122,null,0,0,2.74,13700,null,0,0,null,null,0,13700,null,27402.739999999998,null,0,122,null,null,0,122,2.74,13700,null,{"$f":"may!E131","v":0},{"$f":"may!F131","v":0},{"$f":"may!G131","v":2},{"$f":"may!H131","v":10000},null,0,0,0.74000000000000021,3700,null,null,null,0,122,2.74,14580,-880]
[123,"HANSON                       ",123,null,0,0,0,0,null,0,0,null,null,0,0,null,0,null,0,123,null,null,0,123,null,null,null,{"$f":"may!E132","v":0},{"$f":"may!F132","v":0},{"$f":"may!G132","v":0},{"$f":"may!H132","v":0},null,0,0,0,0,null,null,null,0,123,null,null,0]
[124,"HARDWICK                     ",124,null,0,0,0,0,null,0,0,null,null,0,0,null,0,null,0,124,null,null,0,124,null,null,null,{"$f":"may!E133","v":0},{"$f":"may!F133","v":0},{"$f":"may!G133","v":0},{"$f":"may!H133","v":0},null,0,0,0,0,null,null,null,0,124,null,null,0]
[125,"HARVARD                      ",125,null,67.38,355892,3,15000,null,0,0,null,null,355892,15000,null,741854.38,null,0,125,67.38,355892,0,125,3,15000,null,{"$f":"may!E134","v":67.38},{"$f":"may!F134","v":336900},{"$f":"may!G134","v":4},{"$f":"may!H134","v":20000},null,0,18992,-1,-5000,null,67.38,355892,0,125,3,15000,0]
[126,"HARWICH                      ",126,null,0,0,0,0,null,0,0,null,null,0,0,null,0,null,0,126,null,null,0,126,null,null,null,{"$f":"may!E135","v":0},{"$f":"may!F135","v":0},{"$f":"may!G135","v":0},{"$f":"may!H135","v":0},null,0,0,0,0,null,null,null,0,126,null,null,0]
[127,"HATFIELD                     ",127,null,130.80000000000001,919191,30.78,194914,null,0,0,null,null,919191,194914,null,2228371.58,null,0,127,130.80000000000001,919191,0,127,30.78,194914,null,{"$f":"may!E136","v":130.80000000000001},{"$f":"may!F136","v":916915},{"$f":"may!G136","v":30.78},{"$f":"may!H136","v":194914},null,0,2276,0,0,null,130.80000000000001,919191,0,127,30.78,194914,0]
[128,"HAVERHILL                    ",128,null,36.6,206775,189.82,1084139,null,0,0,null,null,206775,1084139,null,2582054.42,null,0,128,36.6,206775,0,128,189.82,1084139,null,{"$f":"may!E137","v":36},{"$f":"may!F137","v":191343},{"$f":"may!G137","v":186.9},{"$f":"may!H137","v":1072909},null,0.60000000000000142,15432,2.9199999999999875,11230,null,36.6,206775,0,128,189.82,1084139,0]
[129,"HAWLEY                       ",129,null,0,0,0,0,null,0,0,null,null,0,0,null,0,null,{"$f":"ABS(A138-T138)","v":0},129,null,null,{"$f":"ABS(X138-A138)","v":0},129,null,null,null,{"$f":"may!E138","v":0},{"$f":"may!F138","v":0},{"$f":"may!G138","v":0},{"$f":"may!H138","v":0},null,0,0,0,0,null,null,null,0,129,null,null,0]
[130,"HEATH                        ",130,null,{"$f":"U139","v":0},{"$f":"V139","v":0},{"$f":"Y139","v":0},{"$f":"Z139","v":0},null,0,0,null,null,{"$f":"F139+J139","v":0},{"$f":"H139+K139","v":0},null,{"$f":"SUM(E139:O139)","v":0},null,0,130,null,null,0,130,null,null,null,{"$f":"may!E139","v":0},{"$f":"may!F139","v":0},{"$f":"may!G139","v":0},{"$f":"may!H139","v":0},null,{"$f":"U139-AB139","v":0},{"$f":"V139-AC139","v":0},{"$f":"Y139-AD139","v":0},{"$f":"Z139-AE139","v":0},null,null,null,{"$f":"V139-AM139","v":0},130,null,null,{"$f":"Z139-AQ139","v":0}]
[131,"HINGHAM                      ",131,null,0,0,3.48,24172,null,0,0,null,null,0,24172,null,48347.479999999996,null,0,131,null,null,0,131,3.48,24172,null,{"$f":"may!E140","v":0},{"$f":"may!F140","v":0},{"$f":"may!G140","v":3.96},{"$f":"may!H140","v":27352},null,0,0,-0.48,-3180,null,null,null,0,131,3.48,24172,0]
[132,"HINSDALE                     ",132,null,0,0,0,0,null,0,0,null,null,0,0,null,0,null,0,132,null,null,0,132,null,null,null,{"$f":"may!E141","v":0},{"$f":"may!F141","v":0},{"$f":"may!G141","v":0},{"$f":"may!H141","v":0},null,0,0,0,0,null,null,null,0,132,null,null,0]
[133,"HOLBROOK                     ",133,null,57.87,316096,17.499999999999996,120804,null,0,0,null,null,316096,120804,null,873875.37,null,0,133,57.87,316096,0,133,17.499999999999996,120804,null,{"$f":"may!E142","v":57},{"$f":"may!F142","v":306291},{"$f":"may!G142","v":17.84},{"$f":"may!H142","v":123056},null,0.86999999999999744,9805,-0.34000000000000341,-2252,null,57.87,316096,0,133,17.499999999999996,120804,0]
[134,"HOLDEN                       ",134,null,0,0,0,0,null,0,0,null,null,0,0,null,0,null,0,134,null,null,0,134,null,null,null,{"$f":"may!E143","v":0},{"$f":"may!F143","v":0},{"$f":"may!G143","v":0},{"$f":"may!H143","v":0},null,0,0,0,0,null,null,null,0,134,null,null,0]
[135,"HOLLAND                      ",135,null,52.93,299281,2.52,13520,null,0,0,null,null,299281,13520,null,625657.44999999995,null,0,135,52.93,299281,0,135,2.52,13520,null,{"$f":"may!E144","v":52.93},{"$f":"may!F144","v":299281},{"$f":"may!G144","v":2.52},{"$f":"may!H144","v":13520},null,0,0,0,0,null,52.93,299281,0,135,2.52,13520,0]
[136,"HOLLISTON                    ",136,null,158.46,1077427,14.330000000000002,84214,null,-12664,0,null,null,1064763,84214,null,2298126.79,null,0,136,158.46,1077427,0,136,14.330000000000002,84214,null,{"$f":"may!E145","v":163},{"$f":"may!F145","v":1058438},{"$f":"may!G145","v":14.33},{"$f":"may!H145","v":84812},null,-4.539999999999992,18989,0,-598,null,158.46,1077427,0,136,14.330000000000002,84214,0]
[137,"HOLYOKE                      ",137,null,52.690000000000005,293066,337.02,2134577,null,0,0,null,null,293066,2134577,null,4855675.71,null,0,137,52.690000000000005,293066,0,137,337.02,2134577,null,{"$f":"may!E146","v":53.17},{"$f":"may!F146","v":295466},{"$f":"may!G146","v":337.09},{"$f":"may!H146","v":2132745},null,-0.47999999999999687,-2400,-6.9999999999993179E-2,1832,null,53.17,295466,-2400,137,337.49999999999994,2136977,-2400]
[138,"HOPEDALE                     ",138,null,122.77,694534,48.56,293803,null,0,0,null,null,694534,293803,null,1976845.33,null,0,138,122.77,694534,0,138,48.56,293803,null,{"$f":"may!E147","v":122.77},{"$f":"may!F147","v":694534},{"$f":"may!G147","v":48.559999999999995},{"$f":"may!H147","v":287564},null,0,0,0,6239,null,122.77,694534,0,138,48.56,293803,0]
[139,"HOPKINTON                    ",139,null,0,0,18.369999999999997,111464,null,0,0,null,null,0,111464,null,222946.37,null,0,139,null,null,0,139,18.369999999999997,111464,null,{"$f":"may!E148","v":0},{"$f":"may!F148","v":0},{"$f":"may!G148","v":20.190000000000001},{"$f":"may!H148","v":120564},null,0,0,-1.8200000000000038,-9100,null,null,null,0,139,18.369999999999997,111464,0]
[140,"HUBBARDSTON                  ",140,null,0,0,0,0,null,0,0,null,null,0,0,null,0,null,0,140,null,null,0,140,null,null,null,{"$f":"may!E149","v":0},{"$f":"may!F149","v":0},{"$f":"may!G149","v":0},{"$f":"may!H149","v":0},null,0,0,0,0,null,null,null,0,140,null,null,0]
[141,"HUDSON                       ",141,null,96.140000000000015,617483,21.259999999999998,140240,null,0,0,null,null,617483,140240,null,1515563.4,null,0,141,96.140000000000015,617483,0,141,21.259999999999998,140240,null,{"$f":"may!E150","v":96.160000000000025},{"$f":"may!F150","v":617583},{"$f":"may!G150","v":21.259999999999998},{"$f":"may!H150","v":137725},null,-2.0000000000010232E-2,-100,0,2515,null,96.140000000000015,617483,0,141,21.259999999999998,140240,0]
[142,"HULL                         ",142,null,0,0,6,42278,null,0,0,null,null,0,42278,null,84562,null,0,142,null,null,0,142,6,42278,null,{"$f":"may!E151","v":0},{"$f":"may!F151","v":0},{"$f":"may!G151","v":6},{"$f":"may!H151","v":42278},null,0,0,0,0,null,null,null,0,142,6,42278,0]
[143,"HUNTINGTON                   ",143,null,0,0,0,0,null,0,0,null,null,0,0,null,0,null,0,143,null,null,0,143,null,null,null,{"$f":"may!E152","v":0},{"$f":"may!F152","v":0},{"$f":"may!G152","v":0},{"$f":"may!H152","v":0},null,0,0,0,0,null,null,null,0,143,null,null,0]
[144,"IPSWICH                      ",144,null,67.97,367074,16.66,95239,null,0,0,null,null,367074,95239,null,924710.62999999989,null,0,144,67.97,367074,0,144,16.66,95239,null,{"$f":"may!E153","v":66},{"$f":"may!F153","v":365038},{"$f":"may!G153","v":16.66},{"$f":"may!H153","v":95239},null,1.9699999999999989,2036,0,0,null,67.97,367074,0,144,16.66,95239,0]
[145,"KINGSTON                     ",145,null,0,0,0,0,null,0,0,null,null,0,0,null,0,null,0,145,null,null,0,145,null,null,null,{"$f":"may!E154","v":0},{"$f":"may!F154","v":0},{"$f":"may!G154","v":0},{"$f":"may!H154","v":0},null,0,0,0,0,null,null,null,0,145,null,null,0]
[146,"LAKEVILLE                    ",146,null,0,0,0,0,null,0,0,null,null,0,0,null,0,null,0,146,null,null,0,146,null,null,null,{"$f":"may!E155","v":0},{"$f":"may!F155","v":0},{"$f":"may!G155","v":0},{"$f":"may!H155","v":0},null,0,0,0,0,null,null,null,0,146,null,null,0]
[147,"LANCASTER                    ",147,null,0,0,0,0,null,0,0,null,null,0,0,null,0,null,0,147,null,null,0,147,null,null,null,{"$f":"may!E156","v":0},{"$f":"may!F156","v":0},{"$f":"may!G156","v":0},{"$f":"may!H156","v":0},null,0,0,0,0,null,null,null,0,147,null,null,0]
[148,"LANESBOROUGH                 ",148,null,19,109804,24.09,132108,null,0,0,null,null,109804,132108,null,483867.08999999997,null,0,148,19,109804,0,148,24.09,132108,null,{"$f":"may!E157","v":19},{"$f":"may!F157","v":109804},{"$f":"may!G157","v":23.090000000000003},{"$f":"may!H157","v":121158},null,0,0,0.99999999999999645,10950,null,19,109804,0,148,22.09,116158,15950]
[149,"LAWRENCE                     ",149,null,0,0,65.930000000000007,426027,null,0,0,null,null,0,426027,null,852119.92999999993,null,0,149,null,null,0,149,65.930000000000007,426027,null,{"$f":"may!E158","v":0},{"$f":"may!F158","v":0},{"$f":"may!G158","v":66.72},{"$f":"may!H158","v":419332},null,0,0,-0.78999999999999204,6695,null,null,null,0,149,65.930000000000007,426027,0]
[150,"LEE                          ",150,null,128.54000000000002,743454,98.38,559383,null,0,0,null,null,743454,559383,null,2605900.92,null,0,150,128.54000000000002,743454,0,150,98.38,559383,null,{"$f":"may!E159","v":128.54000000000002},{"$f":"may!F159","v":743454},{"$f":"may!G159","v":101.32},{"$f":"may!H159","v":561868},null,0,0,-2.9399999999999977,-2485,null,128.54000000000002,743454,0,150,98.38,559383,0]
[151,"LEICESTER                    ",151,null,103.14,564881,35.340000000000003,199790,null,0,0,null,null,564881,199790,null,1529480.48,null,0,151,103.14,564881,0,151,35.340000000000003,199790,null,{"$f":"may!E160","v":97},{"$f":"may!F160","v":558265},{"$f":"may!G160","v":35.340000000000003},{"$f":"may!H160","v":198520},null,6.1400000000000006,6616,0,1270,null,103.14,564881,0,151,35.340000000000003,199790,0]
[152,"LENOX                        ",152,null,253.16,1310194,47.019999999999996,266359,null,0,-1050,null,null,1310194,265309,null,3151306.1799999997,null,0,152,253.16,1310194,0,152,47.019999999999996,266359,null,{"$f":"may!E161","v":253.16},{"$f":"may!F161","v":1310194},{"$f":"may!G161","v":48.66},{"$f":"may!H161","v":267978},null,0,0,-1.6400000000000006,-1619,null,253.16,1310194,0,152,47.019999999999996,266359,0]
[153,"LEOMINSTER                   ",153,null,246.15999999999997,1350496,323.70000000000005,1878934,null,0,0,null,null,1350496,1878934,null,6459429.8599999994,null,0,153,246.15999999999997,1350496,0,153,323.70000000000005,1878934,null,{"$f":"may!E162","v":246.22000000000006},{"$f":"may!F162","v":1350796},{"$f":"may!G162","v":325.38},{"$f":"may!H162","v":1885899},null,-6.0000000000087539E-2,-300,-1.67999999999995,-6965,null,246.15999999999997,1350496,0,153,323.47000000000003,1877784,1150]
[154,"LEVERETT                     ",154,null,21.2,145160,5.37,27526,null,0,0,null,null,145160,27526,null,345398.57,null,0,154,21.2,145160,0,154,5.37,27526,null,{"$f":"may!E163","v":21.2},{"$f":"may!F163","v":145160},{"$f":"may!G163","v":5.37},{"$f":"may!H163","v":27526},null,0,0,0,0,null,21.2,145160,0,154,5.37,27526,0]
[155,"LEXINGTON                    ",155,null,0,0,6.34,40828,null,0,0,null,null,0,40828,null,81662.34,null,0,155,null,null,0,155,6.34,40828,null,{"$f":"may!E164","v":0},{"$f":"may!F164","v":0},{"$f":"may!G164","v":6.34},{"$f":"may!H164","v":40828},null,0,0,0,0,null,null,null,0,155,6.34,40828,0]
[156,"LEYDEN                       ",156,null,0,0,0,0,null,0,0,null,null,0,0,null,0,null,0,156,null,null,0,156,null,null,null,{"$f":"may!E165","v":0},{"$f":"may!F165","v":0},{"$f":"may!G165","v":0},{"$f":"may!H165","v":0},null,0,0,0,0,null,null,null,0,156,null,null,0]
[157,"LINCOLN                      ",157,null,0,0,2.2200000000000002,14933,null,0,0,null,null,0,14933,null,29868.22,null,0,157,null,null,0,157,2.2200000000000002,14933,null,{"$f":"may!E166","v":0},{"$f":"may!F166","v":0},{"$f":"may!G166","v":3},{"$f":"may!H166","v":20100},null,0,0,-0.7799999999999998,-5167,null,null,null,0,157,2.2200000000000002,14933,0]
[158,"LITTLETON                    ",158,null,78.39,431572,22.16,143874,null,0,0,null,null,431572,143874,null,1150992.55,null,0,158,78.39,431572,0,158,22.16,143874,null,{"$f":"may!E167","v":79.680000000000007},{"$f":"may!F167","v":438047},{"$f":"may!G167","v":21.42},{"$f":"may!H167","v":140174},null,-1.2900000000000063,-6475,0.73999999999999844,3700,null,78.39,431572,0,158,22.16,143874,0]
[159,"LONGMEADOW                   ",159,null,39.630000000000003,328156,2.06,12248,null,0,0,null,null,328156,12248,null,680849.69,null,0,159,39.630000000000003,328156,0,159,2.06,12248,null,{"$f":"may!E168","v":39.630000000000003},{"$f":"may!F168","v":328156},{"$f":"may!G168","v":2.06},{"$f":"may!H168","v":12248},null,0,0,0,0,null,39.630000000000003,328156,0,159,2.06,12248,0]
[160,"LOWELL                       ",160,null,0,0,141.94999999999996,945075,null,0,0,null,null,0,945075,null,1890291.95,null,0,160,null,null,0,160,141.94999999999996,945075,null,{"$f":"may!E169","v":0},{"$f":"may!F169","v":0},{"$f":"may!G169","v":144.48999999999998},{"$f":"may!H169","v":933044},null,0,0,-2.5400000000000205,12031,null,null,null,0,160,141.94999999999996,945075,0]
[161,"LUDLOW                       ",161,null,93.99,562404,40.08,219840,null,0,0,null,null,562404,219840,null,1564622.0699999998,null,0,161,93.99,562404,0,161,40.08,219840,null,{"$f":"may!E170","v":93.99},{"$f":"may!F170","v":562404},{"$f":"may!G170","v":40.08},{"$f":"may!H170","v":217372},null,0,0,0,2468,null,93.99,562404,0,161,40.08,219840,0]
[162,"LUNENBURG                    ",162,null,51.269999999999996,286673,80.180000000000007,476902,null,0,0,null,null,286673,476902,null,1527281.45,null,0,162,51.269999999999996,286673,0,162,80.180000000000007,476902,null,{"$f":"may!E171","v":51.269999999999996},{"$f":"may!F171","v":286673},{"$f":"may!G171","v":78.859999999999985},{"$f":"may!H171","v":464729},null,0,0,1.3200000000000216,12173,null,51.269999999999996,286673,0,162,80.180000000000007,476902,0]
[163,"LYNN                         ",163,null,0,0,99.25,604213,null,0,0,null,null,0,604213,null,1208525.25,null,0,163,null,null,0,163,99.25,604213,null,{"$f":"may!E172","v":0},{"$f":"may!F172","v":0},{"$f":"may!G172","v":101.62},{"$f":"may!H172","v":608593},null,0,0,-2.3700000000000045,-4380,null,null,null,0,163,99.25,604213,0]
[164,"LYNNFIELD                    ",164,null,0,0,0,0,null,0,0,null,null,0,0,null,0,null,0,164,null,null,0,164,null,null,null,{"$f":"may!E173","v":0},{"$f":"may!F173","v":0},{"$f":"may!G173","v":0},{"$f":"may!H173","v":0},null,0,0,0,0,null,null,null,0,164,null,null,0]
[165,"MALDEN                       ",165,null,0,0,9.9400000000000013,61397,null,0,0,null,null,0,61397,null,122803.94,null,0,165,null,null,0,165,9.9400000000000013,61397,null,{"$f":"may!E174","v":0},{"$f":"may!F174","v":0},{"$f":"may!G174","v":10.379999999999999},{"$f":"may!H174","v":64311},null,0,0,-0.43999999999999773,-2914,null,null,null,0,165,9.9400000000000013,61397,0]
[166,"MANCHESTER                   ",166,null,0,0,0,0,null,0,0,null,null,0,0,null,0,null,0,166,null,null,0,166,null,null,null,{"$f":"may!E175","v":0},{"$f":"may!F175","v":0},{"$f":"may!G175","v":0},{"$f":"may!H175","v":0},null,0,0,0,0,null,null,null,0,166,null,null,0]
[167,"MANSFIELD                    ",167,null,0,0,6.43,37250,null,0,0,null,null,0,37250,null,74506.429999999993,null,0,167,null,null,0,167,6.43,37250,null,{"$f":"may!E176","v":0},{"$f":"may!F176","v":0},{"$f":"may!G176","v":6.43},{"$f":"may!H176","v":37250},null,0,0,0,0,null,null,null,0,167,6.43,37250,0]
[168,"MARBLEHEAD                   ",168,null,0,0,5.41,34124,null,0,0,null,null,0,34124,null,68253.41,null,0,168,null,null,0,168,5.41,34124,null,{"$f":"may!E177","v":0},{"$f":"may!F177","v":0},{"$f":"may!G177","v":5.41},{"$f":"may!H177","v":33177},null,0,0,0,947,null,null,null,0,168,5.41,34124,0]
[169,"MARION                       ",169,null,0,0,0.72,5096,null,0,0,null,null,0,5096,null,10192.720000000001,null,0,169,null,null,0,169,0.72,5096,null,{"$f":"may!E178","v":0},{"$f":"may!F178","v":0},{"$f":"may!G178","v":0.72},{"$f":"may!H178","v":5096},null,0,0,0,0,null,null,null,0,169,0.72,5096,0]
[170,"MARLBOROUGH                  ",170,null,0,0,91.36,532947,null,0,0,null,null,0,532947,null,1065985.3599999999,null,0,170,null,null,0,170,91.36,532947,null,{"$f":"may!E179","v":0},{"$f":"may!F179","v":0},{"$f":"may!G179","v":92.399999999999991},{"$f":"may!H179","v":539261},null,0,0,-1.039999999999992,-6314,null,null,null,0,170,91.36,532947,0]
[171,"MARSHFIELD                   ",171,null,5,25000,6.14,43122,null,0,0,null,null,25000,43122,null,136255.14000000001,null,0,171,5,25000,0,171,6.14,43122,null,{"$f":"may!E180","v":5},{"$f":"may!F180","v":25000},{"$f":"may!G180","v":6.14},{"$f":"may!H180","v":43122},null,0,0,0,0,null,5,25000,0,171,6.14,43122,0]
[172,"MASHPEE                      ",172,null,64.75,385020,81.100000000000023,443786,null,0,-3095,null,null,385020,440691,null,1651567.85,null,0,172,64.75,385020,0,172,81.100000000000023,443786,null,{"$f":"may!E181","v":64.739999999999995},{"$f":"may!F181","v":384970},{"$f":"may!G181","v":80.670000000000016},{"$f":"may!H181","v":441636},null,1.0000000000005116E-2,50,0.43000000000000682,2150,null,64.75,385020,0,172,81.100000000000023,443786,0]
[173,"MATTAPOISETT                 ",173,null,2,38577,1.33,10208,null,0,0,null,null,38577,10208,null,97573.33,null,0,173,2,38577,0,173,1.33,10208,null,{"$f":"may!E182","v":2},{"$f":"may!F182","v":38577},{"$f":"may!G182","v":1.33},{"$f":"may!H182","v":10208},null,0,0,0,0,null,2,38577,0,173,1.33,10208,0]
[174,"MAYNARD                      ",174,null,39.520000000000003,288123,9,46472,null,0,0,null,null,288123,46472,null,669238.52,null,0,174,39.520000000000003,288123,0,174,9,46472,null,{"$f":"may!E183","v":39.519999999999996},{"$f":"may!F183","v":197600},{"$f":"may!G183","v":9.01},{"$f":"may!H183","v":46613},null,0,90523,-9.9999999999997868E-3,-141,null,39.520000000000003,288123,0,174,9,46472,0]
[175,"MEDFIELD                     ",175,null,0,0,7.4500000000000011,46802,null,0,0,null,null,0,46802,null,93611.45,null,0,175,null,null,0,175,7.4500000000000011,46802,null,{"$f":"may!E184","v":0},{"$f":"may!F184","v":0},{"$f":"may!G184","v":7.8200000000000012},{"$f":"may!H184","v":48743},null,0,0,-0.37000000000000011,-1941,null,null,null,0,175,7.4500000000000011,46802,0]
[176,"MEDFORD                      ",176,null,0,0,7.4099999999999993,52371,null,0,0,null,null,0,52371,null,104749.41,null,0,176,null,null,0,176,7.4099999999999993,52371,null,{"$f":"may!E185","v":0},{"$f":"may!F185","v":0},{"$f":"may!G185","v":7.4099999999999993},{"$f":"may!H185","v":52371},null,0,0,0,0,null,null,null,0,176,7.4099999999999993,52371,0]
[177,"MEDWAY                       ",177,null,89.180000000000021,499230,49.629999999999995,316465,null,47500,0,null,null,546730,316465,null,1726528.81,null,0,177,89.180000000000021,499230,0,177,49.629999999999995,316465,null,{"$f":"may!E186","v":94.000000000000014},{"$f":"may!F186","v":470000},{"$f":"may!G186","v":49.12},{"$f":"may!H186","v":280528},null,-4.8199999999999932,29230,0.50999999999999801,35937,null,89.180000000000021,499230,0,177,49.629999999999995,316465,0]
[178,"MELROSE                      ",178,null,25.29,140055,2.08,14101,null,0,0,null,null,140055,14101,null,308339.37,null,0,178,25.29,140055,0,178,2.08,14101,null,{"$f":"may!E187","v":25.29},{"$f":"may!F187","v":140055},{"$f":"may!G187","v":3},{"$f":"may!H187","v":19302},null,0,0,-0.91999999999999993,-5201,null,25.29,140055,0,178,2.08,14101,0]
[179,"MENDON                       ",179,null,0,0,0,0,null,0,0,null,null,0,0,null,0,null,0,179,null,null,0,179,null,null,null,{"$f":"may!E188","v":0},{"$f":"may!F188","v":0},{"$f":"may!G188","v":0},{"$f":"may!H188","v":0},null,0,0,0,0,null,null,null,0,179,null,null,0]
[180,"MERRIMAC                     ",180,null,0,0,0,0,null,0,0,null,null,0,0,null,0,null,0,180,null,null,0,180,null,null,null,{"$f":"may!E189","v":0},{"$f":"may!F189","v":0},{"$f":"may!G189","v":0},{"$f":"may!H189","v":0},null,0,0,0,0,null,null,null,0,180,null,null,0]
[181,"METHUEN                      ",181,null,0,0,24.69,149338,null,0,0,null,null,0,149338,null,298700.69,null,0,181,null,null,0,181,24.69,149338,null,{"$f":"may!E190","v":0},{"$f":"may!F190","v":0},{"$f":"may!G190","v":24.689999999999998},{"$f":"may!H190","v":149338},null,0,0,0,0,null,null,null,0,181,24.69,149338,0]
[182,"MIDDLEBOROUGH                ",182,null,3,15000,51.73,298126,null,0,0,null,null,15000,298126,null,626306.73,null,0,182,3,15000,0,182,51.73,298126,null,{"$f":"may!E191","v":5},{"$f":"may!F191","v":25000},{"$f":"may!G191","v":52.07},{"$f":"may!H191","v":302003},null,-2,-10000,-0.34000000000000341,-3877,null,3,15000,0,182,51.73,298126,0]
[183,"MIDDLEFIELD                  ",183,null,0,0,0,0,null,0,0,null,null,0,0,null,0,null,0,183,null,null,0,183,null,null,null,{"$f":"may!E192","v":0},{"$f":"may!F192","v":0},{"$f":"may!G192","v":0},{"$f":"may!H192","v":0},null,0,0,0,0,null,null,null,0,183,null,null,0]
[184,"MIDDLETON                    ",184,null,0,0,1,6700,null,0,0,null,null,0,6700,null,13401,null,0,184,null,null,0,184,1,6700,null,{"$f":"may!E193","v":0},{"$f":"may!F193","v":0},{"$f":"may!G193","v":1},{"$f":"may!H193","v":6700},null,0,0,0,0,null,null,null,0,184,1,6700,0]
[185,"MILFORD                      ",185,null,86.799999999999983,513108,198.76000000000002,1182249,null,0,10000,null,null,513108,1192249,null,3410999.56,null,0,185,86.799999999999983,513108,0,185,198.76000000000002,1182249,null,{"$f":"may!E194","v":86.799999999999983},{"$f":"may!F194","v":513108},{"$f":"may!G194","v":200.86},{"$f":"may!H194","v":1164513},null,0,0,-2.0999999999999943,17736,null,86.799999999999983,513108,0,185,198.76000000000002,1182249,0]
[186,"MILLBURY                     ",186,null,0,0,24.34,157629,null,0,0,null,null,0,157629,null,315282.33999999997,null,0,186,null,null,0,186,24.34,157629,null,{"$f":"may!E195","v":0},{"$f":"may!F195","v":0},{"$f":"may!G195","v":24.339999999999996},{"$f":"may!H195","v":158945},null,0,0,0,-1316,null,null,null,0,186,24.34,157629,0]
[187,"MILLIS                       ",187,null,79.259999999999991,423920,28.61,170783,null,0,15000,null,null,423920,185783,null,1219513.8700000001,null,0,187,79.259999999999991,423920,0,187,28.61,170783,null,{"$f":"may!E196","v":79.259999999999991},{"$f":"may!F196","v":423920},{"$f":"may!G196","v":29.800000000000004},{"$f":"may!H196","v":182824},null,0,0,-1.1900000000000048,-12041,null,79.259999999999991,423920,0,187,28.61,170783,0]
[188,"MILLVILLE                    ",188,null,0,0,0,0,null,0,0,null,null,0,0,null,0,null,0,188,null,null,0,188,null,null,null,{"$f":"may!E197","v":0},{"$f":"may!F197","v":0},{"$f":"may!G197","v":0},{"$f":"may!H197","v":0},null,0,0,0,0,null,null,null,0,188,null,null,0]
[189,"MILTON                       ",189,null,0,0,4,26800,null,0,0,null,null,0,26800,null,53604,null,0,189,null,null,0,189,4,26800,null,{"$f":"may!E198","v":0},{"$f":"may!F198","v":0},{"$f":"may!G198","v":4},{"$f":"may!H198","v":26800},null,0,0,0,0,null,null,null,0,189,4,26800,0]
[190,"MONROE                       ",190,null,0,0,0.74,3984,null,0,0,null,null,0,3984,null,7968.74,null,0,190,null,null,0,190,0.74,3984,null,{"$f":"may!E199","v":0},{"$f":"may!F199","v":0},{"$f":"may!G199","v":0.74},{"$f":"may!H199","v":3984},null,0,0,0,0,null,null,null,0,190,0.74,3984,0]
[191,"MONSON                       ",191,null,52,323728,36.680000000000007,201977,null,0,0,null,null,323728,201977,null,1051498.68,null,0,191,52,323728,0,191,36.680000000000007,201977,null,{"$f":"may!E200","v":52},{"$f":"may!F200","v":323728},{"$f":"may!G200","v":40.980000000000004},{"$f":"may!H200","v":229751},null,0,0,-4.2999999999999972,-27774,null,52,323728,0,191,36.680000000000007,201977,0]
[192,"MONTAGUE                     ",192,null,0,0,0,0,null,0,0,null,null,0,0,null,0,null,0,192,null,null,0,192,null,null,null,{"$f":"may!E201","v":0},{"$f":"may!F201","v":0},{"$f":"may!G201","v":0},{"$f":"may!H201","v":0},null,0,0,0,0,null,null,null,0,192,null,null,0]
[193,"MONTEREY                     ",193,null,0,0,0,0,null,0,0,null,null,0,0,null,0,null,{"$f":"ABS(A202-T202)","v":0},193,null,null,{"$f":"ABS(X202-A202)","v":0},193,null,null,null,{"$f":"may!E202","v":0},{"$f":"may!F202","v":0},{"$f":"may!G202","v":0},{"$f":"may!H202","v":0},null,0,0,0,0,null,null,null,0,193,null,null,0]
[194,"MONTGOMERY                   ",194,null,{"$f":"U203","v":0},{"$f":"V203","v":0},{"$f":"Y203","v":0},{"$f":"Z203","v":0},null,0,0,null,null,{"$f":"F203+J203","v":0},{"$f":"H203+K203","v":0},null,{"$f":"SUM(E203:O203)","v":0},null,0,194,null,null,0,194,null,null,null,{"$f":"may!E203","v":0},{"$f":"may!F203","v":0},{"$f":"may!G203","v":0},{"$f":"may!H203","v":0},null,{"$f":"U203-AB203","v":0},{"$f":"V203-AC203","v":0},{"$f":"Y203-AD203","v":0},{"$f":"Z203-AE203","v":0},null,null,null,{"$f":"V203-AM203","v":0},194,null,null,{"$f":"Z203-AQ203","v":0}]
[195,"MOUNT WASHINGTON             ",195,null,0,0,1,5000,null,0,0,null,null,0,5000,null,10001,null,0,195,null,null,0,195,1,5000,null,{"$f":"may!E204","v":0},{"$f":"may!F204","v":0},{"$f":"may!G204","v":1},{"$f":"may!H204","v":5000},null,0,0,0,0,null,null,null,0,195,1,5000,0]
[196,"NAHANT                       ",196,null,0,0,1.48,7400,null,0,0,null,null,0,7400,null,14801.48,null,0,196,null,null,0,196,1.48,7400,null,{"$f":"may!E205","v":0},{"$f":"may!F205","v":0},{"$f":"may!G205","v":1.48},{"$f":"may!H205","v":7400},null,0,0,0,0,null,null,null,0,196,1.48,7400,0]
[197,"NANTUCKET                    ",197,null,0,0,1.17,7902,null,0,0,null,null,0,7902,null,15805.17,null,0,197,null,null,0,197,1.17,7902,null,{"$f":"may!E206","v":0},{"$f":"may!F206","v":0},{"$f":"may!G206","v":1.62},{"$f":"may!H206","v":10883},null,0,0,-0.45000000000000018,-2981,null,null,null,0,197,1.17,7902,0]
[198,"NATICK                       ",198,null,38.89,306642,11.770000000000003,77843,null,0,0,null,null,306642,77843,null,769020.66,null,0,198,38.89,306642,0,198,11.770000000000003,77843,null,{"$f":"may!E207","v":39},{"$f":"may!F207","v":261473},{"$f":"may!G207","v":13.229999999999999},{"$f":"may!H207","v":87515},null,-0.10999999999999943,45169,-1.4599999999999955,-9672,null,38.89,306642,0,198,11.770000000000003,77843,0]
[199,"NEEDHAM                      ",199,null,0,0,5.9099999999999993,38205,null,0,0,null,null,0,38205,null,76415.91,null,0,199,null,null,0,199,5.9099999999999993,38205,null,{"$f":"may!E208","v":0},{"$f":"may!F208","v":0},{"$f":"may!G208","v":5.91},{"$f":"may!H208","v":38205},null,0,0,0,0,null,null,null,0,199,5.9099999999999993,38205,0]
[200,"NEW ASHFORD                  ",200,null,0,0,1,5000,null,0,0,null,null,0,5000,null,10001,null,0,200,null,null,0,200,1,5000,null,{"$f":"may!E209","v":0},{"$f":"may!F209","v":0},{"$f":"may!G209","v":1},{"$f":"may!H209","v":5000},null,0,0,0,0,null,null,null,0,200,1,5000,0]
[201,"NEW BEDFORD                  ",201,null,0,0,90.39,558592,null,0,0,null,null,0,558592,null,1117274.3900000001,null,0,201,null,null,0,201,90.39,558592,null,{"$f":"may!E210","v":0},{"$f":"may!F210","v":0},{"$f":"may!G210","v":97.01},{"$f":"may!H210","v":618448},null,0,0,-6.6200000000000045,-59856,null,null,null,0,201,90.39,558592,0]
[202,"NEW BRAINTREE                ",202,null,0,0,0,0,null,0,0,null,null,0,0,null,0,null,0,202,null,null,0,202,null,null,null,{"$f":"may!E211","v":0},{"$f":"may!F211","v":0},{"$f":"may!G211","v":0},{"$f":"may!H211","v":0},null,0,0,0,0,null,null,null,0,202,null,null,0]
[203,"NEWBURY                      ",205,null,0,0,0,0,null,0,0,null,null,0,0,null,0,null,0,203,null,null,0,203,null,null,null,{"$f":"may!E212","v":0},{"$f":"may!F212","v":0},{"$f":"may!G212","v":0},{"$f":"may!H212","v":0},null,0,0,0,0,null,null,null,0,203,null,null,0]
[204,"NEWBURYPORT                  ",206,null,42.019999999999996,641809,42.73,264608,null,0,0,null,null,641809,264608,null,1812918.75,null,0,204,42.019999999999996,641809,0,204,42.73,264608,null,{"$f":"may!E213","v":42.019999999999996},{"$f":"may!F213","v":641809},{"$f":"may!G213","v":43.919999999999995},{"$f":"may!H213","v":272752},null,0,0,-1.1899999999999977,-8144,null,42.019999999999996,641809,0,204,42.73,264608,0]
[205,"NEW MARLBOROUGH              ",203,null,0,0,0,0,null,0,0,null,null,0,0,null,0,null,0,205,null,null,0,205,null,null,null,{"$f":"may!E214","v":0},{"$f":"may!F214","v":0},{"$f":"may!G214","v":0},{"$f":"may!H214","v":0},null,0,0,0,0,null,null,null,0,205,null,null,0]
[206,"NEW SALEM                    ",204,null,0,0,0,0,null,0,0,null,null,0,0,null,0,null,0,206,null,null,0,206,null,null,null,{"$f":"may!E215","v":0},{"$f":"may!F215","v":0},{"$f":"may!G215","v":0},{"$f":"may!H215","v":0},null,0,0,0,0,null,null,null,0,206,null,null,0]
[207,"NEWTON                       ",207,null,0,0,4.5599999999999996,30811,null,0,0,null,null,0,30811,null,61626.559999999998,null,0,207,null,null,0,207,4.5599999999999996,30811,null,{"$f":"may!E216","v":0},{"$f":"may!F216","v":0},{"$f":"may!G216","v":5.32},{"$f":"may!H216","v":35846},null,0,0,-0.76000000000000068,-5035,null,null,null,0,207,4.5599999999999996,30811,0]
[208,"NORFOLK                      ",208,null,0,0,3,16700,null,0,0,null,null,0,16700,null,33403,null,0,208,null,null,0,208,3,16700,null,{"$f":"may!E217","v":0},{"$f":"may!F217","v":0},{"$f":"may!G217","v":3},{"$f":"may!H217","v":16700},null,0,0,0,0,null,null,null,0,208,3,16700,0]
[209,"NORTH ADAMS                  ",209,null,44.169999999999995,323759,112.9,652643,null,0,0,null,null,323759,652643,null,1952961.07,null,0,209,44.169999999999995,323759,0,209,112.9,652643,null,{"$f":"may!E218","v":44.169999999999987},{"$f":"may!F218","v":323759},{"$f":"may!G218","v":113.39999999999999},{"$f":"may!H218","v":662143},null,0,0,-0.49999999999998579,-9500,null,44.169999999999995,323759,0,209,112.9,652643,0]
[210,"NORTHAMPTON                  ",214,null,221.36,1829052,83.42,637347,null,0,0,null,null,1829052,637347,null,4933102.78,null,0,210,221.36,1829052,0,210,83.42,637347,null,{"$f":"may!E219","v":221.36},{"$f":"may!F219","v":1829052},{"$f":"may!G219","v":83.420000000000016},{"$f":"may!H219","v":637820},null,0,0,0,-473,null,221.36,1829052,0,210,83.42,637347,0]
[211,"NORTH ANDOVER                ",210,null,0,0,0,0,null,0,0,null,null,0,0,null,0,null,0,211,null,null,0,211,null,null,null,{"$f":"may!E220","v":0},{"$f":"may!F220","v":0},{"$f":"may!G220","v":0},{"$f":"may!H220","v":0},null,0,0,0,0,null,null,null,0,211,null,null,0]
[212,"NORTH ATTLEBOROUGH           ",211,null,0,0,13.17,86639,null,0,0,null,null,0,86639,null,173291.16999999998,null,0,212,null,null,0,212,13.17,86639,null,{"$f":"may!E221","v":0},{"$f":"may!F221","v":0},{"$f":"may!G221","v":13.169999999999998},{"$f":"may!H221","v":86639},null,0,0,0,0,null,null,null,0,212,13.17,86639,0]
[213,"NORTHBOROUGH                 ",215,null,0,0,1.98,13268,null,0,0,null,null,0,13268,null,26537.98,null,0,213,null,null,0,213,1.98,13268,null,{"$f":"may!E222","v":0},{"$f":"may!F222","v":0},{"$f":"may!G222","v":3},{"$f":"may!H222","v":22400},null,0,0,-1.02,-9132,null,null,null,0,213,1.98,13268,0]
[214,"NORTHBRIDGE                  ",216,null,104.2,568378,127.59000000000003,880978,null,0,0,null,null,568378,880978,null,2898943.79,null,0,214,104.2,568378,0,214,127.59000000000003,880978,null,{"$f":"may!E223","v":104.20000000000003},{"$f":"may!F223","v":566303},{"$f":"may!G223","v":126.92000000000003},{"$f":"may!H223","v":847420},null,0,2075,0.67000000000000171,33558,null,104.2,568378,0,214,127.59000000000003,880978,0]
[215,"NORTH BROOKFIELD             ",212,null,64.580000000000013,347580,112.61,655615,null,0,0,null,null,347580,655615,null,2006567.19,null,0,215,64.580000000000013,347580,0,215,112.61,655615,null,{"$f":"may!E224","v":64.63},{"$f":"may!F224","v":334523},{"$f":"may!G224","v":113.81},{"$f":"may!H224","v":661765},null,-4.9999999999982947E-2,13057,-1.2000000000000028,-6150,null,64.580000000000013,347580,0,215,112.61,655615,0]
[216,"NORTHFIELD                   ",217,null,0,0,0,0,null,0,0,null,null,0,0,null,0,null,0,216,null,null,0,216,null,null,null,{"$f":"may!E225","v":0},{"$f":"may!F225","v":0},{"$f":"may!G225","v":0},{"$f":"may!H225","v":0},null,0,0,0,0,null,null,null,0,216,null,null,0]
[217,"NORTH READING                ",213,null,0,0,5.72,34946,null,0,0,null,null,0,34946,null,69897.72,null,0,217,null,null,0,217,5.72,34946,null,{"$f":"may!E226","v":0},{"$f":"may!F226","v":0},{"$f":"may!G226","v":5.74},{"$f":"may!H226","v":35078},null,0,0,-2.0000000000000462E-2,-132,null,null,null,0,217,5.72,34946,0]
[218,"NORTON                       ",218,null,34.950000000000003,174750,18.979999999999997,117442,null,0,0,null,null,174750,117442,null,584437.93000000005,null,0,218,34.950000000000003,174750,0,218,18.979999999999997,117442,null,{"$f":"may!E227","v":34.5},{"$f":"may!F227","v":207200},{"$f":"may!G227","v":20.82},{"$f":"may!H227","v":129632},null,0.45000000000000284,-32450,-1.8400000000000034,-12190,null,34.950000000000003,174750,0,218,18.979999999999997,117442,0]
[219,"NORWELL                      ",219,null,0,0,1,6941,null,0,0,null,null,0,6941,null,13883,null,0,219,null,null,0,219,1,6941,null,{"$f":"may!E228","v":0},{"$f":"may!F228","v":0},{"$f":"may!G228","v":1},{"$f":"may!H228","v":6941},null,0,0,0,0,null,null,null,0,219,1,6941,0]
[220,"NORWOOD                      ",220,null,0,0,9.370000000000001,62615,null,0,0,null,null,0,62615,null,125239.37,null,0,220,null,null,0,220,9.370000000000001,62615,null,{"$f":"may!E229","v":0},{"$f":"may!F229","v":0},{"$f":"may!G229","v":9.370000000000001},{"$f":"may!H229","v":62615},null,0,0,0,0,null,null,null,0,220,9.370000000000001,62615,0]
[221,"OAK BLUFFS                   ",221,null,35.450000000000003,177250,31.089999999999996,235130,null,0,0,null,null,177250,235130,null,824826.54,null,0,221,35.450000000000003,177250,0,221,31.089999999999996,235130,null,{"$f":"may!E230","v":36},{"$f":"may!F230","v":214429},{"$f":"may!G230","v":32.090000000000003},{"$f":"may!H230","v":218307},null,-0.54999999999999716,-37179,-1.0000000000000071,16823,null,35.450000000000003,177250,0,221,31.089999999999996,235130,0]
[222,"OAKHAM                       ",222,null,0,0,0,0,null,0,0,null,null,0,0,null,0,null,0,222,null,null,0,222,null,null,null,{"$f":"may!E231","v":0},{"$f":"may!F231","v":0},{"$f":"may!G231","v":0},{"$f":"may!H231","v":0},null,0,0,0,0,null,null,null,0,222,null,null,0]
[223,"ORANGE                       ",223,null,61.23,414143,66.44,391558,null,0,0,null,null,414143,391558,null,1611529.67,null,0,223,61.23,414143,0,223,66.44,391558,null,{"$f":"may!E232","v":61.230000000000011},{"$f":"may!F232","v":414143},{"$f":"may!G232","v":62.050000000000004},{"$f":"may!H232","v":402478},null,0,0,4.3899999999999935,-10920,null,61.23,414143,0,223,66.44,391558,0]
[224,"ORLEANS                      ",224,null,1,5000,2.4900000000000002,13321,null,0,0,null,null,5000,13321,null,36645.49,null,0,224,1,5000,0,224,2.4900000000000002,13321,null,{"$f":"may!E233","v":1},{"$f":"may!F233","v":5000},{"$f":"may!G233","v":2.4900000000000002},{"$f":"may!H233","v":13321},null,0,0,0,0,null,1,5000,0,224,2.4900000000000002,13321,0]
[225,"OTIS                         ",225,null,0,0,0,0,null,0,0,null,null,0,0,null,0,null,0,225,null,null,0,225,null,null,null,{"$f":"may!E234","v":0},{"$f":"may!F234","v":0},{"$f":"may!G234","v":0},{"$f":"may!H234","v":0},null,0,0,0,0,null,null,null,0,225,null,null,0]
[226,"OXFORD                       ",226,null,5.93,29650,79.399999999999963,450328,null,0,0,null,null,29650,450328,null,960041.33000000007,null,0,226,5.93,29650,0,226,79.399999999999963,450328,null,{"$f":"may!E235","v":5},{"$f":"may!F235","v":25000},{"$f":"may!G235","v":82.72},{"$f":"may!H235","v":471023},null,0.92999999999999972,4650,-3.3200000000000358,-20695,null,5.93,29650,0,226,79.399999999999963,450328,0]
[227,"PALMER                       ",227,null,27.340000000000003,148882,84.030000000000015,519593,null,0,0,null,null,148882,519593,null,1337061.3700000001,null,0,227,27.340000000000003,148882,0,227,84.030000000000015,519593,null,{"$f":"may!E236","v":27.34},{"$f":"may!F236","v":148882},{"$f":"may!G236","v":85.59},{"$f":"may!H236","v":525387},null,0,0,-1.5599999999999881,-5794,null,27.340000000000003,148882,0,227,84.030000000000015,519593,0]
[228,"PAXTON                       ",228,null,0,0,0,0,null,0,0,null,null,0,0,null,0,null,0,228,null,null,0,228,null,null,null,{"$f":"may!E237","v":0},{"$f":"may!F237","v":0},{"$f":"may!G237","v":0},{"$f":"may!H237","v":0},null,0,0,0,0,null,null,null,0,228,null,null,0]
[229,"PEABODY                      ",229,null,91.090000000000046,486595,48.01,254014,null,0,0,null,null,486595,254014,null,1481357.1,null,0,229,91.090000000000046,486595,0,229,48.01,254014,null,{"$f":"may!E238","v":91.089999999999961},{"$f":"may!F238","v":486595},{"$f":"may!G238","v":49.730000000000004},{"$f":"may!H238","v":266643},null,0,0,-1.720000000000006,-12629,null,91.090000000000046,486595,0,229,48.01,254014,0]
[230,"PELHAM                       ",230,null,52.919999999999995,382237,2,10000,null,0,0,null,null,382237,10000,null,784528.91999999993,null,0,230,52.919999999999995,382237,0,230,2,10000,null,{"$f":"may!E239","v":52},{"$f":"may!F239","v":373116},{"$f":"may!G239","v":1},{"$f":"may!H239","v":5000},null,0.9199999999999946,9121,1,5000,null,52.919999999999995,382237,0,230,2,10000,0]
[231,"PEMBROKE                     ",231,null,0,0,7.51,43629,null,0,0,null,null,0,43629,null,87265.510000000009,null,0,231,null,null,0,231,7.51,43629,null,{"$f":"may!E240","v":0},{"$f":"may!F240","v":0},{"$f":"may!G240","v":7.51},{"$f":"may!H240","v":43629},null,0,0,0,0,null,null,null,0,231,7.51,43629,0]
[232,"PEPPERELL                    ",232,null,0,0,0,0,null,0,0,null,null,0,0,null,0,null,0,232,null,null,0,232,null,null,null,{"$f":"may!E241","v":0},{"$f":"may!F241","v":0},{"$f":"may!G241","v":0},{"$f":"may!H241","v":0},null,0,0,0,0,null,null,null,0,232,null,null,0]
[233,"PERU                         ",233,null,0,0,0,0,null,0,0,null,null,0,0,null,0,null,0,233,null,null,0,233,null,null,null,{"$f":"may!E242","v":0},{"$f":"may!F242","v":0},{"$f":"may!G242","v":0},{"$f":"may!H242","v":0},null,0,0,0,0,null,null,null,0,233,null,null,0]
[234,"PETERSHAM                    ",234,null,66.670000000000016,403775,8,40000,null,0,0,null,null,403775,40000,null,887624.66999999993,null,0,234,66.670000000000016,403775,0,234,8,40000,null,{"$f":"may!E243","v":66.670000000000016},{"$f":"may!F243","v":403775},{"$f":"may!G243","v":8},{"$f":"may!H243","v":40000},null,0,0,0,0,null,66.670000000000016,403775,0,234,8,40000,0]
[235,"PHILLIPSTON                  ",235,null,0,0,0,0,null,0,0,null,null,0,0,null,0,null,0,235,null,null,0,235,null,null,null,{"$f":"may!E244","v":0},{"$f":"may!F244","v":0},{"$f":"may!G244","v":0},{"$f":"may!H244","v":0},null,0,0,0,0,null,null,null,0,235,null,null,0]
[236,"PITTSFIELD                   ",236,null,101.65999999999998,564099,477.73000000000013,2719527,null,0,0,null,null,564099,2719527,null,6567831.3900000006,null,0,236,101.65999999999998,564099,0,236,477.73000000000013,2719527,null,{"$f":"may!E245","v":101.66000000000001},{"$f":"may!F245","v":564099},{"$f":"may!G245","v":470.82000000000005},{"$f":"may!H245","v":2691695},null,0,0,6.9100000000000819,27832,null,101.65999999999998,564099,0,236,477.73000000000013,2719527,0]
[237,"PLAINFIELD                   ",237,null,0,0,0,0,null,0,0,null,null,0,0,null,0,null,0,237,null,null,0,237,null,null,null,{"$f":"may!E246","v":0},{"$f":"may!F246","v":0},{"$f":"may!G246","v":0},{"$f":"may!H246","v":0},null,0,0,0,0,null,null,null,0,237,null,null,0]
[238,"PLAINVILLE                   ",238,null,0,0,0,0,null,0,0,null,null,0,0,null,0,null,0,238,null,null,0,238,null,null,null,{"$f":"may!E247","v":0},{"$f":"may!F247","v":0},{"$f":"may!G247","v":0},{"$f":"may!H247","v":0},null,0,0,0,0,null,null,null,0,238,null,null,0]
[239,"PLYMOUTH                     ",239,null,0,0,53.060000000000009,289637,null,0,0,null,null,0,289637,null,579327.06000000006,null,0,239,null,null,0,239,53.060000000000009,289637,null,{"$f":"may!E248","v":0},{"$f":"may!F248","v":0},{"$f":"may!G248","v":55.320000000000007},{"$f":"may!H248","v":302985},null,0,0,-2.259999999999998,-13348,null,null,null,0,239,53.060000000000009,289637,0]
[240,"PLYMPTON                     ",240,null,6,30000,1,5000,null,0,0,null,null,30000,5000,null,70007,null,0,240,6,30000,0,240,1,5000,null,{"$f":"may!E249","v":6},{"$f":"may!F249","v":30000},{"$f":"may!G249","v":1},{"$f":"may!H249","v":5000},null,0,0,0,0,null,6,30000,0,240,1,5000,0]
[241,"PRINCETON                    ",241,null,0,0,0,0,null,0,0,null,null,0,0,null,0,null,0,241,null,null,0,241,null,null,null,{"$f":"may!E250","v":0},{"$f":"may!F250","v":0},{"$f":"may!G250","v":0},{"$f":"may!H250","v":0},null,0,0,0,0,null,null,null,0,241,null,null,0]
[242,"PROVINCETOWN                 ",242,null,42.53,368932,19,106654,null,0,0,null,null,368932,106654,null,951233.53,null,0,242,42.53,368932,0,242,19,106654,null,{"$f":"may!E251","v":42.529999999999994},{"$f":"may!F251","v":368932},{"$f":"may!G251","v":19.940000000000001},{"$f":"may!H251","v":112882},null,0,0,-0.94000000000000128,-6228,null,42.53,368932,0,242,19,106654,0]
[243,"QUINCY                       ",243,null,0,0,9.8899999999999988,72830,null,0,0,null,null,0,72830,null,145669.89000000001,null,0,243,null,null,0,243,9.8899999999999988,72830,null,{"$f":"may!E252","v":0},{"$f":"may!F252","v":0},{"$f":"may!G252","v":11.23},{"$f":"may!H252","v":79263},null,0,0,-1.3400000000000016,-6433,null,null,null,0,243,9.8899999999999988,72830,0]
[244,"RANDOLPH                     ",244,null,7,38519,158.96000000000004,849730,null,0,0,null,null,38519,849730,null,1776663.96,null,0,244,7,38519,0,244,158.96000000000004,849730,null,{"$f":"may!E253","v":7},{"$f":"may!F253","v":38519},{"$f":"may!G253","v":159.39999999999998},{"$f":"may!H253","v":856894},null,0,0,-0.43999999999994088,-7164,null,7,38519,0,244,158.74000000000004,848630,1100]
[245,"RAYNHAM                      ",245,null,0,0,0,0,null,0,0,null,null,0,0,null,0,null,0,245,null,null,0,245,null,null,null,{"$f":"may!E254","v":0},{"$f":"may!F254","v":0},{"$f":"may!G254","v":0},{"$f":"may!H254","v":0},null,0,0,0,0,null,null,null,0,245,null,null,0]
[246,"READING                      ",246,null,0,0,7.1,48149,null,0,0,null,null,0,48149,null,96305.1,null,0,246,null,null,0,246,7.1,48149,null,{"$f":"may!E255","v":0},{"$f":"may!F255","v":0},{"$f":"may!G255","v":6.8000000000000007},{"$f":"may!H255","v":46681},null,0,0,0.29999999999999893,1468,null,null,null,0,246,7.1,48149,0]
[247,"REHOBOTH                     ",247,null,0,0,0,0,null,0,0,null,null,0,0,null,0,null,0,247,null,null,0,247,null,null,null,{"$f":"may!E256","v":0},{"$f":"may!F256","v":0},{"$f":"may!G256","v":0},{"$f":"may!H256","v":0},null,0,0,0,0,null,null,null,0,247,null,null,0]
[248,"REVERE                       ",248,null,0,0,13.559999999999999,79713,null,0,0,null,null,0,79713,null,159439.56,null,0,248,null,null,0,248,13.559999999999999,79713,null,{"$f":"may!E257","v":0},{"$f":"may!F257","v":0},{"$f":"may!G257","v":13.96},{"$f":"may!H257","v":82363},null,0,0,-0.40000000000000213,-2650,null,null,null,0,248,13.559999999999999,79713,0]
[249,"RICHMOND                     ",249,null,79.5,404770,15.739999999999998,84515,null,0,0,null,null,404770,84515,null,978665.24,null,0,249,79.5,404770,0,249,15.739999999999998,84515,null,{"$f":"may!E258","v":80.5},{"$f":"may!F258","v":418500},{"$f":"may!G258","v":15.739999999999998},{"$f":"may!H258","v":86898},null,-1,-13730,0,-2383,null,79.5,404770,0,249,15.739999999999998,84515,0]
[250,"ROCHESTER                    ",250,null,0,0,1,5000,null,0,0,null,null,0,5000,null,10001,null,0,250,null,null,0,250,1,5000,null,{"$f":"may!E259","v":0},{"$f":"may!F259","v":0},{"$f":"may!G259","v":1},{"$f":"may!H259","v":5000},null,0,0,0,0,null,null,null,0,250,1,5000,0]
[251,"ROCKLAND                     ",251,null,37.120000000000005,192819,13.910000000000002,87803,null,0,0,null,null,192819,87803,null,561295.03,null,0,251,37.120000000000005,192819,0,251,13.910000000000002,87803,null,{"$f":"may!E260","v":37.119999999999997},{"$f":"may!F260","v":192819},{"$f":"may!G260","v":15.15},{"$f":"may!H260","v":96018},null,0,0,-1.2399999999999984,-8215,null,37.120000000000005,192819,0,251,13.910000000000002,87803,0]
[252,"ROCKPORT                     ",252,null,237.83,1386244,27.48,138510,null,0,0,null,null,1386244,138510,null,3049773.31,null,0,252,237.83,1386244,0,252,27.48,138510,null,{"$f":"may!E261","v":237.83},{"$f":"may!F261","v":1386244},{"$f":"may!G261","v":28.48},{"$f":"may!H261","v":143510},null,0,0,-1,-5000,null,237.83,1386244,0,252,27.48,138510,0]
[253,"ROWE                         ",253,null,19,97354,3,21957,null,0,0,null,null,97354,21957,null,238644,null,0,253,19,97354,0,253,3,21957,null,{"$f":"may!E262","v":19},{"$f":"may!F262","v":97354},{"$f":"may!G262","v":3},{"$f":"may!H262","v":21957},null,0,0,0,0,null,19,97354,0,253,3,21957,0]
[254,"ROWLEY                       ",254,null,0,0,0,0,null,0,0,null,null,0,0,null,0,null,0,254,null,null,0,254,null,null,null,{"$f":"may!E263","v":0},{"$f":"may!F263","v":0},{"$f":"may!G263","v":0},{"$f":"may!H263","v":0},null,0,0,0,0,null,null,null,0,254,null,null,0]
[255,"ROYALSTON                    ",255,null,0,0,0,0,null,0,0,null,null,0,0,null,0,null,0,255,null,null,0,255,null,null,null,{"$f":"may!E264","v":0},{"$f":"may!F264","v":0},{"$f":"may!G264","v":0},{"$f":"may!H264","v":0},null,0,0,0,0,null,null,null,0,255,null,null,0]
[256,"RUSSELL                      ",256,null,0,0,0,0,null,0,0,null,null,0,0,null,0,null,0,256,null,null,0,256,null,null,null,{"$f":"may!E265","v":0},{"$f":"may!F265","v":0},{"$f":"may!G265","v":0},{"$f":"may!H265","v":0},null,0,0,0,0,null,null,null,0,256,null,null,0]
[257,"RUTLAND                      ",257,null,0,0,0,0,null,0,0,null,null,0,0,null,0,null,{"$f":"ABS(A266-T266)","v":0},257,null,null,{"$f":"ABS(X266-A266)","v":0},257,null,null,null,{"$f":"may!E266","v":0},{"$f":"may!F266","v":0},{"$f":"may!G266","v":0},{"$f":"may!H266","v":0},null,0,0,0,0,null,null,null,0,257,null,null,0]
[258,"SALEM                        ",258,null,{"$f":"U267","v":0},{"$f":"V267","v":0},{"$f":"Y267","v":74.459999999999994},{"$f":"Z267","v":419538},null,0,0,null,null,{"$f":"F267+J267","v":0},{"$f":"H267+K267","v":419538},null,{"$f":"SUM(E267:O267)","v":839150.46},null,0,258,null,null,0,258,74.459999999999994,419538,null,{"$f":"may!E267","v":0},{"$f":"may!F267","v":0},{"$f":"may!G267","v":79.25},{"$f":"may!H267","v":448282},null,{"$f":"U267-AB267","v":0},{"$f":"V267-AC267","v":0},{"$f":"Y267-AD267","v":-4.7900000000000063},{"$f":"Z267-AE267","v":-28744},null,null,null,{"$f":"V267-AM267","v":0},258,74.459999999999994,419538,{"$f":"Z267-AQ267","v":0}]
[259,"SALISBURY                    ",259,null,0,0,0,0,null,0,0,null,null,0,0,null,0,null,0,259,null,null,0,259,null,null,null,{"$f":"may!E268","v":0},{"$f":"may!F268","v":0},{"$f":"may!G268","v":0},{"$f":"may!H268","v":0},null,0,0,0,0,null,null,null,0,259,null,null,0]
[260,"SANDISFIELD                  ",260,null,0,0,0,0,null,0,0,null,null,0,0,null,0,null,0,260,null,null,0,260,null,null,null,{"$f":"may!E269","v":0},{"$f":"may!F269","v":0},{"$f":"may!G269","v":0},{"$f":"may!H269","v":0},null,0,0,0,0,null,null,null,0,260,null,null,0]
[261,"SANDWICH                     ",261,null,76.400000000000006,412038,64.03,372631,null,0,0,null,null,412038,372631,null,1569478.4300000002,null,0,261,76.400000000000006,412038,0,261,64.03,372631,null,{"$f":"may!E270","v":76.400000000000006},{"$f":"may!F270","v":412038},{"$f":"may!G270","v":64.03},{"$f":"may!H270","v":372631},null,0,0,0,0,null,76.400000000000006,412038,0,261,64.03,372631,0]
[262,"SAUGUS                       ",262,null,0,0,15.97,97444,null,0,0,null,null,0,97444,null,194903.97,null,0,262,null,null,0,262,15.97,97444,null,{"$f":"may!E271","v":0},{"$f":"may!F271","v":0},{"$f":"may!G271","v":15.99},{"$f":"may!H271","v":97576},null,0,0,-1.9999999999999574E-2,-132,null,null,null,0,262,15.97,97444,0]
[263,"SAVOY                        ",263,null,11,57305,24.15,130881,null,0,0,null,null,57305,130881,null,376407.15,null,0,263,11,57305,0,263,24.15,130881,null,{"$f":"may!E272","v":11},{"$f":"may!F272","v":57305},{"$f":"may!G272","v":23.15},{"$f":"may!H272","v":125881},null,0,0,1,5000,null,11,57305,0,263,24.15,130881,0]
[264,"SCITUATE                     ",264,null,0,0,1.3,9081,null,0,0,null,null,0,9081,null,18163.3,null,0,264,null,null,0,264,1.3,9081,null,{"$f":"may!E273","v":0},{"$f":"may!F273","v":0},{"$f":"may!G273","v":1.3},{"$f":"may!H273","v":9081},null,0,0,0,0,null,null,null,0,264,1.3,9081,0]
[265,"SEEKONK                      ",265,null,0,0,5.3,36631,null,0,0,null,null,0,36631,null,73267.3,null,0,265,null,null,0,265,5.3,36631,null,{"$f":"may!E274","v":0},{"$f":"may!F274","v":0},{"$f":"may!G274","v":5.3},{"$f":"may!H274","v":36631},null,0,0,0,0,null,null,null,0,265,5.3,36631,0]
[266,"SHARON                       ",266,null,0,0,3,17856,null,0,0,null,null,0,17856,null,35715,null,0,266,null,null,0,266,3,17856,null,{"$f":"may!E275","v":0},{"$f":"may!F275","v":0},{"$f":"may!G275","v":3},{"$f":"may!H275","v":17856},null,0,0,0,0,null,null,null,0,266,3,17856,0]
[267,"SHEFFIELD                    ",267,null,0,0,0,0,null,0,0,null,null,0,0,null,0,null,0,267,null,null,0,267,null,null,null,{"$f":"may!E276","v":0},{"$f":"may!F276","v":0},{"$f":"may!G276","v":0},{"$f":"may!H276","v":0},null,0,0,0,0,null,null,null,0,267,null,null,0]
[268,"SHELBURNE                    ",268,null,0,0,0,0,null,0,0,null,null,0,0,null,0,null,0,268,null,null,0,268,null,null,null,{"$f":"may!E277","v":0},{"$f":"may!F277","v":0},{"$f":"may!G277","v":0},{"$f":"may!H277","v":0},null,0,0,0,0,null,null,null,0,268,null,null,0]
[269,"SHERBORN                     ",269,null,0,0,0,0,null,0,0,null,null,0,0,null,0,null,0,269,null,null,0,269,null,null,null,{"$f":"may!E278","v":0},{"$f":"may!F278","v":0},{"$f":"may!G278","v":0},{"$f":"may!H278","v":0},null,0,0,0,0,null,null,null,0,269,null,null,0]
[270,"SHIRLEY                      ",270,null,0,0,0,0,null,0,0,null,null,0,0,null,0,null,0,270,null,null,0,270,null,null,null,{"$f":"may!E279","v":0},{"$f":"may!F279","v":0},{"$f":"may!G279","v":0},{"$f":"may!H279","v":0},null,0,0,0,0,null,null,null,0,270,null,null,0]
[271,"SHREWSBURY                   ",271,null,0,0,26.689999999999998,162855,null,0,0,null,null,0,162855,null,325736.69,null,0,271,null,null,0,271,26.689999999999998,162855,null,{"$f":"may!E280","v":0},{"$f":"may!F280","v":0},{"$f":"may!G280","v":28.66},{"$f":"may!H280","v":173357},null,0,0,-1.9700000000000024,-10502,null,null,null,0,271,26.689999999999998,162855,0]
[272,"SHUTESBURY                   ",272,null,0,0,11.459999999999999,61092,null,0,0,null,null,0,61092,null,122195.45999999999,null,0,272,null,null,0,272,11.459999999999999,61092,null,{"$f":"may!E281","v":0},{"$f":"may!F281","v":0},{"$f":"may!G281","v":10.92},{"$f":"may!H281","v":59086},null,0,0,0.53999999999999915,2006,null,null,null,0,272,11.459999999999999,61092,0]
[273,"SOMERSET                     ",273,null,0,0,13.68,73176,null,0,0,null,null,0,73176,null,146365.68,null,0,273,null,null,0,273,13.68,73176,null,{"$f":"may!E282","v":0},{"$f":"may!F282","v":0},{"$f":"may!G282","v":15.69},{"$f":"may!H282","v":99226},null,0,0,-2.0099999999999998,-26050,null,null,null,0,273,13.68,73176,0]
[274,"SOMERVILLE                   ",274,null,0,0,5,28400,null,0,0,null,null,0,28400,null,56805,null,0,274,null,null,0,274,5,28400,null,{"$f":"may!E283","v":0},{"$f":"may!F283","v":0},{"$f":"may!G283","v":5},{"$f":"may!H283","v":28400},null,0,0,0,0,null,null,null,0,274,5,28400,0]
[275,"SOUTHAMPTON                  ",276,null,70.88,435026,9.9499999999999993,75203,null,0,0,null,null,435026,75203,null,1020538.8300000001,null,0,275,70.88,435026,0,275,9.9499999999999993,75203,null,{"$f":"may!E284","v":70.88},{"$f":"may!F284","v":435026},{"$f":"may!G284","v":9.9499999999999993},{"$f":"may!H284","v":75203},null,0,0,0,0,null,70.88,435026,0,275,9.9499999999999993,75203,0]
[276,"SOUTHBOROUGH                 ",277,null,0,0,4.17,29818,null,0,0,null,null,0,29818,null,59640.17,null,0,276,null,null,0,276,4.17,29818,null,{"$f":"may!E285","v":0},{"$f":"may!F285","v":0},{"$f":"may!G285","v":4.17},{"$f":"may!H285","v":29818},null,0,0,0,0,null,null,null,0,276,4.17,29818,0]
[277,"SOUTHBRIDGE                  ",278,null,7.3100000000000005,36550,262.32999999999993,1489502,null,0,0,null,null,36550,1489502,null,3052373.6399999997,null,0,277,7.3100000000000005,36550,0,277,262.32999999999993,1489502,null,{"$f":"may!E286","v":6},{"$f":"may!F286","v":48902},{"$f":"may!G286","v":261.99},{"$f":"may!H286","v":1476269},null,1.3100000000000005,-12352,0.33999999999991815,13233,null,7.3100000000000005,36550,0,277,262.32999999999993,1489502,0]
[278,"SOUTH HADLEY                 ",275,null,162.38999999999999,903146,113.36000000000003,742567,null,-419,0,null,null,902727,742567,null,3290863.75,null,0,278,162.38999999999999,903146,0,278,113.36000000000003,742567,null,{"$f":"may!E287","v":162.39000000000001},{"$f":"may!F287","v":903146},{"$f":"may!G287","v":115.36000000000001},{"$f":"may!H287","v":753267},null,0,0,-1.9999999999999858,-10700,null,162.38999999999999,903146,0,278,113.36000000000003,742567,0]
[279,"SOUTHWICK                    ",279,null,0,0,0,0,null,0,0,null,null,0,0,null,0,null,0,279,null,null,0,279,null,null,null,{"$f":"may!E288","v":0},{"$f":"may!F288","v":0},{"$f":"may!G288","v":0},{"$f":"may!H288","v":0},null,0,0,0,0,null,null,null,0,279,null,null,0]
[280,"SPENCER                      ",280,null,0,0,0,0,null,0,0,null,null,0,0,null,0,null,0,280,null,null,0,280,null,null,null,{"$f":"may!E289","v":0},{"$f":"may!F289","v":0},{"$f":"may!G289","v":0},{"$f":"may!H289","v":0},null,0,0,0,0,null,null,null,0,280,null,null,0]
[281,"SPRINGFIELD                  ",281,null,14,78352,757.32000000000016,4480145,null,0,0,null,null,78352,4480145,null,9117765.3200000003,null,0,281,14,78352,0,281,757.32000000000016,4480145,null,{"$f":"may!E290","v":14.419999999999996},{"$f":"may!F290","v":80452},{"$f":"may!G290","v":765.06000000000017},{"$f":"may!H290","v":4523859},null,-0.41999999999999638,-2100,-7.7400000000000091,-43714,null,14,78352,0,281,757.32000000000016,4480145,0]
[282,"STERLING                     ",282,null,0,0,0,0,null,0,0,null,null,0,0,null,0,null,0,282,null,null,0,282,null,null,null,{"$f":"may!E291","v":0},{"$f":"may!F291","v":0},{"$f":"may!G291","v":0},{"$f":"may!H291","v":0},null,0,0,0,0,null,null,null,0,282,null,null,0]
[283,"STOCKBRIDGE                  ",283,null,0,0,0,0,null,0,0,null,null,0,0,null,0,null,0,283,null,null,0,283,null,null,null,{"$f":"may!E292","v":0},{"$f":"may!F292","v":0},{"$f":"may!G292","v":0},{"$f":"may!H292","v":0},null,0,0,0,0,null,null,null,0,283,null,null,0]
[284,"STONEHAM                     ",284,null,0,0,7.4899999999999993,51836,null,0,0,null,null,0,51836,null,103679.48999999999,null,0,284,null,null,0,284,7.4899999999999993,51836,null,{"$f":"may!E293","v":0},{"$f":"may!F293","v":0},{"$f":"may!G293","v":8.23},{"$f":"may!H293","v":58825},null,0,0,-0.7400000000000011,-6989,null,null,null,0,284,7.4899999999999993,51836,0]
[285,"STOUGHTON                    ",285,null,0,0,16.630000000000003,143635,null,0,0,null,null,0,143635,null,287286.63,null,0,285,null,null,0,285,16.630000000000003,143635,null,{"$f":"may!E294","v":0},{"$f":"may!F294","v":0},{"$f":"may!G294","v":16.630000000000003},{"$f":"may!H294","v":140256},null,0,0,0,3379,null,null,null,0,285,16.630000000000003,143635,0]
[286,"STOW                         ",286,null,0,0,0,0,null,0,0,null,null,0,0,null,0,null,0,286,null,null,0,286,null,null,null,{"$f":"may!E295","v":0},{"$f":"may!F295","v":0},{"$f":"may!G295","v":0},{"$f":"may!H295","v":0},null,0,0,0,0,null,null,null,0,286,null,null,0]
[287,"STURBRIDGE                   ",287,null,0,0,7.01,50085,null,0,0,null,null,0,50085,null,100177.01000000001,null,0,287,null,null,0,287,7.01,50085,null,{"$f":"may!E296","v":0},{"$f":"may!F296","v":0},{"$f":"may!G296","v":7.38},{"$f":"may!H296","v":51935},null,0,0,-0.37000000000000011,-1850,null,null,null,0,287,7.01,50085,0]
[288,"SUDBURY                      ",288,null,0,0,1.5,15112,null,0,0,null,null,0,15112,null,30225.5,null,0,288,null,null,0,288,1.5,15112,null,{"$f":"may!E297","v":0},{"$f":"may!F297","v":0},{"$f":"may!G297","v":2.5},{"$f":"may!H297","v":15356},null,0,0,-1,-244,null,null,null,0,288,1.5,15112,0]
[289,"SUNDERLAND                   ",289,null,41.51,303357,8,40000,null,0,0,null,null,303357,40000,null,686763.51,null,0,289,41.51,303357,0,289,8,40000,null,{"$f":"may!E298","v":42.349999999999994},{"$f":"may!F298","v":307557},{"$f":"may!G298","v":8},{"$f":"may!H298","v":40000},null,-0.83999999999999631,-4200,0,0,null,42.76,309607,-6250,289,8,40000,0]
[290,"SUTTON                       ",290,null,39,219083,17.899999999999999,96430,null,0,0,null,null,219083,96430,null,631082.9,null,0,290,39,219083,0,290,17.899999999999999,96430,null,{"$f":"may!E299","v":44},{"$f":"may!F299","v":244083},{"$f":"may!G299","v":23.9},{"$f":"may!H299","v":135295},null,-5,-25000,-6,-38865,null,39,219083,0,290,17.899999999999999,96430,0]
[291,"SWAMPSCOTT                   ",291,null,0,0,5.26,33737,null,0,0,null,null,0,33737,null,67479.260000000009,null,0,291,null,null,0,291,5.26,33737,null,{"$f":"may!E300","v":0},{"$f":"may!F300","v":0},{"$f":"may!G300","v":4.88},{"$f":"may!H300","v":31837},null,0,0,0.37999999999999989,1900,null,null,null,0,291,5.26,33737,0]
[292,"SWANSEA                      ",292,null,0,0,14,77201,null,0,0,null,null,0,77201,null,154416,null,0,292,null,null,0,292,14,77201,null,{"$f":"may!E301","v":0},{"$f":"may!F301","v":0},{"$f":"may!G301","v":16},{"$f":"may!H301","v":95201},null,0,0,-2,-18000,null,null,null,0,292,14,77201,0]
[293,"TAUNTON                      ",293,null,90.62,473718,112.57,629342,null,0,0,null,null,473718,629342,null,2206323.19,null,0,293,90.62,473718,0,293,112.57,629342,null,{"$f":"may!E302","v":91.62},{"$f":"may!F302","v":478718},{"$f":"may!G302","v":111.67999999999999},{"$f":"may!H302","v":649973},null,-1,-5000,0.89000000000000057,-20631,null,90.62,473718,0,293,112.57,629342,0]
[294,"TEMPLETON                    ",294,null,0,0,0,0,null,0,0,null,null,0,0,null,0,null,0,294,null,null,0,294,null,null,null,{"$f":"may!E303","v":0},{"$f":"may!F303","v":0},{"$f":"may!G303","v":0},{"$f":"may!H303","v":0},null,0,0,0,0,null,null,null,0,294,null,null,0]
[295,"TEWKSBURY                    ",295,null,0,0,6.35,40779,null,0,0,null,null,0,40779,null,81564.350000000006,null,0,295,null,null,0,295,6.35,40779,null,{"$f":"may!E304","v":0},{"$f":"may!F304","v":0},{"$f":"may!G304","v":6.35},{"$f":"may!H304","v":40779},null,0,0,0,0,null,null,null,0,295,6.35,40779,0]
[296,"TISBURY                      ",296,null,21.03,110661,45.45,249547,null,0,0,null,null,110661,249547,null,720482.48,null,0,296,21.03,110661,0,296,45.45,249547,null,{"$f":"may!E305","v":21.030000000000005},{"$f":"may!F305","v":110661},{"$f":"may!G305","v":43},{"$f":"may!H305","v":260852},null,0,0,2.4500000000000028,-11305,null,21.03,110661,0,296,45.45,249547,0]
[297,"TOLLAND                      ",297,null,0,0,0,0,null,0,0,null,null,0,0,null,0,null,0,297,null,null,0,297,null,null,null,{"$f":"may!E306","v":0},{"$f":"may!F306","v":0},{"$f":"may!G306","v":0},{"$f":"may!H306","v":0},null,0,0,0,0,null,null,null,0,297,null,null,0]
[298,"TOPSFIELD                    ",298,null,0,0,0,0,null,0,0,null,null,0,0,null,0,null,0,298,null,null,0,298,null,null,null,{"$f":"may!E307","v":0},{"$f":"may!F307","v":0},{"$f":"may!G307","v":0},{"$f":"may!H307","v":0},null,0,0,0,0,null,null,null,0,298,null,null,0]
[299,"TOWNSEND                     ",299,null,0,0,0,0,null,0,0,null,null,0,0,null,0,null,0,299,null,null,0,299,null,null,null,{"$f":"may!E308","v":0},{"$f":"may!F308","v":0},{"$f":"may!G308","v":0},{"$f":"may!H308","v":0},null,0,0,0,0,null,null,null,0,299,null,null,0]
[300,"TRURO                        ",300,null,14.870000000000001,80283,23.009999999999998,253107,null,0,0,null,null,80283,253107,null,666817.88,null,0,300,14.870000000000001,80283,0,300,23.009999999999998,253107,null,{"$f":"may!E309","v":14.87},{"$f":"may!F309","v":80283},{"$f":"may!G309","v":23.009999999999998},{"$f":"may!H309","v":253107},null,0,0,0,0,null,14.870000000000001,80283,0,300,23.009999999999998,253107,0]
[301,"TYNGSBOROUGH                 ",301,null,42.78,243391,26.63,139166,null,0,0,null,null,243391,139166,null,765183.41,null,0,301,42.78,243391,0,301,26.63,139166,null,{"$f":"may!E310","v":42.78},{"$f":"may!F310","v":243391},{"$f":"may!G310","v":26.63},{"$f":"may!H310","v":136550},null,0,0,0,2616,null,42.78,243391,0,301,26.63,139166,0]
[302,"TYRINGHAM                    ",302,null,0,0,13,67175,null,0,0,null,null,0,67175,null,134363,null,0,302,null,null,0,302,13,67175,null,{"$f":"may!E311","v":0},{"$f":"may!F311","v":0},{"$f":"may!G311","v":13},{"$f":"may!H311","v":67175},null,0,0,0,0,null,null,null,0,302,13,67175,0]
[303,"UPTON                        ",303,null,0,0,0,0,null,0,0,null,null,0,0,null,0,null,0,303,null,null,0,303,null,null,null,{"$f":"may!E312","v":0},{"$f":"may!F312","v":0},{"$f":"may!G312","v":0},{"$f":"may!H312","v":0},null,0,0,0,0,null,null,null,0,303,null,null,0]
[304,"UXBRIDGE                     ",304,null,136.07000000000002,869573,178.47000000000003,985307,null,0,0,null,null,869573,985307,null,3710074.54,null,0,304,136.07000000000002,869573,0,304,178.47000000000003,985307,null,{"$f":"may!E313","v":136.1},{"$f":"may!F313","v":869723},{"$f":"may!G313","v":179.47000000000006},{"$f":"may!H313","v":988989},null,-2.9999999999972715E-2,-150,-1.0000000000000284,-3682,null,136.07000000000002,869573,0,304,178.47000000000003,985307,0]
[305,"WAKEFIELD                    ",305,null,0,0,12.450000000000003,77960,null,0,0,null,null,0,77960,null,155932.45000000001,null,0,305,null,null,0,305,12.450000000000003,77960,null,{"$f":"may!E314","v":0},{"$f":"may!F314","v":0},{"$f":"may!G314","v":13.21},{"$f":"may!H314","v":82996},null,0,0,-0.75999999999999801,-5036,null,null,null,0,305,12.450000000000003,77960,0]
[306,"WALES                        ",306,null,6.17,30850,14,75395,null,0,0,null,null,30850,75395,null,212510.16999999998,null,0,306,6.17,30850,0,306,14,75395,null,{"$f":"may!E315","v":6.17},{"$f":"may!F315","v":30850},{"$f":"may!G315","v":12},{"$f":"may!H315","v":65395},null,0,0,2,10000,null,6.17,30850,0,306,14,75395,0]
[307,"WALPOLE                      ",307,null,0,0,9.879999999999999,61154,null,0,0,null,null,0,61154,null,122317.88,null,0,307,null,null,0,307,9.879999999999999,61154,null,{"$f":"may!E316","v":0},{"$f":"may!F316","v":0},{"$f":"may!G316","v":9.879999999999999},{"$f":"may!H316","v":61154},null,0,0,0,0,null,null,null,0,307,9.879999999999999,61154,0]
[308,"WALTHAM                      ",308,null,0,0,8.33,56012,null,0,0,null,null,0,56012,null,112032.33,null,0,308,null,null,0,308,8.33,56012,null,{"$f":"may!E317","v":0},{"$f":"may!F317","v":0},{"$f":"may!G317","v":8.83},{"$f":"may!H317","v":59324},null,0,0,-0.5,-3312,null,null,null,0,308,8.33,56012,0]
[309,"WARE                         ",309,null,49.810000000000009,312803,183.72,1057969,null,-102,0,null,null,312701,1057969,null,2741573.5300000003,null,0,309,49.810000000000009,312803,0,309,183.72,1057969,null,{"$f":"may!E318","v":49.810000000000009},{"$f":"may!F318","v":312803},{"$f":"may!G318","v":184.08},{"$f":"may!H318","v":1058217},null,0,0,-0.36000000000001364,-248,null,49.810000000000009,312803,0,309,183.72,1057969,0]
[310,"WAREHAM                      ",310,null,26.95,146058,185.13000000000002,1188700,null,0,0,null,null,146058,1188700,null,2669728.08,null,0,310,26.95,146058,0,310,185.13000000000002,1188700,null,{"$f":"may!E319","v":26.95},{"$f":"may!F319","v":146058},{"$f":"may!G319","v":185.8},{"$f":"may!H319","v":1193155},null,0,0,-0.66999999999998749,-4455,null,26.95,146058,0,310,185.13000000000002,1188700,0]
[311,"WARREN                       ",311,null,0,0,0,0,null,0,0,null,null,0,0,null,0,null,0,311,null,null,0,311,null,null,null,{"$f":"may!E320","v":0},{"$f":"may!F320","v":0},{"$f":"may!G320","v":0},{"$f":"may!H320","v":0},null,0,0,0,0,null,null,null,0,311,null,null,0]
[312,"WARWICK                      ",312,null,0,0,0,0,null,0,0,null,null,0,0,null,0,null,0,312,null,null,0,312,null,null,null,{"$f":"may!E321","v":0},{"$f":"may!F321","v":0},{"$f":"may!G321","v":0},{"$f":"may!H321","v":0},null,0,0,0,0,null,null,null,0,312,null,null,0]
[313,"WASHINGTON                   ",313,null,0,0,0,0,null,0,0,null,null,0,0,null,0,null,0,313,null,null,0,313,null,null,null,{"$f":"may!E322","v":0},{"$f":"may!F322","v":0},{"$f":"may!G322","v":0},{"$f":"may!H322","v":0},null,0,0,0,0,null,null,null,0,313,null,null,0]
[314,"WATERTOWN                    ",314,null,0,0,8.32,57084,null,0,0,null,null,0,57084,null,114176.32000000001,null,0,314,null,null,0,314,8.32,57084,null,{"$f":"may!E323","v":0},{"$f":"may!F323","v":0},{"$f":"may!G323","v":8.32},{"$f":"may!H323","v":57084},null,0,0,0,0,null,null,null,0,314,8.32,57084,0]
[315,"WAYLAND                      ",315,null,0,0,3.95,82023,null,0,0,null,null,0,82023,null,164049.95000000001,null,0,315,null,null,0,315,3.95,82023,null,{"$f":"may!E324","v":0},{"$f":"may!F324","v":0},{"$f":"may!G324","v":3.95},{"$f":"may!H324","v":27144},null,0,0,0,54879,null,null,null,0,315,3.95,82023,0]
[316,"WEBSTER                      ",316,null,28.67,145981,113.26,630939,null,0,0,null,null,145981,630939,null,1553981.9300000002,null,0,316,28.67,145981,0,316,113.26,630939,null,{"$f":"may!E325","v":31},{"$f":"may!F325","v":161248},{"$f":"may!G325","v":111.97},{"$f":"may!H325","v":626887},null,-2.3299999999999983,-15267,1.2900000000000063,4052,null,28.67,145981,0,316,113.26,630939,0]
[317,"WELLESLEY                    ",317,null,0,0,0.11,550,null,0,0,null,null,0,550,null,1100.1100000000001,null,0,317,null,null,0,317,0.11,550,null,{"$f":"may!E326","v":0},{"$f":"may!F326","v":0},{"$f":"may!G326","v":0.11},{"$f":"may!H326","v":550},null,0,0,0,0,null,null,null,0,317,0.11,550,0]
[318,"WELLFLEET                    ",318,null,0,0,10.02,67587,null,0,0,null,null,0,67587,null,135184.02000000002,null,0,318,null,null,0,318,10.02,67587,null,{"$f":"may!E327","v":0},{"$f":"may!F327","v":0},{"$f":"may!G327","v":10.02},{"$f":"may!H327","v":67587},null,0,0,0,0,null,null,null,0,318,10.02,67587,0]
[319,"WENDELL                      ",319,null,0,0,0,0,null,0,0,null,null,0,0,null,0,null,0,319,null,null,0,319,null,null,null,{"$f":"may!E328","v":0},{"$f":"may!F328","v":0},{"$f":"may!G328","v":0},{"$f":"may!H328","v":0},null,0,0,0,0,null,null,null,0,319,null,null,0]
[320,"WENHAM                       ",320,null,0,0,0,0,null,0,0,null,null,0,0,null,0,null,0,320,null,null,0,320,null,null,null,{"$f":"may!E329","v":0},{"$f":"may!F329","v":0},{"$f":"may!G329","v":0},{"$f":"may!H329","v":0},null,0,0,0,0,null,null,null,0,320,null,null,0]
[321,"WESTBOROUGH                  ",328,null,0,0,6.52,39757,null,0,0,null,null,0,39757,null,79520.51999999999,null,{"$f":"ABS(A330-T330)","v":0},321,null,null,{"$f":"ABS(X330-A330)","v":0},321,6.52,39757,null,{"$f":"may!E330","v":0},{"$f":"may!F330","v":0},{"$f":"may!G330","v":6.52},{"$f":"may!H330","v":34300},null,0,0,0,5457,null,null,null,0,321,6.52,39757,0]
[322,"WEST BOYLSTON                ",321,null,{"$f":"U331","v":161.24},{"$f":"V331","v":897277},{"$f":"Y331","v":31.95},{"$f":"Z331","v":195235},null,0,0,null,null,{"$f":"F331+J331","v":897277},{"$f":"H331+K331","v":195235},null,{"$f":"SUM(E331:O331)","v":2185217.19},null,0,322,161.24,897277,0,322,31.95,195235,null,{"$f":"may!E331","v":161.24},{"$f":"may!F331","v":897277},{"$f":"may!G331","v":30.95},{"$f":"may!H331","v":195808},null,{"$f":"U331-AB331","v":0},{"$f":"V331-AC331","v":0},{"$f":"Y331-AD331","v":1},{"$f":"Z331-AE331","v":-573},null,161.24,897277,{"$f":"V331-AM331","v":0},322,31.95,195235,{"$f":"Z331-AQ331","v":0}]
[323,"WEST BRIDGEWATER             ",322,null,246.23,1425839,7.44,41740,null,0,0,null,null,1425839,41740,null,2935411.67,null,0,323,246.23,1425839,0,323,7.44,41740,null,{"$f":"may!E332","v":246.23},{"$f":"may!F332","v":1425839},{"$f":"may!G332","v":7.4399999999999995},{"$f":"may!H332","v":57740},null,0,0,0,-16000,null,246.23,1425839,0,323,7.44,41740,0]
[324,"WEST BROOKFIELD              ",323,null,0,0,11.049999999999999,61303,null,0,0,null,null,0,61303,null,122617.05,null,0,324,null,null,0,324,11.049999999999999,61303,null,{"$f":"may!E333","v":0},{"$f":"may!F333","v":0},{"$f":"may!G333","v":11.049999999999999},{"$f":"may!H333","v":61303},null,0,0,0,0,null,null,null,0,324,11.049999999999999,61303,0]
[325,"WESTFIELD                    ",329,null,129.81,776499,133.95999999999995,786431,null,0,0,null,null,776499,786431,null,3126123.77,null,0,325,129.81,776499,0,325,133.95999999999995,786431,null,{"$f":"may!E334","v":131.73000000000005},{"$f":"may!F334","v":796969},{"$f":"may!G334","v":134.30000000000001},{"$f":"may!H334","v":789386},null,-1.9200000000000443,-20470,-0.34000000000006025,-2955,null,129.81,776499,0,325,133.95999999999995,786431,0]
[326,"WESTFORD                     ",330,null,68.490000000000009,416682,12.51,86727,null,0,0,null,null,416682,86727,null,1006899,null,0,326,68.490000000000009,416682,0,326,12.51,86727,null,{"$f":"may!E335","v":68.490000000000009},{"$f":"may!F335","v":337450},{"$f":"may!G335","v":12.760000000000002},{"$f":"may!H335","v":87977},null,0,79232,-0.25000000000000178,-1250,null,68.490000000000009,416682,0,326,12.51,86727,0]
[327,"WESTHAMPTON                  ",331,null,18.600000000000001,148579,7,46027,null,0,0,null,null,148579,46027,null,389237.6,null,0,327,18.600000000000001,148579,0,327,7,46027,null,{"$f":"may!E336","v":18.600000000000001},{"$f":"may!F336","v":148579},{"$f":"may!G336","v":7},{"$f":"may!H336","v":46027},null,0,0,0,0,null,18.600000000000001,148579,0,327,7,46027,0]
[328,"WESTMINSTER                  ",332,null,0,0,0,0,null,0,0,null,null,0,0,null,0,null,0,328,null,null,0,328,null,null,null,{"$f":"may!E337","v":0},{"$f":"may!F337","v":0},{"$f":"may!G337","v":0},{"$f":"may!H337","v":0},null,0,0,0,0,null,null,null,0,328,null,null,0]
[329,"WEST NEWBURY                 ",324,null,0,0,0,0,null,0,0,null,null,0,0,null,0,null,0,329,null,null,0,329,null,null,null,{"$f":"may!E338","v":0},{"$f":"may!F338","v":0},{"$f":"may!G338","v":0},{"$f":"may!H338","v":0},null,0,0,0,0,null,null,null,0,329,null,null,0]
[330,"WESTON                       ",333,null,0,0,3,22553,null,0,0,null,null,0,22553,null,45109,null,0,330,null,null,0,330,3,22553,null,{"$f":"may!E339","v":0},{"$f":"may!F339","v":0},{"$f":"may!G339","v":3},{"$f":"may!H339","v":20700},null,0,0,0,1853,null,null,null,0,330,3,22553,0]
[331,"WESTPORT                     ",334,null,0,0,14.01,78077,null,0,0,null,null,0,78077,null,156168.01,null,0,331,null,null,0,331,14.01,78077,null,{"$f":"may!E340","v":0},{"$f":"may!F340","v":0},{"$f":"may!G340","v":14.02},{"$f":"may!H340","v":78127},null,0,0,-9.9999999999997868E-3,-50,null,null,null,0,331,14.01,78077,0]
[332,"WEST SPRINGFIELD             ",325,null,108.1,624831,42.06,267396,null,0,0,null,null,624831,267396,null,1784604.1600000001,null,0,332,108.1,624831,0,332,42.06,267396,null,{"$f":"may!E341","v":114},{"$f":"may!F341","v":684643},{"$f":"may!G341","v":43.08},{"$f":"may!H341","v":271352},null,-5.9000000000000057,-59812,-1.019999999999996,-3956,null,108.1,624831,0,332,42.06,267396,0]
[333,"WEST STOCKBRIDGE             ",326,null,0,0,0,0,null,0,0,null,null,0,0,null,0,null,0,333,null,null,0,333,null,null,null,{"$f":"may!E342","v":0},{"$f":"may!F342","v":0},{"$f":"may!G342","v":0},{"$f":"may!H342","v":0},null,0,0,0,0,null,null,null,0,333,null,null,0]
[334,"WEST TISBURY                 ",327,null,0,0,0,0,null,0,0,null,null,0,0,null,0,null,0,334,null,null,0,334,null,null,null,{"$f":"may!E343","v":0},{"$f":"may!F343","v":0},{"$f":"may!G343","v":0},{"$f":"may!H343","v":0},null,0,0,0,0,null,null,null,0,334,null,null,0]
[335,"WESTWOOD                     ",335,null,0,0,0,0,null,0,0,null,null,0,0,null,0,null,0,335,null,null,0,335,null,null,null,{"$f":"may!E344","v":0},{"$f":"may!F344","v":0},{"$f":"may!G344","v":0},{"$f":"may!H344","v":0},null,0,0,0,0,null,null,null,0,335,null,null,0]
[336,"WEYMOUTH                     ",336,null,0,0,19.21,123174,null,0,0,null,null,0,123174,null,246367.21000000002,null,0,336,null,null,0,336,19.21,123174,null,{"$f":"may!E345","v":0},{"$f":"may!F345","v":0},{"$f":"may!G345","v":19.21},{"$f":"may!H345","v":123174},null,0,0,0,0,null,null,null,0,336,19.21,123174,0]
[337,"WHATELY                      ",337,null,44.86,264213,5,66211,null,0,0,null,null,264213,66211,null,660897.86,null,0,337,44.86,264213,0,337,5,66211,null,{"$f":"may!E346","v":45.959999999999994},{"$f":"may!F346","v":269713},{"$f":"may!G346","v":6.1},{"$f":"may!H346","v":71711},null,-1.0999999999999943,-5500,-1.0999999999999996,-5500,null,44.86,264213,0,337,5,66211,0]
[338,"WHITMAN                      ",338,null,0,0,0,0,null,0,0,null,null,0,0,null,0,null,0,338,null,null,0,338,null,null,null,{"$f":"may!E347","v":0},{"$f":"may!F347","v":0},{"$f":"may!G347","v":0},{"$f":"may!H347","v":0},null,0,0,0,0,null,null,null,0,338,null,null,0]
[339,"WILBRAHAM                    ",339,null,0,0,0,0,null,0,0,null,null,0,0,null,0,null,0,339,null,null,0,339,null,null,null,{"$f":"may!E348","v":0},{"$f":"may!F348","v":0},{"$f":"may!G348","v":0},{"$f":"may!H348","v":0},null,0,0,0,0,null,null,null,0,339,null,null,0]
[340,"WILLIAMSBURG                 ",340,null,18.41,102805,17.189999999999998,95976,null,0,0,null,null,102805,95976,null,397597.6,null,0,340,18.41,102805,0,340,17.189999999999998,95976,null,{"$f":"may!E349","v":18.409999999999997},{"$f":"may!F349","v":102805},{"$f":"may!G349","v":17.57},{"$f":"may!H349","v":97876},null,0,0,-0.38000000000000256,-1900,null,18.41,102805,0,340,17.189999999999998,95976,0]
[341,"WILLIAMSTOWN                 ",341,null,31.92,169504,2,10000,null,0,0,null,null,169504,10000,null,359041.92000000004,null,0,341,31.92,169504,0,341,2,10000,null,{"$f":"may!E350","v":31.92},{"$f":"may!F350","v":169504},{"$f":"may!G350","v":1},{"$f":"may!H350","v":5000},null,0,0,1,5000,null,31.92,169504,0,341,2,10000,0]
[342,"WILMINGTON                   ",342,null,0,0,1.08,8041,null,0,0,null,null,0,8041,null,16083.08,null,0,342,null,null,0,342,1.08,8041,null,{"$f":"may!E351","v":0},{"$f":"may!F351","v":0},{"$f":"may!G351","v":1.1599999999999999},{"$f":"may!H351","v":8571},null,0,0,-7.9999999999999849E-2,-530,null,null,null,0,342,1.08,8041,0]
[343,"WINCHENDON                   ",343,null,29,145000,140.28000000000006,805543,null,-51305,0,null,null,93695,805543,null,1798645.28,null,0,343,29,145000,0,343,140.28000000000006,805543,null,{"$f":"may!E352","v":30},{"$f":"may!F352","v":150000},{"$f":"may!G352","v":143.63000000000005},{"$f":"may!H352","v":816550},null,-1,-5000,-3.3499999999999943,-11007,null,29,145000,0,343,143.28000000000006,820543,-15000]
[344,"WINCHESTER                   ",344,null,0,0,3.8,28183,null,0,0,null,null,0,28183,null,56369.8,null,0,344,null,null,0,344,3.8,28183,null,{"$f":"may!E353","v":0},{"$f":"may!F353","v":0},{"$f":"may!G353","v":3.8},{"$f":"may!H353","v":28183},null,0,0,0,0,null,null,null,0,344,3.8,28183,0]
[345,"WINDSOR                      ",345,null,0,0,0,0,null,0,0,null,null,0,0,null,0,null,0,345,null,null,0,345,null,null,null,{"$f":"may!E354","v":0},{"$f":"may!F354","v":0},{"$f":"may!G354","v":0},{"$f":"may!H354","v":0},null,0,0,0,0,null,null,null,0,345,null,null,0]
[346,"WINTHROP                     ",346,null,16,87223,3.8499999999999996,24182,null,0,0,null,null,87223,24182,null,222829.85,null,0,346,16,87223,0,346,3.8499999999999996,24182,null,{"$f":"may!E355","v":16},{"$f":"may!F355","v":80000},{"$f":"may!G355","v":3.8499999999999996},{"$f":"may!H355","v":24182},null,0,7223,0,0,null,16,87223,0,346,3.8499999999999996,24182,0]
[347,"WOBURN",347,null,0,0,16.020000000000003,87032,null,0,0,null,null,0,87032,null,174080.02000000002,null,0,347,null,null,0,347,16.020000000000003,87032,null,{"$f":"may!E356","v":0},{"$f":"may!F356","v":0},{"$f":"may!G356","v":17.48},{"$f":"may!H356","v":96964},null,0,0,-1.4599999999999973,-9932,null,null,null,0,347,16.020000000000003,87032,0]
[348,"WORCESTER                    ",348,null,69.150000000000006,391327,473.96000000000009,2669896,null,0,0,null,null,391327,2669896,null,6122989.1099999994,null,0,348,69.150000000000006,391327,0,348,473.96000000000009,2669896,null,{"$f":"may!E357","v":73},{"$f":"may!F357","v":423431},{"$f":"may!G357","v":477.12},{"$f":"may!H357","v":2714656},null,-3.8499999999999943,-32104,-3.1599999999999113,-44760,null,69.150000000000006,391327,0,348,472.96000000000009,2664896,5000]
[349,"WORTHINGTON                  ",349,null,5.37,26850,54.339999999999996,467624,null,0,0,null,null,26850,467624,null,989007.71,null,0,349,5.37,26850,0,349,54.339999999999996,467624,null,{"$f":"may!E358","v":5.36},{"$f":"may!F358","v":26800},{"$f":"may!G358","v":53.42},{"$f":"may!H358","v":450807},null,9.9999999999997868E-3,50,0.9199999999999946,16817,null,5.37,26850,0,349,54.339999999999996,467624,0]
[350,"WRENTHAM                     ",350,null,0,0,4.17,20850,null,0,0,null,null,0,20850,null,41704.17,null,0,350,null,null,0,350,4.17,20850,null,{"$f":"may!E359","v":0},{"$f":"may!F359","v":0},{"$f":"may!G359","v":4.17},{"$f":"may!H359","v":20850},null,0,0,0,0,null,null,null,0,350,4.17,20850,0]
[351,"YARMOUTH                     ",351,null,0,0,0,0,null,0,0,null,null,0,0,null,0,null,0,351,null,null,0,351,null,null,null,{"$f":"may!E360","v":0},{"$f":"may!F360","v":0},{"$f":"may!G360","v":0},{"$f":"may!H360","v":0},null,0,0,0,0,null,null,null,0,351,null,null,0]
[352,"DEVENS",352,null,0,0,5,26703,null,0,0,null,null,0,26703,null,53411,null,0,352,null,null,0,352,5,26703,null,{"$f":"may!E361","v":0},{"$f":"may!F361","v":0},{"$f":"may!G361","v":6},{"$f":"may!H361","v":33408},null,0,0,-1,-6705,null,null,null,0,352,5,26703,0]
[406,"NORTHAMPTON SMITH            ",406,null,0,0,0,0,null,0,0,null,null,0,0,null,0,null,0,406,null,null,0,406,null,null,null,{"$f":"may!E362","v":0},{"$f":"may!F362","v":0},{"$f":"may!G362","v":0},{"$f":"may!H362","v":0},null,0,0,0,0,null,null,null,0,406,null,null,0]
[600,"ACTON BOXBOROUGH             ",701,null,39,224191,14.27,99055,null,0,0,null,null,224191,99055,null,646545.27,null,0,600,39,224191,0,600,14.27,99055,null,{"$f":"may!E363","v":39},{"$f":"may!F363","v":224191},{"$f":"may!G363","v":13.27},{"$f":"may!H363","v":72050},null,0,0,1,27005,null,39,224191,0,600,14.27,99055,0]
[603,"ADAMS CHESHIRE               ",702,null,54.550000000000004,309389,79.16,496241,null,0,0,null,null,309389,496241,null,1611393.71,null,0,603,54.550000000000004,309389,0,603,79.16,496241,null,{"$f":"may!E364","v":54.550000000000011},{"$f":"may!F364","v":309389},{"$f":"may!G364","v":79.61999999999999},{"$f":"may!H364","v":499396},null,0,0,-0.45999999999999375,-3155,null,54.550000000000004,309389,0,603,79.16,496241,0]
[605,"AMHERST PELHAM               ",703,null,69.400000000000006,485602,34.470000000000006,274579,null,0,0,null,null,485602,274579,null,1520465.87,null,0,605,69.400000000000006,485602,0,605,34.470000000000006,274579,null,{"$f":"may!E365","v":73},{"$f":"may!F365","v":482749},{"$f":"may!G365","v":34.370000000000005},{"$f":"may!H365","v":274787},null,-3.5999999999999943,2853,0.10000000000000142,-208,null,69.400000000000006,485602,0,605,34.470000000000006,274579,0]
[610,"ASHBURNHAM WESTMINSTER       ",704,null,200.22,1066295,60.95,325990,null,0,0,null,null,1066295,325990,null,2784831.17,null,0,610,200.22,1066295,0,610,60.95,325990,null,{"$f":"may!E366","v":201.24999999999997},{"$f":"may!F366","v":1071445},{"$f":"may!G366","v":58.95},{"$f":"may!H366","v":315990},null,-1.0299999999999727,-5150,2,10000,null,200.22,1066295,0,610,58.95,315990,10000]
[615,"ATHOL ROYALSTON              ",705,null,66.070000000000007,386650,364.54000000000008,2243909,null,0,0,null,null,386650,2243909,null,5261548.6099999994,null,0,615,66.070000000000007,386650,0,615,364.54000000000008,2243909,null,{"$f":"may!E367","v":52},{"$f":"may!F367","v":335741},{"$f":"may!G367","v":367.37000000000012},{"$f":"may!H367","v":2265039},null,14.070000000000007,50909,-2.8300000000000409,-21130,null,66.070000000000007,386650,0,615,364.54000000000008,2243909,0]
[616,"AYER SHIRLEY",616,null,135.34,797878,127.73999999999998,712089,null,0,0,null,null,797878,712089,null,3020197.08,null,0,616,135.34,797878,0,616,127.73999999999998,712089,null,{"$f":"may!E368","v":134},{"$f":"may!F368","v":819792},{"$f":"may!G368","v":126.73999999999998},{"$f":"may!H368","v":687745},null,1.3400000000000034,-21914,1,24344,null,135.34,797878,0,616,127.73999999999998,712089,0]
[618,"BERKSHIRE HILLS              ",706,null,225.2,1272636,103.19,588844,null,-1050,0,null,null,1271586,588844,null,3721188.3899999997,null,0,618,225.2,1272636,0,618,103.19,588844,null,{"$f":"may!E369","v":226},{"$f":"may!F369","v":1270730},{"$f":"may!G369","v":103.19},{"$f":"may!H369","v":598812},null,-0.80000000000001137,1906,0,-9968,null,225.2,1272636,0,618,103.19,588844,0]
[620,"BERLIN BOYLSTON              ",707,null,90,532024,27.689999999999998,156067,null,0,0,null,null,532024,156067,null,1376299.69,null,0,620,90,532024,0,620,27.689999999999998,156067,null,{"$f":"may!E370","v":90},{"$f":"may!F370","v":514387},{"$f":"may!G370","v":27.689999999999998},{"$f":"may!H370","v":156067},null,0,17637,0,0,null,90,532024,0,620,27.689999999999998,156067,0]
[622,"BLACKSTONE MILLVILLE         ",765,null,45.800000000000011,246347,90.539999999999992,507522,null,0,0,null,null,246347,507522,null,1507874.3399999999,null,0,622,45.800000000000011,246347,0,622,90.539999999999992,507522,null,{"$f":"may!E371","v":45.800000000000011},{"$f":"may!F371","v":246347},{"$f":"may!G371","v":89.539999999999978},{"$f":"may!H371","v":501594},null,0,0,1.0000000000000142,5928,null,45.800000000000011,246347,0,622,90.539999999999992,507522,0]
[625,"BRIDGEWATER RAYNHAM          ",710,null,28.09,154948,155.88,903061,null,0,0,null,null,154948,903061,null,2116201.9699999997,null,0,625,28.09,154948,0,625,155.88,903061,null,{"$f":"may!E372","v":28.09},{"$f":"may!F372","v":154948},{"$f":"may!G372","v":158.60999999999999},{"$f":"may!H372","v":917133},null,0,0,-2.7299999999999898,-14072,null,28.09,154948,0,625,155.88,903061,0]
[632,"CHESTERFIELD GOSHEN",632,null,23.58,155514,11,62761,null,0,0,null,null,155514,62761,null,436584.57999999996,null,0,632,23.58,155514,0,632,11,62761,null,{"$f":"may!E373","v":23.580000000000002},{"$f":"may!F373","v":155514},{"$f":"may!G373","v":11},{"$f":"may!H373","v":62761},null,0,0,0,0,null,23.58,155514,0,632,11,62761,0]
[635,"CENTRAL BERKSHIRE            ",712,null,162.89000000000001,1035125,167.41999999999996,965551,null,0,0,null,null,1035125,965551,null,4001682.31,null,0,635,162.89000000000001,1035125,0,635,167.41999999999996,965551,null,{"$f":"may!E374","v":161},{"$f":"may!F374","v":1022486},{"$f":"may!G374","v":167.95},{"$f":"may!H374","v":962498},null,1.8900000000000148,12639,-0.53000000000002956,3053,null,162.89000000000001,1035125,0,635,170.41999999999996,986501,-20950]
[640,"CONCORD CARLISLE             ",713,null,0,0,1.88,12742,null,0,0,null,null,0,12742,null,25485.879999999997,null,0,640,null,null,0,640,1.88,12742,null,{"$f":"may!E375","v":0},{"$f":"may!F375","v":0},{"$f":"may!G375","v":1.88},{"$f":"may!H375","v":12742},null,0,0,0,0,null,null,null,0,640,1.88,12742,0]
[645,"DENNIS YARMOUTH              ",714,null,121.98,792724,352.82000000000022,2142965,null,0,-430,null,null,792724,2142535,null,5870992.7999999998,null,0,645,121.98,792724,0,645,352.82000000000022,2142965,null,{"$f":"may!E376","v":123.03},{"$f":"may!F376","v":797974},{"$f":"may!G376","v":353.85000000000025},{"$f":"may!H376","v":2148115},null,-1.0499999999999972,-5250,-1.0300000000000296,-5150,null,121.98,792724,0,645,353.07000000000022,2144215,-1250]
[650,"DIGHTON REHOBOTH             ",715,null,10,50000,24.790000000000003,133966,null,0,0,null,null,50000,133966,null,367966.79000000004,null,0,650,10,50000,0,650,24.790000000000003,133966,null,{"$f":"may!E377","v":10},{"$f":"may!F377","v":50000},{"$f":"may!G377","v":25.05},{"$f":"may!H377","v":149688},null,0,0,-0.25999999999999801,-15722,null,10,50000,0,650,24.790000000000003,133966,0]
[655,"DOVER SHERBORN               ",716,null,0,0,5.43,33203,null,0,0,null,null,0,33203,null,66411.429999999993,null,0,655,null,null,0,655,5.43,33203,null,{"$f":"may!E378","v":0},{"$f":"may!F378","v":0},{"$f":"may!G378","v":4.54},{"$f":"may!H378","v":28753},null,0,0,0.88999999999999968,4450,null,null,null,0,655,5.43,33203,0]
[658,"DUDLEY CHARLTON              ",780,null,144.54000000000002,809841,56.080000000000005,317369,null,0,0,null,null,809841,317369,null,2254620.62,null,0,658,144.54000000000002,809841,0,658,56.080000000000005,317369,null,{"$f":"may!E379","v":145.90999999999997},{"$f":"may!F379","v":816691},{"$f":"may!G379","v":59.48},{"$f":"may!H379","v":338083},null,-1.3699999999999477,-6850,-3.3999999999999915,-20714,null,145.91,816691,-6850,658,57.449999999999996,324219,-6850]
[660,"NAUSET                       ",776,null,279.53999999999996,1611078,32.26,252619,null,0,-3094,null,null,1611078,249525,null,3721517.8,null,0,660,279.53999999999996,1611078,0,660,32.26,252619,null,{"$f":"may!E380","v":279.78999999999996},{"$f":"may!F380","v":1612328},{"$f":"may!G380","v":32.479999999999997},{"$f":"may!H380","v":254076},null,-0.25,-1250,-0.21999999999999886,-1457,null,279.78999999999996,1612328,-1250,660,32.26,252619,0]
[662,"FARMINGTON RIVER",788,null,15,82080,44.91,243875,null,0,0,null,null,82080,243875,null,651969.91,null,0,662,15,82080,0,662,44.91,243875,null,{"$f":"may!E381","v":15},{"$f":"may!F381","v":82080},{"$f":"may!G381","v":44.91},{"$f":"may!H381","v":243875},null,0,0,0,0,null,15,82080,0,662,44.91,243875,0]
[665,"FREETOWN LAKEVILLE           ",718,null,40.97,212263,27.250000000000004,144812,null,0,0,null,null,212263,144812,null,714218.22,null,0,665,40.97,212263,0,665,27.250000000000004,144812,null,{"$f":"may!E382","v":40.97},{"$f":"may!F382","v":212263},{"$f":"may!G382","v":27.250000000000004},{"$f":"may!H382","v":144812},null,0,0,0,0,null,40.97,212263,0,665,27.250000000000004,144812,0]
[670,"FRONTIER                     ",720,null,129.17000000000002,1046172,55.09,325837,null,0,0,null,null,1046172,325837,null,2744202.26,null,0,670,129.17000000000002,1046172,0,670,55.09,325837,null,{"$f":"may!E383","v":130.06},{"$f":"may!F383","v":1057146},{"$f":"may!G383","v":56.930000000000007},{"$f":"may!H383","v":344231},null,-0.88999999999998636,-10974,-1.8400000000000034,-18394,null,127.06,1032952,13220,670,55.09,325837,0]
[672,"GATEWAY                      ",721,null,45.8,309353,73.02,489020,null,0,0,null,null,309353,489020,null,1596864.82,null,0,672,45.8,309353,0,672,73.02,489020,null,{"$f":"may!E384","v":45.8},{"$f":"may!F384","v":309353},{"$f":"may!G384","v":75.539999999999992},{"$f":"may!H384","v":511973},null,0,0,-2.519999999999996,-22953,null,45.8,309353,0,672,73.02,489020,0]
[673,"GROTON DUNSTABLE             ",772,null,44.87,247992,23.98,138405,null,0,0,null,null,247992,138405,null,772862.85,null,0,673,44.87,247992,0,673,23.98,138405,null,{"$f":"may!E385","v":46},{"$f":"may!F385","v":239169},{"$f":"may!G385","v":23.669999999999998},{"$f":"may!H385","v":141686},null,-1.1300000000000026,8823,0.31000000000000227,-3281,null,44.87,247992,0,673,23.98,138405,0]
[674,"GILL MONTAGUE                ",764,null,94.81,803098,239.12000000000003,1502528,null,0,-7029,null,null,803098,1495499,null,4597527.93,null,0,674,94.81,803098,0,674,239.12000000000003,1502528,null,{"$f":"may!E386","v":94.81},{"$f":"may!F386","v":803098},{"$f":"may!G386","v":238.56},{"$f":"may!H386","v":1480841},null,0,0,0.5600000000000307,21687,null,94.81,803098,0,674,240.37000000000003,1508778,-6250]
[675,"HAMILTON WENHAM              ",724,null,90,468724,9.0299999999999994,50981,null,0,0,null,null,468724,50981,null,1039509.03,null,0,675,90,468724,0,675,9.0299999999999994,50981,null,{"$f":"may!E387","v":90},{"$f":"may!F387","v":468724},{"$f":"may!G387","v":8.0300000000000011},{"$f":"may!H387","v":45981},null,0,0,0.99999999999999822,5000,null,90,468724,0,675,9.0299999999999994,50981,0]
[680,"HAMPDEN WILBRAHAM            ",725,null,111.35,703072,11.53,62636,null,0,0,null,null,703072,62636,null,1531538.88,null,0,680,111.35,703072,0,680,11.53,62636,null,{"$f":"may!E388","v":111.35},{"$f":"may!F388","v":703072},{"$f":"may!G388","v":11.56},{"$f":"may!H388","v":62786},null,0,0,-3.0000000000001137E-2,-150,null,111.35,703072,0,680,11.53,62636,0]
[683,"HAMPSHIRE                    ",726,null,97.35,769017,63.040000000000006,362893,null,0,0,null,null,769017,362893,null,2263980.39,null,0,683,97.35,769017,0,683,63.040000000000006,362893,null,{"$f":"may!E389","v":97.350000000000023},{"$f":"may!F389","v":769017},{"$f":"may!G389","v":62.96},{"$f":"may!H389","v":358173},null,0,0,8.00000000000054E-2,4720,null,97.35,769017,0,683,63.040000000000006,362893,0]
[685,"HAWLEMONT                    ",727,null,15.75,107764,24.91,141979,null,0,0,null,null,107764,141979,null,499526.66000000003,null,0,685,15.75,107764,0,685,24.91,141979,null,{"$f":"may!E390","v":15.75},{"$f":"may!F390","v":107764},{"$f":"may!G390","v":24.91},{"$f":"may!H390","v":141979},null,0,0,0,0,null,15.75,107764,0,685,24.91,141979,0]
[690,"KING PHILIP                  ",728,null,0,0,16.709999999999997,115903,null,0,0,null,null,0,115903,null,231822.71000000002,null,0,690,null,null,0,690,16.709999999999997,115903,null,{"$f":"may!E391","v":0},{"$f":"may!F391","v":0},{"$f":"may!G391","v":18.28},{"$f":"may!H391","v":134797},null,0,0,-1.5700000000000038,-18894,null,null,null,0,690,16.709999999999997,115903,0]
[695,"LINCOLN SUDBURY              ",729,null,0,0,2.14,15500,null,0,0,null,null,0,15500,null,31002.14,null,0,695,null,null,0,695,2.14,15500,null,{"$f":"may!E392","v":0},{"$f":"may!F392","v":0},{"$f":"may!G392","v":2.14},{"$f":"may!H392","v":13662},null,0,0,0,1838,null,null,null,0,695,2.14,15500,0]
[698,"MANCHESTER ESSEX",698,null,71,457297,9.6400000000000023,52387,null,0,0,null,null,457297,52387,null,1019448.64,null,0,698,71,457297,0,698,9.6400000000000023,52387,null,{"$f":"may!E393","v":71},{"$f":"may!F393","v":457297},{"$f":"may!G393","v":9.6399999999999988},{"$f":"may!H393","v":52387},null,0,0,0,0,null,71,457297,0,698,9.6400000000000023,52387,0]
[700,"MARTHAS VINEYARD             ",731,null,0,0,2.48,17852,null,0,0,null,null,0,17852,null,35706.479999999996,null,{"$f":"ABS(A394-T394)","v":0},700,null,null,{"$f":"ABS(X394-A394)","v":0},700,2.48,17852,null,{"$f":"may!E394","v":0},{"$f":"may!F394","v":0},{"$f":"may!G394","v":2.48},{"$f":"may!H394","v":17852},null,0,0,0,0,null,null,null,0,700,2.48,17852,0]
[705,"MASCONOMET                   ",732,null,{"$f":"U395","v":0},{"$f":"V395","v":0},{"$f":"Y395","v":3},{"$f":"Z395","v":16700},null,0,0,null,null,{"$f":"F395+J395","v":0},{"$f":"H395+K395","v":16700},null,{"$f":"SUM(E395:O395)","v":33403},null,0,705,null,null,0,705,3,16700,null,{"$f":"may!E395","v":0},{"$f":"may!F395","v":0},{"$f":"may!G395","v":3},{"$f":"may!H395","v":16700},null,{"$f":"U395-AB395","v":0},{"$f":"V395-AC395","v":0},{"$f":"Y395-AD395","v":0},{"$f":"Z395-AE395","v":0},null,null,null,{"$f":"V395-AM395","v":0},705,3,16700,{"$f":"Z395-AQ395","v":0}]
[710,"MENDON UPTON                 ",733,null,143.26,810615,54.35,326161,null,0,0,null,null,810615,326161,null,2273749.61,null,0,710,143.26,810615,0,710,54.35,326161,null,{"$f":"may!E396","v":143.26},{"$f":"may!F396","v":811121},{"$f":"may!G396","v":55.010000000000005},{"$f":"may!H396","v":335287},null,0,-506,-0.66000000000000369,-9126,null,143.26,810615,0,710,54.35,326161,0]
[712,"MONOMOY",null,null,257.12,1511524,197.07,1147725,null,-3524,0,null,null,1508000,1147725,null,5311904.1900000004,null,0,712,257.12,1511524,0,712,197.07,1147725,null,{"$f":"may!E397","v":257.89999999999998},{"$f":"may!F397","v":1515424},{"$f":"may!G397","v":197.82999999999998},{"$f":"may!H397","v":1152727},null,-0.77999999999997272,-3900,-0.75999999999999091,-5002,null,257.12,1511524,0,712,197.07,1147725,0]
[715,"MOUNT GREYLOCK               ",736,null,62.639999999999993,343658,22.509999999999998,121525,null,0,0,null,null,343658,121525,null,930451.15,null,0,715,62.639999999999993,343658,0,715,22.509999999999998,121525,null,{"$f":"may!E398","v":62.639999999999993},{"$f":"may!F398","v":343658},{"$f":"may!G398","v":23.509999999999998},{"$f":"may!H398","v":126525},null,0,0,-1,-5000,null,62.639999999999993,343658,0,715,22.509999999999998,121525,0]
[717,"MOHAWK TRAIL                 ",734,null,90.320000000000007,664959,73.830000000000013,738107,null,0,-1700,null,null,664959,736407,null,2802896.15,null,0,717,90.320000000000007,664959,0,717,73.830000000000013,738107,null,{"$f":"may!E399","v":90.320000000000007},{"$f":"may!F399","v":664959},{"$f":"may!G399","v":79.720000000000013},{"$f":"may!H399","v":783526},null,0,0,-5.8900000000000006,-45419,null,90.320000000000007,664959,0,717,72.830000000000013,733107,5000]
[720,"NARRAGANSETT                 ",737,null,185.68,1089601,141.63999999999993,794982,null,0,0,null,null,1089601,794982,null,3769493.32,null,0,720,185.68,1089601,0,720,141.63999999999993,794982,null,{"$f":"may!E400","v":185.69},{"$f":"may!F400","v":1089651},{"$f":"may!G400","v":142.26},{"$f":"may!H400","v":816803},null,-9.9999999999909051E-3,-50,-0.62000000000006139,-21821,null,185.68,1089601,0,720,141.63999999999993,794982,0]
[725,"NASHOBA                      ",738,null,134.37,720154,69.38000000000001,427081,null,0,3650,null,null,720154,430731,null,2301973.75,null,0,725,134.37,720154,0,725,69.38000000000001,427081,null,{"$f":"may!E401","v":135.37},{"$f":"may!F401","v":725154},{"$f":"may!G401","v":71.280000000000015},{"$f":"may!H401","v":412446},null,-1,-5000,-1.9000000000000057,14635,null,134.37,720154,0,725,69.38000000000001,427081,0]
[728,"NEW SALEM WENDELL            ",787,null,26.96,143537,12.63,73549,null,0,0,null,null,143537,73549,null,434211.58999999997,null,0,728,26.96,143537,0,728,12.63,73549,null,{"$f":"may!E402","v":26.96},{"$f":"may!F402","v":143537},{"$f":"may!G402","v":12.63},{"$f":"may!H402","v":73387},null,0,0,0,162,null,26.96,143537,0,728,12.63,73549,0]
[730,"NORTHBORO SOUTHBORO          ",741,null,0,0,5.34,97558,null,0,0,null,null,0,97558,null,195121.34,null,0,730,null,null,0,730,5.34,97558,null,{"$f":"may!E403","v":0},{"$f":"may!F403","v":0},{"$f":"may!G403","v":5.8800000000000008},{"$f":"may!H403","v":101135},null,0,0,-0.54000000000000092,-3577,null,null,null,0,730,5.34,97558,0]
[735,"NORTH MIDDLESEX              ",740,null,87.059999999999988,491373,94.63000000000001,523536,null,0,0,null,null,491373,523536,null,2029999.69,null,0,735,87.059999999999988,491373,0,735,94.63000000000001,523536,null,{"$f":"may!E404","v":87.06},{"$f":"may!F404","v":491373},{"$f":"may!G404","v":94.61999999999999},{"$f":"may!H404","v":514206},null,0,0,1.0000000000019327E-2,9330,null,87.059999999999988,491373,0,735,94.63000000000001,523536,0]
[740,"OLD ROCHESTER                ",745,null,72.849999999999994,381316,7.82,47704,null,0,0,null,null,381316,47704,null,858120.66999999993,null,0,740,72.849999999999994,381316,0,740,7.82,47704,null,{"$f":"may!E405","v":72.850000000000009},{"$f":"may!F405","v":381316},{"$f":"may!G405","v":7.82},{"$f":"may!H405","v":47704},null,0,0,0,0,null,72.849999999999994,381316,0,740,7.82,47704,0]
[745,"PENTUCKET                    ",746,null,108.53999999999999,599768,28.94,184532,null,0,0,null,null,599768,184532,null,1568737.48,null,0,745,108.53999999999999,599768,0,745,28.94,184532,null,{"$f":"may!E406","v":108.53999999999999},{"$f":"may!F406","v":599768},{"$f":"may!G406","v":30.54},{"$f":"may!H406","v":192149},null,0,0,-1.5999999999999979,-7617,null,108.53999999999999,599768,0,745,28.94,184532,0]
[750,"PIONEER                      ",747,null,152.85,857073,47.9,380399,null,0,0,null,null,857073,380399,null,2475144.75,null,0,750,152.85,857073,0,750,47.9,380399,null,{"$f":"may!E407","v":154},{"$f":"may!F407","v":886731},{"$f":"may!G407","v":47.399999999999991},{"$f":"may!H407","v":377899},null,-1.1500000000000057,-29658,0.50000000000000711,2500,null,152.85,857073,0,750,47.9,380399,0]
[753,"QUABBIN                      ",749,null,325.26,1861729,110.18000000000005,717309,null,0,0,null,null,1861729,717309,null,5158511.4399999995,null,0,753,325.26,1861729,0,753,110.18000000000005,717309,null,{"$f":"may!E408","v":325.26},{"$f":"may!F408","v":1861729},{"$f":"may!G408","v":111.08000000000003},{"$f":"may!H408","v":645422},null,0,0,-0.89999999999997726,71887,null,325.26,1861729,0,753,110.18000000000005,717309,0]
[755,"RALPH C MAHAR                ",730,null,245.66,1442717,54.050000000000004,321379,null,0,0,null,null,1442717,321379,null,3528491.71,null,0,755,245.66,1442717,0,755,54.050000000000004,321379,null,{"$f":"may!E409","v":245.69},{"$f":"may!F409","v":1442867},{"$f":"may!G409","v":51.260000000000005},{"$f":"may!H409","v":302204},null,-3.0000000000001137E-2,-150,2.7899999999999991,19175,null,245.66,1442717,0,755,54.050000000000004,321379,0]
[760,"SILVER LAKE                  ",752,null,0,0,6.9799999999999995,44856,null,0,0,null,null,0,44856,null,89718.98000000001,null,0,760,null,null,0,760,6.9799999999999995,44856,null,{"$f":"may!E410","v":0},{"$f":"may!F410","v":0},{"$f":"may!G410","v":7.01},{"$f":"may!H410","v":45055},null,0,0,-3.0000000000000249E-2,-199,null,null,null,0,760,6.9799999999999995,44856,0]
[763,"SOMERSET BERKLEY",790,null,50.86,293733,6.5,35006,null,0,0,null,null,293733,35006,null,657535.36,null,0,763,50.86,293733,0,763,6.5,35006,null,{"$f":"may!E411","v":50.86},{"$f":"may!F411","v":293733},{"$f":"may!G411","v":7.5},{"$f":"may!H411","v":40006},null,0,0,-1,-5000,null,50.86,293733,0,763,6.5,35006,0]
[765,"SOUTHERN BERKSHIRE           ",755,null,121.53,714799,113.74000000000001,600232,null,0,0,null,null,714799,600232,null,2630297.27,null,0,765,121.53,714799,0,765,113.74000000000001,600232,null,{"$f":"may!E412","v":121.53},{"$f":"may!F412","v":714799},{"$f":"may!G412","v":110.52},{"$f":"may!H412","v":587703},null,0,0,3.2200000000000131,12529,null,121.53,714799,0,765,113.74000000000001,600232,0]
[766,"SOUTHWICK TOLLAND",766,null,127.05999999999999,704096,51.75,294229,null,0,0,null,null,704096,294229,null,1996828.81,null,0,766,127.05999999999999,704096,0,766,51.75,294229,null,{"$f":"may!E413","v":127.06},{"$f":"may!F413","v":704096},{"$f":"may!G413","v":52},{"$f":"may!H413","v":290340},null,0,0,-0.25,3889,null,127.05999999999999,704096,0,766,51.75,294229,0]
[767,"SPENCER EAST BROOKFIELD      ",756,null,44.199999999999996,279486,210.14999999999998,1167779,null,0,0,null,null,279486,1167779,null,2894784.35,null,0,767,44.199999999999996,279486,0,767,210.14999999999998,1167779,null,{"$f":"may!E414","v":44.16999999999998},{"$f":"may!F414","v":279486},{"$f":"may!G414","v":209.15999999999997},{"$f":"may!H414","v":1188191},null,3.0000000000015348E-2,0,0.99000000000000909,-20412,null,44.199999999999996,279486,0,767,210.14999999999998,1167779,0]
[770,"TANTASQUA                    ",757,null,157.76999999999998,933187,25.490000000000002,163822,null,0,0,null,null,933187,163822,null,2194201.2599999998,null,0,770,157.76999999999998,933187,0,770,25.490000000000002,163822,null,{"$f":"may!E415","v":157.76999999999998},{"$f":"may!F415","v":933187},{"$f":"may!G415","v":25.49},{"$f":"may!H415","v":163822},null,0,0,0,0,null,157.76999999999998,933187,0,770,25.490000000000002,163822,0]
[773,"TRITON                       ",763,null,156.34,996175,84,851495,null,0,0,null,null,996175,851495,null,3695580.34,null,0,773,156.34,996175,0,773,84,851495,null,{"$f":"may!E416","v":156.34},{"$f":"may!F416","v":996175},{"$f":"may!G416","v":84.97999999999999},{"$f":"may!H416","v":871631},null,0,0,-0.97999999999998977,-20136,null,156.34,996175,0,773,84,851495,0]
[774,"UPISLAND",789,null,56,376918,10.94,54700,null,0,0,null,null,376918,54700,null,863302.94,null,0,774,56,376918,0,774,10.94,54700,null,{"$f":"may!E417","v":57},{"$f":"may!F417","v":360039},{"$f":"may!G417","v":13.940000000000001},{"$f":"may!H417","v":80468},null,-1,16879,-3.0000000000000018,-25768,null,56,376918,0,774,10.94,54700,0]
[775,"WACHUSETT                    ",759,null,174,1012789,111.87,662132,null,0,0,null,null,1012789,662132,null,3350127.87,null,0,775,174,1012789,0,775,111.87,662132,null,{"$f":"may!E418","v":176},{"$f":"may!F418","v":955202},{"$f":"may!G418","v":111.77999999999999},{"$f":"may!H418","v":652099},null,-2,57587,9.0000000000017621E-2,10033,null,174,1012789,0,775,112.87,667132,-5000]
[778,"QUABOAG",750,null,193.33999999999997,1035901,90.170000000000016,555672,null,0,0,null,null,1035901,555672,null,3183429.51,null,0,778,193.33999999999997,1035901,0,778,90.170000000000016,555672,null,{"$f":"may!E419","v":194.34000000000006},{"$f":"may!F419","v":1040901},{"$f":"may!G419","v":90.190000000000012},{"$f":"may!H419","v":555804},null,-1.0000000000000853,-5000,-1.9999999999996021E-2,-132,null,193.33999999999997,1035901,0,778,90.170000000000016,555672,0]
[780,"WHITMAN HANSON               ",761,null,29.76,186073,17.78,98250,null,0,0,null,null,186073,98250,null,568693.54,null,0,780,29.76,186073,0,780,17.78,98250,null,{"$f":"may!E420","v":29.76},{"$f":"may!F420","v":186073},{"$f":"may!G420","v":17.809999999999999},{"$f":"may!H420","v":118449},null,0,0,-2.9999999999997584E-2,-20199,null,29.76,186073,0,780,17.78,98250,0]
[801,"ASSABET VALLEY               ",770,null,0,0,0,0,null,0,0,null,null,0,0,null,0,null,0,801,null,null,0,801,null,null,null,{"$f":"may!E421","v":0},{"$f":"may!F421","v":0},{"$f":"may!G421","v":0},{"$f":"may!H421","v":0},null,0,0,0,0,null,null,null,0,801,null,null,0]
[805,"BLACKSTONE VALLEY            ",708,null,0,0,0,0,null,0,0,null,null,0,0,null,0,null,0,805,null,null,0,805,null,null,null,{"$f":"may!E422","v":0},{"$f":"may!F422","v":0},{"$f":"may!G422","v":0},{"$f":"may!H422","v":0},null,0,0,0,0,null,null,null,0,805,null,null,0]
[806,"BLUE HILLS                   ",709,null,0,0,0,0,null,0,0,null,null,0,0,null,0,null,0,806,null,null,0,806,null,null,null,{"$f":"may!E423","v":0},{"$f":"may!F423","v":0},{"$f":"may!G423","v":0},{"$f":"may!H423","v":0},null,0,0,0,0,null,null,null,0,806,null,null,0]
[810,"BRISTOL PLYMOUTH             ",771,null,0,0,6.83,34150,null,0,0,null,null,0,34150,null,68306.83,null,0,810,null,null,0,810,6.83,34150,null,{"$f":"may!E424","v":0},{"$f":"may!F424","v":0},{"$f":"may!G424","v":6.83},{"$f":"may!H424","v":34150},null,0,0,0,0,null,null,null,0,810,6.83,34150,0]
[815,"CAPE COD                     ",779,null,0,0,3.7800000000000002,26261,null,0,0,null,null,0,26261,null,52525.78,null,0,815,null,null,0,815,3.7800000000000002,26261,null,{"$f":"may!E425","v":0},{"$f":"may!F425","v":0},{"$f":"may!G425","v":3.7800000000000002},{"$f":"may!H425","v":26261},null,0,0,0,0,null,null,null,0,815,3.7800000000000002,26261,0]
[817,"ESSEX NORTH SHORE",783,null,1,5000,21.240000000000002,119061,null,0,0,null,null,5000,119061,null,248144.24,null,{"$f":"ABS(A426-T426)","v":0},817,1,5000,{"$f":"ABS(X426-A426)","v":0},817,21.240000000000002,119061,null,{"$f":"may!E426","v":1},{"$f":"may!F426","v":5000},{"$f":"may!G426","v":21.240000000000002},{"$f":"may!H426","v":119061},null,0,0,0,0,null,1,5000,0,817,21.240000000000002,119061,0]
[818,"FRANKLIN COUNTY              ",782,null,0,0,1.52,7600,null,0,0,null,null,0,7600,null,15201.52,null,0,818,null,null,0,818,1.52,7600,null,{"$f":"may!E427","v":0},{"$f":"may!F427","v":0},{"$f":"may!G427","v":1.52},{"$f":"may!H427","v":7600},null,0,0,0,0,null,null,null,0,818,1.52,7600,0]
[821,"GREATER FALL RIVER           ",722,null,0,0,7.85,89959,null,0,0,null,null,0,89959,null,179925.85,null,0,821,null,null,0,821,7.85,89959,null,{"$f":"may!E428","v":0},{"$f":"may!F428","v":0},{"$f":"may!G428","v":7.85},{"$f":"may!H428","v":93959},null,0,0,0,-4000,null,null,null,0,821,7.85,89959,0]
[823,"GREATER LAWRENCE             ",723,null,6.22,31991,115.58,631503,null,0,0,null,null,31991,631503,null,1327109.8,null,0,823,6.22,31991,0,823,115.58,631503,null,{"$f":"may!E429","v":6.22},{"$f":"may!F429","v":31991},{"$f":"may!G429","v":115.58},{"$f":"may!H429","v":631540},null,0,0,0,-37,null,6.22,31991,0,823,115.58,631503,0]
[825,"GREATER NEW BEDFORD          ",786,null,0,0,5,25000,null,0,0,null,null,0,25000,null,50005,null,0,825,null,null,0,825,5,25000,null,{"$f":"may!E430","v":0},{"$f":"may!F430","v":0},{"$f":"may!G430","v":5},{"$f":"may!H430","v":25000},null,0,0,0,0,null,null,null,0,825,5,25000,0]
[828,"GREATER LOWELL               ",767,null,0,0,25.330000000000002,133200,null,0,0,null,null,0,133200,null,266425.32999999996,null,0,828,null,null,0,828,25.330000000000002,133200,null,{"$f":"may!E431","v":2},{"$f":"may!F431","v":14232},{"$f":"may!G431","v":26.41},{"$f":"may!H431","v":141475},null,-2,-14232,-1.0799999999999983,-8275,null,null,null,0,828,25.330000000000002,133200,0]
[829,"SOUTH MIDDLESEX              ",778,null,0,0,0,0,null,0,0,null,null,0,0,null,0,null,0,829,null,null,0,829,null,null,null,{"$f":"may!E432","v":0},{"$f":"may!F432","v":0},{"$f":"may!G432","v":0},{"$f":"may!H432","v":0},null,0,0,0,0,null,null,null,0,829,null,null,0]
[830,"MINUTEMAN                    ",781,null,0,0,1.62,8100,null,0,0,null,null,0,8100,null,16201.619999999999,null,0,830,null,null,0,830,1.62,8100,null,{"$f":"may!E433","v":0},{"$f":"may!F433","v":0},{"$f":"may!G433","v":1},{"$f":"may!H433","v":5000},null,0,0,0.62000000000000011,3100,null,null,null,0,830,1.62,8100,0]
[832,"MONTACHUSETT                 ",735,null,21.089999999999996,109561,65.11,365416,null,0,0,null,null,109561,365416,null,950040.2,null,0,832,21.089999999999996,109561,0,832,65.11,365416,null,{"$f":"may!E434","v":21.099999999999998},{"$f":"may!F434","v":109611},{"$f":"may!G434","v":63.690000000000005},{"$f":"may!H434","v":363280},null,-1.0000000000001563E-2,-50,1.4199999999999946,2136,null,21.099999999999998,109611,-50,832,65.349999999999994,366616,-1200]
[851,"NORTHERN BERKSHIRE           ",743,null,0,0,0,0,null,0,0,null,null,0,0,null,0,null,0,851,null,null,0,851,null,null,null,{"$f":"may!E435","v":0},{"$f":"may!F435","v":0},{"$f":"may!G435","v":0},{"$f":"may!H435","v":0},null,0,0,0,0,null,null,null,0,851,null,null,0]
[852,"NASHOBA VALLEY               ",739,null,62.510000000000005,335726,2.1100000000000003,18967,null,0,0,null,null,335726,18967,null,709450.62,null,0,852,62.510000000000005,335726,0,852,2.1100000000000003,18967,null,{"$f":"may!E436","v":60},{"$f":"may!F436","v":335948},{"$f":"may!G436","v":4.12},{"$f":"may!H436","v":33249},null,2.5100000000000051,-222,-2.0099999999999998,-14282,null,62.510000000000005,335726,0,852,2.1100000000000003,18967,0]
[853,"NORTHEAST METROPOLITAN       ",742,null,28.83,163103,2,10748,null,0,0,null,null,163103,10748,null,347732.82999999996,null,0,853,28.83,163103,0,853,2,10748,null,{"$f":"may!E437","v":28.83},{"$f":"may!F437","v":163103},{"$f":"may!G437","v":2},{"$f":"may!H437","v":10748},null,0,0,0,0,null,28.83,163103,0,853,2,10748,0]
[855,"OLD COLONY                   ",784,null,0,0,0.81,4050,null,0,0,null,null,0,4050,null,8100.8099999999995,null,0,855,null,null,0,855,0.81,4050,null,{"$f":"may!E438","v":0},{"$f":"may!F438","v":0},{"$f":"may!G438","v":0.81},{"$f":"may!H438","v":4050},null,0,0,0,0,null,null,null,0,855,0.81,4050,0]
[860,"PATHFINDER                   ",773,null,33.700000000000003,183358,11,59162,null,0,0,null,null,183358,59162,null,485084.7,null,0,860,33.700000000000003,183358,0,860,11,59162,null,{"$f":"may!E439","v":33.700000000000003},{"$f":"may!F439","v":183358},{"$f":"may!G439","v":11},{"$f":"may!H439","v":59162},null,0,0,0,0,null,33.700000000000003,183358,0,860,11,59162,0]
[871,"SHAWSHEEN VALLEY             ",751,null,0,0,18.22,99451,null,0,0,null,null,0,99451,null,198920.22,null,0,871,null,null,0,871,18.22,99451,null,{"$f":"may!E440","v":0},{"$f":"may!F440","v":0},{"$f":"may!G440","v":17.59},{"$f":"may!H440","v":99401},null,0,0,0.62999999999999901,50,null,null,null,0,871,18.22,99451,0]
[872,"SOUTHEASTERN                 ",754,null,0,0,4,20000,null,0,0,null,null,0,20000,null,40004,null,0,872,null,null,0,872,4,20000,null,{"$f":"may!E441","v":0},{"$f":"may!F441","v":0},{"$f":"may!G441","v":4},{"$f":"may!H441","v":20000},null,0,0,0,0,null,null,null,0,872,4,20000,0]
[873,"SOUTH SHORE                  ",753,null,0,0,1,5000,null,0,0,null,null,0,5000,null,10001,null,0,873,null,null,0,873,1,5000,null,{"$f":"may!E442","v":0},{"$f":"may!F442","v":0},{"$f":"may!G442","v":1},{"$f":"may!H442","v":5000},null,0,0,0,0,null,null,null,0,873,1,5000,0]
[876,"SOUTHERN WORCESTER           ",762,null,0,0,30.49,181431,null,0,0,null,null,0,181431,null,362892.49,null,0,876,null,null,0,876,30.49,181431,null,{"$f":"may!E443","v":0},{"$f":"may!F443","v":0},{"$f":"may!G443","v":30.49},{"$f":"may!H443","v":181431},null,0,0,0,0,null,null,null,0,876,30.49,181431,0]
[878,"TRI COUNTY                   ",785,null,0,0,0.69,3450,null,0,0,null,null,0,3450,null,6900.6900000000005,null,0,878,null,null,0,878,0.69,3450,null,{"$f":"may!E444","v":0},{"$f":"may!F444","v":0},{"$f":"may!G444","v":0.69},{"$f":"may!H444","v":3450},null,0,0,0,0,null,null,null,0,878,0.69,3450,0]
[879,"UPPER CAPE COD               ",758,null,0,0,1.32,6600,null,0,0,null,null,0,6600,null,13201.32,null,0,879,null,null,0,879,1.32,6600,null,{"$f":"may!E445","v":0},{"$f":"may!F445","v":0},{"$f":"may!G445","v":2.1100000000000003},{"$f":"may!H445","v":10550},null,0,0,-0.79000000000000026,-3950,null,null,null,0,879,1.32,6600,0]
[885,"WHITTIER                     ",774,null,114.58,628063,4.8099999999999996,24941,null,0,0,null,null,628063,24941,null,1306127.3900000001,null,0,885,114.58,628063,0,885,4.8099999999999996,24941,null,{"$f":"may!E446","v":114.58},{"$f":"may!F446","v":628063},{"$f":"may!G446","v":4.8099999999999996},{"$f":"may!H446","v":24941},null,0,0,0,0,null,114.58,628063,0,885,4.8099999999999996,24941,0]
[910,"BRISTOL COUNTY               ",810,null,0,0,0,0,null,0,0,null,null,0,0,null,0,null,0,910,null,null,0,910,null,null,null,{"$f":"may!E447","v":0},{"$f":"may!F447","v":0},{"$f":"may!G447","v":0},{"$f":"may!H447","v":0},null,0,0,0,0,null,null,null,0,910,null,null,0]
[915,"NORFOLK COUNTY               ",830,null,0,0,0,0,null,0,0,null,null,0,0,null,0,null,0,915,null,null,0,915,null,null,null,{"$f":"may!E448","v":0},{"$f":"may!F448","v":0},{"$f":"may!G448","v":0},{"$f":"may!H448","v":0},null,0,0,0,0,null,null,null,0,915,null,null,0]
[3901,"MA VIRTUAL ACADEMY",950,null,622.1099999999999,{"$f":"V449-R449","v":4307308},{"$f":"Y449","v":0},{"$f":"Z449","v":0},null,0,0,null,null,4307308,0,null,8615238.1099999994,55350,0,3901,622.1099999999999,4362658,0,3901,null,null,null,{"$f":"may!E449","v":730.9499999999997},{"$f":"may!F449","v":5027267},{"$f":"may!G449","v":0},{"$f":"may!H449","v":0},null,-108.8399999999998,-664609,0,0,null,622.1099999999999,4362658,0,3901,null,null,0]
[3902,"TECCA",null,null,895.15000000000248,{"$f":"V450-R450","v":6136953},{"$f":"Y450","v":0},{"$f":"Z450","v":0},null,0,0,null,null,6136953,0,null,12274801.15,99525,0,3902,895.15000000000248,6236478,0,3902,null,null,null,{"$f":"may!E450","v":895.26000000000295},{"$f":"may!F450","v":6137680},{"$f":"may!G450","v":0},{"$f":"may!H450","v":0},null,-0.11000000000046839,98798,0,0,null,895.15000000000248,6236478,0,3902,null,null,0]
[9999,"State Total",null,null,{"$f":"SUM(E10:E450)","v":15635.540000000006},{"$f":"SUM(F10:F450)","v":94745180},{"$f":"SUM(G10:G450)","v":15635.540000000003},{"$f":"SUM(H10:H450)","v":94900055},null,{"$f":"SUM(J10:J450)","v":-30213},-30213,null,null,{"$f":"SUM(N10:N450)","v":94714967},94869842,null,379200889.08000004,{"$f":"SUM(R10:R450)","v":154875},null,null,{"$f":"SUM(U10:U450)","v":15635.540000000006},{"$f":"SUM(V10:V450)","v":94900055},null,null,{"$f":"SUM(Y10:Y450)","v":15635.540000000003},{"$f":"SUM(Z10:Z450)","v":94900055},null,{"$f":"SUM(AB10:AB450)","v":15783.180000000004},{"$f":"SUM(AC10:AC450)","v":95495863},{"$f":"SUM(AD10:AD450)","v":15783.179999999997},{"$f":"SUM(AE10:AE450)","v":95651113},null,{"$f":"SUM(AG10:AG450)","v":-147.6400000000003},{"$f":"SUM(AH10:AH450)","v":-595808},{"$f":"SUM(AI10:AI450)","v":-147.63999999999993},{"$f":"SUM(AJ10:AJ450)","v":-751058},null,15636.790000000005,94904515,null,null,15636.790000000003,94904515]
[null,null,null,null,{"$f":"COUNTIF(E10:E448,\">0\")","v":183},null,{"$f":"COUNTIF(G10:G448,\">0\")","v":314}]

{"sheet":"leas","index":10,"n_rows":451,"n_cols":17,"rows_kept":451,"cut":false,"hidden":true,"merged":[]}
[1,null,"district_short_name","Select an lea"]
[2,"001","ABINGTON                     ",{"$f":"B2&\" \"&C2","v":"001 ABINGTON                     "}]
[3,"002","ACTON                        ",{"$f":"B3&\" \"&C3","v":"002 ACTON                        "}]
[4,"003","ACUSHNET                     ","003 ACUSHNET                     "]
[5,"004","ADAMS                        ","004 ADAMS                        "]
[6,"005","AGAWAM                       ","005 AGAWAM                       "]
[7,"006","ALFORD                       ","006 ALFORD                       "]
[8,"007","AMESBURY                     ","007 AMESBURY                     "]
[9,"008","AMHERST                      ","008 AMHERST                      "]
[10,"009","ANDOVER                      ","009 ANDOVER                      ",null,null,null,null,null,null,null,null,null,null,null,null,{"$f":"SUM(E10:O10)","v":0}]
[11,"010","ARLINGTON                    ","010 ARLINGTON                    ",null,null,null,null,null,null,null,null,null,null,null,null,{"$f":"SUM(E11:O11)","v":0}]
[12,"011","ASHBURNHAM                   ","011 ASHBURNHAM                   ",null,null,null,null,null,null,null,null,null,null,null,null,0]
[13,"012","ASHBY                        ","012 ASHBY                        ",null,null,null,null,null,null,null,null,null,null,null,null,0]
[14,"013","ASHFIELD                     ","013 ASHFIELD                     ",null,null,null,null,null,null,null,null,null,null,null,null,0]
[15,"014","ASHLAND                      ","014 ASHLAND                      ",null,null,null,null,null,null,null,null,null,null,null,null,0]
[16,"015","ATHOL                        ","015 ATHOL                        ",null,null,null,null,null,null,null,null,null,null,null,null,0]
[17,"016","ATTLEBORO                    ","016 ATTLEBORO                    ",null,null,null,null,null,null,null,null,null,null,null,null,0]
[18,"017","AUBURN                       ","017 AUBURN                       ",null,null,null,null,null,null,null,null,null,null,null,null,0]
[19,"018","AVON                         ","018 AVON                         ",null,null,null,null,null,null,null,null,null,null,null,null,0]
[20,"019","AYER                         ","019 AYER                         ",null,null,null,null,null,null,null,null,null,null,null,null,0]
[21,"020","BARNSTABLE                   ","020 BARNSTABLE                   ",null,null,null,null,null,null,null,null,null,null,null,null,0]
[22,"021","BARRE                        ","021 BARRE                        ",null,null,null,null,null,null,null,null,null,null,null,null,0]
[23,"022","BECKET                       ","022 BECKET                       ",null,null,null,null,null,null,null,null,null,null,null,null,0]
[24,"023","BEDFORD                      ","023 BEDFORD                      ",null,null,null,null,null,null,null,null,null,null,null,null,0]
[25,"024","BELCHERTOWN                  ","024 BELCHERTOWN                  ",null,null,null,null,null,null,null,null,null,null,null,null,0]
[26,"025","BELLINGHAM                   ","025 BELLINGHAM                   ",null,null,null,null,null,null,null,null,null,null,null,null,0]
[27,"026","BELMONT                      ","026 BELMONT                      ",null,null,null,null,null,null,null,null,null,null,null,null,0]
[28,"027","BERKLEY                      ","027 BERKLEY                      ",null,null,null,null,null,null,null,null,null,null,null,null,0]
[29,"028","BERLIN                       ","028 BERLIN                       ",null,null,null,null,null,null,null,null,null,null,null,null,0]
[30,"029","BERNARDSTON                  ","029 BERNARDSTON                  ",null,null,null,null,null,null,null,null,null,null,null,null,0]
[31,"030","BEVERLY                      ","030 BEVERLY                      ",null,null,null,null,null,null,null,null,null,null,null,null,0]
[32,"031","BILLERICA                    ","031 BILLERICA                    ",null,null,null,null,null,null,null,null,null,null,null,null,0]
[33,"032","BLACKSTONE                   ","032 BLACKSTONE                   ",null,null,null,null,null,null,null,null,null,null,null,null,0]
[34,"033","BLANDFORD                    ","033 BLANDFORD                    ",null,null,null,null,null,null,null,null,null,null,null,null,0]
[35,"034","BOLTON                       ","034 BOLTON                       ",null,null,null,null,null,null,null,null,null,null,null,null,0]
[36,"035","BOSTON                       ","035 BOSTON                       ",null,null,null,null,null,null,null,null,null,null,null,null,0]
[37,"036","BOURNE                       ","036 BOURNE                       ",null,null,null,null,null,null,null,null,null,null,null,null,0]
[38,"037","BOXBOROUGH                   ","037 BOXBOROUGH                   ",null,null,null,null,null,null,null,null,null,null,null,null,0]
[39,"038","BOXFORD                      ","038 BOXFORD                      ",null,null,null,null,null,null,null,null,null,null,null,null,0]
[40,"039","BOYLSTON                     ","039 BOYLSTON                     ",null,null,null,null,null,null,null,null,null,null,null,null,0]
[41,"040","BRAINTREE                    ","040 BRAINTREE                    ",null,null,null,null,null,null,null,null,null,null,null,null,0]
[42,"041","BREWSTER                     ","041 BREWSTER                     ",null,null,null,null,null,null,null,null,null,null,null,null,0]
[43,"042","BRIDGEWATER                  ","042 BRIDGEWATER                  ",null,null,null,null,null,null,null,null,null,null,null,null,0]
[44,"043","BRIMFIELD                    ","043 BRIMFIELD                    ",null,null,null,null,null,null,null,null,null,null,null,null,0]
[45,"044","BROCKTON                     ","044 BROCKTON                     ",null,null,null,null,null,null,null,null,null,null,null,null,0]
[46,"045","BROOKFIELD                   ","045 BROOKFIELD                   ",null,null,null,null,null,null,null,null,null,null,null,null,0]
[47,"046","BROOKLINE                    ","046 BROOKLINE                    ",null,null,null,null,null,null,null,null,null,null,null,null,0]
[48,"047","BUCKLAND                     ","047 BUCKLAND                     ",null,null,null,null,null,null,null,null,null,null,null,null,0]
[49,"048","BURLINGTON                   ","048 BURLINGTON                   ",null,null,null,null,null,null,null,null,null,null,null,null,0]
[50,"049","CAMBRIDGE                    ","049 CAMBRIDGE                    ",null,null,null,null,null,null,null,null,null,null,null,null,0]
[51,"050","CANTON                       ","050 CANTON                       ",null,null,null,null,null,null,null,null,null,null,null,null,0]
[52,"051","CARLISLE                     ","051 CARLISLE                     ",null,null,null,null,null,null,null,null,null,null,null,null,0]
[53,"052","CARVER                       ","052 CARVER                       ",null,null,null,null,null,null,null,null,null,null,null,null,0]
[54,"053","CHARLEMONT                   ","053 CHARLEMONT                   ",null,null,null,null,null,null,null,null,null,null,null,null,0]
[55,"054","CHARLTON                     ","054 CHARLTON                     ",null,null,null,null,null,null,null,null,null,null,null,null,0]
[56,"055","CHATHAM                      ","055 CHATHAM                      ",null,null,null,null,null,null,null,null,null,null,null,null,0]
[57,"056","CHELMSFORD                   ","056 CHELMSFORD                   ",null,null,null,null,null,null,null,null,null,null,null,null,0]
[58,"057","CHELSEA                      ","057 CHELSEA                      ",null,null,null,null,null,null,null,null,null,null,null,null,0]
[59,"058","CHESHIRE                     ","058 CHESHIRE                     ",null,null,null,null,null,null,null,null,null,null,null,null,0]
[60,"059","CHESTER                      ","059 CHESTER                      ",null,null,null,null,null,null,null,null,null,null,null,null,0]
[61,"060","CHESTERFIELD                 ","060 CHESTERFIELD                 ",null,null,null,null,null,null,null,null,null,null,null,null,0]
[62,"061","CHICOPEE                     ","061 CHICOPEE                     ",null,null,null,null,null,null,null,null,null,null,null,null,0]
[63,"062","CHILMARK                     ","062 CHILMARK                     ",null,null,null,null,null,null,null,null,null,null,null,null,0]
[64,"063","CLARKSBURG                   ","063 CLARKSBURG                   ",null,null,null,null,null,null,null,null,null,null,null,null,0]
[65,"064","CLINTON                      ","064 CLINTON                      ",null,null,null,null,null,null,null,null,null,null,null,null,0]
[66,"065","COHASSET                     ","065 COHASSET                     ",null,null,null,null,null,null,null,null,null,null,null,null,0]
[67,"066","COLRAIN                      ",{"$f":"B67&\" \"&C67","v":"066 COLRAIN                      "},null,null,null,null,null,null,null,null,null,null,null,null,0]
[68,"067","CONCORD                      ","067 CONCORD                      ",null,null,null,null,null,null,null,null,null,null,null,null,0]
[69,"068","CONWAY                       ","068 CONWAY                       ",null,null,null,null,null,null,null,null,null,null,null,null,0]
[70,"069","CUMMINGTON                   ","069 CUMMINGTON                   ",null,null,null,null,null,null,null,null,null,null,null,null,0]
[71,"070","DALTON                       ","070 DALTON                       ",null,null,null,null,null,null,null,null,null,null,null,null,0]
[72,"071","DANVERS                      ","071 DANVERS                      ",null,null,null,null,null,null,null,null,null,null,null,null,0]
[73,"072","DARTMOUTH                    ","072 DARTMOUTH                    ",null,null,null,null,null,null,null,null,null,null,null,null,0]
[74,"073","DEDHAM                       ","073 DEDHAM                       ",null,null,null,null,null,null,null,null,null,null,null,null,0]
[75,"074","DEERFIELD                    ","074 DEERFIELD                    ",null,null,null,null,null,null,null,null,null,null,null,null,{"$f":"SUM(E75:O75)","v":0}]
[76,"075","DENNIS                       ","075 DENNIS                       ",null,null,null,null,null,null,null,null,null,null,null,null,0]
[77,"076","DIGHTON                      ","076 DIGHTON                      ",null,null,null,null,null,null,null,null,null,null,null,null,0]
[78,"077","DOUGLAS                      ","077 DOUGLAS                      ",null,null,null,null,null,null,null,null,null,null,null,null,0]
[79,"078","DOVER                        ","078 DOVER                        ",null,null,null,null,null,null,null,null,null,null,null,null,0]
[80,"079","DRACUT                       ","079 DRACUT                       ",null,null,null,null,null,null,null,null,null,null,null,null,0]
[81,"080","DUDLEY                       ","080 DUDLEY                       ",null,null,null,null,null,null,null,null,null,null,null,null,0]
[82,"081","DUNSTABLE                    ","081 DUNSTABLE                    ",null,null,null,null,null,null,null,null,null,null,null,null,0]
[83,"082","DUXBURY                      ","082 DUXBURY                      ",null,null,null,null,null,null,null,null,null,null,null,null,0]
[84,"083","EAST BRIDGEWATER             ","083 EAST BRIDGEWATER             ",null,null,null,null,null,null,null,null,null,null,null,null,0]
[85,"084","EAST BROOKFIELD              ","084 EAST BROOKFIELD              ",null,null,null,null,null,null,null,null,null,null,null,null,0]
[86,"085","EASTHAM                      ","085 EASTHAM                      ",null,null,null,null,null,null,null,null,null,null,null,null,0]
[87,"086","EASTHAMPTON                  ","086 EASTHAMPTON                  ",null,null,null,null,null,null,null,null,null,null,null,null,0]
[88,"087","EAST LONGMEADOW              ","087 EAST LONGMEADOW              ",null,null,null,null,null,null,null,null,null,null,null,null,0]
[89,"088","EASTON                       ","088 EASTON                       ",null,null,null,null,null,null,null,null,null,null,null,null,0]
[90,"089","EDGARTOWN                    ","089 EDGARTOWN                    ",null,null,null,null,null,null,null,null,null,null,null,null,0]
[91,"090","EGREMONT                     ","090 EGREMONT                     ",null,null,null,null,null,null,null,null,null,null,null,null,0]
[92,"091","ERVING                       ","091 ERVING                       ",null,null,null,null,null,null,null,null,null,null,null,null,0]
[93,"092","ESSEX                        ","092 ESSEX                        ",null,null,null,null,null,null,null,null,null,null,null,null,0]
[94,"093","EVERETT                      ","093 EVERETT                      ",null,null,null,null,null,null,null,null,null,null,null,null,0]
[95,"094","FAIRHAVEN                    ","094 FAIRHAVEN                    ",null,null,null,null,null,null,null,null,null,null,null,null,0]
[96,"095","FALL RIVER                   ","095 FALL RIVER                   ",null,null,null,null,null,null,null,null,null,null,null,null,0]
[97,"096","FALMOUTH                     ","096 FALMOUTH                     ",null,null,null,null,null,null,null,null,null,null,null,null,0]
[98,"097","FITCHBURG                    ","097 FITCHBURG                    ",null,null,null,null,null,null,null,null,null,null,null,null,0]
[99,"098","FLORIDA                      ","098 FLORIDA                      ",null,null,null,null,null,null,null,null,null,null,null,null,0]
[100,"099","FOXBOROUGH                   ","099 FOXBOROUGH                   ",null,null,null,null,null,null,null,null,null,null,null,null,0]
[101,100,"FRAMINGHAM                   ","100 FRAMINGHAM                   ",null,null,null,null,null,null,null,null,null,null,null,null,0]
[102,101,"FRANKLIN                     ","101 FRANKLIN                     ",null,null,null,null,null,null,null,null,null,null,null,null,0]
[103,102,"FREETOWN                     ","102 FREETOWN                     ",null,null,null,null,null,null,null,null,null,null,null,null,0]
[104,103,"GARDNER                      ","103 GARDNER                      ",null,null,null,null,null,null,null,null,null,null,null,null,0]
[105,104,"GAY HEAD                     ","104 GAY HEAD                     ",null,null,null,null,null,null,null,null,null,null,null,null,0]
[106,105,"GEORGETOWN                   ","105 GEORGETOWN                   ",null,null,null,null,null,null,null,null,null,null,null,null,0]
[107,106,"GILL                         ","106 GILL                         ",null,null,null,null,null,null,null,null,null,null,null,null,0]
[108,107,"GLOUCESTER                   ","107 GLOUCESTER                   ",null,null,null,null,null,null,null,null,null,null,null,null,0]
[109,108,"GOSHEN                       ","108 GOSHEN                       ",null,null,null,null,null,null,null,null,null,null,null,null,0]
[110,109,"GOSNOLD                      ","109 GOSNOLD                      ",null,null,null,null,null,null,null,null,null,null,null,null,0]
[111,110,"GRAFTON                      ","110 GRAFTON                      ",null,null,null,null,null,null,null,null,null,null,null,null,0]
[112,111,"GRANBY                       ","111 GRANBY                       ",null,null,null,null,null,null,null,null,null,null,null,null,0]
[113,112,"GRANVILLE                    ","112 GRANVILLE                    ",null,null,null,null,null,null,null,null,null,null,null,null,0]
[114,113,"GREAT BARRINGTON             ","113 GREAT BARRINGTON             ",null,null,null,null,null,null,null,null,null,null,null,null,0]
[115,114,"GREENFIELD                   ","114 GREENFIELD                   ",null,null,null,null,null,null,null,null,null,null,null,null,0]
[116,115,"GROTON                       ","115 GROTON                       ",null,null,null,null,null,null,null,null,null,null,null,null,0]
[117,116,"GROVELAND                    ","116 GROVELAND                    ",null,null,null,null,null,null,null,null,null,null,null,null,0]
[118,117,"HADLEY                       ","117 HADLEY                       ",null,null,null,null,null,null,null,null,null,null,null,null,0]
[119,118,"HALIFAX                      ","118 HALIFAX                      ",null,null,null,null,null,null,null,null,null,null,null,null,0]
[120,119,"HAMILTON                     ","119 HAMILTON                     ",null,null,null,null,null,null,null,null,null,null,null,null,0]
[121,120,"HAMPDEN                      ","120 HAMPDEN                      ",null,null,null,null,null,null,null,null,null,null,null,null,0]
[122,121,"HANCOCK                      ","121 HANCOCK                      ",null,null,null,null,null,null,null,null,null,null,null,null,0]
[123,122,"HANOVER                      ","122 HANOVER                      ",null,null,null,null,null,null,null,null,null,null,null,null,0]
[124,123,"HANSON                       ","123 HANSON                       ",null,null,null,null,null,null,null,null,null,null,null,null,0]
[125,124,"HARDWICK                     ","124 HARDWICK                     ",null,null,null,null,null,null,null,null,null,null,null,null,0]
[126,125,"HARVARD                      ","125 HARVARD                      ",null,null,null,null,null,null,null,null,null,null,null,null,0]
[127,126,"HARWICH                      ","126 HARWICH                      ",null,null,null,null,null,null,null,null,null,null,null,null,0]
[128,127,"HATFIELD                     ","127 HATFIELD                     ",null,null,null,null,null,null,null,null,null,null,null,null,0]
[129,128,"HAVERHILL                    ","128 HAVERHILL                    ",null,null,null,null,null,null,null,null,null,null,null,null,0]
[130,129,"HAWLEY                       ","129 HAWLEY                       ",null,null,null,null,null,null,null,null,null,null,null,null,0]
[131,130,"HEATH                        ",{"$f":"B131&\" \"&C131","v":"130 HEATH                        "},null,null,null,null,null,null,null,null,null,null,null,null,0]
[132,131,"HINGHAM                      ","131 HINGHAM                      ",null,null,null,null,null,null,null,null,null,null,null,null,0]
[133,132,"HINSDALE                     ","132 HINSDALE                     ",null,null,null,null,null,null,null,null,null,null,null,null,0]
[134,133,"HOLBROOK                     ","133 HOLBROOK                     ",null,null,null,null,null,null,null,null,null,null,null,null,0]
[135,134,"HOLDEN                       ","134 HOLDEN                       ",null,null,null,null,null,null,null,null,null,null,null,null,0]
[136,135,"HOLLAND                      ","135 HOLLAND                      ",null,null,null,null,null,null,null,null,null,null,null,null,0]
[137,136,"HOLLISTON                    ","136 HOLLISTON                    ",null,null,null,null,null,null,null,null,null,null,null,null,0]
[138,137,"HOLYOKE                      ","137 HOLYOKE                      ",null,null,null,null,null,null,null,null,null,null,null,null,0]
[139,138,"HOPEDALE                     ","138 HOPEDALE                     ",null,null,null,null,null,null,null,null,null,null,null,null,{"$f":"SUM(E139:O139)","v":0}]
[140,139,"HOPKINTON                    ","139 HOPKINTON                    ",null,null,null,null,null,null,null,null,null,null,null,null,0]
[141,140,"HUBBARDSTON                  ","140 HUBBARDSTON                  ",null,null,null,null,null,null,null,null,null,null,null,null,0]
[142,141,"HUDSON                       ","141 HUDSON                       ",null,null,null,null,null,null,null,null,null,null,null,null,0]
[143,142,"HULL                         ","142 HULL                         ",null,null,null,null,null,null,null,null,null,null,null,null,0]
[144,143,"HUNTINGTON                   ","143 HUNTINGTON                   ",null,null,null,null,null,null,null,null,null,null,null,null,0]
[145,144,"IPSWICH                      ","144 IPSWICH                      ",null,null,null,null,null,null,null,null,null,null,null,null,0]
[146,145,"KINGSTON                     ","145 KINGSTON                     ",null,null,null,null,null,null,null,null,null,null,null,null,0]
[147,146,"LAKEVILLE                    ","146 LAKEVILLE                    ",null,null,null,null,null,null,null,null,null,null,null,null,0]
[148,147,"LANCASTER                    ","147 LANCASTER                    ",null,null,null,null,null,null,null,null,null,null,null,null,0]
[149,148,"LANESBOROUGH                 ","148 LANESBOROUGH                 ",null,null,null,null,null,null,null,null,null,null,null,null,0]
[150,149,"LAWRENCE                     ","149 LAWRENCE                     ",null,null,null,null,null,null,null,null,null,null,null,null,0]
[151,150,"LEE                          ","150 LEE                          ",null,null,null,null,null,null,null,null,null,null,null,null,0]
[152,151,"LEICESTER                    ","151 LEICESTER                    ",null,null,null,null,null,null,null,null,null,null,null,null,0]
[153,152,"LENOX                        ","152 LENOX                        ",null,null,null,null,null,null,null,null,null,null,null,null,0]
[154,153,"LEOMINSTER                   ","153 LEOMINSTER                   ",null,null,null,null,null,null,null,null,null,null,null,null,0]
[155,154,"LEVERETT                     ","154 LEVERETT                     ",null,null,null,null,null,null,null,null,null,null,null,null,0]
[156,155,"LEXINGTON                    ","155 LEXINGTON                    ",null,null,null,null,null,null,null,null,null,null,null,null,0]
[157,156,"LEYDEN                       ","156 LEYDEN                       ",null,null,null,null,null,null,null,null,null,null,null,null,0]
[158,157,"LINCOLN                      ","157 LINCOLN                      ",null,null,null,null,null,null,null,null,null,null,null,null,0]
[159,158,"LITTLETON                    ","158 LITTLETON                    ",null,null,null,null,null,null,null,null,null,null,null,null,0]
[160,159,"LONGMEADOW                   ","159 LONGMEADOW                   ",null,null,null,null,null,null,null,null,null,null,null,null,0]
[161,160,"LOWELL                       ","160 LOWELL                       ",null,null,null,null,null,null,null,null,null,null,null,null,0]
[162,161,"LUDLOW                       ","161 LUDLOW                       ",null,null,null,null,null,null,null,null,null,null,null,null,0]
[163,162,"LUNENBURG                    ","162 LUNENBURG                    ",null,null,null,null,null,null,null,null,null,null,null,null,0]
[164,163,"LYNN                         ","163 LYNN                         ",null,null,null,null,null,null,null,null,null,null,null,null,0]
[165,164,"LYNNFIELD                    ","164 LYNNFIELD                    ",null,null,null,null,null,null,null,null,null,null,null,null,0]
[166,165,"MALDEN                       ","165 MALDEN                       ",null,null,null,null,null,null,null,null,null,null,null,null,0]
[167,166,"MANCHESTER                   ","166 MANCHESTER                   ",null,null,null,null,null,null,null,null,null,null,null,null,0]
[168,167,"MANSFIELD                    ","167 MANSFIELD                    ",null,null,null,null,null,null,null,null,null,null,null,null,0]
[169,168,"MARBLEHEAD                   ","168 MARBLEHEAD                   ",null,null,null,null,null,null,null,null,null,null,null,null,0]
[170,169,"MARION                       ","169 MARION                       ",null,null,null,null,null,null,null,null,null,null,null,null,0]
[171,170,"MARLBOROUGH                  ","170 MARLBOROUGH                  ",null,null,null,null,null,null,null,null,null,null,null,null,0]
[172,171,"MARSHFIELD                   ","171 MARSHFIELD                   ",null,null,null,null,null,null,null,null,null,null,null,null,0]
[173,172,"MASHPEE                      ","172 MASHPEE                      ",null,null,null,null,null,null,null,null,null,null,null,null,0]
[174,173,"MATTAPOISETT                 ","173 MATTAPOISETT                 ",null,null,null,null,null,null,null,null,null,null,null,null,0]
[175,174,"MAYNARD                      ","174 MAYNARD                      ",null,null,null,null,null,null,null,null,null,null,null,null,0]
[176,175,"MEDFIELD                     ","175 MEDFIELD                     ",null,null,null,null,null,null,null,null,null,null,null,null,0]
[177,176,"MEDFORD                      ","176 MEDFORD                      ",null,null,null,null,null,null,null,null,null,null,null,null,0]
[178,177,"MEDWAY                       ","177 MEDWAY                       ",null,null,null,null,null,null,null,null,null,null,null,null,0]
[179,178,"MELROSE                      ","178 MELROSE                      ",null,null,null,null,null,null,null,null,null,null,null,null,0]
[180,179,"MENDON                       ","179 MENDON                       ",null,null,null,null,null,null,null,null,null,null,null,null,0]
[181,180,"MERRIMAC                     ","180 MERRIMAC                     ",null,null,null,null,null,null,null,null,null,null,null,null,0]
[182,181,"METHUEN                      ","181 METHUEN                      ",null,null,null,null,null,null,null,null,null,null,null,null,0]
[183,182,"MIDDLEBOROUGH                ","182 MIDDLEBOROUGH                ",null,null,null,null,null,null,null,null,null,null,null,null,0]
[184,183,"MIDDLEFIELD                  ","183 MIDDLEFIELD                  ",null,null,null,null,null,null,null,null,null,null,null,null,0]
[185,184,"MIDDLETON                    ","184 MIDDLETON                    ",null,null,null,null,null,null,null,null,null,null,null,null,0]
[186,185,"MILFORD                      ","185 MILFORD                      ",null,null,null,null,null,null,null,null,null,null,null,null,0]
[187,186,"MILLBURY                     ","186 MILLBURY                     ",null,null,null,null,null,null,null,null,null,null,null,null,0]
[188,187,"MILLIS                       ","187 MILLIS                       ",null,null,null,null,null,null,null,null,null,null,null,null,0]
[189,188,"MILLVILLE                    ","188 MILLVILLE                    ",null,null,null,null,null,null,null,null,null,null,null,null,0]
[190,189,"MILTON                       ","189 MILTON                       ",null,null,null,null,null,null,null,null,null,null,null,null,0]
[191,190,"MONROE                       ","190 MONROE                       ",null,null,null,null,null,null,null,null,null,null,null,null,0]
[192,191,"MONSON                       ","191 MONSON                       ",null,null,null,null,null,null,null,null,null,null,null,null,0]
[193,192,"MONTAGUE                     ","192 MONTAGUE                     ",null,null,null,null,null,null,null,null,null,null,null,null,0]
[194,193,"MONTEREY                     ","193 MONTEREY                     ",null,null,null,null,null,null,null,null,null,null,null,null,0]
[195,194,"MONTGOMERY                   ",{"$f":"B195&\" \"&C195","v":"194 MONTGOMERY                   "},null,null,null,null,null,null,null,null,null,null,null,null,0]
[196,195,"MOUNT WASHINGTON             ","195 MOUNT WASHINGTON             ",null,null,null,null,null,null,null,null,null,null,null,null,0]
[197,196,"NAHANT                       ","196 NAHANT                       ",null,null,null,null,null,null,null,null,null,null,null,null,0]
[198,197,"NANTUCKET                    ","197 NANTUCKET                    ",null,null,null,null,null,null,null,null,null,null,null,null,0]
[199,198,"NATICK                       ","198 NATICK                       ",null,null,null,null,null,null,null,null,null,null,null,null,0]
[200,199,"NEEDHAM                      ","199 NEEDHAM                      ",null,null,null,null,null,null,null,null,null,null,null,null,0]
[201,200,"NEW ASHFORD                  ","200 NEW ASHFORD                  ",null,null,null,null,null,null,null,null,null,null,null,null,0]
[202,201,"NEW BEDFORD                  ","201 NEW BEDFORD                  ",null,null,null,null,null,null,null,null,null,null,null,null,0]
[203,202,"NEW BRAINTREE                ","202 NEW BRAINTREE                ",null,null,null,null,null,null,null,null,null,null,null,null,{"$f":"SUM(E203:O203)","v":0}]
[204,203,"NEWBURY                      ","203 NEWBURY                      ",null,null,null,null,null,null,null,null,null,null,null,null,0]
[205,204,"NEWBURYPORT                  ","204 NEWBURYPORT                  ",null,null,null,null,null,null,null,null,null,null,null,null,0]
[206,205,"NEW MARLBOROUGH              ","205 NEW MARLBOROUGH              ",null,null,null,null,null,null,null,null,null,null,null,null,0]
[207,206,"NEW SALEM                    ","206 NEW SALEM                    ",null,null,null,null,null,null,null,null,null,null,null,null,0]
[208,207,"NEWTON                       ","207 NEWTON                       ",null,null,null,null,null,null,null,null,null,null,null,null,0]
[209,208,"NORFOLK                      ","208 NORFOLK                      ",null,null,null,null,null,null,null,null,null,null,null,null,0]
[210,209,"NORTH ADAMS                  ","209 NORTH ADAMS                  ",null,null,null,null,null,null,null,null,null,null,null,null,0]
[211,210,"NORTHAMPTON                  ","210 NORTHAMPTON                  ",null,null,null,null,null,null,null,null,null,null,null,null,0]
[212,211,"NORTH ANDOVER                ","211 NORTH ANDOVER                ",null,null,null,null,null,null,null,null,null,null,null,null,0]
[213,212,"NORTH ATTLEBOROUGH           ","212 NORTH ATTLEBOROUGH           ",null,null,null,null,null,null,null,null,null,null,null,null,0]
[214,213,"NORTHBOROUGH                 ","213 NORTHBOROUGH                 ",null,null,null,null,null,null,null,null,null,null,null,null,0]
[215,214,"NORTHBRIDGE                  ","214 NORTHBRIDGE                  ",null,null,null,null,null,null,null,null,null,null,null,null,0]
[216,215,"NORTH BROOKFIELD             ","215 NORTH BROOKFIELD             ",null,null,null,null,null,null,null,null,null,null,null,null,0]
[217,216,"NORTHFIELD                   ","216 NORTHFIELD                   ",null,null,null,null,null,null,null,null,null,null,null,null,0]
[218,217,"NORTH READING                ","217 NORTH READING                ",null,null,null,null,null,null,null,null,null,null,null,null,0]
[219,218,"NORTON                       ","218 NORTON                       ",null,null,null,null,null,null,null,null,null,null,null,null,0]
[220,219,"NORWELL                      ","219 NORWELL                      ",null,null,null,null,null,null,null,null,null,null,null,null,0]
[221,220,"NORWOOD                      ","220 NORWOOD                      ",null,null,null,null,null,null,null,null,null,null,null,null,0]
[222,221,"OAK BLUFFS                   ","221 OAK BLUFFS                   ",null,null,null,null,null,null,null,null,null,null,null,null,0]
[223,222,"OAKHAM                       ","222 OAKHAM                       ",null,null,null,null,null,null,null,null,null,null,null,null,0]
[224,223,"ORANGE                       ","223 ORANGE                       ",null,null,null,null,null,null,null,null,null,null,null,null,0]
[225,224,"ORLEANS                      ","224 ORLEANS                      ",null,null,null,null,null,null,null,null,null,null,null,null,0]
[226,225,"OTIS                         ","225 OTIS                         ",null,null,null,null,null,null,null,null,null,null,null,null,0]
[227,226,"OXFORD                       ","226 OXFORD                       ",null,null,null,null,null,null,null,null,null,null,null,null,0]
[228,227,"PALMER                       ","227 PALMER                       ",null,null,null,null,null,null,null,null,null,null,null,null,0]
[229,228,"PAXTON                       ","228 PAXTON                       ",null,null,null,null,null,null,null,null,null,null,null,null,0]
[230,229,"PEABODY                      ","229 PEABODY                      ",null,null,null,null,null,null,null,null,null,null,null,null,0]
[231,230,"PELHAM                       ","230 PELHAM                       ",null,null,null,null,null,null,null,null,null,null,null,null,0]
[232,231,"PEMBROKE                     ","231 PEMBROKE                     ",null,null,null,null,null,null,null,null,null,null,null,null,0]
[233,232,"PEPPERELL                    ","232 PEPPERELL                    ",null,null,null,null,null,null,null,null,null,null,null,null,0]
[234,233,"PERU                         ","233 PERU                         ",null,null,null,null,null,null,null,null,null,null,null,null,0]
[235,234,"PETERSHAM                    ","234 PETERSHAM                    ",null,null,null,null,null,null,null,null,null,null,null,null,0]
[236,235,"PHILLIPSTON                  ","235 PHILLIPSTON                  ",null,null,null,null,null,null,null,null,null,null,null,null,0]
[237,236,"PITTSFIELD                   ","236 PITTSFIELD                   ",null,null,null,null,null,null,null,null,null,null,null,null,0]
[238,237,"PLAINFIELD                   ","237 PLAINFIELD                   ",null,null,null,null,null,null,null,null,null,null,null,null,0]
[239,238,"PLAINVILLE                   ","238 PLAINVILLE                   ",null,null,null,null,null,null,null,null,null,null,null,null,0]
[240,239,"PLYMOUTH                     ","239 PLYMOUTH                     ",null,null,null,null,null,null,null,null,null,null,null,null,0]
[241,240,"PLYMPTON                     ","240 PLYMPTON                     ",null,null,null,null,null,null,null,null,null,null,null,null,0]
[242,241,"PRINCETON                    ","241 PRINCETON                    ",null,null,null,null,null,null,null,null,null,null,null,null,0]
[243,242,"PROVINCETOWN                 ","242 PROVINCETOWN                 ",null,null,null,null,null,null,null,null,null,null,null,null,0]
[244,243,"QUINCY                       ","243 QUINCY                       ",null,null,null,null,null,null,null,null,null,null,null,null,0]
[245,244,"RANDOLPH                     ","244 RANDOLPH                     ",null,null,null,null,null,null,null,null,null,null,null,null,0]
[246,245,"RAYNHAM                      ","245 RAYNHAM                      ",null,null,null,null,null,null,null,null,null,null,null,null,0]
[247,246,"READING                      ","246 READING                      ",null,null,null,null,null,null,null,null,null,null,null,null,0]
[248,247,"REHOBOTH                     ","247 REHOBOTH                     ",null,null,null,null,null,null,null,null,null,null,null,null,0]
[249,248,"REVERE                       ","248 REVERE                       ",null,null,null,null,null,null,null,null,null,null,null,null,0]
[250,249,"RICHMOND                     ","249 RICHMOND                     ",null,null,null,null,null,null,null,null,null,null,null,null,0]
[251,250,"ROCHESTER                    ","250 ROCHESTER                    ",null,null,null,null,null,null,null,null,null,null,null,null,0]
[252,251,"ROCKLAND                     ","251 ROCKLAND                     ",null,null,null,null,null,null,null,null,null,null,null,null,0]
[253,252,"ROCKPORT                     ","252 ROCKPORT                     ",null,null,null,null,null,null,null,null,null,null,null,null,0]
[254,253,"ROWE                         ","253 ROWE                         ",null,null,null,null,null,null,null,null,null,null,null,null,0]
[255,254,"ROWLEY                       ","254 ROWLEY                       ",null,null,null,null,null,null,null,null,null,null,null,null,0]
[256,255,"ROYALSTON                    ","255 ROYALSTON                    ",null,null,null,null,null,null,null,null,null,null,null,null,0]
[257,256,"RUSSELL                      ","256 RUSSELL                      ",null,null,null,null,null,null,null,null,null,null,null,null,0]
[258,257,"RUTLAND                      ","257 RUTLAND                      ",null,null,null,null,null,null,null,null,null,null,null,null,0]
[259,258,"SALEM                        ",{"$f":"B259&\" \"&C259","v":"258 SALEM                        "},null,null,null,null,null,null,null,null,null,null,null,null,0]
[260,259,"SALISBURY                    ","259 SALISBURY                    ",null,null,null,null,null,null,null,null,null,null,null,null,0]
[261,260,"SANDISFIELD                  ","260 SANDISFIELD                  ",null,null,null,null,null,null,null,null,null,null,null,null,0]
[262,261,"SANDWICH                     ","261 SANDWICH                     ",null,null,null,null,null,null,null,null,null,null,null,null,0]
[263,262,"SAUGUS                       ","262 SAUGUS                       ",null,null,null,null,null,null,null,null,null,null,null,null,0]
[264,263,"SAVOY                        ","263 SAVOY                        ",null,null,null,null,null,null,null,null,null,null,null,null,0]
[265,264,"SCITUATE                     ","264 SCITUATE                     ",null,null,null,null,null,null,null,null,null,null,null,null,0]
[266,265,"SEEKONK                      ","265 SEEKONK                      ",null,null,null,null,null,null,null,null,null,null,null,null,0]
[267,266,"SHARON                       ","266 SHARON                       ",null,null,null,null,null,null,null,null,null,null,null,null,{"$f":"SUM(E267:O267)","v":0}]
[268,267,"SHEFFIELD                    ","267 SHEFFIELD                    ",null,null,null,null,null,null,null,null,null,null,null,null,0]
[269,268,"SHELBURNE                    ","268 SHELBURNE                    ",null,null,null,null,null,null,null,null,null,null,null,null,0]
[270,269,"SHERBORN                     ","269 SHERBORN                     ",null,null,null,null,null,null,null,null,null,null,null,null,0]
[271,270,"SHIRLEY                      ","270 SHIRLEY                      ",null,null,null,null,null,null,null,null,null,null,null,null,0]
[272,271,"SHREWSBURY                   ","271 SHREWSBURY                   ",null,null,null,null,null,null,null,null,null,null,null,null,0]
[273,272,"SHUTESBURY                   ","272 SHUTESBURY                   ",null,null,null,null,null,null,null,null,null,null,null,null,0]
[274,273,"SOMERSET                     ","273 SOMERSET                     ",null,null,null,null,null,null,null,null,null,null,null,null,0]
[275,274,"SOMERVILLE                   ","274 SOMERVILLE                   ",null,null,null,null,null,null,null,null,null,null,null,null,0]
[276,275,"SOUTHAMPTON                  ","275 SOUTHAMPTON                  ",null,null,null,null,null,null,null,null,null,null,null,null,0]
[277,276,"SOUTHBOROUGH                 ","276 SOUTHBOROUGH                 ",null,null,null,null,null,null,null,null,null,null,null,null,0]
[278,277,"SOUTHBRIDGE                  ","277 SOUTHBRIDGE                  ",null,null,null,null,null,null,null,null,null,null,null,null,0]
[279,278,"SOUTH HADLEY                 ","278 SOUTH HADLEY                 ",null,null,null,null,null,null,null,null,null,null,null,null,0]
[280,279,"SOUTHWICK                    ","279 SOUTHWICK                    ",null,null,null,null,null,null,null,null,null,null,null,null,0]
[281,280,"SPENCER                      ","280 SPENCER                      ",null,null,null,null,null,null,null,null,null,null,null,null,0]
[282,281,"SPRINGFIELD                  ","281 SPRINGFIELD                  ",null,null,null,null,null,null,null,null,null,null,null,null,0]
[283,282,"STERLING                     ","282 STERLING                     ",null,null,null,null,null,null,null,null,null,null,null,null,0]
[284,283,"STOCKBRIDGE                  ","283 STOCKBRIDGE                  ",null,null,null,null,null,null,null,null,null,null,null,null,0]
[285,284,"STONEHAM                     ","284 STONEHAM                     ",null,null,null,null,null,null,null,null,null,null,null,null,0]
[286,285,"STOUGHTON                    ","285 STOUGHTON                    ",null,null,null,null,null,null,null,null,null,null,null,null,0]
[287,286,"STOW                         ","286 STOW                         ",null,null,null,null,null,null,null,null,null,null,null,null,0]
[288,287,"STURBRIDGE                   ","287 STURBRIDGE                   ",null,null,null,null,null,null,null,null,null,null,null,null,0]
[289,288,"SUDBURY                      ","288 SUDBURY                      ",null,null,null,null,null,null,null,null,null,null,null,null,0]
[290,289,"SUNDERLAND                   ","289 SUNDERLAND                   ",null,null,null,null,null,null,null,null,null,null,null,null,0]
[291,290,"SUTTON                       ","290 SUTTON                       ",null,null,null,null,null,null,null,null,null,null,null,null,0]
[292,291,"SWAMPSCOTT                   ","291 SWAMPSCOTT                   ",null,null,null,null,null,null,null,null,null,null,null,null,0]
[293,292,"SWANSEA                      ","292 SWANSEA                      ",null,null,null,null,null,null,null,null,null,null,null,null,0]
[294,293,"TAUNTON                      ","293 TAUNTON                      ",null,null,null,null,null,null,null,null,null,null,null,null,0]
[295,294,"TEMPLETON                    ","294 TEMPLETON                    ",null,null,null,null,null,null,null,null,null,null,null,null,0]
[296,295,"TEWKSBURY                    ","295 TEWKSBURY                    ",null,null,null,null,null,null,null,null,null,null,null,null,0]
[297,296,"TISBURY                      ","296 TISBURY                      ",null,null,null,null,null,null,null,null,null,null,null,null,0]
[298,297,"TOLLAND                      ","297 TOLLAND                      ",null,null,null,null,null,null,null,null,null,null,null,null,0]
[299,298,"TOPSFIELD                    ","298 TOPSFIELD                    ",null,null,null,null,null,null,null,null,null,null,null,null,0]
[300,299,"TOWNSEND                     ","299 TOWNSEND                     ",null,null,null,null,null,null,null,null,null,null,null,null,0]
[301,300,"TRURO                        ","300 TRURO                        ",null,null,null,null,null,null,null,null,null,null,null,null,0]
[302,301,"TYNGSBOROUGH                 ","301 TYNGSBOROUGH                 ",null,null,null,null,null,null,null,null,null,null,null,null,0]
[303,302,"TYRINGHAM                    ","302 TYRINGHAM                    ",null,null,null,null,null,null,null,null,null,null,null,null,0]
[304,303,"UPTON                        ","303 UPTON                        ",null,null,null,null,null,null,null,null,null,null,null,null,0]
[305,304,"UXBRIDGE                     ","304 UXBRIDGE                     ",null,null,null,null,null,null,null,null,null,null,null,null,0]
[306,305,"WAKEFIELD                    ","305 WAKEFIELD                    ",null,null,null,null,null,null,null,null,null,null,null,null,0]
[307,306,"WALES                        ","306 WALES                        ",null,null,null,null,null,null,null,null,null,null,null,null,0]
[308,307,"WALPOLE                      ","307 WALPOLE                      ",null,null,null,null,null,null,null,null,null,null,null,null,0]
[309,308,"WALTHAM                      ","308 WALTHAM                      ",null,null,null,null,null,null,null,null,null,null,null,null,0]
[310,309,"WARE                         ","309 WARE                         ",null,null,null,null,null,null,null,null,null,null,null,null,0]
[311,310,"WAREHAM                      ","310 WAREHAM                      ",null,null,null,null,null,null,null,null,null,null,null,null,0]
[312,311,"WARREN                       ","311 WARREN                       ",null,null,null,null,null,null,null,null,null,null,null,null,0]
[313,312,"WARWICK                      ","312 WARWICK                      ",null,null,null,null,null,null,null,null,null,null,null,null,0]
[314,313,"WASHINGTON                   ","313 WASHINGTON                   ",null,null,null,null,null,null,null,null,null,null,null,null,0]
[315,314,"WATERTOWN                    ","314 WATERTOWN                    ",null,null,null,null,null,null,null,null,null,null,null,null,0]
[316,315,"WAYLAND                      ","315 WAYLAND                      ",null,null,null,null,null,null,null,null,null,null,null,null,0]
[317,316,"WEBSTER                      ","316 WEBSTER                      ",null,null,null,null,null,null,null,null,null,null,null,null,0]
[318,317,"WELLESLEY                    ","317 WELLESLEY                    ",null,null,null,null,null,null,null,null,null,null,null,null,0]
[319,318,"WELLFLEET                    ","318 WELLFLEET                    ",null,null,null,null,null,null,null,null,null,null,null,null,0]
[320,319,"WENDELL                      ","319 WENDELL                      ",null,null,null,null,null,null,null,null,null,null,null,null,0]
[321,320,"WENHAM                       ","320 WENHAM                       ",null,null,null,null,null,null,null,null,null,null,null,null,0]
[322,321,"WESTBOROUGH                  ","321 WESTBOROUGH                  ",null,null,null,null,null,null,null,null,null,null,null,null,0]
[323,322,"WEST BOYLSTON                ",{"$f":"B323&\" \"&C323","v":"322 WEST BOYLSTON                "},null,null,null,null,null,null,null,null,null,null,null,null,0]
[324,323,"WEST BRIDGEWATER             ","323 WEST BRIDGEWATER             ",null,null,null,null,null,null,null,null,null,null,null,null,0]
[325,324,"WEST BROOKFIELD              ","324 WEST BROOKFIELD              ",null,null,null,null,null,null,null,null,null,null,null,null,0]
[326,325,"WESTFIELD                    ","325 WESTFIELD                    ",null,null,null,null,null,null,null,null,null,null,null,null,0]
[327,326,"WESTFORD                     ","326 WESTFORD                     ",null,null,null,null,null,null,null,null,null,null,null,null,0]
[328,327,"WESTHAMPTON                  ","327 WESTHAMPTON                  ",null,null,null,null,null,null,null,null,null,null,null,null,0]
[329,328,"WESTMINSTER                  ","328 WESTMINSTER                  ",null,null,null,null,null,null,null,null,null,null,null,null,0]
[330,329,"WEST NEWBURY                 ","329 WEST NEWBURY                 ",null,null,null,null,null,null,null,null,null,null,null,null,0]
[331,330,"WESTON                       ","330 WESTON                       ",null,null,null,null,null,null,null,null,null,null,null,null,{"$f":"SUM(E331:O331)","v":0}]
[332,331,"WESTPORT                     ","331 WESTPORT                     ",null,null,null,null,null,null,null,null,null,null,null,null,0]
[333,332,"WEST SPRINGFIELD             ","332 WEST SPRINGFIELD             ",null,null,null,null,null,null,null,null,null,null,null,null,0]
[334,333,"WEST STOCKBRIDGE             ","333 WEST STOCKBRIDGE             ",null,null,null,null,null,null,null,null,null,null,null,null,0]
[335,334,"WEST TISBURY                 ","334 WEST TISBURY                 ",null,null,null,null,null,null,null,null,null,null,null,null,0]
[336,335,"WESTWOOD                     ","335 WESTWOOD                     ",null,null,null,null,null,null,null,null,null,null,null,null,0]
[337,336,"WEYMOUTH                     ","336 WEYMOUTH                     ",null,null,null,null,null,null,null,null,null,null,null,null,0]
[338,337,"WHATELY                      ","337 WHATELY                      ",null,null,null,null,null,null,null,null,null,null,null,null,0]
[339,338,"WHITMAN                      ","338 WHITMAN                      ",null,null,null,null,null,null,null,null,null,null,null,null,0]
[340,339,"WILBRAHAM                    ","339 WILBRAHAM                    ",null,null,null,null,null,null,null,null,null,null,null,null,0]
[341,340,"WILLIAMSBURG                 ","340 WILLIAMSBURG                 ",null,null,null,null,null,null,null,null,null,null,null,null,0]
[342,341,"WILLIAMSTOWN                 ","341 WILLIAMSTOWN                 ",null,null,null,null,null,null,null,null,null,null,null,null,0]
[343,342,"WILMINGTON                   ","342 WILMINGTON                   ",null,null,null,null,null,null,null,null,null,null,null,null,0]
[344,343,"WINCHENDON                   ","343 WINCHENDON                   ",null,null,null,null,null,null,null,null,null,null,null,null,0]
[345,344,"WINCHESTER                   ","344 WINCHESTER                   ",null,null,null,null,null,null,null,null,null,null,null,null,0]
[346,345,"WINDSOR                      ","345 WINDSOR                      ",null,null,null,null,null,null,null,null,null,null,null,null,0]
[347,346,"WINTHROP                     ","346 WINTHROP                     ",null,null,null,null,null,null,null,null,null,null,null,null,0]
[348,347,"WOBURN","347 WOBURN",null,null,null,null,null,null,null,null,null,null,null,null,0]
[349,348,"WORCESTER                    ","348 WORCESTER                    ",null,null,null,null,null,null,null,null,null,null,null,null,0]
[350,349,"WORTHINGTON                  ","349 WORTHINGTON                  ",null,null,null,null,null,null,null,null,null,null,null,null,0]
[351,350,"WRENTHAM                     ","350 WRENTHAM                     ",null,null,null,null,null,null,null,null,null,null,null,null,0]
[352,351,"YARMOUTH                     ","351 YARMOUTH                     ",null,null,null,null,null,null,null,null,null,null,null,null,0]
[353,352,"DEVENS","352 DEVENS",null,null,null,null,null,null,null,null,null,null,null,null,0]
[354,406,"NORTHAMPTON SMITH            ","406 NORTHAMPTON SMITH            ",null,null,null,null,null,null,null,null,null,null,null,null,0]
[355,600,"ACTON BOXBOROUGH             ","600 ACTON BOXBOROUGH             ",null,null,null,null,null,null,null,null,null,null,null,null,0]
[356,603,"ADAMS CHESHIRE               ","603 ADAMS CHESHIRE               ",null,null,null,null,null,null,null,null,null,null,null,null,0]
[357,605,"AMHERST PELHAM               ","605 AMHERST PELHAM               ",null,null,null,null,null,null,null,null,null,null,null,null,0]
[358,610,"ASHBURNHAM WESTMINSTER       ","610 ASHBURNHAM WESTMINSTER       ",null,null,null,null,null,null,null,null,null,null,null,null,0]
[359,615,"ATHOL ROYALSTON              ","615 ATHOL ROYALSTON              ",null,null,null,null,null,null,null,null,null,null,null,null,0]
[360,616,"AYER SHIRLEY","616 AYER SHIRLEY",null,null,null,null,null,null,null,null,null,null,null,null,0]
[361,618,"BERKSHIRE HILLS              ",{"$f":"B361&\" \"&C361","v":"618 BERKSHIRE HILLS              "},null,null,null,null,null,null,null,null,null,null,null,null,0]
[362,620,"BERLIN BOYLSTON              ","620 BERLIN BOYLSTON              ",null,null,null,null,null,null,null,null,null,null,null,null,0]
[363,622,"BLACKSTONE MILLVILLE         ","622 BLACKSTONE MILLVILLE         ",null,null,null,null,null,null,null,null,null,null,null,null,0]
[364,625,"BRIDGEWATER RAYNHAM          ","625 BRIDGEWATER RAYNHAM          ",null,null,null,null,null,null,null,null,null,null,null,null,0]
[365,632,"CHESTERFIELD GOSHEN","632 CHESTERFIELD GOSHEN",null,null,null,null,null,null,null,null,null,null,null,null,0]
[366,635,"CENTRAL BERKSHIRE            ","635 CENTRAL BERKSHIRE            ",null,null,null,null,null,null,null,null,null,null,null,null,0]
[367,640,"CONCORD CARLISLE             ","640 CONCORD CARLISLE             ",null,null,null,null,null,null,null,null,null,null,null,null,0]
[368,645,"DENNIS YARMOUTH              ","645 DENNIS YARMOUTH              ",null,null,null,null,null,null,null,null,null,null,null,null,0]
[369,650,"DIGHTON REHOBOTH             ","650 DIGHTON REHOBOTH             ",null,null,null,null,null,null,null,null,null,null,null,null,0]
[370,655,"DOVER SHERBORN               ","655 DOVER SHERBORN               ",null,null,null,null,null,null,null,null,null,null,null,null,0]
[371,658,"DUDLEY CHARLTON              ","658 DUDLEY CHARLTON              ",null,null,null,null,null,null,null,null,null,null,null,null,0]
[372,660,"NAUSET                       ","660 NAUSET                       ",null,null,null,null,null,null,null,null,null,null,null,null,0]
[373,662,"FARMINGTON RIVER","662 FARMINGTON RIVER",null,null,null,null,null,null,null,null,null,null,null,null,0]
[374,665,"FREETOWN LAKEVILLE           ","665 FREETOWN LAKEVILLE           ",null,null,null,null,null,null,null,null,null,null,null,null,0]
[375,670,"FRONTIER                     ","670 FRONTIER                     ",null,null,null,null,null,null,null,null,null,null,null,null,0]
[376,672,"GATEWAY                      ","672 GATEWAY                      ",null,null,null,null,null,null,null,null,null,null,null,null,0]
[377,673,"GROTON DUNSTABLE             ","673 GROTON DUNSTABLE             ",null,null,null,null,null,null,null,null,null,null,null,null,0]
[378,674,"GILL MONTAGUE                ","674 GILL MONTAGUE                ",null,null,null,null,null,null,null,null,null,null,null,null,0]
[379,675,"HAMILTON WENHAM              ","675 HAMILTON WENHAM              ",null,null,null,null,null,null,null,null,null,null,null,null,0]
[380,680,"HAMPDEN WILBRAHAM            ","680 HAMPDEN WILBRAHAM            ",null,null,null,null,null,null,null,null,null,null,null,null,0]
[381,683,"HAMPSHIRE                    ","683 HAMPSHIRE                    ",null,null,null,null,null,null,null,null,null,null,null,null,0]
[382,685,"HAWLEMONT                    ","685 HAWLEMONT                    ",null,null,null,null,null,null,null,null,null,null,null,null,0]
[383,690,"KING PHILIP                  ","690 KING PHILIP                  ",null,null,null,null,null,null,null,null,null,null,null,null,0]
[384,695,"LINCOLN SUDBURY              ","695 LINCOLN SUDBURY              ",null,null,null,null,null,null,null,null,null,null,null,null,0]
[385,698,"MANCHESTER ESSEX","698 MANCHESTER ESSEX",null,null,null,null,null,null,null,null,null,null,null,null,0]
[386,700,"MARTHAS VINEYARD             ","700 MARTHAS VINEYARD             ",null,null,null,null,null,null,null,null,null,null,null,null,0]
[387,705,"MASCONOMET                   ","705 MASCONOMET                   ",null,null,null,null,null,null,null,null,null,null,null,null,0]
[388,710,"MENDON UPTON                 ","710 MENDON UPTON                 ",null,null,null,null,null,null,null,null,null,null,null,null,0]
[389,712,"MONOMOY","712 MONOMOY",null,null,null,null,null,null,null,null,null,null,null,null,0]
[390,715,"MOUNT GREYLOCK               ",{"$f":"B390&\" \"&C390","v":"715 MOUNT GREYLOCK               "},null,null,null,null,null,null,null,null,null,null,null,null,0]
[391,717,"MOHAWK TRAIL                 ","717 MOHAWK TRAIL                 ",null,null,null,null,null,null,null,null,null,null,null,null,0]
[392,720,"NARRAGANSETT                 ","720 NARRAGANSETT                 ",null,null,null,null,null,null,null,null,null,null,null,null,0]
[393,725,"NASHOBA                      ","725 NASHOBA                      ",null,null,null,null,null,null,null,null,null,null,null,null,0]
[394,728,"NEW SALEM WENDELL            ","728 NEW SALEM WENDELL            ",null,null,null,null,null,null,null,null,null,null,null,null,0]
[395,730,"NORTHBORO SOUTHBORO          ","730 NORTHBORO SOUTHBORO          ",null,null,null,null,null,null,null,null,null,null,null,null,{"$f":"SUM(E395:O395)","v":0}]
[396,735,"NORTH MIDDLESEX              ","735 NORTH MIDDLESEX              ",null,null,null,null,null,null,null,null,null,null,null,null,0]
[397,740,"OLD ROCHESTER                ","740 OLD ROCHESTER                ",null,null,null,null,null,null,null,null,null,null,null,null,0]
[398,745,"PENTUCKET                    ","745 PENTUCKET                    ",null,null,null,null,null,null,null,null,null,null,null,null,0]
[399,750,"PIONEER                      ","750 PIONEER                      ",null,null,null,null,null,null,null,null,null,null,null,null,0]
[400,753,"QUABBIN                      ","753 QUABBIN                      ",null,null,null,null,null,null,null,null,null,null,null,null,0]
[401,755,"RALPH C MAHAR                ","755 RALPH C MAHAR                ",null,null,null,null,null,null,null,null,null,null,null,null,0]
[402,760,"SILVER LAKE                  ","760 SILVER LAKE                  ",null,null,null,null,null,null,null,null,null,null,null,null,0]
[403,765,"SOUTHERN BERKSHIRE           ","765 SOUTHERN BERKSHIRE           ",null,null,null,null,null,null,null,null,null,null,null,null,0]
[404,766,"SOUTHWICK TOLLAND","766 SOUTHWICK TOLLAND",null,null,null,null,null,null,null,null,null,null,null,null,0]
[405,767,"SPENCER EAST BROOKFIELD      ","767 SPENCER EAST BROOKFIELD      ",null,null,null,null,null,null,null,null,null,null,null,null,0]
[406,770,"TANTASQUA                    ","770 TANTASQUA                    ",null,null,null,null,null,null,null,null,null,null,null,null,0]
[407,773,"TRITON                       ","773 TRITON                       ",null,null,null,null,null,null,null,null,null,null,null,null,0]
[408,774,"UPISLAND","774 UPISLAND",null,null,null,null,null,null,null,null,null,null,null,null,0]
[409,775,"WACHUSETT                    ","775 WACHUSETT                    ",null,null,null,null,null,null,null,null,null,null,null,null,0]
[410,778,"QUABOAG","778 QUABOAG",null,null,null,null,null,null,null,null,null,null,null,null,0]
[411,780,"WHITMAN HANSON               ","780 WHITMAN HANSON               ",null,null,null,null,null,null,null,null,null,null,null,null,0]
[412,801,"ASSABET VALLEY               ","801 ASSABET VALLEY               ",null,null,null,null,null,null,null,null,null,null,null,null,0]
[413,805,"BLACKSTONE VALLEY            ","805 BLACKSTONE VALLEY            ",null,null,null,null,null,null,null,null,null,null,null,null,0]
[414,806,"BLUE HILLS                   ","806 BLUE HILLS                   ",null,null,null,null,null,null,null,null,null,null,null,null,0]
[415,810,"BRISTOL PLYMOUTH             ","810 BRISTOL PLYMOUTH             ",null,null,null,null,null,null,null,null,null,null,null,null,0]
[416,815,"CAPE COD                     ","815 CAPE COD                     ",null,null,null,null,null,null,null,null,null,null,null,null,0]
[417,817,"ESSEX NORTH SHORE","817 ESSEX NORTH SHORE",null,null,null,null,null,null,null,null,null,null,null,null,0]
[418,818,"FRANKLIN COUNTY              ","818 FRANKLIN COUNTY              ",null,null,null,null,null,null,null,null,null,null,null,null,0]
[419,821,"GREATER FALL RIVER           ","821 GREATER FALL RIVER           ",null,null,null,null,null,null,null,null,null,null,null,null,0]
[420,823,"GREATER LAWRENCE             ","823 GREATER LAWRENCE             ",null,null,null,null,null,null,null,null,null,null,null,null,0]
[421,825,"GREATER NEW BEDFORD          ","825 GREATER NEW BEDFORD          ",null,null,null,null,null,null,null,null,null,null,null,null,0]
[422,828,"GREATER LOWELL               ","828 GREATER LOWELL               ",null,null,null,null,null,null,null,null,null,null,null,null,0]
[423,829,"SOUTH MIDDLESEX              ","829 SOUTH MIDDLESEX              ",null,null,null,null,null,null,null,null,null,null,null,null,0]
[424,830,"MINUTEMAN                    ","830 MINUTEMAN                    ",null,null,null,null,null,null,null,null,null,null,null,null,0]
[425,832,"MONTACHUSETT                 ","832 MONTACHUSETT                 ",null,null,null,null,null,null,null,null,null,null,null,null,0]
[426,851,"NORTHERN BERKSHIRE           ","851 NORTHERN BERKSHIRE           ",null,null,null,null,null,null,null,null,null,null,null,null,0]
[427,852,"NASHOBA VALLEY               ","852 NASHOBA VALLEY               ",null,null,null,null,null,null,null,null,null,null,null,null,0]
[428,853,"NORTHEAST METROPOLITAN       ","853 NORTHEAST METROPOLITAN       ",null,null,null,null,null,null,null,null,null,null,null,null,0]
[429,855,"OLD COLONY                   ","855 OLD COLONY                   ",null,null,null,null,null,null,null,null,null,null,null,null,0]
[430,860,"PATHFINDER                   ","860 PATHFINDER                   ",null,null,null,null,null,null,null,null,null,null,null,null,0]
[431,871,"SHAWSHEEN VALLEY             ","871 SHAWSHEEN VALLEY             ",null,null,null,null,null,null,null,null,null,null,null,null,0]
[432,872,"SOUTHEASTERN                 ","872 SOUTHEASTERN                 ",null,null,null,null,null,null,null,null,null,null,null,null,0]
[433,873,"SOUTH SHORE                  ","873 SOUTH SHORE                  ",null,null,null,null,null,null,null,null,null,null,null,null,0]
[434,876,"SOUTHERN WORCESTER           ","876 SOUTHERN WORCESTER           ",null,null,null,null,null,null,null,null,null,null,null,null,0]
[435,878,"TRI COUNTY                   ","878 TRI COUNTY                   ",null,null,null,null,null,null,null,null,null,null,null,null,0]
[436,879,"UPPER CAPE COD               ","879 UPPER CAPE COD               ",null,null,null,null,null,null,null,null,null,null,null,null,0]
[437,885,"WHITTIER                     ","885 WHITTIER                     ",null,null,null,null,null,null,null,null,null,null,null,null,0]
[438,910,"BRISTOL COUNTY               ","910 BRISTOL COUNTY               ",null,null,null,null,null,null,null,null,null,null,null,null,0]
[439,915,"NORFOLK COUNTY               ","915 NORFOLK COUNTY               ",null,null,null,null,null,null,null,null,null,null,null,null,0]
[440,3901,"MA VIRTUAL ACADEMY","3901 MA VIRTUAL ACADEMY",null,null,null,null,null,null,null,null,null,null,null,null,0]
[441,3902,"TECCA","3902 TECCA",null,null,null,null,null,null,null,null,null,null,null,null,0]
[442,9999,"State Total","9999 State Total",null,null,null,null,null,null,null,null,null,null,null,null,0]
[null,null,null,null,null,null,null,null,null,null,null,null,null,null,null,null,0]
[null,null,null,null,null,null,null,null,null,null,null,null,null,null,null,null,0]
[null,null,null,null,null,null,null,null,null,null,null,null,null,null,null,null,0]
[null,null,null,null,null,null,null,null,null,null,null,null,null,null,null,null,0]
[null,null,null,null,null,null,null,null,null,null,null,null,null,null,null,null,0]
[null,null,null,null,null,null,null,null,null,null,null,null,null,null,null,null,0]
[null,null,null,null,null,null,null,null,null,null,null,null,null,null,null,null,0]
[null,null,null,null,null,null,null,null,null,null,null,null,null,null,null,null,0]
[null,null,null,null,null,null,null,null,null,null,null,null,null,null,null,null,0]

{"sheet":"statewide listing","index":11,"n_rows":326,"n_cols":12,"rows_kept":326,"cut":false,"hidden":false,"merged":[[1,0,1,11],[2,0,2,11],[4,0,4,11]]}
[null,null,null,null,null,null,null,null,null,null,null,"2016-06-15"]
["Massachusetts Department of Elementary and Secondary Education"]
["Office of School Finance"]
[]
["School Choice Pupils and Tuition, FY16 Final"]
[null,null,null,null,null,null,null,"Adjustment","Adjustment",null,"Net ","Net "]
[null,null,"FY16","FY16","FY16","FY16",null,"FY15","FY15",null,"Receiving","Sending"]
[null,null,"Receiving","Receiving","Sending","Sending",null,"Receiving","Sending",null,"Tuition","Tuition"]
["LEA","district","FTE","Tuition","FTE","Tuition",null,"Tuition","Tuition",null,"FY16","FY16"]
[1,"ABINGTON                     ",1,5000,33.489999999999995,202621,null,0,0,null,5000,202621]
[3,"ACUSHNET                     ",0,0,18.63,98585,null,0,0,null,0,98585]
[5,"AGAWAM                       ",76.02,437916,46.1,292059,null,0,0,null,437916,292059]
[7,"AMESBURY                     ",12.360000000000001,94513,59.69,379481,null,0,0,null,94513,379481]
[8,"AMHERST                      ",49.96,336133,25.07,238888,null,0,0,null,336133,238888]
[9,"ANDOVER                      ",0,0,4,26467,null,0,0,null,0,26467]
[10,"ARLINGTON                    ",0,0,1.96,14806,null,0,0,null,0,14806]
[14,"ASHLAND                      ",43.43,266615,13.860000000000001,89931,null,0,0,null,266615,89931]
[16,"ATTLEBORO                    ",0,0,26.330000000000002,163391,null,0,0,null,0,163391]
[17,"AUBURN                       ",62.089999999999996,327610,17.799999999999997,102423,null,0,0,null,327610,102423]
[18,"AVON                         ",188.18,980670,1.69,10067,null,0,0,null,980670,10067]
[20,"BARNSTABLE                   ",101.78000000000002,650718,155.45000000000005,904893,null,0,0,null,650718,904893]
[22,"BECKET                       ",0,0,3,15000,null,0,0,null,0,15000]
[23,"BEDFORD                      ",0,0,4.16,26665,null,0,0,null,0,26665]
[24,"BELCHERTOWN                  ",123.48999999999998,749311,95.69,661719,null,0,0,null,749311,661719]
[25,"BELLINGHAM                   ",39.19,218670,135.84999999999997,844393,null,0,-164,null,218670,844229]
[26,"BELMONT                      ",0,0,1.3,8920,null,0,0,null,0,8920]
[27,"BERKLEY                      ",104.15999999999997,520800,1.8499999999999999,9250,null,0,0,null,520800,9250]
[28,"BERLIN                       ",19.41,147821,1,5000,null,0,0,null,147821,5000]
[30,"BEVERLY                      ",103.3,596078,59.339999999999996,338684,null,0,0,null,596078,338684]
[31,"BILLERICA                    ",0,0,17.97,117252,null,0,0,null,0,117252]
[33,"BLANDFORD                    ",0,0,2,11951,null,0,0,null,0,11951]
[35,"BOSTON                       ",0,0,93.08,616775,null,0,0,null,0,616775]
[36,"BOURNE                       ",134.9,800520,95.580000000000013,564917,null,0,0,null,800520,564917]
[38,"BOXFORD                      ",0,0,3,16700,null,0,0,null,0,16700]
[39,"BOYLSTON                     ",17,94765,5.6000000000000005,73688,null,0,0,null,94765,73688]
[40,"BRAINTREE                    ",0,0,5.19,33330,null,0,0,null,0,33330]
[41,"BREWSTER                     ",0,0,32.25,195396,null,0,0,null,0,195396]
[43,"BRIMFIELD                    ",0,0,7.13,62760,null,0,-102,null,0,62658]
[44,"BROCKTON                     ",23.43,227944,235.67,1268968,null,0,0,null,227944,1268968]
[45,"BROOKFIELD                   ",56.91,354773,2.63,22784,null,0,0,null,354773,22784]
[46,"BROOKLINE                    ",0,0,1.31,8829,null,0,0,null,0,8829]
[48,"BURLINGTON                   ",28.93,144650,3.88,26005,null,0,0,null,144650,26005]
[49,"CAMBRIDGE                    ",0,0,5.41,36291,null,0,0,null,0,36291]
[50,"CANTON                       ",0,0,1.4,9836,null,0,0,null,0,9836]
[52,"CARVER                       ",22.560000000000002,174142,4.8099999999999996,30051,null,0,0,null,174142,30051]
[56,"CHELMSFORD                   ",57.89,425721,29.66,214929,null,0,0,null,425721,214929]
[57,"CHELSEA                      ",0,0,10.27,67390,null,0,0,null,0,67390]
[61,"CHICOPEE                     ",190.44,988909,139.67000000000002,838974,null,0,-419,null,988909,838555]
[63,"CLARKSBURG                   ",35.39,203013,17.78,133934,null,0,0,null,203013,133934]
[64,"CLINTON                      ",82.430000000000035,640152,117.37,685597,null,3650,0,null,643802,685597]
[67,"CONCORD                      ",0,0,2,13400,null,0,0,null,0,13400]
[68,"CONWAY                       ",19.21,124095,10.58,87193,null,-1700,0,null,122395,87193]
[71,"DANVERS                      ",0,0,55.1,303475,null,0,0,null,0,303475]
[72,"DARTMOUTH                    ",0,0,5.4699999999999989,35064,null,0,0,null,0,35064]
[73,"DEDHAM                       ",0,0,3.17,17853,null,0,0,null,0,17853]
[74,"DEERFIELD                    ",89.79,647624,22.41,127939,null,0,0,null,647624,127939]
[77,"DOUGLAS                      ",116.61000000000001,656288,47.12,277253,null,0,0,null,656288,277253]
[79,"DRACUT                       ",35.849999999999994,201370,25.61,169495,null,0,0,null,201370,169495]
[82,"DUXBURY                      ",0,0,1.77,12477,null,0,0,null,0,12477]
[83,"EAST BRIDGEWATER             ",26.009999999999998,130050,19.68,152777,null,0,0,null,130050,152777]
[84,"EAST BROOKFIELD              ",0,0,5,25000,null,0,0,null,0,25000]
[85,"EASTHAM                      ",0,0,7.91,46279,null,0,0,null,0,46279]
[86,"EASTHAMPTON                  ",86.100000000000009,490764,174.98,1183176,null,0,0,null,490764,1183176]
[87,"EAST LONGMEADOW              ",0,0,9.9700000000000006,91525,null,0,0,null,0,91525]
[88,"EASTON                       ",0,0,8.64,53783,null,0,0,null,0,53783]
[89,"EDGARTOWN                    ",8,63812,33,189264,null,0,0,null,63812,189264]
[91,"ERVING                       ",0,0,35.159999999999997,191798,null,0,-475,null,0,191323]
[93,"EVERETT                      ",0,0,16.22,99476,null,0,0,null,0,99476]
[94,"FAIRHAVEN                    ",0,0,13.35,76133,null,0,0,null,0,76133]
[95,"FALL RIVER                   ",26.349999999999998,131750,102.33999999999997,607684,null,0,0,null,131750,607684]
[96,"FALMOUTH                     ",112.14999999999999,662349,40.19,239349,null,-3095,0,null,659254,239349]
[97,"FITCHBURG                    ",175.74999999999983,1014558,430.6099999999999,2450726,null,0,-51305,null,1014558,2399421]
[98,"FLORIDA                      ",3.42,19506,7,39198,null,0,0,null,19506,39198]
[99,"FOXBOROUGH                   ",0,0,4.7,28389,null,0,0,null,0,28389]
[100,"FRAMINGHAM                   ",0,0,54.689999999999991,327888,null,0,0,null,0,327888]
[101,"FRANKLIN                     ",7,40017,34.289999999999992,208665,null,0,10000,null,40017,218665]
[102,"FREETOWN                     ",0,0,2,10000,null,0,0,null,0,10000]
[103,"GARDNER                      ",121.98000000000003,681949,252.39999999999998,1434445,null,0,0,null,681949,1434445]
[105,"GEORGETOWN                   ",40,203823,23.87,190198,null,0,0,null,203823,190198]
[107,"GLOUCESTER                   ",38.54,201875,312.14000000000004,1873676,null,0,0,null,201875,1873676]
[110,"GRAFTON                      ",42.559999999999995,286180,37.1,209294,null,0,0,null,286180,209294]
[111,"GRANBY                       ",117.09,662813,52.089999999999989,310859,null,0,0,null,662813,310859]
[114,"GREENFIELD                   ",116.54999999999997,710935,323.16000000000003,2503449,null,-7504,0,null,703431,2503449]
[117,"HADLEY                       ",98.469999999999985,622679,47.480000000000004,302977,null,0,0,null,622679,302977]
[118,"HALIFAX                      ",0,0,1,5000,null,0,0,null,0,5000]
[121,"HANCOCK                      ",5,28564,4.6899999999999995,23450,null,0,0,null,28564,23450]
[122,"HANOVER                      ",0,0,2.74,13700,null,0,0,null,0,13700]
[125,"HARVARD                      ",67.38,355892,3,15000,null,0,0,null,355892,15000]
[127,"HATFIELD                     ",130.80000000000001,919191,30.78,194914,null,0,0,null,919191,194914]
[128,"HAVERHILL                    ",36.6,206775,189.82,1084139,null,0,0,null,206775,1084139]
[131,"HINGHAM                      ",0,0,3.48,24172,null,0,0,null,0,24172]
[133,"HOLBROOK                     ",57.87,316096,17.499999999999996,120804,null,0,0,null,316096,120804]
[135,"HOLLAND                      ",52.93,299281,2.52,13520,null,0,0,null,299281,13520]
[136,"HOLLISTON                    ",158.46,1077427,14.330000000000002,84214,null,-12664,0,null,1064763,84214]
[137,"HOLYOKE                      ",52.690000000000005,293066,337.02,2134577,null,0,0,null,293066,2134577]
[138,"HOPEDALE                     ",122.77,694534,48.56,293803,null,0,0,null,694534,293803]
[139,"HOPKINTON                    ",0,0,18.369999999999997,111464,null,0,0,null,0,111464]
[141,"HUDSON                       ",96.140000000000015,617483,21.259999999999998,140240,null,0,0,null,617483,140240]
[142,"HULL                         ",0,0,6,42278,null,0,0,null,0,42278]
[144,"IPSWICH                      ",67.97,367074,16.66,95239,null,0,0,null,367074,95239]
[148,"LANESBOROUGH                 ",19,109804,24.09,132108,null,0,0,null,109804,132108]
[149,"LAWRENCE                     ",0,0,65.930000000000007,426027,null,0,0,null,0,426027]
[150,"LEE                          ",128.54000000000002,743454,98.38,559383,null,0,0,null,743454,559383]
[151,"LEICESTER                    ",103.14,564881,35.340000000000003,199790,null,0,0,null,564881,199790]
[152,"LENOX                        ",253.16,1310194,47.019999999999996,266359,null,0,-1050,null,1310194,265309]
[153,"LEOMINSTER                   ",246.15999999999997,1350496,323.70000000000005,1878934,null,0,0,null,1350496,1878934]
[154,"LEVERETT                     ",21.2,145160,5.37,27526,null,0,0,null,145160,27526]
[155,"LEXINGTON                    ",0,0,6.34,40828,null,0,0,null,0,40828]
[157,"LINCOLN                      ",0,0,2.2200000000000002,14933,null,0,0,null,0,14933]
[158,"LITTLETON                    ",78.39,431572,22.16,143874,null,0,0,null,431572,143874]
[159,"LONGMEADOW                   ",39.630000000000003,328156,2.06,12248,null,0,0,null,328156,12248]
[160,"LOWELL                       ",0,0,141.94999999999996,945075,null,0,0,null,0,945075]
[161,"LUDLOW                       ",93.99,562404,40.08,219840,null,0,0,null,562404,219840]
[162,"LUNENBURG                    ",51.269999999999996,286673,80.180000000000007,476902,null,0,0,null,286673,476902]
[163,"LYNN                         ",0,0,99.25,604213,null,0,0,null,0,604213]
[165,"MALDEN                       ",0,0,9.9400000000000013,61397,null,0,0,null,0,61397]
[167,"MANSFIELD                    ",0,0,6.43,37250,null,0,0,null,0,37250]
[168,"MARBLEHEAD                   ",0,0,5.41,34124,null,0,0,null,0,34124]
[169,"MARION                       ",0,0,0.72,5096,null,0,0,null,0,5096]
[170,"MARLBOROUGH                  ",0,0,91.36,532947,null,0,0,null,0,532947]
[171,"MARSHFIELD                   ",5,25000,6.14,43122,null,0,0,null,25000,43122]
[172,"MASHPEE                      ",64.75,385020,81.100000000000023,443786,null,0,-3095,null,385020,440691]
[173,"MATTAPOISETT                 ",2,38577,1.33,10208,null,0,0,null,38577,10208]
[174,"MAYNARD                      ",39.520000000000003,288123,9,46472,null,0,0,null,288123,46472]
[175,"MEDFIELD                     ",0,0,7.4500000000000011,46802,null,0,0,null,0,46802]
[176,"MEDFORD                      ",0,0,7.4099999999999993,52371,null,0,0,null,0,52371]
[177,"MEDWAY                       ",89.180000000000021,499230,49.629999999999995,316465,null,47500,0,null,546730,316465]
[178,"MELROSE                      ",25.29,140055,2.08,14101,null,0,0,null,140055,14101]
[181,"METHUEN                      ",0,0,24.69,149338,null,0,0,null,0,149338]
[182,"MIDDLEBOROUGH                ",3,15000,51.73,298126,null,0,0,null,15000,298126]
[184,"MIDDLETON                    ",0,0,1,6700,null,0,0,null,0,6700]
[185,"MILFORD                      ",86.799999999999983,513108,198.76000000000002,1182249,null,0,10000,null,513108,1192249]
[186,"MILLBURY                     ",0,0,24.34,157629,null,0,0,null,0,157629]
[187,"MILLIS                       ",79.259999999999991,423920,28.61,170783,null,0,15000,null,423920,185783]
[189,"MILTON                       ",0,0,4,26800,null,0,0,null,0,26800]
[190,"MONROE                       ",0,0,0.74,3984,null,0,0,null,0,3984]
[191,"MONSON                       ",52,323728,36.680000000000007,201977,null,0,0,null,323728,201977]
[195,"MOUNT WASHINGTON             ",0,0,1,5000,null,0,0,null,0,5000]
[196,"NAHANT                       ",0,0,1.48,7400,null,0,0,null,0,7400]
[197,"NANTUCKET                    ",0,0,1.17,7902,null,0,0,null,0,7902]
[198,"NATICK                       ",38.89,306642,11.770000000000003,77843,null,0,0,null,306642,77843]
[199,"NEEDHAM                      ",0,0,5.9099999999999993,38205,null,0,0,null,0,38205]
[200,"NEW ASHFORD                  ",0,0,1,5000,null,0,0,null,0,5000]
[201,"NEW BEDFORD                  ",0,0,90.39,558592,null,0,0,null,0,558592]
[204,"NEWBURYPORT                  ",42.019999999999996,641809,42.73,264608,null,0,0,null,641809,264608]
[207,"NEWTON                       ",0,0,4.5599999999999996,30811,null,0,0,null,0,30811]
[208,"NORFOLK                      ",0,0,3,16700,null,0,0,null,0,16700]
[209,"NORTH ADAMS                  ",44.169999999999995,323759,112.9,652643,null,0,0,null,323759,652643]
[210,"NORTHAMPTON                  ",221.36,1829052,83.42,637347,null,0,0,null,1829052,637347]
[212,"NORTH ATTLEBOROUGH           ",0,0,13.17,86639,null,0,0,null,0,86639]
[213,"NORTHBOROUGH                 ",0,0,1.98,13268,null,0,0,null,0,13268]
[214,"NORTHBRIDGE                  ",104.2,568378,127.59000000000003,880978,null,0,0,null,568378,880978]
[215,"NORTH BROOKFIELD             ",64.580000000000013,347580,112.61,655615,null,0,0,null,347580,655615]
[217,"NORTH READING                ",0,0,5.72,34946,null,0,0,null,0,34946]
[218,"NORTON                       ",34.950000000000003,174750,18.979999999999997,117442,null,0,0,null,174750,117442]
[219,"NORWELL                      ",0,0,1,6941,null,0,0,null,0,6941]
[220,"NORWOOD                      ",0,0,9.370000000000001,62615,null,0,0,null,0,62615]
[221,"OAK BLUFFS                   ",35.450000000000003,177250,31.089999999999996,235130,null,0,0,null,177250,235130]
[223,"ORANGE                       ",61.23,414143,66.44,391558,null,0,0,null,414143,391558]
[224,"ORLEANS                      ",1,5000,2.4900000000000002,13321,null,0,0,null,5000,13321]
[226,"OXFORD                       ",5.93,29650,79.399999999999963,450328,null,0,0,null,29650,450328]
[227,"PALMER                       ",27.340000000000003,148882,84.030000000000015,519593,null,0,0,null,148882,519593]
[229,"PEABODY                      ",91.090000000000046,486595,48.01,254014,null,0,0,null,486595,254014]
[230,"PELHAM                       ",52.919999999999995,382237,2,10000,null,0,0,null,382237,10000]
[231,"PEMBROKE                     ",0,0,7.51,43629,null,0,0,null,0,43629]
[234,"PETERSHAM                    ",66.670000000000016,403775,8,40000,null,0,0,null,403775,40000]
[236,"PITTSFIELD                   ",101.65999999999998,564099,477.73000000000013,2719527,null,0,0,null,564099,2719527]
[239,"PLYMOUTH                     ",0,0,53.060000000000009,289637,null,0,0,null,0,289637]
[240,"PLYMPTON                     ",6,30000,1,5000,null,0,0,null,30000,5000]
[242,"PROVINCETOWN                 ",42.53,368932,19,106654,null,0,0,null,368932,106654]
[243,"QUINCY                       ",0,0,9.8899999999999988,72830,null,0,0,null,0,72830]
[244,"RANDOLPH                     ",7,38519,158.96000000000004,849730,null,0,0,null,38519,849730]
[246,"READING                      ",0,0,7.1,48149,null,0,0,null,0,48149]
[248,"REVERE                       ",0,0,13.559999999999999,79713,null,0,0,null,0,79713]
[249,"RICHMOND                     ",79.5,404770,15.739999999999998,84515,null,0,0,null,404770,84515]
[250,"ROCHESTER                    ",0,0,1,5000,null,0,0,null,0,5000]
[251,"ROCKLAND                     ",37.120000000000005,192819,13.910000000000002,87803,null,0,0,null,192819,87803]
[252,"ROCKPORT                     ",237.83,1386244,27.48,138510,null,0,0,null,1386244,138510]
[253,"ROWE                         ",19,97354,3,21957,null,0,0,null,97354,21957]
[258,"SALEM                        ",0,0,74.459999999999994,419538,null,0,0,null,0,419538]
[261,"SANDWICH                     ",76.400000000000006,412038,64.03,372631,null,0,0,null,412038,372631]
[262,"SAUGUS                       ",0,0,15.97,97444,null,0,0,null,0,97444]
[263,"SAVOY                        ",11,57305,24.15,130881,null,0,0,null,57305,130881]
[264,"SCITUATE                     ",0,0,1.3,9081,null,0,0,null,0,9081]
[265,"SEEKONK                      ",0,0,5.3,36631,null,0,0,null,0,36631]
[266,"SHARON                       ",0,0,3,17856,null,0,0,null,0,17856]
[271,"SHREWSBURY                   ",0,0,26.689999999999998,162855,null,0,0,null,0,162855]
[272,"SHUTESBURY                   ",0,0,11.459999999999999,61092,null,0,0,null,0,61092]
[273,"SOMERSET                     ",0,0,13.68,73176,null,0,0,null,0,73176]
[274,"SOMERVILLE                   ",0,0,5,28400,null,0,0,null,0,28400]
[275,"SOUTHAMPTON                  ",70.88,435026,9.9499999999999993,75203,null,0,0,null,435026,75203]
[276,"SOUTHBOROUGH                 ",0,0,4.17,29818,null,0,0,null,0,29818]
[277,"SOUTHBRIDGE                  ",7.3100000000000005,36550,262.32999999999993,1489502,null,0,0,null,36550,1489502]
[278,"SOUTH HADLEY                 ",162.38999999999999,903146,113.36000000000003,742567,null,-419,0,null,902727,742567]
[281,"SPRINGFIELD                  ",14,78352,757.32000000000016,4480145,null,0,0,null,78352,4480145]
[284,"STONEHAM                     ",0,0,7.4899999999999993,51836,null,0,0,null,0,51836]
[285,"STOUGHTON                    ",0,0,16.630000000000003,143635,null,0,0,null,0,143635]
[287,"STURBRIDGE                   ",0,0,7.01,50085,null,0,0,null,0,50085]
[288,"SUDBURY                      ",0,0,1.5,15112,null,0,0,null,0,15112]
[289,"SUNDERLAND                   ",41.51,303357,8,40000,null,0,0,null,303357,40000]
[290,"SUTTON                       ",39,219083,17.899999999999999,96430,null,0,0,null,219083,96430]
[291,"SWAMPSCOTT                   ",0,0,5.26,33737,null,0,0,null,0,33737]
[292,"SWANSEA                      ",0,0,14,77201,null,0,0,null,0,77201]
[293,"TAUNTON                      ",90.62,473718,112.57,629342,null,0,0,null,473718,629342]
[295,"TEWKSBURY                    ",0,0,6.35,40779,null,0,0,null,0,40779]
[296,"TISBURY                      ",21.03,110661,45.45,249547,null,0,0,null,110661,249547]
[300,"TRURO                        ",14.870000000000001,80283,23.009999999999998,253107,null,0,0,null,80283,253107]
[301,"TYNGSBOROUGH                 ",42.78,243391,26.63,139166,null,0,0,null,243391,139166]
[302,"TYRINGHAM                    ",0,0,13,67175,null,0,0,null,0,67175]
[304,"UXBRIDGE                     ",136.07000000000002,869573,178.47000000000003,985307,null,0,0,null,869573,985307]
[305,"WAKEFIELD                    ",0,0,12.450000000000003,77960,null,0,0,null,0,77960]
[306,"WALES                        ",6.17,30850,14,75395,null,0,0,null,30850,75395]
[307,"WALPOLE                      ",0,0,9.879999999999999,61154,null,0,0,null,0,61154]
[308,"WALTHAM                      ",0,0,8.33,56012,null,0,0,null,0,56012]
[309,"WARE                         ",49.810000000000009,312803,183.72,1057969,null,-102,0,null,312701,1057969]
[310,"WAREHAM                      ",26.95,146058,185.13000000000002,1188700,null,0,0,null,146058,1188700]
[314,"WATERTOWN                    ",0,0,8.32,57084,null,0,0,null,0,57084]
[315,"WAYLAND                      ",0,0,3.95,82023,null,0,0,null,0,82023]
[316,"WEBSTER                      ",28.67,145981,113.26,630939,null,0,0,null,145981,630939]
[317,"WELLESLEY                    ",0,0,0.11,550,null,0,0,null,0,550]
[318,"WELLFLEET                    ",0,0,10.02,67587,null,0,0,null,0,67587]
[321,"WESTBOROUGH                  ",0,0,6.52,39757,null,0,0,null,0,39757]
[322,"WEST BOYLSTON                ",161.24,897277,31.95,195235,null,0,0,null,897277,195235]
[323,"WEST BRIDGEWATER             ",246.23,1425839,7.44,41740,null,0,0,null,1425839,41740]
[324,"WEST BROOKFIELD              ",0,0,11.049999999999999,61303,null,0,0,null,0,61303]
[325,"WESTFIELD                    ",129.81,776499,133.95999999999995,786431,null,0,0,null,776499,786431]
[326,"WESTFORD                     ",68.490000000000009,416682,12.51,86727,null,0,0,null,416682,86727]
[327,"WESTHAMPTON                  ",18.600000000000001,148579,7,46027,null,0,0,null,148579,46027]
[330,"WESTON                       ",0,0,3,22553,null,0,0,null,0,22553]
[331,"WESTPORT                     ",0,0,14.01,78077,null,0,0,null,0,78077]
[332,"WEST SPRINGFIELD             ",108.1,624831,42.06,267396,null,0,0,null,624831,267396]
[336,"WEYMOUTH                     ",0,0,19.21,123174,null,0,0,null,0,123174]
[337,"WHATELY                      ",44.86,264213,5,66211,null,0,0,null,264213,66211]
[340,"WILLIAMSBURG                 ",18.41,102805,17.189999999999998,95976,null,0,0,null,102805,95976]
[341,"WILLIAMSTOWN                 ",31.92,169504,2,10000,null,0,0,null,169504,10000]
[342,"WILMINGTON                   ",0,0,1.08,8041,null,0,0,null,0,8041]
[343,"WINCHENDON                   ",29,145000,140.28000000000006,805543,null,-51305,0,null,93695,805543]
[344,"WINCHESTER                   ",0,0,3.8,28183,null,0,0,null,0,28183]
[346,"WINTHROP                     ",16,87223,3.8499999999999996,24182,null,0,0,null,87223,24182]
[347,"WOBURN",0,0,16.020000000000003,87032,null,0,0,null,0,87032]
[348,"WORCESTER                    ",69.150000000000006,391327,473.96000000000009,2669896,null,0,0,null,391327,2669896]
[349,"WORTHINGTON                  ",5.37,26850,54.339999999999996,467624,null,0,0,null,26850,467624]
[350,"WRENTHAM                     ",0,0,4.17,20850,null,0,0,null,0,20850]
[352,"DEVENS",0,0,5,26703,null,0,0,null,0,26703]
[600,"ACTON BOXBOROUGH             ",39,224191,14.27,99055,null,0,0,null,224191,99055]
[603,"ADAMS CHESHIRE               ",54.550000000000004,309389,79.16,496241,null,0,0,null,309389,496241]
[605,"AMHERST PELHAM               ",69.400000000000006,485602,34.470000000000006,274579,null,0,0,null,485602,274579]
[610,"ASHBURNHAM WESTMINSTER       ",200.22,1066295,60.95,325990,null,0,0,null,1066295,325990]
[615,"ATHOL ROYALSTON              ",66.070000000000007,386650,364.54000000000008,2243909,null,0,0,null,386650,2243909]
[616,"AYER SHIRLEY",135.34,797878,127.73999999999998,712089,null,0,0,null,797878,712089]
[618,"BERKSHIRE HILLS              ",225.2,1272636,103.19,588844,null,-1050,0,null,1271586,588844]
[620,"BERLIN BOYLSTON              ",90,532024,27.689999999999998,156067,null,0,0,null,532024,156067]
[622,"BLACKSTONE MILLVILLE         ",45.800000000000011,246347,90.539999999999992,507522,null,0,0,null,246347,507522]
[625,"BRIDGEWATER RAYNHAM          ",28.09,154948,155.88,903061,null,0,0,null,154948,903061]
[632,"CHESTERFIELD GOSHEN",23.58,155514,11,62761,null,0,0,null,155514,62761]
[635,"CENTRAL BERKSHIRE            ",162.89000000000001,1035125,167.41999999999996,965551,null,0,0,null,1035125,965551]
[640,"CONCORD CARLISLE             ",0,0,1.88,12742,null,0,0,null,0,12742]
[645,"DENNIS YARMOUTH              ",121.98,792724,352.82000000000022,2142965,null,0,-430,null,792724,2142535]
[650,"DIGHTON REHOBOTH             ",10,50000,24.790000000000003,133966,null,0,0,null,50000,133966]
[655,"DOVER SHERBORN               ",0,0,5.43,33203,null,0,0,null,0,33203]
[658,"DUDLEY CHARLTON              ",144.54000000000002,809841,56.080000000000005,317369,null,0,0,null,809841,317369]
[660,"NAUSET                       ",279.53999999999996,1611078,32.26,252619,null,0,-3094,null,1611078,249525]
[662,"FARMINGTON RIVER",15,82080,44.91,243875,null,0,0,null,82080,243875]
[665,"FREETOWN LAKEVILLE           ",40.97,212263,27.250000000000004,144812,null,0,0,null,212263,144812]
[670,"FRONTIER                     ",129.17000000000002,1046172,55.09,325837,null,0,0,null,1046172,325837]
[672,"GATEWAY                      ",45.8,309353,73.02,489020,null,0,0,null,309353,489020]
[673,"GROTON DUNSTABLE             ",44.87,247992,23.98,138405,null,0,0,null,247992,138405]
[674,"GILL MONTAGUE                ",94.81,803098,239.12000000000003,1502528,null,0,-7029,null,803098,1495499]
[675,"HAMILTON WENHAM              ",90,468724,9.0299999999999994,50981,null,0,0,null,468724,50981]
[680,"HAMPDEN WILBRAHAM            ",111.35,703072,11.53,62636,null,0,0,null,703072,62636]
[683,"HAMPSHIRE                    ",97.35,769017,63.040000000000006,362893,null,0,0,null,769017,362893]
[685,"HAWLEMONT                    ",15.75,107764,24.91,141979,null,0,0,null,107764,141979]
[690,"KING PHILIP                  ",0,0,16.709999999999997,115903,null,0,0,null,0,115903]
[695,"LINCOLN SUDBURY              ",0,0,2.14,15500,null,0,0,null,0,15500]
[698,"MANCHESTER ESSEX",71,457297,9.6400000000000023,52387,null,0,0,null,457297,52387]
[700,"MARTHAS VINEYARD             ",0,0,2.48,17852,null,0,0,null,0,17852]
[705,"MASCONOMET                   ",0,0,3,16700,null,0,0,null,0,16700]
[710,"MENDON UPTON                 ",143.26,810615,54.35,326161,null,0,0,null,810615,326161]
[712,"MONOMOY",257.12,1511524,197.07,1147725,null,-3524,0,null,1508000,1147725]
[715,"MOUNT GREYLOCK               ",62.639999999999993,343658,22.509999999999998,121525,null,0,0,null,343658,121525]
[717,"MOHAWK TRAIL                 ",90.320000000000007,664959,73.830000000000013,738107,null,0,-1700,null,664959,736407]
[720,"NARRAGANSETT                 ",185.68,1089601,141.63999999999993,794982,null,0,0,null,1089601,794982]
[725,"NASHOBA                      ",134.37,720154,69.38000000000001,427081,null,0,3650,null,720154,430731]
[728,"NEW SALEM WENDELL            ",26.96,143537,12.63,73549,null,0,0,null,143537,73549]
[730,"NORTHBORO SOUTHBORO          ",0,0,5.34,97558,null,0,0,null,0,97558]
[735,"NORTH MIDDLESEX              ",87.059999999999988,491373,94.63000000000001,523536,null,0,0,null,491373,523536]
[740,"OLD ROCHESTER                ",72.849999999999994,381316,7.82,47704,null,0,0,null,381316,47704]
[745,"PENTUCKET                    ",108.53999999999999,599768,28.94,184532,null,0,0,null,599768,184532]
[750,"PIONEER                      ",152.85,857073,47.9,380399,null,0,0,null,857073,380399]
[753,"QUABBIN                      ",325.26,1861729,110.18000000000005,717309,null,0,0,null,1861729,717309]
[755,"RALPH C MAHAR                ",245.66,1442717,54.050000000000004,321379,null,0,0,null,1442717,321379]
[760,"SILVER LAKE                  ",0,0,6.9799999999999995,44856,null,0,0,null,0,44856]
[763,"SOMERSET BERKLEY",50.86,293733,6.5,35006,null,0,0,null,293733,35006]
[765,"SOUTHERN BERKSHIRE           ",121.53,714799,113.74000000000001,600232,null,0,0,null,714799,600232]
[766,"SOUTHWICK TOLLAND",127.05999999999999,704096,51.75,294229,null,0,0,null,704096,294229]
[767,"SPENCER EAST BROOKFIELD      ",44.199999999999996,279486,210.14999999999998,1167779,null,0,0,null,279486,1167779]
[770,"TANTASQUA                    ",157.76999999999998,933187,25.490000000000002,163822,null,0,0,null,933187,163822]
[773,"TRITON                       ",156.34,996175,84,851495,null,0,0,null,996175,851495]
[774,"UPISLAND",56,376918,10.94,54700,null,0,0,null,376918,54700]
[775,"WACHUSETT                    ",174,1012789,111.87,662132,null,0,0,null,1012789,662132]
[778,"QUABOAG",193.33999999999997,1035901,90.170000000000016,555672,null,0,0,null,1035901,555672]
[780,"WHITMAN HANSON               ",29.76,186073,17.78,98250,null,0,0,null,186073,98250]
[810,"BRISTOL PLYMOUTH             ",0,0,6.83,34150,null,0,0,null,0,34150]
[815,"CAPE COD                     ",0,0,3.7800000000000002,26261,null,0,0,null,0,26261]
[817,"ESSEX NORTH SHORE",1,5000,21.240000000000002,119061,null,0,0,null,5000,119061]
[818,"FRANKLIN COUNTY              ",0,0,1.52,7600,null,0,0,null,0,7600]
[821,"GREATER FALL RIVER           ",0,0,7.85,89959,null,0,0,null,0,89959]
[823,"GREATER LAWRENCE             ",6.22,31991,115.58,631503,null,0,0,null,31991,631503]
[825,"GREATER NEW BEDFORD          ",0,0,5,25000,null,0,0,null,0,25000]
[828,"GREATER LOWELL               ",0,0,25.330000000000002,133200,null,0,0,null,0,133200]
[830,"MINUTEMAN                    ",0,0,1.62,8100,null,0,0,null,0,8100]
[832,"MONTACHUSETT                 ",21.089999999999996,109561,65.11,365416,null,0,0,null,109561,365416]
[852,"NASHOBA VALLEY               ",62.510000000000005,335726,2.1100000000000003,18967,null,0,0,null,335726,18967]
[853,"NORTHEAST METROPOLITAN       ",28.83,163103,2,10748,null,0,0,null,163103,10748]
[855,"OLD COLONY                   ",0,0,0.81,4050,null,0,0,null,0,4050]
[860,"PATHFINDER                   ",33.700000000000003,183358,11,59162,null,0,0,null,183358,59162]
[871,"SHAWSHEEN VALLEY             ",0,0,18.22,99451,null,0,0,null,0,99451]
[872,"SOUTHEASTERN                 ",0,0,4,20000,null,0,0,null,0,20000]
[873,"SOUTH SHORE                  ",0,0,1,5000,null,0,0,null,0,5000]
[876,"SOUTHERN WORCESTER           ",0,0,30.49,181431,null,0,0,null,0,181431]
[878,"TRI COUNTY                   ",0,0,0.69,3450,null,0,0,null,0,3450]
[879,"UPPER CAPE COD               ",0,0,1.32,6600,null,0,0,null,0,6600]
[885,"WHITTIER                     ",114.58,628063,4.8099999999999996,24941,null,0,0,null,628063,24941]
[3901,"MA VIRTUAL ACADEMY",622.1099999999999,4307308,0,0,null,0,0,null,4307308,0]
[3902,"TECCA",895.15000000000248,6136953,0,0,null,0,0,null,6136953,0]
[9999,"State Total",15635.540000000006,94745180,15635.540000000003,94900055,null,-30213,-30213,null,94714967,94869842]

{"sheet":"distributions","index":12,"n_rows":451,"n_cols":47,"rows_kept":451,"cut":false,"hidden":true,"merged":[]}
[]
[]
[]
[null,null,null,null,null,null,null,null,null,null,null,null,null,null,null,null,null,null,null,null,null,null,null,null,null,null,null,null,null,null,null,null,null,null,null,null,null,null,null,null,null,null,null,"bring in vendor code, name, choice tuition and payment.  (couldn't do this in Jan) TECCA should be last record.  Replace \"CITY OF \" and \"TOWN OF \" with blank; include the following space"]
[null,null,null,null,"school choice tuition receipts, FY16",null,null,null,null,null,null,null,null,null,null,null,null,null,null,null,null,"school choice tuition assessments FY16",null,null,null,null,null,null,null,null,null,null,null,null,null,null,null,null,null,null,null,null,null,"Replace Southfield with N Smith.   Delete suffolk cty retirement"]
[null,null,null,null,null,null,null,null,null,null,null,"estimate: publish in mid-dec then update with actual",null,null,null,null,null,null,null,null,null,null,null,null,null,null,null,null,"estimate: publish in mid-dec then update with actual",null,null,null,null,null,null,null,null,null,null,null,null,null,null,"sort ar to au on vendor code"]
[null,null,null,null,null,null,null,null,null,null,null,"=round((D10-SUM(G10:K10))/7,0)",null,null,null,null,null,null,null,null,null,null,null,null,null,null,null,null,"=round((u10-SUM(x10:ab10))/7,0)",null,null,null,null,null,null,null,null,null,null,null,null,null,null,"sort ak to an on an (vendor code)   Name match. If okay, sort range ak to au on ak"]
[null,null,null,null,null,null,null,null,null,null,null,null,null,null,null,null,null,null,null,null,null,null,null,null,null,null,null,null,null,null,null,null,null,null,null,null,null,null,null,null,"different formula for c&t"]
[null,null,"final cherry sheet projection","doe annual estimate as of december","doe annual estimate as of may","doe june annual tuition","dor july receipts","dor aug receipts","dor sept receipts","dor oct receipts","dor nov receipts","dor dec receipts","dor jan receipts","dor feb receipts","dor mar receipts","dor apr receipts","dor may receipts","ese est jun receipts",null,"final cherry sheet projection","ese annual estimate as of december","ese annual estimate as of may","ese final june tuition ","dor july assessments","dor aug asessment","dor sept assessment","dor oct assesment","dor nov assessment","dor dec assessment","dor jan assessment","dor feb assessment","dor mar assessment","dor apr assessment","dor may assessment","ese est jun assessment",null,"lea","district","dor","vendor","check name",null,null,"Vendor Code","Vendor Name","School Choice Receiving Tuition","Choice Assessment"]
[1,"ABINGTON                     ",{"$f":"proj16jul!D10","v":10000},{"$f":"dec!N10","v":5000},{"$f":"may!N10","v":5000},{"$f":"june!N10","v":5000},833,833,834,833,833,119,119,119,null,null,null,null,null,{"$f":"proj16jul!F10","v":141707},{"$f":"dec!O10","v":231077},{"$f":"may!O10","v":228621},{"$f":"june!O10","v":202621},11809,11809,11809,11809,11809,24576,24576,24576,null,null,null,null,{"$f":"IF(MID(B10,1,6)<>MID(AL10,1,6),1,0)","v":0},1,"ABINGTON",1,"VC6000191688",{"$f":"IF(MID(AS10,9,6)<>MID(AL10,1,6),1,0)","v":0},null,null,"VC6000191688","TOWN OF ABINGTON",119,24576]
[2,"ACTON                        ",{"$f":"proj16jul!D11","v":0},{"$f":"dec!N11","v":0},{"$f":"may!N11","v":0},{"$f":"june!N11","v":0},0,0,0,0,0,0,0,0,null,null,null,null,null,{"$f":"proj16jul!F11","v":5561},{"$f":"dec!O11","v":0},{"$f":"may!O11","v":0},{"$f":"june!O11","v":0},464,464,464,464,464,-332,-332,-332,null,null,null,null,{"$f":"IF(MID(B11,1,6)<>MID(AL11,1,6),1,0)","v":1},2,"ACTON",2,"VC6000191689",0,null,null,"VC6000191689","TOWN OF ACTON",0,-332]
[3,"ACUSHNET                     ",{"$f":"proj16jul!D12","v":0},{"$f":"dec!N12","v":0},{"$f":"may!N12","v":0},{"$f":"june!N12","v":0},0,0,0,0,0,0,0,0,null,null,null,null,null,{"$f":"proj16jul!F12","v":62652},{"$f":"dec!O12","v":76700},{"$f":"may!O12","v":98585},{"$f":"june!O12","v":98585},5221,5221,5221,5221,5221,7228,7228,7228,null,null,null,null,0,3,"ACUSHNET",3,"VC6000191690",0,null,null,"VC6000191690","TOWN OF ACUSHNET",0,7228]
[4,"ADAMS                        ",{"$f":"proj16jul!D13","v":0},{"$f":"dec!N13","v":0},{"$f":"may!N13","v":0},{"$f":"june!N13","v":0},0,0,0,0,0,0,0,0,null,null,null,null,null,{"$f":"proj16jul!F13","v":0},{"$f":"dec!O13","v":0},{"$f":"may!O13","v":0},{"$f":"june!O13","v":0},0,0,0,0,0,0,0,0,null,null,null,null,1,4,"ADAMS",4,"VC6000191691",0,null,null,"VC6000191691","TOWN OF ADAMS",0,0]
[5,"AGAWAM                       ",{"$f":"proj16jul!D14","v":425326},{"$f":"dec!N14","v":429476},{"$f":"may!N14","v":429476},{"$f":"june!N14","v":437916},35443,35444,35444,35444,35444,36036,36036,36037,null,null,null,null,null,{"$f":"proj16jul!F14","v":290838},{"$f":"dec!O14","v":294983},{"$f":"may!O14","v":308100},{"$f":"june!O14","v":292059},24237,24237,24237,24237,24237,24829,24829,24828,null,null,null,null,0,5,"AGAWAM",5,"VC6000191692",0,null,null,"VC6000191692","CITY OF AGAWAM",36037,24828]
[6,"ALFORD                       ",{"$f":"proj16jul!D15","v":0},{"$f":"dec!N15","v":0},{"$f":"may!N15","v":0},{"$f":"june!N15","v":0},0,0,0,0,0,0,0,0,null,null,null,null,null,{"$f":"proj16jul!F15","v":0},{"$f":"dec!O15","v":0},{"$f":"may!O15","v":0},{"$f":"june!O15","v":0},0,0,0,0,0,0,0,0,null,null,null,null,0,6,"ALFORD",6,"VC6000191687",0,null,null,"VC6000191687","TOWN OF ALFORD",0,0]
[7,"AMESBURY                     ",{"$f":"proj16jul!D16","v":196514},{"$f":"dec!N16","v":121524},{"$f":"may!N16","v":121524},{"$f":"june!N16","v":94513},16376,16376,16376,16376,16376,5663,5663,5663,null,null,null,null,null,{"$f":"proj16jul!F16","v":494598},{"$f":"dec!O16","v":394457},{"$f":"may!O16","v":383721},{"$f":"june!O16","v":379481},41217,41217,41217,41217,41217,26911,26911,26910,null,null,null,null,0,7,"AMESBURY",7,"VC6000191693",0,null,null,"VC6000191693","TOWN OF AMESBURY",5663,26910]
[8,"AMHERST                      ",{"$f":"proj16jul!D17","v":338073},{"$f":"dec!N17","v":319432},{"$f":"may!N17","v":319432},{"$f":"june!N17","v":336133},28172,28173,28173,28173,28172,25509,25510,25510,null,null,null,null,null,{"$f":"proj16jul!F17","v":157400},{"$f":"dec!O17","v":134194},{"$f":"may!O17","v":228041},{"$f":"june!O17","v":238888},13117,13117,13117,13117,13117,9802,9802,9801,null,null,null,null,0,8,"AMHERST",8,"VC6000191695",0,null,null,"VC6000191695","TOWN OF AMHERST",25510,9801]
[9,"ANDOVER                      ",{"$f":"proj16jul!D18","v":0},{"$f":"dec!N18","v":0},{"$f":"may!N18","v":0},{"$f":"june!N18","v":0},0,0,0,0,0,0,0,0,null,null,null,null,null,{"$f":"proj16jul!F18","v":25326},{"$f":"dec!O18","v":29100},{"$f":"may!O18","v":26467},{"$f":"june!O18","v":26467},2111,2111,2111,2111,2111,2650,2650,2649,null,null,null,null,0,9,"ANDOVER",9,"VC6000191696",0,null,null,"VC6000191696","TOWN OF ANDOVER",0,2649]
[10,"ARLINGTON                    ",{"$f":"proj16jul!D19","v":0},{"$f":"dec!N19","v":0},{"$f":"may!N19","v":0},{"$f":"june!N19","v":0},0,0,0,0,0,0,0,0,null,null,null,null,null,{"$f":"proj16jul!F19","v":5561},{"$f":"dec!O19","v":21400},{"$f":"may!O19","v":20238},{"$f":"june!O19","v":14806},464,464,464,464,464,2726,2726,2726,null,null,null,null,0,10,"ARLINGTON",10,"VC6000191698",0,null,null,"VC6000191698","TOWN OF ARLINGTON",0,2726]
[11,"ASHBURNHAM                   ",{"$f":"proj16jul!D20","v":0},{"$f":"dec!N20","v":0},{"$f":"may!N20","v":0},{"$f":"june!N20","v":0},0,0,0,0,0,0,0,0,null,null,null,null,null,{"$f":"proj16jul!F20","v":0},{"$f":"dec!O20","v":0},{"$f":"may!O20","v":0},{"$f":"june!O20","v":0},0,0,0,0,0,0,0,0,null,null,null,null,0,11,"ASHBURNHAM",11,"VC6000191699",0,null,null,"VC6000191699","TOWN OF ASHBURNHAM",0,0]
[12,"ASHBY                        ",{"$f":"proj16jul!D21","v":0},{"$f":"dec!N21","v":0},{"$f":"may!N21","v":0},{"$f":"june!N21","v":0},0,0,0,0,0,0,0,0,null,null,null,null,null,{"$f":"proj16jul!F21","v":0},{"$f":"dec!O21","v":0},{"$f":"may!O21","v":0},{"$f":"june!O21","v":0},0,0,0,0,0,0,0,0,null,null,null,null,1,12,"ASHBY",12,"VC6000191700",0,null,null,"VC6000191700","TOWN OF ASHBY",0,0]
[13,"ASHFIELD                     ",{"$f":"proj16jul!D22","v":0},{"$f":"dec!N22","v":0},{"$f":"may!N22","v":0},{"$f":"june!N22","v":0},0,0,0,0,0,0,0,0,null,null,null,null,null,{"$f":"proj16jul!F22","v":0},{"$f":"dec!O22","v":0},{"$f":"may!O22","v":0},{"$f":"june!O22","v":0},0,0,0,0,0,0,0,0,null,null,null,null,0,13,"ASHFIELD",13,"VC6000191701",0,null,null,"VC6000191701","TOWN OF ASHFIELD",0,0]
[14,"ASHLAND                      ",{"$f":"proj16jul!D23","v":212748},{"$f":"dec!N23","v":287724},{"$f":"may!N23","v":266615},{"$f":"june!N23","v":266615},17729,17729,17729,17729,17729,28439,28440,28440,null,null,null,null,null,{"$f":"proj16jul!F23","v":91418},{"$f":"dec!O23","v":84632},{"$f":"may!O23","v":89173},{"$f":"june!O23","v":89931},7619,7619,7618,7618,7618,6649,6649,6649,null,null,null,null,0,14,"ASHLAND",14,"VC6000191703",0,null,null,"VC6000191703","TOWN OF ASHLAND",28440,6649]
[15,"ATHOL                        ",{"$f":"proj16jul!D24","v":0},{"$f":"dec!N24","v":0},{"$f":"may!N24","v":0},{"$f":"june!N24","v":0},0,0,0,0,0,0,0,0,null,null,null,null,null,{"$f":"proj16jul!F24","v":0},{"$f":"dec!O24","v":0},{"$f":"may!O24","v":0},{"$f":"june!O24","v":0},0,0,0,0,0,0,0,0,null,null,null,null,1,15,"ATHOL",15,"VC6000191704",0,null,null,"VC6000191704","TOWN OF ATHOL",0,0]
[16,"ATTLEBORO                    ",{"$f":"proj16jul!D25","v":0},{"$f":"dec!N25","v":0},{"$f":"may!N25","v":0},{"$f":"june!N25","v":0},0,0,0,0,0,0,0,0,null,null,null,null,null,{"$f":"proj16jul!F25","v":98305},{"$f":"dec!O25","v":183900},{"$f":"may!O25","v":174584},{"$f":"june!O25","v":163391},8193,8192,8192,8192,8192,20420,20420,20420,null,null,null,null,0,16,"ATTLEBORO",16,"VC6000192072",0,null,null,"VC6000192072","CITY OF ATTLEBORO",0,20420]
[17,"AUBURN                       ",{"$f":"proj16jul!D26","v":249438},{"$f":"dec!N26","v":327404},{"$f":"may!N26","v":327610},{"$f":"june!N26","v":327610},20786,20787,20786,20787,20786,31924,31924,31924,null,null,null,null,null,{"$f":"proj16jul!F26","v":127289},{"$f":"dec!O26","v":112071},{"$f":"may!O26","v":107043},{"$f":"june!O26","v":102423},10608,10608,10608,10608,10608,8433,8433,8433,null,null,null,null,0,17,"AUBURN",17,"VC6000191706",0,null,null,"VC6000191706","TOWN OF AUBURN",31924,8433]
[18,"AVON                         ",{"$f":"proj16jul!D27","v":949225},{"$f":"dec!N27","v":1024920},{"$f":"may!N27","v":980670},{"$f":"june!N27","v":980670},79102,79102,79102,79102,79102,89915,89915,89916,null,null,null,null,null,{"$f":"proj16jul!F27","v":25000},{"$f":"dec!O27","v":10000},{"$f":"may!O27","v":10067},{"$f":"june!O27","v":10067},2084,2084,2084,2084,2083,-60,-60,-60,null,null,null,null,1,18,"AVON",18,"VC6000191708",0,null,null,"VC6000191708","TOWN OF AVON",89916,-60]
[19,"AYER                         ",{"$f":"proj16jul!D28","v":0},{"$f":"dec!N28","v":0},{"$f":"may!N28","v":0},{"$f":"june!N28","v":0},0,0,0,0,0,0,0,0,null,null,null,null,null,{"$f":"proj16jul!F28","v":0},{"$f":"dec!O28","v":0},{"$f":"may!O28","v":0},{"$f":"june!O28","v":0},0,0,0,0,0,0,0,0,null,null,null,null,1,19,"AYER",19,"VC6000191709",0,null,null,"VC6000191709","TOWN OF AYER",0,0]
[20,"BARNSTABLE                   ",{"$f":"proj16jul!D29","v":616894},{"$f":"dec!N29","v":658306},{"$f":"may!N29","v":650718},{"$f":"june!N29","v":650718},51407,51408,51408,51408,51408,57323,57324,57324,null,null,null,null,null,{"$f":"proj16jul!F29","v":918231},{"$f":"dec!O29","v":934327},{"$f":"may!O29","v":915697},{"$f":"june!O29","v":904893},76520,76520,76520,76519,76519,78819,78819,78819,null,null,null,null,0,20,"BARNSTABLE",20,"VC6000191710",0,null,null,"VC6000191710","TOWN OF BARNSTABLE",57324,78819]
[21,"BARRE                        ",{"$f":"proj16jul!D30","v":0},{"$f":"dec!N30","v":0},{"$f":"may!N30","v":0},{"$f":"june!N30","v":0},0,0,0,0,0,0,0,0,null,null,null,null,null,{"$f":"proj16jul!F30","v":0},{"$f":"dec!O30","v":0},{"$f":"may!O30","v":0},{"$f":"june!O30","v":0},0,0,0,0,0,0,0,0,null,null,null,null,1,21,"BARRE",21,"VC6000191711",0,null,null,"VC6000191711","TOWN OF BARRE",0,0]
[22,"BECKET                       ",{"$f":"proj16jul!D31","v":0},{"$f":"dec!N31","v":0},{"$f":"may!N31","v":0},{"$f":"june!N31","v":0},0,0,0,0,0,0,0,0,null,null,null,null,null,{"$f":"proj16jul!F31","v":10000},{"$f":"dec!O31","v":15000},{"$f":"may!O31","v":15000},{"$f":"june!O31","v":15000},834,834,834,834,833,1548,1548,1547,null,null,null,null,0,22,"BECKET",22,"VC6000191712",0,null,null,"VC6000191712","TOWN OF BECKET",0,1547]
[23,"BEDFORD                      ",{"$f":"proj16jul!D32","v":0},{"$f":"dec!N32","v":0},{"$f":"may!N32","v":0},{"$f":"june!N32","v":0},0,0,0,0,0,0,0,0,null,null,null,null,null,{"$f":"proj16jul!F32","v":5000},{"$f":"dec!O32","v":23400},{"$f":"may!O32","v":31665},{"$f":"june!O32","v":26665},417,417,417,417,417,3045,3045,3045,null,null,null,null,0,23,"BEDFORD",23,"VC6000191713",0,null,null,"VC6000191713","TOWN OF BEDFORD",0,3045]
[24,"BELCHERTOWN                  ",{"$f":"proj16jul!D33","v":580989},{"$f":"dec!N33","v":760087},{"$f":"may!N33","v":760087},{"$f":"june!N33","v":749311},48415,48416,48416,48416,48415,74001,74001,74001,null,null,null,null,null,{"$f":"proj16jul!F33","v":544940},{"$f":"dec!O33","v":659834},{"$f":"may!O33","v":660608},{"$f":"june!O33","v":661719},45412,45412,45412,45412,45412,61825,61825,61825,null,null,null,null,0,24,"BELCHERTOWN",24,"VC6000191714",0,null,null,"VC6000191714","TOWN OF BELCHERTOWN",74001,61825]
[25,"BELLINGHAM                   ",{"$f":"proj16jul!D34","v":257806},{"$f":"dec!N34","v":202459},{"$f":"may!N34","v":218670},{"$f":"june!N34","v":218670},21483,21484,21484,21484,21484,13577,13577,13577,null,null,null,null,null,{"$f":"proj16jul!F34","v":703458},{"$f":"dec!O34","v":831394},{"$f":"may!O34","v":860184},{"$f":"june!O34","v":844229},58622,59758,59758,59758,59758,76249,76249,76249,null,null,null,null,0,25,"BELLINGHAM",25,"VC6000191715",0,null,null,"VC6000191715","TOWN OF BELLINGHAM",13577,76249]
[26,"BELMONT                      ",{"$f":"proj16jul!D35","v":0},{"$f":"dec!N35","v":0},{"$f":"may!N35","v":0},{"$f":"june!N35","v":0},0,0,0,0,0,0,0,0,null,null,null,null,null,{"$f":"proj16jul!F35","v":4653},{"$f":"dec!O35","v":0},{"$f":"may!O35","v":8920},{"$f":"june!O35","v":8920},388,388,388,388,388,-278,-277,-277,null,null,null,null,0,26,"BELMONT",26,"VC6000191717",0,null,null,"VC6000191717","TOWN OF BELMONT",0,-277]
[27,"BERKLEY                      ",{"$f":"proj16jul!D36","v":396688},{"$f":"dec!N36","v":582114},{"$f":"may!N36","v":520800},{"$f":"june!N36","v":520800},33057,33057,33058,33057,33057,59546,59547,59547,null,null,null,null,null,{"$f":"proj16jul!F36","v":10000},{"$f":"dec!O36","v":10000},{"$f":"may!O36","v":13450},{"$f":"june!O36","v":9250},834,834,834,834,833,833,833,833,null,null,null,null,0,27,"BERKLEY",27,"VC6000191718",0,null,null,"VC6000191718","TOWN OF BERKLEY",59547,833]
[28,"BERLIN                       ",{"$f":"proj16jul!D37","v":145629},{"$f":"dec!N37","v":149051},{"$f":"may!N37","v":149051},{"$f":"june!N37","v":147821},12135,12136,12136,12136,12135,12624,12624,12625,null,null,null,null,null,{"$f":"proj16jul!F37","v":0},{"$f":"dec!O37","v":0},{"$f":"may!O37","v":5000},{"$f":"june!O37","v":5000},0,0,0,0,0,0,0,0,null,null,null,null,0,28,"BERLIN",28,"VC6000191720",0,null,null,"VC6000191720","TOWN OF BERLIN",12625,0]
[29,"BERNARDSTON                  ",{"$f":"proj16jul!D38","v":0},{"$f":"dec!N38","v":0},{"$f":"may!N38","v":0},{"$f":"june!N38","v":0},0,0,0,0,0,0,0,0,null,null,null,null,null,{"$f":"proj16jul!F38","v":0},{"$f":"dec!O38","v":0},{"$f":"may!O38","v":0},{"$f":"june!O38","v":0},0,0,0,0,0,0,0,0,null,null,null,null,0,29,"BERNARDSTON",29,"VC6000191722",0,null,null,"VC6000191722","TOWN OF BERNARDSTON",0,0]
[30,"BEVERLY                      ",{"$f":"proj16jul!D39","v":524477},{"$f":"dec!N39","v":601926},{"$f":"may!N39","v":601926},{"$f":"june!N39","v":596078},43706,43706,43707,43706,43707,54770,54770,54770,null,null,null,null,null,{"$f":"proj16jul!F39","v":336687},{"$f":"dec!O39","v":340184},{"$f":"may!O39","v":334610},{"$f":"june!O39","v":338684},28058,28058,28058,28057,28057,28557,28557,28557,null,null,null,null,0,30,"BEVERLY",30,"VC6000192074",0,null,null,"VC6000192074","CITY OF BEVERLY",54770,28557]
[31,"BILLERICA                    ",{"$f":"proj16jul!D40","v":0},{"$f":"dec!N40","v":0},{"$f":"may!N40","v":0},{"$f":"june!N40","v":0},0,0,0,0,0,0,0,0,null,null,null,null,null,{"$f":"proj16jul!F40","v":74634},{"$f":"dec!O40","v":105600},{"$f":"may!O40","v":126858},{"$f":"june!O40","v":117252},6220,6220,6220,6220,6220,10643,10643,10643,null,null,null,null,0,31,"BILLERICA",31,"VC6000191723",0,null,null,"VC6000191723","TOWN OF BILLERICA",0,10643]
[32,"BLACKSTONE                   ",{"$f":"proj16jul!D41","v":0},{"$f":"dec!N41","v":0},{"$f":"may!N41","v":0},{"$f":"june!N41","v":0},0,0,0,0,0,0,0,0,null,null,null,null,null,{"$f":"proj16jul!F41","v":0},{"$f":"dec!O41","v":0},{"$f":"may!O41","v":0},{"$f":"june!O41","v":0},0,0,0,0,0,0,0,0,null,null,null,null,0,32,"BLACKSTONE",32,"VC6000191724",0,null,null,"VC6000191724","TOWN OF BLACKSTONE",0,0]
[33,"BLANDFORD                    ",{"$f":"proj16jul!D42","v":0},{"$f":"dec!N42","v":0},{"$f":"may!N42","v":0},{"$f":"june!N42","v":0},0,0,0,0,0,0,0,0,null,null,null,null,null,{"$f":"proj16jul!F42","v":0},{"$f":"dec!O42","v":12120},{"$f":"may!O42","v":12120},{"$f":"june!O42","v":11951},0,0,0,0,0,1732,1732,1732,null,null,null,null,0,33,"BLANDFORD",33,"VC6000191725",0,null,null,"VC6000191725","TOWN OF BLANDFORD",0,1732]
[34,"BOLTON                       ",{"$f":"proj16jul!D43","v":0},{"$f":"dec!N43","v":0},{"$f":"may!N43","v":0},{"$f":"june!N43","v":0},0,0,0,0,0,0,0,0,null,null,null,null,null,{"$f":"proj16jul!F43","v":0},{"$f":"dec!O43","v":0},{"$f":"may!O43","v":0},{"$f":"june!O43","v":0},0,0,0,0,0,0,0,0,null,null,null,null,0,34,"BOLTON",34,"VC6000191726",0,null,null,"VC6000191726","TOWN OF BOLTON",0,0]
[35,"BOSTON                       ",{"$f":"proj16jul!D44","v":0},{"$f":"dec!N44","v":0},{"$f":"may!N44","v":0},{"$f":"june!N44","v":0},0,0,0,0,0,0,0,0,null,null,null,null,null,{"$f":"proj16jul!F44","v":555312},{"$f":"dec!O44","v":608120},{"$f":"may!O44","v":656653},{"$f":"june!O44","v":616775},46276,46276,46276,46276,46276,53820,53820,53820,null,null,null,null,0,35,"BOSTON",35,"VC6000192075",0,null,null,"VC6000192075","CITY OF BOSTON",0,53820]
[36,"BOURNE                       ",{"$f":"proj16jul!D45","v":723869},{"$f":"dec!N45","v":696677},{"$f":"may!N45","v":800520},{"$f":"june!N45","v":800520},60322,60322,60323,60322,60323,56437,56438,56438,null,null,null,null,null,{"$f":"proj16jul!F45","v":622519},{"$f":"dec!O45","v":584253},{"$f":"may!O45","v":564917},{"$f":"june!O45","v":564917},51877,51877,51877,51877,51877,46410,46410,46410,null,null,null,null,0,36,"BOURNE",36,"VC6000191727",0,null,null,"VC6000191727","TOWN OF BOURNE",56438,46410]
[37,"BOXBOROUGH                   ",{"$f":"proj16jul!D46","v":0},{"$f":"dec!N46","v":0},{"$f":"may!N46","v":0},{"$f":"june!N46","v":0},0,0,0,0,0,0,0,0,null,null,null,null,null,{"$f":"proj16jul!F46","v":0},{"$f":"dec!O46","v":0},{"$f":"may!O46","v":0},{"$f":"june!O46","v":0},0,0,0,0,0,0,0,0,null,null,null,null,0,37,"BOXBOROUGH",37,"VC6000191728",0,null,null,"VC6000191728","TOWN OF BOXBOROUGH",0,0]
[38,"BOXFORD                      ",{"$f":"proj16jul!D47","v":0},{"$f":"dec!N47","v":0},{"$f":"may!N47","v":0},{"$f":"june!N47","v":0},0,0,0,0,0,0,0,0,null,null,null,null,null,{"$f":"proj16jul!F47","v":5561},{"$f":"dec!O47","v":16700},{"$f":"may!O47","v":16700},{"$f":"june!O47","v":16700},464,464,464,464,464,2055,2055,2054,null,null,null,null,0,38,"BOXFORD",38,"VC6000191730",0,null,null,"VC6000191730","TOWN OF BOXFORD",0,2054]
[39,"BOYLSTON                     ",{"$f":"proj16jul!D48","v":70513},{"$f":"dec!N48","v":90513},{"$f":"may!N48","v":90513},{"$f":"june!N48","v":94765},5876,5876,5876,5876,5876,8733,8733,8733,null,null,null,null,null,{"$f":"proj16jul!F48","v":83867},{"$f":"dec!O48","v":91045},{"$f":"may!O48","v":74969},{"$f":"june!O48","v":73688},6989,6989,6989,6989,6989,8015,8015,8014,null,null,null,null,0,39,"BOYLSTON",39,"VC6000191731",0,null,null,"VC6000191731","TOWN OF BOYLSTON",8733,8014]
[40,"BRAINTREE                    ",{"$f":"proj16jul!D49","v":0},{"$f":"dec!N49","v":0},{"$f":"may!N49","v":0},{"$f":"june!N49","v":0},0,0,0,0,0,0,0,0,null,null,null,null,null,{"$f":"proj16jul!F49","v":27420},{"$f":"dec!O49","v":18400},{"$f":"may!O49","v":34920},{"$f":"june!O49","v":33330},2285,2285,2285,2285,2285,997,997,997,null,null,null,null,0,40,"BRAINTREE",40,"VC6000191733",0,null,null,"VC6000191733","TOWN OF BRAINTREE",0,997]
[41,"BREWSTER                     ",{"$f":"proj16jul!D50","v":0},{"$f":"dec!N50","v":0},{"$f":"may!N50","v":0},{"$f":"june!N50","v":0},0,0,0,0,0,0,0,0,null,null,null,null,null,{"$f":"proj16jul!F50","v":158226},{"$f":"dec!O50","v":166964},{"$f":"may!O50","v":201136},{"$f":"june!O50","v":195396},13186,13186,13186,13186,13186,14434,14434,14434,null,null,null,null,0,41,"BREWSTER",41,"VC6000191734",0,null,null,"VC6000191734","TOWN OF BREWSTER",0,14434]
[42,"BRIDGEWATER                  ",{"$f":"proj16jul!D51","v":0},{"$f":"dec!N51","v":0},{"$f":"may!N51","v":0},{"$f":"june!N51","v":0},0,0,0,0,0,0,0,0,null,null,null,null,null,{"$f":"proj16jul!F51","v":0},{"$f":"dec!O51","v":0},{"$f":"may!O51","v":0},{"$f":"june!O51","v":0},0,0,0,0,0,0,0,0,null,null,null,null,0,42,"BRIDGEWATER",42,"VC6000191735",0,null,null,"VC6000191735","TOWN OF BRIDGEWATER",0,0]
[43,"BRIMFIELD                    ",{"$f":"proj16jul!D52","v":0},{"$f":"dec!N52","v":0},{"$f":"may!N52","v":0},{"$f":"june!N52","v":0},0,0,0,0,0,0,0,0,null,null,null,null,null,{"$f":"proj16jul!F52","v":102550},{"$f":"dec!O52","v":64508},{"$f":"may!O52","v":62760},{"$f":"june!O52","v":62658},8546,8546,8546,8546,8546,3112,3111,3111,null,null,null,null,0,43,"BRIMFIELD",43,"VC6000191736",0,null,null,"VC6000191736","TOWN OF BRIMFIELD",0,3111]
[44,"BROCKTON                     ",{"$f":"proj16jul!D53","v":115000},{"$f":"dec!N53","v":136000},{"$f":"may!N53","v":227944},{"$f":"june!N53","v":227944},9583,9583,9584,9583,9583,12583,12583,12583,null,null,null,null,null,{"$f":"proj16jul!F53","v":1037038},{"$f":"dec!O53","v":1328445},{"$f":"may!O53","v":1272709},{"$f":"june!O53","v":1268968},86420,86420,86420,86420,86420,128050,128050,128049,null,null,null,null,0,44,"BROCKTON",44,"VC6000192077",0,null,null,"VC6000192077","CITY OF BROCKTON",12583,128049]
[45,"BROOKFIELD                   ",{"$f":"proj16jul!D54","v":389284},{"$f":"dec!N54","v":350618},{"$f":"may!N54","v":354773},{"$f":"june!N54","v":354773},32440,32440,32441,32440,32440,26916,26916,26917,null,null,null,null,null,{"$f":"proj16jul!F54","v":14677},{"$f":"dec!O54","v":5000},{"$f":"may!O54","v":22884},{"$f":"june!O54","v":22784},1224,1223,1223,1223,1223,-160,-160,-160,null,null,null,null,0,45,"BROOKFIELD",45,"VC6000191737",0,null,null,"VC6000191737","TOWN OF BROOKFIELD",26917,-160]
[46,"BROOKLINE                    ",{"$f":"proj16jul!D55","v":0},{"$f":"dec!N55","v":0},{"$f":"may!N55","v":0},{"$f":"june!N55","v":0},0,0,0,0,0,0,0,0,null,null,null,null,null,{"$f":"proj16jul!F55","v":3953},{"$f":"dec!O55","v":6700},{"$f":"may!O55","v":8829},{"$f":"june!O55","v":8829},330,330,330,330,330,722,722,722,null,null,null,null,0,46,"BROOKLINE",46,"VC6000191738",0,null,null,"VC6000191738","TOWN OF BROOKLINE",0,722]
[47,"BUCKLAND                     ",{"$f":"proj16jul!D56","v":0},{"$f":"dec!N56","v":0},{"$f":"may!N56","v":0},{"$f":"june!N56","v":0},0,0,0,0,0,0,0,0,null,null,null,null,null,{"$f":"proj16jul!F56","v":0},{"$f":"dec!O56","v":0},{"$f":"may!O56","v":0},{"$f":"june!O56","v":0},0,0,0,0,0,0,0,0,null,null,null,null,0,47,"BUCKLAND",47,"VC6000191739",0,null,null,"VC6000191739","TOWN OF BUCKLAND",0,0]
[48,"BURLINGTON                   ",{"$f":"proj16jul!D57","v":125100},{"$f":"dec!N57","v":153000},{"$f":"may!N57","v":153000},{"$f":"june!N57","v":144650},10425,10425,10425,10425,10425,14410,14410,14411,null,null,null,null,null,{"$f":"proj16jul!F57","v":15812},{"$f":"dec!O57","v":20100},{"$f":"may!O57","v":26005},{"$f":"june!O57","v":26005},1318,1318,1318,1318,1318,1930,1930,1930,null,null,null,null,0,48,"BURLINGTON",48,"VC6000191741",0,null,null,"VC6000191741","TOWN OF BURLINGTON",14411,1930]
[49,"CAMBRIDGE                    ",{"$f":"proj16jul!D58","v":0},{"$f":"dec!N58","v":0},{"$f":"may!N58","v":0},{"$f":"june!N58","v":0},0,0,0,0,0,0,0,0,null,null,null,null,null,{"$f":"proj16jul!F58","v":19028},{"$f":"dec!O58","v":33500},{"$f":"may!O58","v":36291},{"$f":"june!O58","v":36291},1586,1586,1586,1586,1586,3653,3653,3653,null,null,null,null,0,49,"CAMBRIDGE",49,"VC6000192080",0,null,null,"VC6000192080","CITY OF CAMBRIDGE",0,3653]
[50,"CANTON                       ",{"$f":"proj16jul!D59","v":0},{"$f":"dec!N59","v":0},{"$f":"may!N59","v":0},{"$f":"june!N59","v":0},0,0,0,0,0,0,0,0,null,null,null,null,null,{"$f":"proj16jul!F59","v":7906},{"$f":"dec!O59","v":6700},{"$f":"may!O59","v":9836},{"$f":"june!O59","v":9836},659,659,659,659,659,487,487,487,null,null,null,null,0,50,"CANTON",50,"VC6000191742",0,null,null,"VC6000191742","TOWN OF CANTON",0,487]
[51,"CARLISLE                     ",{"$f":"proj16jul!D60","v":0},{"$f":"dec!N60","v":0},{"$f":"may!N60","v":0},{"$f":"june!N60","v":0},0,0,0,0,0,0,0,0,null,null,null,null,null,{"$f":"proj16jul!F60","v":0},{"$f":"dec!O60","v":0},{"$f":"may!O60","v":0},{"$f":"june!O60","v":0},0,0,0,0,0,0,0,0,null,null,null,null,0,51,"CARLISLE",51,"VC6000191743",0,null,null,"VC6000191743","TOWN OF CARLISLE",0,0]
[52,"CARVER                       ",{"$f":"proj16jul!D61","v":155991},{"$f":"dec!N61","v":167791},{"$f":"may!N61","v":174142},{"$f":"june!N61","v":174142},12999,12999,12999,13000,12999,14685,14685,14685,null,null,null,null,null,{"$f":"proj16jul!F61","v":30075},{"$f":"dec!O61","v":40200},{"$f":"may!O61","v":34622},{"$f":"june!O61","v":30051},2507,2507,2507,2506,2506,3953,3953,3953,null,null,null,null,0,52,"CARVER",52,"VC6000191744",0,null,null,"VC6000191744","TOWN OF CARVER",14685,3953]
[53,"CHARLEMONT                   ",{"$f":"proj16jul!D62","v":0},{"$f":"dec!N62","v":0},{"$f":"may!N62","v":0},{"$f":"june!N62","v":0},0,0,0,0,0,0,0,0,null,null,null,null,null,{"$f":"proj16jul!F62","v":0},{"$f":"dec!O62","v":0},{"$f":"may!O62","v":0},{"$f":"june!O62","v":0},0,0,0,0,0,0,0,0,null,null,null,null,0,53,"CHARLEMONT",53,"VC6000191745",0,null,null,"VC6000191745","TOWN OF CHARLEMONT",0,0]
[54,"CHARLTON                     ",{"$f":"proj16jul!D63","v":0},{"$f":"dec!N63","v":0},{"$f":"may!N63","v":0},{"$f":"june!N63","v":0},0,0,0,0,0,0,0,0,null,null,null,null,null,{"$f":"proj16jul!F63","v":0},{"$f":"dec!O63","v":0},{"$f":"may!O63","v":0},{"$f":"june!O63","v":0},0,0,0,0,0,0,0,0,null,null,null,null,0,54,"CHARLTON",54,"VC6000191746",0,null,null,"VC6000191746","TOWN OF CHARLTON",0,0]
[55,"CHATHAM                      ",{"$f":"proj16jul!D64","v":0},{"$f":"dec!N64","v":0},{"$f":"may!N64","v":0},{"$f":"june!N64","v":0},0,0,0,0,0,0,0,0,null,null,null,null,null,{"$f":"proj16jul!F64","v":0},{"$f":"dec!O64","v":0},{"$f":"may!O64","v":0},{"$f":"june!O64","v":0},0,0,0,0,0,0,0,0,null,null,null,null,0,55,"CHATHAM",55,"VC6000191747",0,null,null,"VC6000191747","TOWN OF CHATHAM",0,0]
[56,"CHELMSFORD                   ",{"$f":"proj16jul!D65","v":326523},{"$f":"dec!N65","v":375373},{"$f":"may!N65","v":425721},{"$f":"june!N65","v":425721},27210,27210,27210,27211,27210,34188,34189,34189,null,null,null,null,null,{"$f":"proj16jul!F65","v":193494},{"$f":"dec!O65","v":207601},{"$f":"may!O65","v":160391},{"$f":"june!O65","v":214929},16125,16125,16125,16125,16125,18140,18140,18140,null,null,null,null,0,56,"CHELMSFORD",56,"VC6000191748",0,null,null,"VC6000191748","TOWN OF CHELMSFORD",34189,18140]
[57,"CHELSEA                      ",{"$f":"proj16jul!D66","v":0},{"$f":"dec!N66","v":0},{"$f":"may!N66","v":0},{"$f":"june!N66","v":0},0,0,0,0,0,0,0,0,null,null,null,null,null,{"$f":"proj16jul!F66","v":28542},{"$f":"dec!O66","v":51900},{"$f":"may!O66","v":71497},{"$f":"june!O66","v":67390},2379,2379,2379,2379,2379,5715,5715,5715,null,null,null,null,0,57,"CHELSEA",57,"VC6000192083",0,null,null,"VC6000192083","CITY OF CHELSEA",0,5715]
[58,"CHESHIRE                     ",{"$f":"proj16jul!D67","v":0},{"$f":"dec!N67","v":0},{"$f":"may!N67","v":0},{"$f":"june!N67","v":0},0,0,0,0,0,0,0,0,null,null,null,null,null,{"$f":"proj16jul!F67","v":0},{"$f":"dec!O67","v":0},{"$f":"may!O67","v":0},{"$f":"june!O67","v":0},0,0,0,0,0,0,0,0,null,null,null,null,0,58,"CHESHIRE",58,"VC6000191749",0,null,null,"VC6000191749","TOWN OF CHESHIRE",0,0]
[59,"CHESTER                      ",{"$f":"proj16jul!D68","v":0},{"$f":"dec!N68","v":0},{"$f":"may!N68","v":0},{"$f":"june!N68","v":0},0,0,0,0,0,0,0,0,null,null,null,null,null,{"$f":"proj16jul!F68","v":0},{"$f":"dec!O68","v":0},{"$f":"may!O68","v":0},{"$f":"june!O68","v":0},0,0,0,0,0,0,0,0,null,null,null,null,0,59,"CHESTER",59,"VC6000191750",0,null,null,"VC6000191750","TOWN OF CHESTER",0,0]
[60,"CHESTERFIELD                 ",{"$f":"proj16jul!D69","v":0},{"$f":"dec!N69","v":0},{"$f":"may!N69","v":0},{"$f":"june!N69","v":0},0,0,0,0,0,0,0,0,null,null,null,null,null,{"$f":"proj16jul!F69","v":0},{"$f":"dec!O69","v":0},{"$f":"may!O69","v":0},{"$f":"june!O69","v":0},0,0,0,0,0,0,0,0,null,null,null,null,0,60,"CHESTERFIELD",60,"VC6000191751",0,null,null,"VC6000191751","TOWN OF CHESTERFIELD",0,0]
[61,"CHICOPEE                     ",{"$f":"proj16jul!D70","v":941627},{"$f":"dec!N70","v":1009093},{"$f":"may!N70","v":988909},{"$f":"june!N70","v":988909},78468,78469,78469,78469,78469,88107,88107,88107,null,null,null,null,null,{"$f":"proj16jul!F70","v":754391},{"$f":"dec!O70","v":777720},{"$f":"may!O70","v":880719},{"$f":"june!O70","v":838555},62866,62866,62866,62866,62866,66199,66199,66199,null,null,null,null,0,61,"CHICOPEE",61,"VC6000192086",0,null,null,"VC6000192086","CITY OF CHICOPEE",88107,66199]
[62,"CHILMARK                     ",{"$f":"proj16jul!D71","v":0},{"$f":"dec!N71","v":0},{"$f":"may!N71","v":0},{"$f":"june!N71","v":0},0,0,0,0,0,0,0,0,null,null,null,null,null,{"$f":"proj16jul!F71","v":0},{"$f":"dec!O71","v":0},{"$f":"may!O71","v":0},{"$f":"june!O71","v":0},0,0,0,0,0,0,0,0,null,null,null,null,0,62,"CHILMARK",62,"VC6000191752",0,null,null,"VC6000191752","TOWN OF CHILMARK",0,0]
[63,"CLARKSBURG                   ",{"$f":"proj16jul!D72","v":159657},{"$f":"dec!N72","v":203974},{"$f":"may!N72","v":203013},{"$f":"june!N72","v":203013},13304,13305,13305,13305,13304,19635,19636,19636,null,null,null,null,null,{"$f":"proj16jul!F72","v":90681},{"$f":"dec!O72","v":107823},{"$f":"may!O72","v":133934},{"$f":"june!O72","v":133934},7557,7557,7557,7557,7557,10006,10006,10006,null,null,null,null,0,63,"CLARKSBURG",63,"VC6000191753",0,null,null,"VC6000191753","TOWN OF CLARKSBURG",19636,10006]
[64,"CLINTON                      ",{"$f":"proj16jul!D73","v":843868},{"$f":"dec!N73","v":585285},{"$f":"may!N73","v":640152},{"$f":"june!N73","v":643802},70322,70322,70323,70322,70322,33382,33382,33382,null,null,null,null,null,{"$f":"proj16jul!F73","v":637998},{"$f":"dec!O73","v":675727},{"$f":"may!O73","v":686451},{"$f":"june!O73","v":685597},53167,53167,53167,53167,53167,58556,58556,58556,null,null,null,null,0,64,"CLINTON",64,"VC6000191754",0,null,null,"VC6000191754","TOWN OF CLINTON",33382,58556]
[65,"COHASSET                     ",{"$f":"proj16jul!D74","v":0},{"$f":"dec!N74","v":0},{"$f":"may!N74","v":0},{"$f":"june!N74","v":0},0,0,0,0,0,0,0,0,null,null,null,null,null,{"$f":"proj16jul!F74","v":0},{"$f":"dec!O74","v":0},{"$f":"may!O74","v":0},{"$f":"june!O74","v":0},0,0,0,0,0,0,0,0,null,null,null,null,0,65,"COHASSET",65,"VC6000191755",{"$f":"IF(MID(AS74,9,6)<>MID(AL74,1,6),1,0)","v":0},null,null,"VC6000191755","TOWN OF COHASSET",0,0]
[66,"COLRAIN                      ",{"$f":"proj16jul!D75","v":0},{"$f":"dec!N75","v":0},{"$f":"may!N75","v":0},{"$f":"june!N75","v":0},0,0,0,0,0,0,0,0,null,null,null,null,null,{"$f":"proj16jul!F75","v":0},{"$f":"dec!O75","v":0},{"$f":"may!O75","v":0},{"$f":"june!O75","v":0},0,0,0,0,0,0,0,0,null,null,null,null,{"$f":"IF(MID(B75,1,6)<>MID(AL75,1,6),1,0)","v":0},66,"COLRAIN",66,"VC6000191756",0,null,null,"VC6000191756","TOWN OF COLRAIN",0,0]
[67,"CONCORD                      ",{"$f":"proj16jul!D76","v":0},{"$f":"dec!N76","v":0},{"$f":"may!N76","v":0},{"$f":"june!N76","v":0},0,0,0,0,0,0,0,0,null,null,null,null,null,{"$f":"proj16jul!F76","v":20812},{"$f":"dec!O76","v":18400},{"$f":"may!O76","v":13400},{"$f":"june!O76","v":13400},1735,1735,1735,1735,1734,1390,1390,1390,null,null,null,null,0,67,"CONCORD",67,"VC6000191757",0,null,null,"VC6000191757","TOWN OF CONCORD",0,1390]
[68,"CONWAY                       ",{"$f":"proj16jul!D77","v":126837},{"$f":"dec!N77","v":148737},{"$f":"may!N77","v":127995},{"$f":"june!N77","v":122395},10569,10570,10570,10570,10569,13698,13698,13698,null,null,null,null,null,{"$f":"proj16jul!F77","v":76433},{"$f":"dec!O77","v":72060},{"$f":"may!O77","v":91093},{"$f":"june!O77","v":87193},6370,6370,6370,6370,6370,5745,5745,5744,null,null,null,null,0,68,"CONWAY",68,"VC6000191759",0,null,null,"VC6000191759","TOWN OF CONWAY",13698,5744]
[69,"CUMMINGTON                   ",{"$f":"proj16jul!D78","v":0},{"$f":"dec!N78","v":0},{"$f":"may!N78","v":0},{"$f":"june!N78","v":0},0,0,0,0,0,0,0,0,null,null,null,null,null,{"$f":"proj16jul!F78","v":0},{"$f":"dec!O78","v":0},{"$f":"may!O78","v":0},{"$f":"june!O78","v":0},0,0,0,0,0,0,0,0,null,null,null,null,0,69,"CUMMINGTON",69,"VC6000191760",0,null,null,"VC6000191760","TOWN OF CUMMINGTON",0,0]
[70,"DALTON                       ",{"$f":"proj16jul!D79","v":0},{"$f":"dec!N79","v":0},{"$f":"may!N79","v":0},{"$f":"june!N79","v":0},0,0,0,0,0,0,0,0,null,null,null,null,null,{"$f":"proj16jul!F79","v":0},{"$f":"dec!O79","v":0},{"$f":"may!O79","v":0},{"$f":"june!O79","v":0},0,0,0,0,0,0,0,0,null,null,null,null,0,70,"DALTON",70,"VC6000191761",0,null,null,"VC6000191761","TOWN OF DALTON",0,0]
[71,"DANVERS                      ",{"$f":"proj16jul!D80","v":0},{"$f":"dec!N80","v":0},{"$f":"may!N80","v":0},{"$f":"june!N80","v":0},0,0,0,0,0,0,0,0,null,null,null,null,null,{"$f":"proj16jul!F80","v":223719},{"$f":"dec!O80","v":278474},{"$f":"may!O80","v":292362},{"$f":"june!O80","v":303475},18644,18644,18644,18643,18643,26466,26465,26465,null,null,null,null,0,71,"DANVERS",71,"VC6000191762",0,null,null,"VC6000191762","TOWN OF DANVERS",0,26465]
[72,"DARTMOUTH                    ",{"$f":"proj16jul!D81","v":0},{"$f":"dec!N81","v":0},{"$f":"may!N81","v":0},{"$f":"june!N81","v":0},0,0,0,0,0,0,0,0,null,null,null,null,null,{"$f":"proj16jul!F81","v":22420},{"$f":"dec!O81","v":20100},{"$f":"may!O81","v":38575},{"$f":"june!O81","v":35064},1869,1869,1869,1869,1868,1537,1537,1537,null,null,null,null,0,72,"DARTMOUTH",72,"VC6000191765",0,null,null,"VC6000191765","TOWN OF DARTMOUTH",0,1537]
[73,"DEDHAM                       ",{"$f":"proj16jul!D82","v":0},{"$f":"dec!N82","v":0},{"$f":"may!N82","v":0},{"$f":"june!N82","v":0},0,0,0,0,0,0,0,0,null,null,null,null,null,{"$f":"proj16jul!F82","v":9514},{"$f":"dec!O82","v":36400},{"$f":"may!O82","v":17853},{"$f":"june!O82","v":17853},793,793,793,793,793,4634,4634,4634,null,null,null,null,0,73,"DEDHAM",73,"VC6000191767",0,null,null,"VC6000191767","TOWN OF DEDHAM",0,4634]
[74,"DEERFIELD                    ",{"$f":"proj16jul!D83","v":711861},{"$f":"dec!N83","v":572511},{"$f":"may!N83","v":647624},{"$f":"june!N83","v":647624},59321,59322,59322,59322,59321,39414,39414,39415,null,null,null,null,null,{"$f":"proj16jul!F83","v":114130},{"$f":"dec!O83","v":126100},{"$f":"may!O83","v":118375},{"$f":"june!O83","v":127939},9511,9511,9511,9511,9511,11221,11221,11221,null,null,null,null,0,74,"DEERFIELD",74,"VC6000191764",0,null,null,"VC6000191764","TOWN OF DEERFIELD",39415,11221]
[75,"DENNIS                       ",{"$f":"proj16jul!D84","v":0},{"$f":"dec!N84","v":0},{"$f":"may!N84","v":0},{"$f":"june!N84","v":0},0,0,0,0,0,0,0,0,null,null,null,null,null,{"$f":"proj16jul!F84","v":0},{"$f":"dec!O84","v":0},{"$f":"may!O84","v":0},{"$f":"june!O84","v":0},0,0,0,0,0,0,0,0,null,null,null,null,0,75,"DENNIS",75,"VC6000191768",0,null,null,"VC6000191768","TOWN OF DENNIS",0,0]
[76,"DIGHTON                      ",{"$f":"proj16jul!D85","v":0},{"$f":"dec!N85","v":0},{"$f":"may!N85","v":0},{"$f":"june!N85","v":0},0,0,0,0,0,0,0,0,null,null,null,null,null,{"$f":"proj16jul!F85","v":0},{"$f":"dec!O85","v":0},{"$f":"may!O85","v":0},{"$f":"june!O85","v":0},0,0,0,0,0,0,0,0,null,null,null,null,0,76,"DIGHTON",76,"VC6000191769",0,null,null,"VC6000191769","TOWN OF DIGHTON",0,0]
[77,"DOUGLAS                      ",{"$f":"proj16jul!D86","v":677565},{"$f":"dec!N86","v":614852},{"$f":"may!N86","v":656288},{"$f":"june!N86","v":656288},56463,56464,56464,56464,56463,47504,47505,47505,null,null,null,null,null,{"$f":"proj16jul!F86","v":265630},{"$f":"dec!O86","v":284393},{"$f":"may!O86","v":279417},{"$f":"june!O86","v":277253},22136,22136,22136,22136,22136,24817,24816,24816,null,null,null,null,0,77,"DOUGLAS",77,"VC6000191770",0,null,null,"VC6000191770","TOWN OF DOUGLAS",47505,24816]
[78,"DOVER                        ",{"$f":"proj16jul!D87","v":0},{"$f":"dec!N87","v":0},{"$f":"may!N87","v":0},{"$f":"june!N87","v":0},0,0,0,0,0,0,0,0,null,null,null,null,null,{"$f":"proj16jul!F87","v":9514},{"$f":"dec!O87","v":0},{"$f":"may!O87","v":0},{"$f":"june!O87","v":0},793,793,793,793,793,-567,-567,-567,null,null,null,null,1,78,"DOVER",78,"VC6000191771",0,null,null,"VC6000191771","TOWN OF DOVER",0,-567]
[79,"DRACUT                       ",{"$f":"proj16jul!D88","v":140340},{"$f":"dec!N88","v":157640},{"$f":"may!N88","v":201770},{"$f":"june!N88","v":201370},11695,11695,11695,11695,11695,14166,14166,14166,null,null,null,null,null,{"$f":"proj16jul!F88","v":108837},{"$f":"dec!O88","v":158017},{"$f":"may!O88","v":183541},{"$f":"june!O88","v":169495},9070,9070,9070,9070,9070,16096,16096,16095,null,null,null,null,0,79,"DRACUT",79,"VC6000191772",0,null,null,"VC6000191772","TOWN OF DRACUT",14166,16095]
[80,"DUDLEY                       ",{"$f":"proj16jul!D89","v":0},{"$f":"dec!N89","v":0},{"$f":"may!N89","v":0},{"$f":"june!N89","v":0},0,0,0,0,0,0,0,0,null,null,null,null,null,{"$f":"proj16jul!F89","v":0},{"$f":"dec!O89","v":0},{"$f":"may!O89","v":0},{"$f":"june!O89","v":0},0,0,0,0,0,0,0,0,null,null,null,null,0,80,"DUDLEY",80,"VC6000191773",0,null,null,"VC6000191773","TOWN OF DUDLEY",0,0]
[81,"DUNSTABLE                    ",{"$f":"proj16jul!D90","v":0},{"$f":"dec!N90","v":0},{"$f":"may!N90","v":0},{"$f":"june!N90","v":0},0,0,0,0,0,0,0,0,null,null,null,null,null,{"$f":"proj16jul!F90","v":0},{"$f":"dec!O90","v":0},{"$f":"may!O90","v":0},{"$f":"june!O90","v":0},0,0,0,0,0,0,0,0,null,null,null,null,0,81,"DUNSTABLE",81,"VC6000191774",0,null,null,"VC6000191774","TOWN OF DUNSTABLE",0,0]
[82,"DUXBURY                      ",{"$f":"proj16jul!D91","v":0},{"$f":"dec!N91","v":0},{"$f":"may!N91","v":0},{"$f":"june!N91","v":0},0,0,0,0,0,0,0,0,null,null,null,null,null,{"$f":"proj16jul!F91","v":7906},{"$f":"dec!O91","v":6700},{"$f":"may!O91","v":12477},{"$f":"june!O91","v":12477},659,659,659,659,659,487,487,487,null,null,null,null,0,82,"DUXBURY",82,"VC6000191775",0,null,null,"VC6000191775","TOWN OF DUXBURY",0,487]
[83,"EAST BRIDGEWATER             ",{"$f":"proj16jul!D92","v":73450},{"$f":"dec!N92","v":201000},{"$f":"may!N92","v":201000},{"$f":"june!N92","v":130050},6120,6121,6121,6121,6121,24342,24342,24342,null,null,null,null,null,{"$f":"proj16jul!F92","v":167141},{"$f":"dec!O92","v":154021},{"$f":"may!O92","v":152777},{"$f":"june!O92","v":152777},13929,13929,13929,13929,13929,12054,12054,12054,null,null,null,null,0,83,"EAST BRIDGEWATER",83,"VC6000191776",0,null,null,"VC6000191776","TOWN OF EAST BRIDGEWATER",24342,12054]
[84,"EAST BROOKFIELD              ",{"$f":"proj16jul!D93","v":0},{"$f":"dec!N93","v":0},{"$f":"may!N93","v":0},{"$f":"june!N93","v":0},0,0,0,0,0,0,0,0,null,null,null,null,null,{"$f":"proj16jul!F93","v":30000},{"$f":"dec!O93","v":30000},{"$f":"may!O93","v":25000},{"$f":"june!O93","v":25000},2500,2500,2500,2500,2500,2500,2500,2500,null,null,null,null,0,84,"EAST BROOKFIELD",84,"VC6000191777",0,null,null,"VC6000191777","TOWN OF EAST BROOKFIELD",0,2500]
[85,"EASTHAM                      ",{"$f":"proj16jul!D94","v":0},{"$f":"dec!N94","v":0},{"$f":"may!N94","v":0},{"$f":"june!N94","v":0},0,0,0,0,0,0,0,0,null,null,null,null,null,{"$f":"proj16jul!F94","v":36124},{"$f":"dec!O94","v":37560},{"$f":"may!O94","v":46279},{"$f":"june!O94","v":46279},3011,3011,3011,3011,3010,3216,3215,3215,null,null,null,null,0,85,"EASTHAM",86,"VC6000191779",0,{"$f":"IF(MID(AL94,1,6)<>MID(AS94,1,6),1,0)","v":1},null,"VC6000191779","TOWN OF EASTHAM",0,3215]
[86,"EASTHAMPTON                  ",{"$f":"proj16jul!D95","v":429763},{"$f":"dec!N95","v":467402},{"$f":"may!N95","v":490764},{"$f":"june!N95","v":490764},35813,35814,35813,35814,35813,41190,41190,41191,null,null,null,null,null,{"$f":"proj16jul!F95","v":1291064},{"$f":"dec!O95","v":1154611},{"$f":"may!O95","v":1187147},{"$f":"june!O95","v":1183176},107589,107589,107589,107589,107589,88096,88095,88095,null,null,null,null,0,86,"EASTHAMPTON",87,"VC6000191782",0,null,null,"VC6000191782","TOWN OF EASTHAMPTON",41191,88095]
[87,"EAST LONGMEADOW              ",{"$f":"proj16jul!D96","v":0},{"$f":"dec!N96","v":0},{"$f":"may!N96","v":0},{"$f":"june!N96","v":0},0,0,0,0,0,0,0,0,null,null,null,null,null,{"$f":"proj16jul!F96","v":33467},{"$f":"dec!O96","v":62800},{"$f":"may!O96","v":95650},{"$f":"june!O96","v":91525},2789,2789,2789,2789,2789,6980,6980,6979,null,null,null,null,0,87,"EAST LONGMEADOW",85,"VC6000191778",0,null,null,"VC6000191778","TOWN OF EAST LONGMEADOW",0,6979]
[88,"EASTON                       ",{"$f":"proj16jul!D97","v":0},{"$f":"dec!N97","v":0},{"$f":"may!N97","v":0},{"$f":"june!N97","v":0},0,0,0,0,0,0,0,0,null,null,null,null,null,{"$f":"proj16jul!F97","v":26914},{"$f":"dec!O97","v":54921},{"$f":"may!O97","v":58783},{"$f":"june!O97","v":53783},2243,2243,2243,2243,2243,6244,6244,6244,null,null,null,null,0,88,"EASTON",88,"VC6000191783",0,null,null,"VC6000191783","TOWN OF EASTON",0,6244]
[89,"EDGARTOWN                    ",{"$f":"proj16jul!D98","v":74997},{"$f":"dec!N98","v":51028},{"$f":"may!N98","v":63812},{"$f":"june!N98","v":63812},6249,6250,6250,6250,6249,2825,2825,2826,null,null,null,null,null,{"$f":"proj16jul!F98","v":180161},{"$f":"dec!O98","v":189337},{"$f":"may!O98","v":189314},{"$f":"june!O98","v":189264},15014,15014,15014,15014,15014,16324,16324,16324,null,null,null,null,0,89,"EDGARTOWN",89,"VC6000191784",0,null,null,"VC6000191784","TOWN OF EDGARTOWN",2826,16324]
[90,"EGREMONT                     ",{"$f":"proj16jul!D99","v":0},{"$f":"dec!N99","v":0},{"$f":"may!N99","v":0},{"$f":"june!N99","v":0},0,0,0,0,0,0,0,0,null,null,null,null,null,{"$f":"proj16jul!F99","v":0},{"$f":"dec!O99","v":0},{"$f":"may!O99","v":0},{"$f":"june!O99","v":0},0,0,0,0,0,0,0,0,null,null,null,null,0,90,"EGREMONT",90,"VC6000191785",0,null,null,"VC6000191785","TOWN OF EGREMONT",0,0]
[91,"ERVING                       ",{"$f":"proj16jul!D100","v":0},{"$f":"dec!N100","v":0},{"$f":"may!N100","v":0},{"$f":"june!N100","v":0},0,0,0,0,0,0,0,0,null,null,null,null,null,{"$f":"proj16jul!F100","v":289481},{"$f":"dec!O100","v":183768},{"$f":"may!O100","v":196657},{"$f":"june!O100","v":191323},24124,24124,24124,24124,24124,9022,9021,9021,null,null,null,null,0,91,"ERVING",91,"VC6000191786",0,null,null,"VC6000191786","TOWN OF ERVING",0,9021]
[92,"ESSEX                        ",{"$f":"proj16jul!D101","v":0},{"$f":"dec!N101","v":0},{"$f":"may!N101","v":0},{"$f":"june!N101","v":0},0,0,0,0,0,0,0,0,null,null,null,null,null,{"$f":"proj16jul!F101","v":0},{"$f":"dec!O101","v":0},{"$f":"may!O101","v":0},{"$f":"june!O101","v":0},0,0,0,0,0,0,0,0,null,null,null,null,1,92,"ESSEX",92,"VC6000191787",0,null,null,"VC6000191787","TOWN OF ESSEX",0,0]
[93,"EVERETT                      ",{"$f":"proj16jul!D102","v":0},{"$f":"dec!N102","v":0},{"$f":"may!N102","v":0},{"$f":"june!N102","v":0},0,0,0,0,0,0,0,0,null,null,null,null,null,{"$f":"proj16jul!F102","v":93873},{"$f":"dec!O102","v":100274},{"$f":"may!O102","v":92517},{"$f":"june!O102","v":99476},7823,7823,7823,7823,7823,8737,8737,8737,null,null,null,null,0,93,"EVERETT",93,"VC6000192088",0,null,null,"VC6000192088","CITY OF EVERETT",0,8737]
[94,"FAIRHAVEN                    ",{"$f":"proj16jul!D103","v":0},{"$f":"dec!N103","v":0},{"$f":"may!N103","v":0},{"$f":"june!N103","v":0},0,0,0,0,0,0,0,0,null,null,null,null,null,{"$f":"proj16jul!F103","v":75861},{"$f":"dec!O103","v":72646},{"$f":"may!O103","v":76133},{"$f":"june!O103","v":76133},6322,6322,6322,6322,6322,5863,5863,5862,null,null,null,null,0,94,"FAIRHAVEN",94,"VC6000191789",0,null,null,"VC6000191789","TOWN OF FAIRHAVEN",0,5862]
[95,"FALL RIVER                   ",{"$f":"proj16jul!D104","v":82050},{"$f":"dec!N104","v":213000},{"$f":"may!N104","v":213000},{"$f":"june!N104","v":131750},6837,6838,6837,6838,6837,25544,25544,25545,null,null,null,null,null,{"$f":"proj16jul!F104","v":394695},{"$f":"dec!O104","v":633074},{"$f":"may!O104","v":621330},{"$f":"june!O104","v":607684},32892,32892,32892,32891,32891,66946,66945,66945,null,null,null,null,0,95,"FALL RIVER",95,"VC6000192090",0,null,null,"VC6000192090","CITY OF FALL RIVER",25545,66945]
[96,"FALMOUTH                     ",{"$f":"proj16jul!D105","v":581601},{"$f":"dec!N105","v":696289},{"$f":"may!N105","v":662649},{"$f":"june!N105","v":659254},48466,48467,48467,48467,48466,64850,64851,64851,null,null,null,null,null,{"$f":"proj16jul!F105","v":261955},{"$f":"dec!O105","v":200977},{"$f":"may!O105","v":241071},{"$f":"june!O105","v":239349},21830,21830,21830,21830,21830,13119,13118,13118,null,null,null,null,0,96,"FALMOUTH",96,"VC6000191790",0,null,null,"VC6000191790","TOWN OF FALMOUTH",64851,13118]
[97,"FITCHBURG                    ",{"$f":"proj16jul!D106","v":1048411},{"$f":"dec!N106","v":973989},{"$f":"may!N106","v":1014558},{"$f":"june!N106","v":1014558},87367,87368,87367,87368,87367,76736,76736,76736,null,null,null,null,null,{"$f":"proj16jul!F106","v":2451589},{"$f":"dec!O106","v":2504850},{"$f":"may!O106","v":2521797},{"$f":"june!O106","v":2399421},204300,204299,204299,204299,204299,211908,211908,211908,null,null,null,null,0,97,"FITCHBURG",97,"VC6000192093",0,null,null,"VC6000192093","CITY OF FITCHBURG",76736,211908]
[98,"FLORIDA                      ",{"$f":"proj16jul!D107","v":11708},{"$f":"dec!N107","v":5000},{"$f":"may!N107","v":19506},{"$f":"june!N107","v":19506},975,976,976,975,976,17,17,17,null,null,null,null,null,{"$f":"proj16jul!F107","v":20000},{"$f":"dec!O107","v":47000},{"$f":"may!O107","v":39198},{"$f":"june!O107","v":39198},1667,1667,1667,1667,1667,5524,5524,5524,null,null,null,null,0,98,"FLORIDA",98,"VC6000191791",0,null,null,"VC6000191791","TOWN OF FLORIDA",17,5524]
[99,"FOXBOROUGH                   ",{"$f":"proj16jul!D108","v":0},{"$f":"dec!N108","v":0},{"$f":"may!N108","v":0},{"$f":"june!N108","v":0},0,0,0,0,0,0,0,0,null,null,null,null,null,{"$f":"proj16jul!F108","v":3953},{"$f":"dec!O108","v":28400},{"$f":"may!O108","v":33639},{"$f":"june!O108","v":28389},330,330,330,330,330,3822,3822,3822,null,null,null,null,0,99,"FOXBOROUGH",99,"VC6000191792",0,null,null,"VC6000191792","TOWN OF FOXBOROUGH",0,3822]
[100,"FRAMINGHAM                   ",{"$f":"proj16jul!D109","v":0},{"$f":"dec!N109","v":0},{"$f":"may!N109","v":0},{"$f":"june!N109","v":0},0,0,0,0,0,0,0,0,null,null,null,null,null,{"$f":"proj16jul!F109","v":312643},{"$f":"dec!O109","v":377803},{"$f":"may!O109","v":333182},{"$f":"june!O109","v":327888},26054,26054,26054,26054,26054,35362,35362,35362,null,null,null,null,0,100,"FRAMINGHAM",100,"VC6000191793",0,null,null,"VC6000191793","TOWN OF FRAMINGHAM",0,35362]
[101,"FRANKLIN                     ",{"$f":"proj16jul!D110","v":50468},{"$f":"dec!N110","v":39000},{"$f":"may!N110","v":40017},{"$f":"june!N110","v":40017},4205,4206,4206,4205,4206,2567,2567,2567,null,null,null,null,null,{"$f":"proj16jul!F110","v":141344},{"$f":"dec!O110","v":203953},{"$f":"may!O110","v":214723},{"$f":"june!O110","v":218665},11779,12688,12688,12688,12688,20204,20203,20203,null,null,null,null,0,101,"FRANKLIN",101,"VC6000191794",0,null,null,"VC6000191794","TOWN OF FRANKLIN",2567,20203]
[102,"FREETOWN                     ",{"$f":"proj16jul!D111","v":0},{"$f":"dec!N111","v":0},{"$f":"may!N111","v":0},{"$f":"june!N111","v":0},0,0,0,0,0,0,0,0,null,null,null,null,null,{"$f":"proj16jul!F111","v":0},{"$f":"dec!O111","v":5000},{"$f":"may!O111","v":10000},{"$f":"june!O111","v":10000},0,0,0,0,0,715,715,714,null,null,null,null,0,102,"FREETOWN",102,"VC6000191795",0,null,null,"VC6000191795","TOWN OF FREETOWN",0,714]
[103,"GARDNER                      ",{"$f":"proj16jul!D112","v":773133},{"$f":"dec!N112","v":667591},{"$f":"may!N112","v":679099},{"$f":"june!N112","v":681949},64427,64428,64428,64428,64427,49350,49350,49350,null,null,null,null,null,{"$f":"proj16jul!F112","v":1002576},{"$f":"dec!O112","v":1311559},{"$f":"may!O112","v":1416132},{"$f":"june!O112","v":1434445},83548,83548,83548,83548,83548,127689,127689,127689,null,null,null,null,0,103,"GARDNER",103,"VC6000192095",0,null,null,"VC6000192095","CITY OF GARDNER",49350,127689]
[104,"AQUINNAH",{"$f":"proj16jul!D113","v":0},{"$f":"dec!N113","v":0},{"$f":"may!N113","v":0},{"$f":"june!N113","v":0},0,0,0,0,0,0,0,0,null,null,null,null,null,{"$f":"proj16jul!F113","v":0},{"$f":"dec!O113","v":0},{"$f":"may!O113","v":0},{"$f":"june!O113","v":0},0,0,0,0,0,0,0,0,null,null,null,null,0,104,"AQUINNAH",104,"VC6000191796",0,null,null,"VC6000191796","TOWN OF AQUINNAH",0,0]
[105,"GEORGETOWN                   ",{"$f":"proj16jul!D114","v":196130},{"$f":"dec!N114","v":190439},{"$f":"may!N114","v":190439},{"$f":"june!N114","v":203823},16344,16344,16344,16344,16344,15531,15531,15531,null,null,null,null,null,{"$f":"proj16jul!F114","v":197267},{"$f":"dec!O114","v":191661},{"$f":"may!O114","v":190348},{"$f":"june!O114","v":190198},16439,16439,16439,16439,16439,15638,15638,15638,null,null,null,null,0,105,"GEORGETOWN",105,"VC6000191797",0,null,null,"VC6000191797","TOWN OF GEORGETOWN",15531,15638]
[106,"GILL                         ",{"$f":"proj16jul!D115","v":0},{"$f":"dec!N115","v":0},{"$f":"may!N115","v":0},{"$f":"june!N115","v":0},0,0,0,0,0,0,0,0,null,null,null,null,null,{"$f":"proj16jul!F115","v":0},{"$f":"dec!O115","v":0},{"$f":"may!O115","v":0},{"$f":"june!O115","v":0},0,0,0,0,0,0,0,0,null,null,null,null,1,106,"GILL",106,"VC6000191798",0,null,null,"VC6000191798","TOWN OF GILL",0,0]
[107,"GLOUCESTER                   ",{"$f":"proj16jul!D116","v":214791},{"$f":"dec!N116","v":193525},{"$f":"may!N116","v":201875},{"$f":"june!N116","v":201875},17899,17899,17899,17900,17899,14861,14861,14861,null,null,null,null,null,{"$f":"proj16jul!F116","v":1651567},{"$f":"dec!O116","v":1675296},{"$f":"may!O116","v":1863193},{"$f":"june!O116","v":1873676},137631,137631,137631,137631,137631,141021,141020,141020,null,null,null,null,0,107,"GLOUCESTER",107,"VC6000192096",0,null,null,"VC6000192096","CITY OF GLOUCESTER",14861,141020]
[108,"GOSHEN                       ",{"$f":"proj16jul!D117","v":0},{"$f":"dec!N117","v":0},{"$f":"may!N117","v":0},{"$f":"june!N117","v":0},0,0,0,0,0,0,0,0,null,null,null,null,null,{"$f":"proj16jul!F117","v":0},{"$f":"dec!O117","v":0},{"$f":"may!O117","v":0},{"$f":"june!O117","v":0},0,0,0,0,0,0,0,0,null,null,null,null,0,108,"GOSHEN",108,"VC6000191799",0,null,null,"VC6000191799","TOWN OF GOSHEN",0,0]
[109,"GOSNOLD                      ",{"$f":"proj16jul!D118","v":0},{"$f":"dec!N118","v":0},{"$f":"may!N118","v":0},{"$f":"june!N118","v":0},0,0,0,0,0,0,0,0,null,null,null,null,null,{"$f":"proj16jul!F118","v":0},{"$f":"dec!O118","v":0},{"$f":"may!O118","v":0},{"$f":"june!O118","v":0},0,0,0,0,0,0,0,0,null,null,null,null,0,109,"GOSNOLD",109,"VC6000191800",0,null,null,"VC6000191800","TOWN OF GOSNOLD",0,0]
[110,"GRAFTON                      ",{"$f":"proj16jul!D119","v":191757},{"$f":"dec!N119","v":266367},{"$f":"may!N119","v":266367},{"$f":"june!N119","v":286180},15979,15980,15980,15980,15979,26638,26638,26638,null,null,null,null,null,{"$f":"proj16jul!F119","v":143393},{"$f":"dec!O119","v":202296},{"$f":"may!O119","v":209804},{"$f":"june!O119","v":209294},11950,11950,11950,11950,11950,20364,20364,20364,null,null,null,null,0,110,"GRAFTON",110,"VC6000191802",0,null,null,"VC6000191802","TOWN OF GRAFTON",26638,20364]
[111,"GRANBY                       ",{"$f":"proj16jul!D120","v":750306},{"$f":"dec!N120","v":667038},{"$f":"may!N120","v":662813},{"$f":"june!N120","v":662813},62525,62526,62525,62526,62525,50630,50630,50630,null,null,null,null,null,{"$f":"proj16jul!F120","v":286171},{"$f":"dec!O120","v":303479},{"$f":"may!O120","v":325725},{"$f":"june!O120","v":310859},23848,23848,23848,23848,23848,26320,26320,26320,null,null,null,null,0,111,"GRANBY",111,"VC6000191803",0,null,null,"VC6000191803","TOWN OF GRANBY",50630,26320]
[112,"GRANVILLE                    ",{"$f":"proj16jul!D121","v":0},{"$f":"dec!N121","v":0},{"$f":"may!N121","v":0},{"$f":"june!N121","v":0},0,0,0,0,0,0,0,0,null,null,null,null,null,{"$f":"proj16jul!F121","v":0},{"$f":"dec!O121","v":0},{"$f":"may!O121","v":0},{"$f":"june!O121","v":0},0,0,0,0,0,0,0,0,null,null,null,null,0,112,"GRANVILLE",112,"VC6000191805",0,null,null,"VC6000191805","TOWN OF GRANVILLE",0,0]
[113,"GREAT BARRINGTON             ",{"$f":"proj16jul!D122","v":0},{"$f":"dec!N122","v":0},{"$f":"may!N122","v":0},{"$f":"june!N122","v":0},0,0,0,0,0,0,0,0,null,null,null,null,null,{"$f":"proj16jul!F122","v":0},{"$f":"dec!O122","v":0},{"$f":"may!O122","v":0},{"$f":"june!O122","v":0},0,0,0,0,0,0,0,0,null,null,null,null,0,113,"GREAT BARRINGTON",113,"VC6000191806",0,null,null,"VC6000191806","TOWN OF GREAT BARRINGTON",0,0]
[114,"GREENFIELD                   ",{"$f":"proj16jul!D123","v":578152},{"$f":"dec!N123","v":661041},{"$f":"may!N123","v":710935},{"$f":"june!N123","v":703431},48179,48179,48180,48179,48179,60020,60020,60021,null,null,null,null,null,{"$f":"proj16jul!F123","v":2309748},{"$f":"dec!O123","v":2219044},{"$f":"may!O123","v":2561654},{"$f":"june!O123","v":2503449},192479,192479,192479,192479,192479,179522,179522,179521,null,null,null,null,0,114,"GREENFIELD",114,"VC6000191807",0,null,null,"VC6000191807","TOWN OF GREENFIELD",60021,179521]
[115,"GROTON                       ",{"$f":"proj16jul!D124","v":0},{"$f":"dec!N124","v":0},{"$f":"may!N124","v":0},{"$f":"june!N124","v":0},0,0,0,0,0,0,0,0,null,null,null,null,null,{"$f":"proj16jul!F124","v":0},{"$f":"dec!O124","v":0},{"$f":"may!O124","v":0},{"$f":"june!O124","v":0},0,0,0,0,0,0,0,0,null,null,null,null,0,115,"GROTON",115,"VC6000191809",0,null,null,"VC6000191809","TOWN OF GROTON",0,0]
[116,"GROVELAND                    ",{"$f":"proj16jul!D125","v":0},{"$f":"dec!N125","v":0},{"$f":"may!N125","v":0},{"$f":"june!N125","v":0},0,0,0,0,0,0,0,0,null,null,null,null,null,{"$f":"proj16jul!F125","v":0},{"$f":"dec!O125","v":0},{"$f":"may!O125","v":0},{"$f":"june!O125","v":0},0,0,0,0,0,0,0,0,null,null,null,null,0,116,"GROVELAND",116,"VC6000191810",1,null,null,"VC6000191810","TOWN GROVELAND",0,0]
[117,"HADLEY                       ",{"$f":"proj16jul!D126","v":589766},{"$f":"dec!N126","v":545205},{"$f":"may!N126","v":636679},{"$f":"june!N126","v":622679},49147,49147,49147,49147,49147,42781,42781,42781,null,null,null,null,null,{"$f":"proj16jul!F126","v":385346},{"$f":"dec!O126","v":314228},{"$f":"may!O126","v":322325},{"$f":"june!O126","v":302977},32113,32113,32112,32112,32112,21953,21953,21952,null,null,null,null,0,117,"HADLEY",117,"VC6000191811",0,null,null,"VC6000191811","TOWN OF HADLEY",42781,21952]
[118,"HALIFAX                      ",{"$f":"proj16jul!D127","v":0},{"$f":"dec!N127","v":0},{"$f":"may!N127","v":0},{"$f":"june!N127","v":0},0,0,0,0,0,0,0,0,null,null,null,null,null,{"$f":"proj16jul!F127","v":5000},{"$f":"dec!O127","v":5000},{"$f":"may!O127","v":5000},{"$f":"june!O127","v":5000},417,417,417,417,417,417,417,417,null,null,null,null,0,118,"HALIFAX",118,"VC6000191812",0,null,null,"VC6000191812","TOWN OF HALIFAX",0,417]
[119,"HAMILTON                     ",{"$f":"proj16jul!D128","v":0},{"$f":"dec!N128","v":0},{"$f":"may!N128","v":0},{"$f":"june!N128","v":0},0,0,0,0,0,0,0,0,null,null,null,null,null,{"$f":"proj16jul!F128","v":0},{"$f":"dec!O128","v":0},{"$f":"may!O128","v":0},{"$f":"june!O128","v":0},0,0,0,0,0,0,0,0,null,null,null,null,0,119,"HAMILTON",119,"VC6000191814",0,null,null,"VC6000191814","TOWN OF HAMILTON",0,0]
[120,"HAMPDEN                      ",{"$f":"proj16jul!D129","v":0},{"$f":"dec!N129","v":0},{"$f":"may!N129","v":0},{"$f":"june!N129","v":0},0,0,0,0,0,0,0,0,null,null,null,null,null,{"$f":"proj16jul!F129","v":0},{"$f":"dec!O129","v":0},{"$f":"may!O129","v":0},{"$f":"june!O129","v":0},0,0,0,0,0,0,0,0,null,null,null,null,0,120,"HAMPDEN",120,"VC6000191815",0,null,null,"VC6000191815","TOWN OF HAMPDEN",0,0]
[121,"HANCOCK                      ",{"$f":"proj16jul!D130","v":15000},{"$f":"dec!N130","v":24000},{"$f":"may!N130","v":24000},{"$f":"june!N130","v":28564},1250,1250,1250,1250,1250,2535,2535,2536,null,null,null,null,null,{"$f":"proj16jul!F130","v":55000},{"$f":"dec!O130","v":25000},{"$f":"may!O130","v":28450},{"$f":"june!O130","v":23450},4584,4584,4584,4584,4583,298,298,297,null,null,null,null,0,121,"HANCOCK",121,"VC6000191816",0,null,null,"VC6000191816","TOWN OF HANCOCK",2536,297]
[122,"HANOVER                      ",{"$f":"proj16jul!D131","v":0},{"$f":"dec!N131","v":0},{"$f":"may!N131","v":0},{"$f":"june!N131","v":0},0,0,0,0,0,0,0,0,null,null,null,null,null,{"$f":"proj16jul!F131","v":0},{"$f":"dec!O131","v":10000},{"$f":"may!O131","v":10000},{"$f":"june!O131","v":13700},0,0,0,0,0,1429,1429,1429,null,null,null,null,0,122,"HANOVER",122,"VC6000191817",0,null,null,"VC6000191817","TOWN OF HANOVER",0,1429]
[123,"HANSON                       ",{"$f":"proj16jul!D132","v":0},{"$f":"dec!N132","v":0},{"$f":"may!N132","v":0},{"$f":"june!N132","v":0},0,0,0,0,0,0,0,0,null,null,null,null,null,{"$f":"proj16jul!F132","v":0},{"$f":"dec!O132","v":0},{"$f":"may!O132","v":0},{"$f":"june!O132","v":0},0,0,0,0,0,0,0,0,null,null,null,null,0,123,"HANSON",123,"VC6000191818",0,null,null,"VC6000191818","TOWN OF HANSON",0,0]
[124,"HARDWICK                     ",{"$f":"proj16jul!D133","v":0},{"$f":"dec!N133","v":0},{"$f":"may!N133","v":0},{"$f":"june!N133","v":0},0,0,0,0,0,0,0,0,null,null,null,null,null,{"$f":"proj16jul!F133","v":0},{"$f":"dec!O133","v":0},{"$f":"may!O133","v":0},{"$f":"june!O133","v":0},0,0,0,0,0,0,0,0,null,null,null,null,0,124,"HARDWICK",124,"VC6000191819",0,null,null,"VC6000191819","TOWN OF HARDWICK",0,0]
[125,"HARVARD                      ",{"$f":"proj16jul!D134","v":368354},{"$f":"dec!N134","v":358354},{"$f":"may!N134","v":336900},{"$f":"june!N134","v":355892},30696,30696,30696,30696,30696,29267,29267,29268,null,null,null,null,null,{"$f":"proj16jul!F134","v":31314},{"$f":"dec!O134","v":20000},{"$f":"may!O134","v":20000},{"$f":"june!O134","v":15000},2610,2610,2610,2610,2610,993,993,993,null,null,null,null,0,125,"HARVARD",125,"VC6000191821",0,null,null,"VC6000191821","TOWN OF HARVARD",29268,993]
[126,"HARWICH                      ",{"$f":"proj16jul!D135","v":0},{"$f":"dec!N135","v":0},{"$f":"may!N135","v":0},{"$f":"june!N135","v":0},0,0,0,0,0,0,0,0,null,null,null,null,null,{"$f":"proj16jul!F135","v":7906},{"$f":"dec!O135","v":0},{"$f":"may!O135","v":0},{"$f":"june!O135","v":0},659,659,659,659,659,-471,-471,-471,null,null,null,null,0,126,"HARWICH",126,"VC6000191822",0,null,null,"VC6000191822","TOWN OF HARWICH",0,-471]
[127,"HATFIELD                     ",{"$f":"proj16jul!D136","v":838623},{"$f":"dec!N136","v":850119},{"$f":"may!N136","v":916915},{"$f":"june!N136","v":919191},69885,69885,69885,69886,69885,71527,71527,71527,null,null,null,null,null,{"$f":"proj16jul!F136","v":202217},{"$f":"dec!O136","v":205121},{"$f":"may!O136","v":194914},{"$f":"june!O136","v":194914},16852,16852,16852,16852,16852,17266,17266,17266,null,null,null,null,0,127,"HATFIELD",127,"VC6000191823",0,null,null,"VC6000191823","TOWN OF HATFIELD",71527,17266]
[128,"HAVERHILL                    ",{"$f":"proj16jul!D137","v":247501},{"$f":"dec!N137","v":191343},{"$f":"may!N137","v":191343},{"$f":"june!N137","v":206775},20625,20625,20625,20625,20625,12602,12602,12602,null,null,null,null,null,{"$f":"proj16jul!F137","v":1190061},{"$f":"dec!O137","v":1095599},{"$f":"may!O137","v":1072909},{"$f":"june!O137","v":1084139},99172,99172,99172,99172,99172,85677,85677,85677,null,null,null,null,0,128,"HAVERHILL",128,"VC6000192101",0,null,null,"VC6000192101","CITY OF HAVERHILL",12602,85677]
[129,"HAWLEY                       ",{"$f":"proj16jul!D138","v":0},{"$f":"dec!N138","v":0},{"$f":"may!N138","v":0},{"$f":"june!N138","v":0},0,0,0,0,0,0,0,0,null,null,null,null,null,{"$f":"proj16jul!F138","v":0},{"$f":"dec!O138","v":0},{"$f":"may!O138","v":0},{"$f":"june!O138","v":0},0,0,0,0,0,0,0,0,null,null,null,null,0,129,"HAWLEY",129,"VC6000191824",{"$f":"IF(MID(AS138,9,6)<>MID(AL138,1,6),1,0)","v":0},null,null,"VC6000191824","TOWN OF HAWLEY",0,0]
[130,"HEATH                        ",{"$f":"proj16jul!D139","v":0},{"$f":"dec!N139","v":0},{"$f":"may!N139","v":0},{"$f":"june!N139","v":0},0,0,0,0,0,0,0,0,null,null,null,null,null,{"$f":"proj16jul!F139","v":0},{"$f":"dec!O139","v":0},{"$f":"may!O139","v":0},{"$f":"june!O139","v":0},0,0,0,0,0,0,0,0,null,null,null,null,{"$f":"IF(MID(B139,1,6)<>MID(AL139,1,6),1,0)","v":1},130,"HEATH",130,"VC6000191825",0,null,null,"VC6000191825","TOWN OF HEATH",0,0]
[131,"HINGHAM                      ",{"$f":"proj16jul!D140","v":0},{"$f":"dec!N140","v":0},{"$f":"may!N140","v":0},{"$f":"june!N140","v":0},0,0,0,0,0,0,0,0,null,null,null,null,null,{"$f":"proj16jul!F140","v":0},{"$f":"dec!O140","v":28100},{"$f":"may!O140","v":27352},{"$f":"june!O140","v":24172},0,0,0,0,0,4015,4015,4014,null,null,null,null,0,131,"HINGHAM",131,"VC6000191826",0,null,null,"VC6000191826","TOWN OF HINGHAM",0,4014]
[132,"HINSDALE                     ",{"$f":"proj16jul!D141","v":0},{"$f":"dec!N141","v":0},{"$f":"may!N141","v":0},{"$f":"june!N141","v":0},0,0,0,0,0,0,0,0,null,null,null,null,null,{"$f":"proj16jul!F141","v":0},{"$f":"dec!O141","v":0},{"$f":"may!O141","v":0},{"$f":"june!O141","v":0},0,0,0,0,0,0,0,0,null,null,null,null,0,132,"HINSDALE",132,"VC6000191828",0,null,null,"VC6000191828","TOWN OF HINSDALE",0,0]
[133,"HOLBROOK                     ",{"$f":"proj16jul!D142","v":305871},{"$f":"dec!N142","v":306291},{"$f":"may!N142","v":306291},{"$f":"june!N142","v":316096},25489,25489,25489,25490,25489,25549,25549,25549,null,null,null,null,null,{"$f":"proj16jul!F142","v":76997},{"$f":"dec!O142","v":85200},{"$f":"may!O142","v":123056},{"$f":"june!O142","v":120804},6417,6417,6417,6417,6417,7588,7588,7588,null,null,null,null,0,133,"HOLBROOK",133,"VC6000191830",0,null,null,"VC6000191830","TOWN OF HOLBROOK",25549,7588]
[134,"HOLDEN                       ",{"$f":"proj16jul!D143","v":0},{"$f":"dec!N143","v":0},{"$f":"may!N143","v":0},{"$f":"june!N143","v":0},0,0,0,0,0,0,0,0,null,null,null,null,null,{"$f":"proj16jul!F143","v":0},{"$f":"dec!O143","v":0},{"$f":"may!O143","v":0},{"$f":"june!O143","v":0},0,0,0,0,0,0,0,0,null,null,null,null,0,134,"HOLDEN",134,"VC6000191831",0,null,null,"VC6000191831","TOWN OF HOLDEN",0,0]
[135,"HOLLAND                      ",{"$f":"proj16jul!D144","v":246248},{"$f":"dec!N144","v":275872},{"$f":"may!N144","v":299281},{"$f":"june!N144","v":299281},20520,20521,20521,20520,20521,24752,24752,24753,null,null,null,null,null,{"$f":"proj16jul!F144","v":8953},{"$f":"dec!O144","v":5000},{"$f":"may!O144","v":13520},{"$f":"june!O144","v":13520},747,746,746,746,746,182,182,181,null,null,null,null,0,135,"HOLLAND",135,"VC6000191833",0,null,null,"VC6000191833","TOWN OF HOLLAND",24753,181]
[136,"HOLLISTON                    ",{"$f":"proj16jul!D145","v":1038241},{"$f":"dec!N145","v":1058438},{"$f":"may!N145","v":1058438},{"$f":"june!N145","v":1064763},86520,86520,86520,86520,86520,89405,89405,89405,null,null,null,null,null,{"$f":"proj16jul!F145","v":49554},{"$f":"dec!O145","v":94295},{"$f":"may!O145","v":84812},{"$f":"june!O145","v":84214},4130,4130,4130,4130,4130,10521,10521,10521,null,null,null,null,0,136,"HOLLISTON",136,"VC6000191834",0,null,null,"VC6000191834","TOWN OF HOLLISTON",89405,10521]
[137,"HOLYOKE                      ",{"$f":"proj16jul!D146","v":274673},{"$f":"dec!N146","v":316976},{"$f":"may!N146","v":295466},{"$f":"june!N146","v":293066},22889,22889,22890,22889,22890,28932,28932,28933,null,null,null,null,null,{"$f":"proj16jul!F146","v":2055893},{"$f":"dec!O146","v":2020196},{"$f":"may!O146","v":2132745},{"$f":"june!O146","v":2134577},171325,171325,171325,171325,171325,166225,166225,166225,null,null,null,null,0,137,"HOLYOKE",137,"VC6000192102",0,null,null,"VC6000192102","CITY OF HOLYOKE",28933,166225]
[138,"HOPEDALE                     ",{"$f":"proj16jul!D147","v":709439},{"$f":"dec!N147","v":666244},{"$f":"may!N147","v":694534},{"$f":"june!N147","v":694534},59119,59120,59120,59120,59120,52949,52949,52949,null,null,null,null,null,{"$f":"proj16jul!F147","v":290034},{"$f":"dec!O147","v":260019},{"$f":"may!O147","v":287564},{"$f":"june!O147","v":293803},24170,24170,24170,24170,24170,19882,19882,19881,null,null,null,null,0,138,"HOPEDALE",138,"VC6000191835",0,null,null,"VC6000191835","TOWN OF HOPEDALE",52949,19881]
[139,"HOPKINTON                    ",{"$f":"proj16jul!D148","v":0},{"$f":"dec!N148","v":0},{"$f":"may!N148","v":0},{"$f":"june!N148","v":0},0,0,0,0,0,0,0,0,null,null,null,null,null,{"$f":"proj16jul!F148","v":88021},{"$f":"dec!O148","v":104415},{"$f":"may!O148","v":120564},{"$f":"june!O148","v":111464},7336,7335,7335,7335,7335,9677,9677,9677,null,null,null,null,0,139,"HOPKINTON",139,"VC6000191836",0,null,null,"VC6000191836","TOWN OF HOPKINTON",0,9677]
[140,"HUBBARDSTON                  ",{"$f":"proj16jul!D149","v":0},{"$f":"dec!N149","v":0},{"$f":"may!N149","v":0},{"$f":"june!N149","v":0},0,0,0,0,0,0,0,0,null,null,null,null,null,{"$f":"proj16jul!F149","v":0},{"$f":"dec!O149","v":0},{"$f":"may!O149","v":0},{"$f":"june!O149","v":0},0,0,0,0,0,0,0,0,null,null,null,null,0,140,"HUBBARDSTON",140,"VC6000191837",0,null,null,"VC6000191837","TOWN OF HUBBARDSTON",0,0]
[141,"HUDSON                       ",{"$f":"proj16jul!D150","v":546944},{"$f":"dec!N150","v":554577},{"$f":"may!N150","v":617583},{"$f":"june!N150","v":617483},45578,45579,45579,45578,45579,46669,46669,46669,null,null,null,null,null,{"$f":"proj16jul!F150","v":111154},{"$f":"dec!O150","v":104422},{"$f":"may!O150","v":137725},{"$f":"june!O150","v":140240},9263,9263,9263,9263,9263,8301,8301,8301,null,null,null,null,0,141,"HUDSON",141,"VC6000191839",0,null,null,"VC6000191839","TOWN OF HUDSON",46669,8301]
[142,"HULL                         ",{"$f":"proj16jul!D151","v":0},{"$f":"dec!N151","v":0},{"$f":"may!N151","v":0},{"$f":"june!N151","v":0},0,0,0,0,0,0,0,0,null,null,null,null,null,{"$f":"proj16jul!F151","v":22981},{"$f":"dec!O151","v":38189},{"$f":"may!O151","v":42278},{"$f":"june!O151","v":42278},1916,1915,1915,1915,1915,4088,4088,4088,null,null,null,null,1,142,"HULL",142,"VC6000191840",0,null,null,"VC6000191840","TOWN OF HULL",0,4088]
[143,"HUNTINGTON                   ",{"$f":"proj16jul!D152","v":0},{"$f":"dec!N152","v":0},{"$f":"may!N152","v":0},{"$f":"june!N152","v":0},0,0,0,0,0,0,0,0,null,null,null,null,null,{"$f":"proj16jul!F152","v":0},{"$f":"dec!O152","v":5000},{"$f":"may!O152","v":0},{"$f":"june!O152","v":0},0,0,0,0,0,715,715,714,null,null,null,null,0,143,"HUNTINGTON",143,"VC6000191841",0,null,null,"VC6000191841","TOWN OF HUNTINGTON",0,714]
[144,"IPSWICH                      ",{"$f":"proj16jul!D153","v":383036},{"$f":"dec!N153","v":365038},{"$f":"may!N153","v":365038},{"$f":"june!N153","v":367074},31919,31920,31920,31919,31920,29348,29348,29348,null,null,null,null,null,{"$f":"proj16jul!F153","v":109839},{"$f":"dec!O153","v":99253},{"$f":"may!O153","v":95239},{"$f":"june!O153","v":95239},9154,9154,9154,9153,9153,7641,7641,7641,null,null,null,null,0,144,"IPSWICH",144,"VC6000191843",0,null,null,"VC6000191843","TOWN OF IPSWICH",29348,7641]
[145,"KINGSTON                     ",{"$f":"proj16jul!D154","v":0},{"$f":"dec!N154","v":0},{"$f":"may!N154","v":0},{"$f":"june!N154","v":0},0,0,0,0,0,0,0,0,null,null,null,null,null,{"$f":"proj16jul!F154","v":3953},{"$f":"dec!O154","v":0},{"$f":"may!O154","v":0},{"$f":"june!O154","v":0},330,330,330,330,330,-236,-236,-236,null,null,null,null,0,145,"KINGSTON",145,"VC6000191844",0,null,null,"VC6000191844","TOWN OF KINGSTON",0,-236]
[146,"LAKEVILLE                    ",{"$f":"proj16jul!D155","v":0},{"$f":"dec!N155","v":0},{"$f":"may!N155","v":0},{"$f":"june!N155","v":0},0,0,0,0,0,0,0,0,null,null,null,null,null,{"$f":"proj16jul!F155","v":0},{"$f":"dec!O155","v":0},{"$f":"may!O155","v":0},{"$f":"june!O155","v":0},0,0,0,0,0,0,0,0,null,null,null,null,0,146,"LAKEVILLE",146,"VC6000191846",1,null,null,"VC6000191846","TOWNOF LAKEVILLE",0,0]
[147,"LANCASTER                    ",{"$f":"proj16jul!D156","v":0},{"$f":"dec!N156","v":0},{"$f":"may!N156","v":0},{"$f":"june!N156","v":0},0,0,0,0,0,0,0,0,null,null,null,null,null,{"$f":"proj16jul!F156","v":0},{"$f":"dec!O156","v":0},{"$f":"may!O156","v":0},{"$f":"june!O156","v":0},0,0,0,0,0,0,0,0,null,null,null,null,0,147,"LANCASTER",147,"VC6000191847",0,null,null,"VC6000191847","TOWN OF LANCASTER",0,0]
[148,"LANESBOROUGH                 ",{"$f":"proj16jul!D157","v":120999},{"$f":"dec!N157","v":115999},{"$f":"may!N157","v":109804},{"$f":"june!N157","v":109804},10083,10083,10083,10084,10083,9369,9369,9369,null,null,null,null,null,{"$f":"proj16jul!F157","v":114496},{"$f":"dec!O157","v":111635},{"$f":"may!O157","v":121158},{"$f":"june!O157","v":132108},9542,9542,9542,9542,9541,9133,9133,9132,null,null,null,null,0,148,"LANESBOROUGH",148,"VC6000191848",0,null,null,"VC6000191848","TOWN OF LANESBOROUGH",9369,9132]
[149,"LAWRENCE                     ",{"$f":"proj16jul!D158","v":0},{"$f":"dec!N158","v":0},{"$f":"may!N158","v":0},{"$f":"june!N158","v":0},0,0,0,0,0,0,0,0,null,null,null,null,null,{"$f":"proj16jul!F158","v":372271},{"$f":"dec!O158","v":444484},{"$f":"may!O158","v":419332},{"$f":"june!O158","v":426027},31023,31023,31023,31023,31023,41339,41339,41339,null,null,null,null,0,149,"LAWRENCE",149,"VC6000192104",0,null,null,"VC6000192104","CITY OF LAWRENCE",0,41339]
[150,"LEE                          ",{"$f":"proj16jul!D159","v":731075},{"$f":"dec!N159","v":729588},{"$f":"may!N159","v":743454},{"$f":"june!N159","v":743454},60922,60923,60923,60923,60923,60710,60710,60710,null,null,null,null,null,{"$f":"proj16jul!F159","v":482824},{"$f":"dec!O159","v":561288},{"$f":"may!O159","v":561868},{"$f":"june!O159","v":559383},40236,40236,40236,40236,40235,51445,51444,51444,null,null,null,null,1,150,"LEE",150,"VC6000191850",0,null,null,"VC6000191850","TOWN OF LEE",60710,51444]
[151,"LEICESTER                    ",{"$f":"proj16jul!D160","v":544663},{"$f":"dec!N160","v":558265},{"$f":"may!N160","v":558265},{"$f":"june!N160","v":564881},45388,45389,45388,45389,45388,47331,47332,47332,null,null,null,null,null,{"$f":"proj16jul!F160","v":162376},{"$f":"dec!O160","v":190973},{"$f":"may!O160","v":198520},{"$f":"june!O160","v":199790},13532,13532,13532,13532,13531,17617,17617,17616,null,null,null,null,0,151,"LEICESTER",151,"VC6000191851",0,null,null,"VC6000191851","TOWN OF LEICESTER",47332,17616]
[152,"LENOX                        ",{"$f":"proj16jul!D161","v":1279101},{"$f":"dec!N161","v":1329856},{"$f":"may!N161","v":1310194},{"$f":"june!N161","v":1310194},106591,106592,106592,106592,106591,113842,113842,113842,null,null,null,null,null,{"$f":"proj16jul!F161","v":308326},{"$f":"dec!O161","v":285344},{"$f":"may!O161","v":266928},{"$f":"june!O161","v":265309},25694,25599,25599,25599,25599,22465,22465,22465,null,null,null,null,1,152,"LENOX",152,"VC6000191853",0,null,null,"VC6000191853","TOWN OF LENOX",113842,22465]
[153,"LEOMINSTER                   ",{"$f":"proj16jul!D162","v":1401012},{"$f":"dec!N162","v":1367932},{"$f":"may!N162","v":1350796},{"$f":"june!N162","v":1350496},116751,116751,116751,116751,116751,112025,112025,112025,null,null,null,null,null,{"$f":"proj16jul!F162","v":1875141},{"$f":"dec!O162","v":1886475},{"$f":"may!O162","v":1885899},{"$f":"june!O162","v":1878934},156262,156262,156262,156262,156262,157881,157881,157881,null,null,null,null,0,153,"LEOMINSTER",153,"VC6000192105",0,null,null,"VC6000192105","CITY OF LEOMINSTER",112025,157881]
[154,"LEVERETT                     ",{"$f":"proj16jul!D163","v":163072},{"$f":"dec!N163","v":139816},{"$f":"may!N163","v":145160},{"$f":"june!N163","v":145160},13589,13589,13590,13589,13589,10267,10267,10267,null,null,null,null,null,{"$f":"proj16jul!F163","v":35971},{"$f":"dec!O163","v":31700},{"$f":"may!O163","v":27526},{"$f":"june!O163","v":27526},2998,2998,2998,2998,2998,2388,2387,2387,null,null,null,null,0,154,"LEVERETT",154,"VC6000191854",0,null,null,"VC6000191854","TOWN OF LEVERETT",10267,2387]
[155,"LEXINGTON                    ",{"$f":"proj16jul!D164","v":0},{"$f":"dec!N164","v":0},{"$f":"may!N164","v":0},{"$f":"june!N164","v":0},0,0,0,0,0,0,0,0,null,null,null,null,null,{"$f":"proj16jul!F164","v":16859},{"$f":"dec!O164","v":38500},{"$f":"may!O164","v":40828},{"$f":"june!O164","v":40828},1405,1405,1405,1405,1405,4497,4497,4497,null,null,null,null,0,155,"LEXINGTON",155,"VC6000191855",0,null,null,"VC6000191855","TOWN OF LEXINGTON",0,4497]
[156,"LEYDEN                       ",{"$f":"proj16jul!D165","v":0},{"$f":"dec!N165","v":0},{"$f":"may!N165","v":0},{"$f":"june!N165","v":0},0,0,0,0,0,0,0,0,null,null,null,null,null,{"$f":"proj16jul!F165","v":0},{"$f":"dec!O165","v":0},{"$f":"may!O165","v":0},{"$f":"june!O165","v":0},0,0,0,0,0,0,0,0,null,null,null,null,0,156,"LEYDEN",156,"VC6000191857",0,null,null,"VC6000191857","TOWN OF LEYDEN",0,0]
[157,"LINCOLN                      ",{"$f":"proj16jul!D166","v":0},{"$f":"dec!N166","v":0},{"$f":"may!N166","v":0},{"$f":"june!N166","v":0},0,0,0,0,0,0,0,0,null,null,null,null,null,{"$f":"proj16jul!F166","v":0},{"$f":"dec!O166","v":20100},{"$f":"may!O166","v":20100},{"$f":"june!O166","v":14933},0,0,0,0,0,2872,2872,2872,null,null,null,null,0,157,"LINCOLN",157,"VC6000191858",0,null,null,"VC6000191858","TOWN OF LINCOLN",0,2872]
[158,"LITTLETON                    ",{"$f":"proj16jul!D167","v":373331},{"$f":"dec!N167","v":453343},{"$f":"may!N167","v":438047},{"$f":"june!N167","v":431572},31110,31111,31111,31111,31111,42541,42541,42541,null,null,null,null,null,{"$f":"proj16jul!F167","v":102084},{"$f":"dec!O167","v":145578},{"$f":"may!O167","v":140174},{"$f":"june!O167","v":143874},8507,8507,8507,8507,8507,14721,14721,14721,null,null,null,null,0,158,"LITTLETON",158,"VC6000191859",0,null,null,"VC6000191859","TOWN OF LITTLETON",42541,14721]
[159,"LONGMEADOW                   ",{"$f":"proj16jul!D168","v":364404},{"$f":"dec!N168","v":284642},{"$f":"may!N168","v":328156},{"$f":"june!N168","v":328156},30367,30367,30367,30367,30367,18972,18972,18972,null,null,null,null,null,{"$f":"proj16jul!F168","v":8953},{"$f":"dec!O168","v":5000},{"$f":"may!O168","v":12248},{"$f":"june!O168","v":12248},747,746,746,746,746,182,182,181,null,null,null,null,0,159,"LONGMEADOW",159,"VC6000191861",0,null,null,"VC6000191861","TOWN OF LONGMEADOW",18972,181]
[160,"LOWELL                       ",{"$f":"proj16jul!D169","v":0},{"$f":"dec!N169","v":0},{"$f":"may!N169","v":0},{"$f":"june!N169","v":0},0,0,0,0,0,0,0,0,null,null,null,null,null,{"$f":"proj16jul!F169","v":685289},{"$f":"dec!O169","v":889811},{"$f":"may!O169","v":933044},{"$f":"june!O169","v":945075},57108,57108,57108,57108,57108,86325,86325,86325,null,null,null,null,0,160,"LOWELL",160,"VC6000192108",0,null,null,"VC6000192108","CITY OF LOWELL",0,86325]
[161,"LUDLOW                       ",{"$f":"proj16jul!D170","v":499229},{"$f":"dec!N170","v":611083},{"$f":"may!N170","v":562404},{"$f":"june!N170","v":562404},41602,41602,41603,41602,41603,57581,57581,57581,null,null,null,null,null,{"$f":"proj16jul!F170","v":204660},{"$f":"dec!O170","v":212834},{"$f":"may!O170","v":217372},{"$f":"june!O170","v":219840},17055,17055,17055,17055,17055,18223,18223,18223,null,null,null,null,0,161,"LUDLOW",161,"VC6000191862",0,null,null,"VC6000191862","TOWN OF LUDLOW",57581,18223]
[162,"LUNENBURG                    ",{"$f":"proj16jul!D171","v":227741},{"$f":"dec!N171","v":303389},{"$f":"may!N171","v":286673},{"$f":"june!N171","v":286673},18978,18978,18979,18978,18979,29785,29785,29785,null,null,null,null,null,{"$f":"proj16jul!F171","v":517649},{"$f":"dec!O171","v":439103},{"$f":"may!O171","v":464729},{"$f":"june!O171","v":476902},43138,43138,43138,43138,43138,31917,31916,31916,null,null,null,null,0,162,"LUNENBURG",162,"VC6000191863",0,null,null,"VC6000191863","TOWN OF LUNENBURG",29785,31916]
[163,"LYNN                         ",{"$f":"proj16jul!D172","v":0},{"$f":"dec!N172","v":0},{"$f":"may!N172","v":0},{"$f":"june!N172","v":0},0,0,0,0,0,0,0,0,null,null,null,null,null,{"$f":"proj16jul!F172","v":457634},{"$f":"dec!O172","v":606998},{"$f":"may!O172","v":608593},{"$f":"june!O172","v":604213},38137,38137,38136,38136,38136,59474,59474,59474,null,null,null,null,1,163,"LYNN",163,"VC6000192109",0,null,null,"VC6000192109","CITY OF LYNN",0,59474]
[164,"LYNNFIELD                    ",{"$f":"proj16jul!D173","v":0},{"$f":"dec!N173","v":0},{"$f":"may!N173","v":0},{"$f":"june!N173","v":0},0,0,0,0,0,0,0,0,null,null,null,null,null,{"$f":"proj16jul!F173","v":0},{"$f":"dec!O173","v":0},{"$f":"may!O173","v":0},{"$f":"june!O173","v":0},0,0,0,0,0,0,0,0,null,null,null,null,0,164,"LYNNFIELD",164,"VC6000191865",0,null,null,"VC6000191865","TOWN OF LYNNFIELD",0,0]
[165,"MALDEN                       ",{"$f":"proj16jul!D174","v":0},{"$f":"dec!N174","v":0},{"$f":"may!N174","v":0},{"$f":"june!N174","v":0},0,0,0,0,0,0,0,0,null,null,null,null,null,{"$f":"proj16jul!F174","v":32981},{"$f":"dec!O174","v":50800},{"$f":"may!O174","v":64311},{"$f":"june!O174","v":61397},2749,2749,2749,2749,2749,5294,5294,5294,null,null,null,null,0,165,"MALDEN",165,"VC6000192110",0,null,null,"VC6000192110","CITY OF MALDEN",0,5294]
[166,"MANCHESTER                   ",{"$f":"proj16jul!D175","v":0},{"$f":"dec!N175","v":0},{"$f":"may!N175","v":0},{"$f":"june!N175","v":0},0,0,0,0,0,0,0,0,null,null,null,null,null,{"$f":"proj16jul!F175","v":0},{"$f":"dec!O175","v":0},{"$f":"may!O175","v":0},{"$f":"june!O175","v":0},0,0,0,0,0,0,0,0,null,null,null,null,0,166,"MANCHESTER",166,"VC6000191866",0,null,null,"VC6000191866","TOWN OF MANCHESTER",0,0]
[167,"MANSFIELD                    ",{"$f":"proj16jul!D176","v":0},{"$f":"dec!N176","v":0},{"$f":"may!N176","v":0},{"$f":"june!N176","v":0},0,0,0,0,0,0,0,0,null,null,null,null,null,{"$f":"proj16jul!F176","v":34028},{"$f":"dec!O176","v":37600},{"$f":"may!O176","v":37250},{"$f":"june!O176","v":37250},2836,2836,2836,2836,2836,3346,3346,3346,null,null,null,null,0,167,"MANSFIELD",167,"VC6000191867",0,null,null,"VC6000191867","TOWN OF MANSFIELD",0,3346]
[168,"MARBLEHEAD                   ",{"$f":"proj16jul!D177","v":0},{"$f":"dec!N177","v":0},{"$f":"may!N177","v":0},{"$f":"june!N177","v":0},0,0,0,0,0,0,0,0,null,null,null,null,null,{"$f":"proj16jul!F177","v":13467},{"$f":"dec!O177","v":34100},{"$f":"may!O177","v":33177},{"$f":"june!O177","v":34124},1123,1123,1123,1122,1122,4070,4070,4070,null,null,null,null,0,168,"MARBLEHEAD",168,"VC6000191868",0,null,null,"VC6000191868","TOWN OF MARBLEHEAD",0,4070]
[169,"MARION                       ",{"$f":"proj16jul!D178","v":0},{"$f":"dec!N178","v":0},{"$f":"may!N178","v":0},{"$f":"june!N178","v":0},0,0,0,0,0,0,0,0,null,null,null,null,null,{"$f":"proj16jul!F178","v":9514},{"$f":"dec!O178","v":0},{"$f":"may!O178","v":5096},{"$f":"june!O178","v":5096},793,793,793,793,793,-567,-567,-567,null,null,null,null,0,169,"MARION",169,"VC6000191869",0,null,null,"VC6000191869","TOWN OF MARION",0,-567]
[170,"MARLBOROUGH                  ",{"$f":"proj16jul!D179","v":0},{"$f":"dec!N179","v":0},{"$f":"may!N179","v":0},{"$f":"june!N179","v":0},0,0,0,0,0,0,0,0,null,null,null,null,null,{"$f":"proj16jul!F179","v":560509},{"$f":"dec!O179","v":526099},{"$f":"may!O179","v":539261},{"$f":"june!O179","v":532947},46710,46709,46709,46709,46709,41794,41794,41793,null,null,null,null,0,170,"MARLBOROUGH",170,"VC6000192112",0,null,null,"VC6000192112","CITY OF MARLBOROUGH",0,41793]
[171,"MARSHFIELD                   ",{"$f":"proj16jul!D180","v":34000},{"$f":"dec!N180","v":25000},{"$f":"may!N180","v":25000},{"$f":"june!N180","v":25000},2833,2833,2834,2833,2833,1547,1547,1548,null,null,null,null,null,{"$f":"proj16jul!F180","v":37942},{"$f":"dec!O180","v":33500},{"$f":"may!O180","v":43122},{"$f":"june!O180","v":43122},3162,3162,3162,3162,3162,2528,2527,2527,null,null,null,null,0,171,"MARSHFIELD",171,"VC6000191870",0,null,null,"VC6000191870","TOWN OF MARSHFIELD",1548,2527]
[172,"MASHPEE                      ",{"$f":"proj16jul!D181","v":442050},{"$f":"dec!N181","v":397671},{"$f":"may!N181","v":384970},{"$f":"june!N181","v":385020},36837,36838,36837,36838,36837,30497,30497,30498,null,null,null,null,null,{"$f":"proj16jul!F181","v":389807},{"$f":"dec!O181","v":476511},{"$f":"may!O181","v":441636},{"$f":"june!O181","v":440691},32484,32484,32484,32484,32484,44871,44870,44870,null,null,null,null,0,172,"MASHPEE",172,"VC6000191871",0,null,null,"VC6000191871","TOWN OF MASHPEE",30498,44870]
[173,"MATTAPOISETT                 ",{"$f":"proj16jul!D182","v":42512},{"$f":"dec!N182","v":37512},{"$f":"may!N182","v":38577},{"$f":"june!N182","v":38577},3542,3543,3543,3542,3543,2828,2828,2828,null,null,null,null,null,{"$f":"proj16jul!F182","v":11859},{"$f":"dec!O182","v":14481},{"$f":"may!O182","v":10208},{"$f":"june!O182","v":10208},989,989,989,988,988,1363,1363,1363,null,null,null,null,0,173,"MATTAPOISETT",173,"VC6000191872",0,null,null,"VC6000191872","TOWN OF MATTAPOISETT",2828,1363]
[174,"MAYNARD                      ",{"$f":"proj16jul!D183","v":264647},{"$f":"dec!N183","v":335347},{"$f":"may!N183","v":197600},{"$f":"june!N183","v":288123},22053,22054,22054,22054,22054,32154,32154,32154,null,null,null,null,null,{"$f":"proj16jul!F183","v":80595},{"$f":"dec!O183","v":52445},{"$f":"may!O183","v":46613},{"$f":"june!O183","v":46472},6717,6717,6717,6716,6716,2695,2695,2695,null,null,null,null,0,174,"MAYNARD",174,"VC6000191874",0,null,null,"VC6000191874","TOWN OF MAYNARD",32154,2695]
[175,"MEDFIELD                     ",{"$f":"proj16jul!D184","v":0},{"$f":"dec!N184","v":0},{"$f":"may!N184","v":0},{"$f":"june!N184","v":0},0,0,0,0,0,0,0,0,null,null,null,null,null,{"$f":"proj16jul!F184","v":28450},{"$f":"dec!O184","v":34100},{"$f":"may!O184","v":48743},{"$f":"june!O184","v":46802},2371,2371,2371,2371,2371,3178,3178,3178,null,null,null,null,0,175,"MEDFIELD",175,"VC6000191875",0,null,null,"VC6000191875","TOWN OF MEDFIELD",0,3178]
[176,"MEDFORD                      ",{"$f":"proj16jul!D185","v":0},{"$f":"dec!N185","v":0},{"$f":"may!N185","v":0},{"$f":"june!N185","v":0},0,0,0,0,0,0,0,0,null,null,null,null,null,{"$f":"proj16jul!F185","v":16712},{"$f":"dec!O185","v":62200},{"$f":"may!O185","v":52371},{"$f":"june!O185","v":52371},1393,1393,1393,1393,1393,7891,7891,7891,null,null,null,null,0,176,"MEDFORD",176,"VC6000192114",0,null,null,"VC6000192114","CITY OF MEDFORD",0,7891]
[177,"MEDWAY                       ",{"$f":"proj16jul!D186","v":347095},{"$f":"dec!N186","v":549040},{"$f":"may!N186","v":517500},{"$f":"june!N186","v":546730},28924,36841,32883,32883,32883,54946,54946,54946,null,null,null,null,null,{"$f":"proj16jul!F186","v":265066},{"$f":"dec!O186","v":261598},{"$f":"may!O186","v":280528},{"$f":"june!O186","v":316465},22089,22089,22089,22089,22089,21594,21594,21593,null,null,null,null,0,177,"MEDWAY",177,"VC6000191877",0,null,null,"VC6000191877","TOWN OF MEDWAY",54946,21593]
[178,"MELROSE                      ",{"$f":"proj16jul!D187","v":53150},{"$f":"dec!N187","v":130000},{"$f":"may!N187","v":140055},{"$f":"june!N187","v":140055},4429,4429,4429,4429,4429,15407,15408,15408,null,null,null,null,null,{"$f":"proj16jul!F187","v":14514},{"$f":"dec!O187","v":20103},{"$f":"may!O187","v":19302},{"$f":"june!O187","v":14101},1210,1210,1210,1210,1210,2008,2008,2008,null,null,null,null,0,178,"MELROSE",178,"VC6000192115",0,null,null,"VC6000192115","CITY OF MELROSE",15408,2008]
[179,"MENDON                       ",{"$f":"proj16jul!D188","v":0},{"$f":"dec!N188","v":0},{"$f":"may!N188","v":0},{"$f":"june!N188","v":0},0,0,0,0,0,0,0,0,null,null,null,null,null,{"$f":"proj16jul!F188","v":0},{"$f":"dec!O188","v":0},{"$f":"may!O188","v":0},{"$f":"june!O188","v":0},0,0,0,0,0,0,0,0,null,null,null,null,0,179,"MENDON",179,"VC6000191878",0,null,null,"VC6000191878","TOWN OF MENDON",0,0]
[180,"MERRIMAC                     ",{"$f":"proj16jul!D189","v":0},{"$f":"dec!N189","v":0},{"$f":"may!N189","v":0},{"$f":"june!N189","v":0},0,0,0,0,0,0,0,0,null,null,null,null,null,{"$f":"proj16jul!F189","v":0},{"$f":"dec!O189","v":0},{"$f":"may!O189","v":0},{"$f":"june!O189","v":0},0,0,0,0,0,0,0,0,null,null,null,null,0,180,"MERRIMAC",180,"VC6000191879",0,null,null,"VC6000191879","TOWN OF MERRIMAC",0,0]
[181,"METHUEN                      ",{"$f":"proj16jul!D190","v":0},{"$f":"dec!N190","v":0},{"$f":"may!N190","v":0},{"$f":"june!N190","v":0},0,0,0,0,0,0,0,0,null,null,null,null,null,{"$f":"proj16jul!F190","v":95709},{"$f":"dec!O190","v":142700},{"$f":"may!O190","v":149338},{"$f":"june!O190","v":149338},7976,7976,7976,7976,7976,14689,14689,14689,null,null,null,null,0,181,"METHUEN",181,"VC6000191881",0,null,null,"VC6000191881","TOWN OF METHUEN",0,14689]
[182,"MIDDLEBOROUGH                ",{"$f":"proj16jul!D191","v":15000},{"$f":"dec!N191","v":25000},{"$f":"may!N191","v":25000},{"$f":"june!N191","v":15000},1250,1250,1250,1250,1250,2678,2678,2678,null,null,null,null,null,{"$f":"proj16jul!F191","v":231623},{"$f":"dec!O191","v":245319},{"$f":"may!O191","v":302003},{"$f":"june!O191","v":298126},19302,19302,19302,19302,19302,21259,21259,21259,null,null,null,null,0,182,"MIDDLEBOROUGH",182,"VC6000191882",0,null,null,"VC6000191882","TOWN OF MIDDLEBOROUGH",2678,21259]
[183,"MIDDLEFIELD                  ",{"$f":"proj16jul!D192","v":0},{"$f":"dec!N192","v":0},{"$f":"may!N192","v":0},{"$f":"june!N192","v":0},0,0,0,0,0,0,0,0,null,null,null,null,null,{"$f":"proj16jul!F192","v":0},{"$f":"dec!O192","v":0},{"$f":"may!O192","v":0},{"$f":"june!O192","v":0},0,0,0,0,0,0,0,0,null,null,null,null,0,183,"MIDDLEFIELD",183,"VC6000191883",0,null,null,"VC6000191883","TOWN OF MIDDLEFIELD",0,0]
[184,"MIDDLETON                    ",{"$f":"proj16jul!D193","v":0},{"$f":"dec!N193","v":0},{"$f":"may!N193","v":0},{"$f":"june!N193","v":0},0,0,0,0,0,0,0,0,null,null,null,null,null,{"$f":"proj16jul!F193","v":5561},{"$f":"dec!O193","v":6700},{"$f":"may!O193","v":6700},{"$f":"june!O193","v":6700},464,464,464,464,464,626,626,626,null,null,null,null,0,184,"MIDDLETON",184,"VC6000191884",0,null,null,"VC6000191884","TOWN OF MIDDLETON",0,626]
[185,"MILFORD                      ",{"$f":"proj16jul!D194","v":459014},{"$f":"dec!N194","v":442124},{"$f":"may!N194","v":513108},{"$f":"june!N194","v":513108},38251,38251,38251,38251,38251,35838,35838,35838,null,null,null,null,null,{"$f":"proj16jul!F194","v":1042782},{"$f":"dec!O194","v":1178463},{"$f":"may!O194","v":1174513},{"$f":"june!O194","v":1192249},86899,87808,87808,87808,87808,105762,105762,105762,null,null,null,null,0,185,"MILFORD",185,"VC6000191885",0,null,null,"VC6000191885","TOWN OF MILFORD",35838,105762]
[186,"MILLBURY                     ",{"$f":"proj16jul!D195","v":0},{"$f":"dec!N195","v":0},{"$f":"may!N195","v":0},{"$f":"june!N195","v":0},0,0,0,0,0,0,0,0,null,null,null,null,null,{"$f":"proj16jul!F195","v":118671},{"$f":"dec!O195","v":159604},{"$f":"may!O195","v":158945},{"$f":"june!O195","v":157629},9890,9890,9890,9889,9889,15737,15737,15737,null,null,null,null,0,186,"MILLBURY",186,"VC6000191886",0,null,null,"VC6000191886","TOWN OF MILLBURY",0,15737]
[187,"MILLIS                       ",{"$f":"proj16jul!D196","v":419555},{"$f":"dec!N196","v":376474},{"$f":"may!N196","v":423920},{"$f":"june!N196","v":423920},34962,34963,34963,34963,34963,28808,28808,28808,null,null,null,null,null,{"$f":"proj16jul!F196","v":168883},{"$f":"dec!O196","v":197848},{"$f":"may!O196","v":197824},{"$f":"june!O196","v":185783},14074,15438,15438,15437,15437,17432,17432,17432,null,null,null,null,0,187,"MILLIS",187,"VC6000191887",0,null,null,"VC6000191887","TOWN OF MILLIS",28808,17432]
[188,"MILLVILLE                    ",{"$f":"proj16jul!D197","v":0},{"$f":"dec!N197","v":0},{"$f":"may!N197","v":0},{"$f":"june!N197","v":0},0,0,0,0,0,0,0,0,null,null,null,null,null,{"$f":"proj16jul!F197","v":0},{"$f":"dec!O197","v":0},{"$f":"may!O197","v":0},{"$f":"june!O197","v":0},0,0,0,0,0,0,0,0,null,null,null,null,0,188,"MILLVILLE",188,"VC6000191888",0,null,null,"VC6000191888","TOWN OF MILLVILLE",0,0]
[189,"MILTON                       ",{"$f":"proj16jul!D198","v":0},{"$f":"dec!N198","v":0},{"$f":"may!N198","v":0},{"$f":"june!N198","v":0},0,0,0,0,0,0,0,0,null,null,null,null,null,{"$f":"proj16jul!F198","v":19028},{"$f":"dec!O198","v":26800},{"$f":"may!O198","v":26800},{"$f":"june!O198","v":26800},1586,1586,1586,1586,1586,2696,2696,2696,null,null,null,null,0,189,"MILTON",189,"VC6000191889",0,null,null,"VC6000191889","TOWN OF MILTON",0,2696]
[190,"MONROE                       ",{"$f":"proj16jul!D199","v":0},{"$f":"dec!N199","v":0},{"$f":"may!N199","v":0},{"$f":"june!N199","v":0},0,0,0,0,0,0,0,0,null,null,null,null,null,{"$f":"proj16jul!F199","v":1850},{"$f":"dec!O199","v":5000},{"$f":"may!O199","v":3984},{"$f":"june!O199","v":3984},155,155,154,154,154,604,604,604,null,null,null,null,0,190,"MONROE",190,"VC6000191890",0,null,null,"VC6000191890","TOWN OF MONROE",0,604]
[191,"MONSON                       ",{"$f":"proj16jul!D200","v":239656},{"$f":"dec!N200","v":308926},{"$f":"may!N200","v":323728},{"$f":"june!N200","v":323728},19971,19971,19972,19971,19971,29867,29867,29867,null,null,null,null,null,{"$f":"proj16jul!F200","v":170503},{"$f":"dec!O200","v":207987},{"$f":"may!O200","v":229751},{"$f":"june!O200","v":201977},14209,14209,14209,14209,14209,19564,19563,19563,null,null,null,null,0,191,"MONSON",191,"VC6000191892",0,null,null,"VC6000191892","TOWN OF MONSON",29867,19563]
[192,"MONTAGUE                     ",{"$f":"proj16jul!D201","v":0},{"$f":"dec!N201","v":0},{"$f":"may!N201","v":0},{"$f":"june!N201","v":0},0,0,0,0,0,0,0,0,null,null,null,null,null,{"$f":"proj16jul!F201","v":0},{"$f":"dec!O201","v":0},{"$f":"may!O201","v":0},{"$f":"june!O201","v":0},0,0,0,0,0,0,0,0,null,null,null,null,0,192,"MONTAGUE",192,"VC6000191893",0,null,null,"VC6000191893","TOWN OF MONTAGUE",0,0]
[193,"MONTEREY                     ",{"$f":"proj16jul!D202","v":0},{"$f":"dec!N202","v":0},{"$f":"may!N202","v":0},{"$f":"june!N202","v":0},0,0,0,0,0,0,0,0,null,null,null,null,null,{"$f":"proj16jul!F202","v":0},{"$f":"dec!O202","v":0},{"$f":"may!O202","v":0},{"$f":"june!O202","v":0},0,0,0,0,0,0,0,0,null,null,null,null,0,193,"MONTEREY",193,"VC6000191894",{"$f":"IF(MID(AS202,9,6)<>MID(AL202,1,6),1,0)","v":0},null,null,"VC6000191894","TOWN OF MONTEREY",0,0]
[194,"MONTGOMERY                   ",{"$f":"proj16jul!D203","v":0},{"$f":"dec!N203","v":0},{"$f":"may!N203","v":0},{"$f":"june!N203","v":0},0,0,0,0,0,0,0,0,null,null,null,null,null,{"$f":"proj16jul!F203","v":0},{"$f":"dec!O203","v":0},{"$f":"may!O203","v":0},{"$f":"june!O203","v":0},0,0,0,0,0,0,0,0,null,null,null,null,{"$f":"IF(MID(B203,1,6)<>MID(AL203,1,6),1,0)","v":0},194,"MONTGOMERY",194,"VC6000191895",0,null,null,"VC6000191895","TOWN OF MONTGOMERY",0,0]
[195,"MOUNT WASHINGTON             ",{"$f":"proj16jul!D204","v":0},{"$f":"dec!N204","v":0},{"$f":"may!N204","v":0},{"$f":"june!N204","v":0},0,0,0,0,0,0,0,0,null,null,null,null,null,{"$f":"proj16jul!F204","v":5000},{"$f":"dec!O204","v":5000},{"$f":"may!O204","v":5000},{"$f":"june!O204","v":5000},417,417,417,417,417,417,417,417,null,null,null,null,0,195,"MOUNT WASHINGTON",195,"VC6000191897",0,null,null,"VC6000191897","TOWN OF MOUNT WASHINGTON",0,417]
[196,"NAHANT                       ",{"$f":"proj16jul!D205","v":0},{"$f":"dec!N205","v":0},{"$f":"may!N205","v":0},{"$f":"june!N205","v":0},0,0,0,0,0,0,0,0,null,null,null,null,null,{"$f":"proj16jul!F205","v":0},{"$f":"dec!O205","v":0},{"$f":"may!O205","v":7400},{"$f":"june!O205","v":7400},0,0,0,0,0,0,0,0,null,null,null,null,0,196,"NAHANT",196,"VC6000191898",0,null,null,"VC6000191898","TOWN OF NAHANT",0,0]
[197,"NANTUCKET                    ",{"$f":"proj16jul!D206","v":0},{"$f":"dec!N206","v":0},{"$f":"may!N206","v":0},{"$f":"june!N206","v":0},0,0,0,0,0,0,0,0,null,null,null,null,null,{"$f":"proj16jul!F206","v":0},{"$f":"dec!O206","v":6700},{"$f":"may!O206","v":10883},{"$f":"june!O206","v":7902},0,0,0,0,0,958,957,957,null,null,null,null,0,197,"NANTUCKET",197,"VC6000191899",0,null,null,"VC6000191899","TOWN OF NANTUCKET",0,957]
[198,"NATICK                       ",{"$f":"proj16jul!D207","v":245600},{"$f":"dec!N207","v":261473},{"$f":"may!N207","v":261473},{"$f":"june!N207","v":306642},20466,20467,20467,20466,20467,22734,22734,22734,null,null,null,null,null,{"$f":"proj16jul!F207","v":70718},{"$f":"dec!O207","v":74094},{"$f":"may!O207","v":87515},{"$f":"june!O207","v":77843},5894,5894,5893,5893,5893,6376,6376,6375,null,null,null,null,0,198,"NATICK",198,"VC6000191900",0,null,null,"VC6000191900","TOWN OF NATICK",22734,6375]
[199,"NEEDHAM                      ",{"$f":"proj16jul!D208","v":0},{"$f":"dec!N208","v":0},{"$f":"may!N208","v":0},{"$f":"june!N208","v":0},0,0,0,0,0,0,0,0,null,null,null,null,null,{"$f":"proj16jul!F208","v":30663},{"$f":"dec!O208","v":42500},{"$f":"may!O208","v":38205},{"$f":"june!O208","v":38205},2556,2556,2556,2555,2555,4246,4246,4246,null,null,null,null,0,199,"NEEDHAM",199,"VC6000191901",0,null,null,"VC6000191901","TOWN OF NEEDHAM",0,4246]
[200,"NEW ASHFORD                  ",{"$f":"proj16jul!D209","v":0},{"$f":"dec!N209","v":0},{"$f":"may!N209","v":0},{"$f":"june!N209","v":0},0,0,0,0,0,0,0,0,null,null,null,null,null,{"$f":"proj16jul!F209","v":17406},{"$f":"dec!O209","v":5000},{"$f":"may!O209","v":5000},{"$f":"june!O209","v":5000},1451,1451,1451,1451,1451,-323,-322,-322,null,null,null,null,0,200,"NEW ASHFORD",200,"VC6000191902",0,null,null,"VC6000191902","TOWN OF NEW ASHFORD",0,-322]
[201,"NEW BEDFORD                  ",{"$f":"proj16jul!D210","v":0},{"$f":"dec!N210","v":0},{"$f":"may!N210","v":0},{"$f":"june!N210","v":0},0,0,0,0,0,0,0,0,null,null,null,null,null,{"$f":"proj16jul!F210","v":364593},{"$f":"dec!O210","v":505748},{"$f":"may!O210","v":618448},{"$f":"june!O210","v":558592},30383,30383,30383,30383,30383,50548,50548,50548,null,null,null,null,0,201,"NEW BEDFORD",201,"VC6000192118",0,null,null,"VC6000192118","CITY OF NEW BEDFORD",0,50548]
[202,"NEW BRAINTREE                ",{"$f":"proj16jul!D211","v":0},{"$f":"dec!N211","v":0},{"$f":"may!N211","v":0},{"$f":"june!N211","v":0},0,0,0,0,0,0,0,0,null,null,null,null,null,{"$f":"proj16jul!F211","v":0},{"$f":"dec!O211","v":0},{"$f":"may!O211","v":0},{"$f":"june!O211","v":0},0,0,0,0,0,0,0,0,null,null,null,null,0,202,"NEW BRAINTREE",202,"VC6000191904",0,null,null,"VC6000191904","TOWN OF NEW BRAINTREE",0,0]
[203,"NEWBURY                      ",{"$f":"proj16jul!D212","v":0},{"$f":"dec!N212","v":0},{"$f":"may!N212","v":0},{"$f":"june!N212","v":0},0,0,0,0,0,0,0,0,null,null,null,null,null,{"$f":"proj16jul!F212","v":0},{"$f":"dec!O212","v":0},{"$f":"may!O212","v":0},{"$f":"june!O212","v":0},0,0,0,0,0,0,0,0,null,null,null,null,0,203,"NEWBURY",205,"VC6000191908",0,null,null,"VC6000191908","TOWN OF NEWBURY",0,0]
[204,"NEWBURYPORT                  ",{"$f":"proj16jul!D213","v":727472},{"$f":"dec!N213","v":671478},{"$f":"may!N213","v":641809},{"$f":"june!N213","v":641809},60622,60623,60623,60622,60623,52623,52623,52623,null,null,null,null,null,{"$f":"proj16jul!F213","v":311607},{"$f":"dec!O213","v":288690},{"$f":"may!O213","v":272752},{"$f":"june!O213","v":264608},25968,25968,25968,25967,25967,22694,22693,22693,null,null,null,null,0,204,"NEWBURYPORT",206,"VC6000192119",0,null,null,"VC6000192119","CITY OF NEWBURYPORT",52623,22693]
[205,"NEW MARLBOROUGH              ",{"$f":"proj16jul!D214","v":0},{"$f":"dec!N214","v":0},{"$f":"may!N214","v":0},{"$f":"june!N214","v":0},0,0,0,0,0,0,0,0,null,null,null,null,null,{"$f":"proj16jul!F214","v":0},{"$f":"dec!O214","v":0},{"$f":"may!O214","v":0},{"$f":"june!O214","v":0},0,0,0,0,0,0,0,0,null,null,null,null,0,205,"NEW MARLBOROUGH",203,"VC6000191905",0,null,null,"VC6000191905","TOWN OF NEW MARLBOROUGH",0,0]
[206,"NEW SALEM                    ",{"$f":"proj16jul!D215","v":0},{"$f":"dec!N215","v":0},{"$f":"may!N215","v":0},{"$f":"june!N215","v":0},0,0,0,0,0,0,0,0,null,null,null,null,null,{"$f":"proj16jul!F215","v":0},{"$f":"dec!O215","v":0},{"$f":"may!O215","v":0},{"$f":"june!O215","v":0},0,0,0,0,0,0,0,0,null,null,null,null,0,206,"NEW SALEM",204,"VC6000191907",0,null,null,"VC6000191907","TOWN OF NEW SALEM",0,0]
[207,"NEWTON                       ",{"$f":"proj16jul!D216","v":0},{"$f":"dec!N216","v":0},{"$f":"may!N216","v":0},{"$f":"june!N216","v":0},0,0,0,0,0,0,0,0,null,null,null,null,null,{"$f":"proj16jul!F216","v":37326},{"$f":"dec!O216","v":50900},{"$f":"may!O216","v":35846},{"$f":"june!O216","v":30811},3111,3111,3111,3111,3111,5050,5050,5049,null,null,null,null,0,207,"NEWTON",207,"VC6000192120",0,null,null,"VC6000192120","CITY OF NEWTON",0,5049]
[208,"NORFOLK                      ",{"$f":"proj16jul!D217","v":0},{"$f":"dec!N217","v":0},{"$f":"may!N217","v":0},{"$f":"june!N217","v":0},0,0,0,0,0,0,0,0,null,null,null,null,null,{"$f":"proj16jul!F217","v":34589},{"$f":"dec!O217","v":11700},{"$f":"may!O217","v":16700},{"$f":"june!O217","v":16700},2883,2883,2883,2883,2883,-388,-388,-388,null,null,null,null,0,208,"NORFOLK",208,"VC6000191909",0,null,null,"VC6000191909","TOWN OF NORFOLK",0,-388]
[209,"NORTH ADAMS                  ",{"$f":"proj16jul!D218","v":290526},{"$f":"dec!N218","v":283731},{"$f":"may!N218","v":323759},{"$f":"june!N218","v":323759},24210,24211,24210,24211,24210,23239,23240,23240,null,null,null,null,null,{"$f":"proj16jul!F218","v":714238},{"$f":"dec!O218","v":668937},{"$f":"may!O218","v":662143},{"$f":"june!O218","v":652643},59520,59520,59520,59520,59520,53049,53048,53048,null,null,null,null,0,209,"NORTH ADAMS",209,"VC6000192121",0,null,null,"VC6000192121","CITY OF NORTH ADAMS",23240,53048]
[210,"NORTHAMPTON                  ",{"$f":"proj16jul!D219","v":1827864},{"$f":"dec!N219","v":1716289},{"$f":"may!N219","v":1829052},{"$f":"june!N219","v":1829052},152322,152322,152322,152322,152322,136382,136382,136383,null,null,null,null,null,{"$f":"proj16jul!F219","v":515576},{"$f":"dec!O219","v":572388},{"$f":"may!O219","v":637820},{"$f":"june!O219","v":637347},42965,42965,42965,42965,42965,51081,51081,51081,null,null,null,null,0,210,"NORTHAMPTON",214,"VC6000192123",0,null,null,"VC6000192123","CITY OF NORTHAMPTON",136383,51081]
[211,"NORTH ANDOVER                ",{"$f":"proj16jul!D220","v":0},{"$f":"dec!N220","v":0},{"$f":"may!N220","v":0},{"$f":"june!N220","v":0},0,0,0,0,0,0,0,0,null,null,null,null,null,{"$f":"proj16jul!F220","v":0},{"$f":"dec!O220","v":0},{"$f":"may!O220","v":0},{"$f":"june!O220","v":0},0,0,0,0,0,0,0,0,null,null,null,null,0,211,"NORTH ANDOVER",210,"VC6000191910",0,null,null,"VC6000191910","TOWN OF NORTH ANDOVER",0,0]
[212,"NORTH ATTLEBOROUGH           ",{"$f":"proj16jul!D221","v":0},{"$f":"dec!N221","v":0},{"$f":"may!N221","v":0},{"$f":"june!N221","v":0},0,0,0,0,0,0,0,0,null,null,null,null,null,{"$f":"proj16jul!F221","v":51427},{"$f":"dec!O221","v":70300},{"$f":"may!O221","v":86639},{"$f":"june!O221","v":86639},4286,4286,4286,4286,4286,6982,6982,6982,null,null,null,null,0,212,"NORTH ATTLEBOROUGH",211,"VC6000191912",0,null,null,"VC6000191912","TOWN OF NORTH ATTLEBOROUGH",0,6982]
[213,"NORTHBOROUGH                 ",{"$f":"proj16jul!D222","v":0},{"$f":"dec!N222","v":0},{"$f":"may!N222","v":0},{"$f":"june!N222","v":0},0,0,0,0,0,0,0,0,null,null,null,null,null,{"$f":"proj16jul!F222","v":28953},{"$f":"dec!O222","v":22400},{"$f":"may!O222","v":22400},{"$f":"june!O222","v":13268},2413,2413,2413,2413,2413,1477,1477,1477,null,null,null,null,0,213,"NORTHBOROUGH",215,"VC6000191917",0,null,null,"VC6000191917","TOWN OF NORTHBOROUGH",0,1477]
[214,"NORTHBRIDGE                  ",{"$f":"proj16jul!D223","v":597709},{"$f":"dec!N223","v":575388},{"$f":"may!N223","v":566303},{"$f":"june!N223","v":568378},49809,49809,49809,49809,49809,46620,46620,46620,null,null,null,null,null,{"$f":"proj16jul!F223","v":702739},{"$f":"dec!O223","v":740327},{"$f":"may!O223","v":847420},{"$f":"june!O223","v":880978},58562,58562,58562,58562,58562,63931,63931,63931,null,null,null,null,0,214,"NORTHBRIDGE",216,"VC6000191918",0,null,null,"VC6000191918","TOWN OF NORTHBRIDGE",46620,63931]
[215,"NORTH BROOKFIELD             ",{"$f":"proj16jul!D224","v":367210},{"$f":"dec!N224","v":373679},{"$f":"may!N224","v":334523},{"$f":"june!N224","v":347580},30600,30601,30601,30601,30601,31525,31525,31525,null,null,null,null,null,{"$f":"proj16jul!F224","v":712941},{"$f":"dec!O224","v":623298},{"$f":"may!O224","v":661765},{"$f":"june!O224","v":655615},59412,59412,59412,59412,59412,46606,46606,46606,null,null,null,null,0,215,"NORTH BROOKFIELD",212,"VC6000191913",0,null,null,"VC6000191913","TOWN OF NORTH BROOKFIELD",31525,46606]
[216,"NORTHFIELD                   ",{"$f":"proj16jul!D225","v":0},{"$f":"dec!N225","v":0},{"$f":"may!N225","v":0},{"$f":"june!N225","v":0},0,0,0,0,0,0,0,0,null,null,null,null,null,{"$f":"proj16jul!F225","v":0},{"$f":"dec!O225","v":0},{"$f":"may!O225","v":0},{"$f":"june!O225","v":0},0,0,0,0,0,0,0,0,null,null,null,null,0,216,"NORTHFIELD",217,"VC6000191921",0,null,null,"VC6000191921","TOWN OF NORTHFIELD",0,0]
[217,"NORTH READING                ",{"$f":"proj16jul!D226","v":0},{"$f":"dec!N226","v":0},{"$f":"may!N226","v":0},{"$f":"june!N226","v":0},0,0,0,0,0,0,0,0,null,null,null,null,null,{"$f":"proj16jul!F226","v":19765},{"$f":"dec!O226","v":30100},{"$f":"may!O226","v":35078},{"$f":"june!O226","v":34946},1648,1647,1647,1647,1647,3124,3124,3124,null,null,null,null,0,217,"NORTH READING",213,"VC6000191915",0,null,null,"VC6000191915","TOWN OF NORTH READING",0,3124]
[218,"NORTON                       ",{"$f":"proj16jul!D227","v":64700},{"$f":"dec!N227","v":207200},{"$f":"may!N227","v":207200},{"$f":"june!N227","v":174750},5391,5392,5392,5391,5392,25748,25749,25749,null,null,null,null,null,{"$f":"proj16jul!F227","v":107342},{"$f":"dec!O227","v":116783},{"$f":"may!O227","v":129632},{"$f":"june!O227","v":117442},8946,8946,8945,8945,8945,10294,10294,10294,null,null,null,null,0,218,"NORTON",218,"VC6000191922",0,null,null,"VC6000191922","TOWN OF NORTON",25749,10294]
[219,"NORWELL                      ",{"$f":"proj16jul!D228","v":0},{"$f":"dec!N228","v":0},{"$f":"may!N228","v":0},{"$f":"june!N228","v":0},0,0,0,0,0,0,0,0,null,null,null,null,null,{"$f":"proj16jul!F228","v":9000},{"$f":"dec!O228","v":10700},{"$f":"may!O228","v":6941},{"$f":"june!O228","v":6941},750,750,750,750,750,993,993,993,null,null,null,null,0,219,"NORWELL",219,"VC6000191923",0,null,null,"VC6000191923","TOWN OF NORWELL",0,993]
[220,"NORWOOD                      ",{"$f":"proj16jul!D229","v":0},{"$f":"dec!N229","v":0},{"$f":"may!N229","v":0},{"$f":"june!N229","v":0},0,0,0,0,0,0,0,0,null,null,null,null,null,{"$f":"proj16jul!F229","v":22981},{"$f":"dec!O229","v":63910},{"$f":"may!O229","v":62615},{"$f":"june!O229","v":62615},1916,1915,1915,1915,1915,7762,7762,7762,null,null,null,null,0,220,"NORWOOD",220,"VC6000191924",0,null,null,"VC6000191924","TOWN OF NORWOOD",0,7762]
[221,"OAK BLUFFS                   ",{"$f":"proj16jul!D230","v":226153},{"$f":"dec!N230","v":214429},{"$f":"may!N230","v":214429},{"$f":"june!N230","v":177250},18846,18846,18846,18846,18846,17171,17171,17171,null,null,null,null,null,{"$f":"proj16jul!F230","v":189652},{"$f":"dec!O230","v":189683},{"$f":"may!O230","v":218307},{"$f":"june!O230","v":235130},15805,15805,15805,15805,15804,15809,15809,15809,null,null,null,null,0,221,"OAK BLUFFS",221,"VC6000191926",0,null,null,"VC6000191926","TOWN OF OAK BLUFFS",17171,15809]
[222,"OAKHAM                       ",{"$f":"proj16jul!D231","v":0},{"$f":"dec!N231","v":0},{"$f":"may!N231","v":0},{"$f":"june!N231","v":0},0,0,0,0,0,0,0,0,null,null,null,null,null,{"$f":"proj16jul!F231","v":0},{"$f":"dec!O231","v":0},{"$f":"may!O231","v":0},{"$f":"june!O231","v":0},0,0,0,0,0,0,0,0,null,null,null,null,0,222,"OAKHAM",222,"VC6000191927",0,null,null,"VC6000191927","TOWN OF OAKHAM",0,0]
[223,"ORANGE                       ",{"$f":"proj16jul!D232","v":344380},{"$f":"dec!N232","v":373608},{"$f":"may!N232","v":414143},{"$f":"june!N232","v":414143},28698,28698,28699,28698,28698,32873,32874,32874,null,null,null,null,null,{"$f":"proj16jul!F232","v":419776},{"$f":"dec!O232","v":323919},{"$f":"may!O232","v":402478},{"$f":"june!O232","v":391558},34982,34982,34982,34982,34981,21288,21287,21287,null,null,null,null,0,223,"ORANGE",223,"VC6000191929",0,null,null,"VC6000191929","TOWN OF ORANGE",32874,21287]
[224,"ORLEANS                      ",{"$f":"proj16jul!D233","v":5000},{"$f":"dec!N233","v":5000},{"$f":"may!N233","v":5000},{"$f":"june!N233","v":5000},416,417,417,416,417,416,416,417,null,null,null,null,null,{"$f":"proj16jul!F233","v":10000},{"$f":"dec!O233","v":5000},{"$f":"may!O233","v":13321},{"$f":"june!O233","v":13321},834,834,834,834,833,119,119,119,null,null,null,null,0,224,"ORLEANS",224,"VC6000191930",0,null,null,"VC6000191930","TOWN OF ORLEANS",417,119]
[225,"OTIS                         ",{"$f":"proj16jul!D234","v":0},{"$f":"dec!N234","v":0},{"$f":"may!N234","v":0},{"$f":"june!N234","v":0},0,0,0,0,0,0,0,0,null,null,null,null,null,{"$f":"proj16jul!F234","v":0},{"$f":"dec!O234","v":0},{"$f":"may!O234","v":0},{"$f":"june!O234","v":0},0,0,0,0,0,0,0,0,null,null,null,null,1,225,"OTIS",225,"VC6000191931",0,null,null,"VC6000191931","TOWN OF OTIS",0,0]
[226,"OXFORD                       ",{"$f":"proj16jul!D235","v":25129},{"$f":"dec!N235","v":25000},{"$f":"may!N235","v":25000},{"$f":"june!N235","v":29650},2094,2094,2094,2094,2094,2075,2075,2076,null,null,null,null,null,{"$f":"proj16jul!F235","v":381920},{"$f":"dec!O235","v":469422},{"$f":"may!O235","v":471023},{"$f":"june!O235","v":450328},31827,31827,31827,31827,31827,44327,44327,44327,null,null,null,null,0,226,"OXFORD",226,"VC6000191932",0,null,null,"VC6000191932","TOWN OF OXFORD",2076,44327]
[227,"PALMER                       ",{"$f":"proj16jul!D236","v":103206},{"$f":"dec!N236","v":111006},{"$f":"may!N236","v":148882},{"$f":"june!N236","v":148882},8600,8601,8600,8601,8600,9714,9715,9715,null,null,null,null,null,{"$f":"proj16jul!F236","v":415637},{"$f":"dec!O236","v":484241},{"$f":"may!O236","v":525387},{"$f":"june!O236","v":519593},34637,34637,34637,34637,34637,44437,44437,44437,null,null,null,null,0,227,"PALMER",227,"VC6000191933",0,null,null,"VC6000191933","TOWN OF PALMER",9715,44437]
[228,"PAXTON                       ",{"$f":"proj16jul!D237","v":0},{"$f":"dec!N237","v":0},{"$f":"may!N237","v":0},{"$f":"june!N237","v":0},0,0,0,0,0,0,0,0,null,null,null,null,null,{"$f":"proj16jul!F237","v":0},{"$f":"dec!O237","v":0},{"$f":"may!O237","v":0},{"$f":"june!O237","v":0},0,0,0,0,0,0,0,0,null,null,null,null,0,228,"PAXTON",228,"VC6000191935",0,null,null,"VC6000191935","TOWN OF PAXTON",0,0]
[229,"PEABODY                      ",{"$f":"proj16jul!D238","v":365942},{"$f":"dec!N238","v":478459},{"$f":"may!N238","v":486595},{"$f":"june!N238","v":486595},30495,30495,30495,30495,30495,46569,46569,46569,null,null,null,null,null,{"$f":"proj16jul!F238","v":262846},{"$f":"dec!O238","v":263896},{"$f":"may!O238","v":266643},{"$f":"june!O238","v":254014},21904,21904,21904,21904,21904,22054,22054,22054,null,null,null,null,0,229,"PEABODY",229,"VC6000192125",0,null,null,"VC6000192125","CITY OF PEABODY",46569,22054]
[230,"PELHAM                       ",{"$f":"proj16jul!D239","v":358484},{"$f":"dec!N239","v":373116},{"$f":"may!N239","v":373116},{"$f":"june!N239","v":382237},29873,29874,29874,29873,29874,31964,31964,31964,null,null,null,null,null,{"$f":"proj16jul!F239","v":34025},{"$f":"dec!O239","v":5000},{"$f":"may!O239","v":5000},{"$f":"june!O239","v":10000},2836,2836,2836,2836,2836,-1312,-1312,-1312,null,null,null,null,0,230,"PELHAM",230,"VC6000191937",0,null,null,"VC6000191937","TOWN OF PELHAM",31964,-1312]
[231,"PEMBROKE                     ",{"$f":"proj16jul!D240","v":0},{"$f":"dec!N240","v":0},{"$f":"may!N240","v":0},{"$f":"june!N240","v":0},0,0,0,0,0,0,0,0,null,null,null,null,null,{"$f":"proj16jul!F240","v":26717},{"$f":"dec!O240","v":46800},{"$f":"may!O240","v":43629},{"$f":"june!O240","v":43629},2227,2227,2227,2227,2227,5095,5095,5095,null,null,null,null,0,231,"PEMBROKE",231,"VC6000191938",0,null,null,"VC6000191938","TOWN OF PEMBROKE",0,5095]
[232,"PEPPERELL                    ",{"$f":"proj16jul!D241","v":0},{"$f":"dec!N241","v":0},{"$f":"may!N241","v":0},{"$f":"june!N241","v":0},0,0,0,0,0,0,0,0,null,null,null,null,null,{"$f":"proj16jul!F241","v":0},{"$f":"dec!O241","v":0},{"$f":"may!O241","v":0},{"$f":"june!O241","v":0},0,0,0,0,0,0,0,0,null,null,null,null,0,232,"PEPPERELL",232,"VC6000191939",0,null,null,"VC6000191939","TOWN OF PEPPERELL",0,0]
[233,"PERU                         ",{"$f":"proj16jul!D242","v":0},{"$f":"dec!N242","v":0},{"$f":"may!N242","v":0},{"$f":"june!N242","v":0},0,0,0,0,0,0,0,0,null,null,null,null,null,{"$f":"proj16jul!F242","v":0},{"$f":"dec!O242","v":0},{"$f":"may!O242","v":0},{"$f":"june!O242","v":0},0,0,0,0,0,0,0,0,null,null,null,null,1,233,"PERU",233,"VC6000191940",0,null,null,"VC6000191940","TOWN OF PERU",0,0]
[234,"PETERSHAM                    ",{"$f":"proj16jul!D243","v":383945},{"$f":"dec!N243","v":384684},{"$f":"may!N243","v":403775},{"$f":"june!N243","v":403775},31995,31995,31996,31995,31996,32101,32101,32101,null,null,null,null,null,{"$f":"proj16jul!F243","v":50000},{"$f":"dec!O243","v":40000},{"$f":"may!O243","v":40000},{"$f":"june!O243","v":40000},4167,4167,4167,4167,4167,2738,2738,2738,null,null,null,null,0,234,"PETERSHAM",234,"VC6000191941",0,null,null,"VC6000191941","TOWN OF PETERSHAM",32101,2738]
[235,"PHILLIPSTON                  ",{"$f":"proj16jul!D244","v":0},{"$f":"dec!N244","v":0},{"$f":"may!N244","v":0},{"$f":"june!N244","v":0},0,0,0,0,0,0,0,0,null,null,null,null,null,{"$f":"proj16jul!F244","v":0},{"$f":"dec!O244","v":0},{"$f":"may!O244","v":0},{"$f":"june!O244","v":0},0,0,0,0,0,0,0,0,null,null,null,null,0,235,"PHILLIPSTON",235,"VC6000191942",0,null,null,"VC6000191942","TOWN OF PHILLIPSTON",0,0]
[236,"PITTSFIELD                   ",{"$f":"proj16jul!D245","v":534879},{"$f":"dec!N245","v":515935},{"$f":"may!N245","v":564099},{"$f":"june!N245","v":564099},44573,44573,44573,44574,44573,41867,41867,41867,null,null,null,null,null,{"$f":"proj16jul!F245","v":2452955},{"$f":"dec!O245","v":2654601},{"$f":"may!O245","v":2691695},{"$f":"june!O245","v":2719527},204413,204413,204413,204413,204413,233220,233220,233220,null,null,null,null,0,236,"PITTSFIELD",236,"VC6000192129",{"$f":"IF(MID(AS245,1,6)<>MID(AL245,1,6),1,0)","v":1},null,null,"VC6000192129","CITY OF PITTSFIELD",41867,233220]
[237,"PLAINFIELD                   ",{"$f":"proj16jul!D246","v":0},{"$f":"dec!N246","v":0},{"$f":"may!N246","v":0},{"$f":"june!N246","v":0},0,0,0,0,0,0,0,0,null,null,null,null,null,{"$f":"proj16jul!F246","v":0},{"$f":"dec!O246","v":0},{"$f":"may!O246","v":0},{"$f":"june!O246","v":0},0,0,0,0,0,0,0,0,null,null,null,null,0,237,"PLAINFIELD",237,"VC6000191943",{"$f":"IF(MID(AS246,9,6)<>MID(AL246,1,6),1,0)","v":0},null,null,"VC6000191943","TOWN OF PLAINFIELD",0,0]
[238,"PLAINVILLE                   ",{"$f":"proj16jul!D247","v":0},{"$f":"dec!N247","v":0},{"$f":"may!N247","v":0},{"$f":"june!N247","v":0},0,0,0,0,0,0,0,0,null,null,null,null,null,{"$f":"proj16jul!F247","v":0},{"$f":"dec!O247","v":0},{"$f":"may!O247","v":0},{"$f":"june!O247","v":0},0,0,0,0,0,0,0,0,null,null,null,null,0,238,"PLAINVILLE",238,"VC6000191944",0,null,null,"VC6000191944","TOWN OF PLAINVILLE",0,0]
[239,"PLYMOUTH                     ",{"$f":"proj16jul!D248","v":0},{"$f":"dec!N248","v":0},{"$f":"may!N248","v":0},{"$f":"june!N248","v":0},0,0,0,0,0,0,0,0,null,null,null,null,null,{"$f":"proj16jul!F248","v":280378},{"$f":"dec!O248","v":325368},{"$f":"may!O248","v":302985},{"$f":"june!O248","v":289637},23365,23365,23365,23365,23365,29792,29792,29792,null,null,null,null,0,239,"PLYMOUTH",239,"VC6000191945",0,null,null,"VC6000191945","TOWN OF PLYMOUTH",0,29792]
[240,"PLYMPTON                     ",{"$f":"proj16jul!D249","v":20000},{"$f":"dec!N249","v":25000},{"$f":"may!N249","v":30000},{"$f":"june!N249","v":30000},1666,1667,1667,1666,1667,2381,2381,2381,null,null,null,null,null,{"$f":"proj16jul!F249","v":5000},{"$f":"dec!O249","v":5000},{"$f":"may!O249","v":5000},{"$f":"june!O249","v":5000},417,417,417,417,417,417,417,417,null,null,null,null,0,240,"PLYMPTON",240,"VC6000191947",0,null,null,"VC6000191947","TOWN OF PLYMPTON",2381,417]
[241,"PRINCETON                    ",{"$f":"proj16jul!D250","v":0},{"$f":"dec!N250","v":0},{"$f":"may!N250","v":0},{"$f":"june!N250","v":0},0,0,0,0,0,0,0,0,null,null,null,null,null,{"$f":"proj16jul!F250","v":0},{"$f":"dec!O250","v":0},{"$f":"may!O250","v":0},{"$f":"june!O250","v":0},0,0,0,0,0,0,0,0,null,null,null,null,0,241,"PRINCETON",241,"VC6000191948",0,null,null,"VC6000191948","TOWN OF PRINCETON",0,0]
[242,"PROVINCETOWN                 ",{"$f":"proj16jul!D251","v":300338},{"$f":"dec!N251","v":245160},{"$f":"may!N251","v":368932},{"$f":"june!N251","v":368932},25028,25028,25028,25028,25028,17145,17145,17146,null,null,null,null,null,{"$f":"proj16jul!F251","v":124934},{"$f":"dec!O251","v":129934},{"$f":"may!O251","v":112882},{"$f":"june!O251","v":106654},10412,10412,10411,10411,10411,11126,11126,11125,null,null,null,null,0,242,"PROVINCETOWN",242,"VC6000191950",0,null,null,"VC6000191950","TOWN OF PROVINCETOWN",17146,11125]
[243,"QUINCY                       ",{"$f":"proj16jul!D252","v":0},{"$f":"dec!N252","v":0},{"$f":"may!N252","v":0},{"$f":"june!N252","v":0},0,0,0,0,0,0,0,0,null,null,null,null,null,{"$f":"proj16jul!F252","v":71352},{"$f":"dec!O252","v":79440},{"$f":"may!O252","v":79263},{"$f":"june!O252","v":72830},5946,5946,5946,5946,5946,7102,7102,7102,null,null,null,null,0,243,"QUINCY",243,"VC6000192134",0,null,null,"VC6000192134","CITY OF QUINCY",0,7102]
[244,"RANDOLPH                     ",{"$f":"proj16jul!D253","v":47279},{"$f":"dec!N253","v":47950},{"$f":"may!N253","v":38519},{"$f":"june!N253","v":38519},3939,3940,3940,3940,3940,4035,4036,4036,null,null,null,null,null,{"$f":"proj16jul!F253","v":819586},{"$f":"dec!O253","v":889801},{"$f":"may!O253","v":856894},{"$f":"june!O253","v":849730},68299,68299,68299,68299,68299,78330,78330,78330,null,null,null,null,0,244,"RANDOLPH",244,"VC6000191951",0,null,null,"VC6000191951","TOWN OF RANDOLPH",4036,78330]
[245,"RAYNHAM                      ",{"$f":"proj16jul!D254","v":0},{"$f":"dec!N254","v":0},{"$f":"may!N254","v":0},{"$f":"june!N254","v":0},0,0,0,0,0,0,0,0,null,null,null,null,null,{"$f":"proj16jul!F254","v":0},{"$f":"dec!O254","v":0},{"$f":"may!O254","v":0},{"$f":"june!O254","v":0},0,0,0,0,0,0,0,0,null,null,null,null,0,245,"RAYNHAM",245,"VC6000191952",0,null,null,"VC6000191952","TOWN OF RAYNHAM",0,0]
[246,"READING                      ",{"$f":"proj16jul!D255","v":0},{"$f":"dec!N255","v":0},{"$f":"may!N255","v":0},{"$f":"june!N255","v":0},0,0,0,0,0,0,0,0,null,null,null,null,null,{"$f":"proj16jul!F255","v":19369},{"$f":"dec!O255","v":39800},{"$f":"may!O255","v":46681},{"$f":"june!O255","v":48149},1615,1614,1614,1614,1614,4533,4533,4533,null,null,null,null,0,246,"READING",246,"VC6000191953",0,null,null,"VC6000191953","TOWN OF READING",0,4533]
[247,"REHOBOTH                     ",{"$f":"proj16jul!D256","v":0},{"$f":"dec!N256","v":0},{"$f":"may!N256","v":0},{"$f":"june!N256","v":0},0,0,0,0,0,0,0,0,null,null,null,null,null,{"$f":"proj16jul!F256","v":0},{"$f":"dec!O256","v":0},{"$f":"may!O256","v":0},{"$f":"june!O256","v":0},0,0,0,0,0,0,0,0,null,null,null,null,0,247,"REHOBOTH",247,"VC6000191955",0,null,null,"VC6000191955","TOWN OF REHOBOTH",0,0]
[248,"REVERE                       ",{"$f":"proj16jul!D257","v":0},{"$f":"dec!N257","v":0},{"$f":"may!N257","v":0},{"$f":"june!N257","v":0},0,0,0,0,0,0,0,0,null,null,null,null,null,{"$f":"proj16jul!F257","v":71448},{"$f":"dec!O257","v":70824},{"$f":"may!O257","v":82363},{"$f":"june!O257","v":79713},5954,5954,5954,5954,5954,5865,5865,5865,null,null,null,null,0,248,"REVERE",248,"VC6000192136",{"$f":"IF(MID(AS257,1,6)<>MID(AL257,1,6),1,0)","v":1},null,null,"VC6000192136","CITY OF REVERE",0,5865]
[249,"RICHMOND                     ",{"$f":"proj16jul!D258","v":380000},{"$f":"dec!N258","v":418500},{"$f":"may!N258","v":418500},{"$f":"june!N258","v":404770},31666,31667,31667,31666,31667,37166,37166,37167,null,null,null,null,null,{"$f":"proj16jul!F258","v":86852},{"$f":"dec!O258","v":83198},{"$f":"may!O258","v":86898},{"$f":"june!O258","v":84515},7238,7238,7238,7238,7238,6716,6716,6716,null,null,null,null,0,249,"RICHMOND",249,"VC6000191957",{"$f":"IF(MID(AS258,9,6)<>MID(AL258,1,6),1,0)","v":0},null,null,"VC6000191957","TOWN OF RICHMOND",37167,6716]
[250,"ROCHESTER                    ",{"$f":"proj16jul!D259","v":0},{"$f":"dec!N259","v":0},{"$f":"may!N259","v":0},{"$f":"june!N259","v":0},0,0,0,0,0,0,0,0,null,null,null,null,null,{"$f":"proj16jul!F259","v":10000},{"$f":"dec!O259","v":0},{"$f":"may!O259","v":5000},{"$f":"june!O259","v":5000},834,834,834,834,833,-596,-596,-596,null,null,null,null,0,250,"ROCHESTER",250,"VC6000191958",0,null,null,"VC6000191958","TOWN OF ROCHESTER",0,-596]
[251,"ROCKLAND                     ",{"$f":"proj16jul!D260","v":185181},{"$f":"dec!N260","v":181877},{"$f":"may!N260","v":192819},{"$f":"june!N260","v":192819},15431,15432,15432,15432,15431,14959,14960,14960,null,null,null,null,null,{"$f":"proj16jul!F260","v":67851},{"$f":"dec!O260","v":96000},{"$f":"may!O260","v":96018},{"$f":"june!O260","v":87803},5655,5655,5655,5654,5654,9676,9676,9675,null,null,null,null,0,251,"ROCKLAND",251,"VC6000191959",0,null,null,"VC6000191959","TOWN OF ROCKLAND",14960,9675]
[252,"ROCKPORT                     ",{"$f":"proj16jul!D261","v":1245557},{"$f":"dec!N261","v":1312827},{"$f":"may!N261","v":1386244},{"$f":"june!N261","v":1386244},103796,103796,103797,103796,103797,113406,113406,113406,null,null,null,null,null,{"$f":"proj16jul!F261","v":152910},{"$f":"dec!O261","v":134446},{"$f":"may!O261","v":143510},{"$f":"june!O261","v":138510},12743,12743,12743,12743,12743,10105,10105,10105,null,null,null,null,0,252,"ROCKPORT",252,"VC6000191960",0,null,null,"VC6000191960","TOWN OF ROCKPORT",113406,10105]
[253,"ROWE                         ",{"$f":"proj16jul!D262","v":93768},{"$f":"dec!N262","v":110368},{"$f":"may!N262","v":97354},{"$f":"june!N262","v":97354},7814,7814,7814,7814,7814,10185,10185,10185,null,null,null,null,null,{"$f":"proj16jul!F262","v":16970},{"$f":"dec!O262","v":21970},{"$f":"may!O262","v":21957},{"$f":"june!O262","v":21957},1415,1415,1414,1414,1414,2129,2129,2128,null,null,null,null,1,253,"ROWE",253,"VC6000191961",0,null,null,"VC6000191961","TOWN OF ROWE",10185,2128]
[254,"ROWLEY                       ",{"$f":"proj16jul!D263","v":0},{"$f":"dec!N263","v":0},{"$f":"may!N263","v":0},{"$f":"june!N263","v":0},0,0,0,0,0,0,0,0,null,null,null,null,null,{"$f":"proj16jul!F263","v":0},{"$f":"dec!O263","v":0},{"$f":"may!O263","v":0},{"$f":"june!O263","v":0},0,0,0,0,0,0,0,0,null,null,null,null,0,254,"ROWLEY",254,"VC6000191962",0,null,null,"VC6000191962","TOWN OF ROWLEY",0,0]
[255,"ROYALSTON                    ",{"$f":"proj16jul!D264","v":0},{"$f":"dec!N264","v":0},{"$f":"may!N264","v":0},{"$f":"june!N264","v":0},0,0,0,0,0,0,0,0,null,null,null,null,null,{"$f":"proj16jul!F264","v":0},{"$f":"dec!O264","v":0},{"$f":"may!O264","v":0},{"$f":"june!O264","v":0},0,0,0,0,0,0,0,0,null,null,null,null,0,255,"ROYALSTON",255,"VC6000191963",0,null,null,"VC6000191963","TOWN OF ROYALSTON",0,0]
[256,"RUSSELL                      ",{"$f":"proj16jul!D265","v":0},{"$f":"dec!N265","v":0},{"$f":"may!N265","v":0},{"$f":"june!N265","v":0},0,0,0,0,0,0,0,0,null,null,null,null,null,{"$f":"proj16jul!F265","v":0},{"$f":"dec!O265","v":0},{"$f":"may!O265","v":0},{"$f":"june!O265","v":0},0,0,0,0,0,0,0,0,null,null,null,null,0,256,"RUSSELL",256,"VC6000191964",0,null,null,"VC6000191964","TOWN OF RUSSELL",0,0]
[257,"RUTLAND                      ",{"$f":"proj16jul!D266","v":0},{"$f":"dec!N266","v":0},{"$f":"may!N266","v":0},{"$f":"june!N266","v":0},0,0,0,0,0,0,0,0,null,null,null,null,null,{"$f":"proj16jul!F266","v":0},{"$f":"dec!O266","v":0},{"$f":"may!O266","v":0},{"$f":"june!O266","v":0},0,0,0,0,0,0,0,0,null,null,null,null,0,257,"RUTLAND",257,"VC6000191965",0,null,null,"VC6000191965","TOWN OF RUTLAND",0,0]
[258,"SALEM                        ",{"$f":"proj16jul!D267","v":0},{"$f":"dec!N267","v":0},{"$f":"may!N267","v":0},{"$f":"june!N267","v":0},0,0,0,0,0,0,0,0,null,null,null,null,null,{"$f":"proj16jul!F267","v":400142},{"$f":"dec!O267","v":445533},{"$f":"may!O267","v":448282},{"$f":"june!O267","v":419538},33346,33346,33345,33345,33345,39830,39830,39830,null,null,null,null,{"$f":"IF(MID(B267,1,6)<>MID(AL267,1,6),1,0)","v":1},258,"SALEM",258,"VC6000192137",{"$f":"IF(MID(AS267,1,6)<>MID(AL267,1,6),1,0)","v":1},null,null,"VC6000192137","CITY OF SALEM",0,39830]
[259,"SALISBURY                    ",{"$f":"proj16jul!D268","v":0},{"$f":"dec!N268","v":0},{"$f":"may!N268","v":0},{"$f":"june!N268","v":0},0,0,0,0,0,0,0,0,null,null,null,null,null,{"$f":"proj16jul!F268","v":0},{"$f":"dec!O268","v":0},{"$f":"may!O268","v":0},{"$f":"june!O268","v":0},0,0,0,0,0,0,0,0,null,null,null,null,0,259,"SALISBURY",259,"VC6000191966",{"$f":"IF(MID(AS268,9,6)<>MID(AL268,1,6),1,0)","v":0},null,null,"VC6000191966","TOWN OF SALISBURY",0,0]
[260,"SANDISFIELD                  ",{"$f":"proj16jul!D269","v":0},{"$f":"dec!N269","v":0},{"$f":"may!N269","v":0},{"$f":"june!N269","v":0},0,0,0,0,0,0,0,0,null,null,null,null,null,{"$f":"proj16jul!F269","v":0},{"$f":"dec!O269","v":0},{"$f":"may!O269","v":0},{"$f":"june!O269","v":0},0,0,0,0,0,0,0,0,null,null,null,null,0,260,"SANDISFIELD",260,"VC6000191967",0,null,null,"VC6000191967","TOWN OF SANDISFIELD",0,0]
[261,"SANDWICH                     ",{"$f":"proj16jul!D270","v":458438},{"$f":"dec!N270","v":456274},{"$f":"may!N270","v":412038},{"$f":"june!N270","v":412038},38203,38203,38203,38203,38203,37894,37894,37894,null,null,null,null,null,{"$f":"proj16jul!F270","v":344631},{"$f":"dec!O270","v":333800},{"$f":"may!O270","v":372631},{"$f":"june!O270","v":372631},28720,28720,28720,28719,28719,27172,27172,27172,null,null,null,null,0,261,"SANDWICH",261,"VC6000191968",0,null,null,"VC6000191968","TOWN OF SANDWICH",37894,27172]
[262,"SAUGUS                       ",{"$f":"proj16jul!D271","v":0},{"$f":"dec!N271","v":0},{"$f":"may!N271","v":0},{"$f":"june!N271","v":0},0,0,0,0,0,0,0,0,null,null,null,null,null,{"$f":"proj16jul!F271","v":62495},{"$f":"dec!O271","v":85500},{"$f":"may!O271","v":97576},{"$f":"june!O271","v":97444},5208,5208,5208,5208,5208,8495,8495,8494,null,null,null,null,0,262,"SAUGUS",262,"VC6000191969",0,null,null,"VC6000191969","TOWN OF SAUGUS",0,8494]
[263,"SAVOY                        ",{"$f":"proj16jul!D272","v":74998},{"$f":"dec!N272","v":47846},{"$f":"may!N272","v":57305},{"$f":"june!N272","v":57305},6249,6250,6250,6250,6250,2371,2371,2371,null,null,null,null,null,{"$f":"proj16jul!F272","v":166742},{"$f":"dec!O272","v":114631},{"$f":"may!O272","v":125881},{"$f":"june!O272","v":130881},13896,13896,13895,13895,13895,6451,6451,6451,null,null,null,null,1,263,"SAVOY",263,"VC6000191970",0,null,null,"VC6000191970","TOWN OF SAVOY",2371,6451]
[264,"SCITUATE                     ",{"$f":"proj16jul!D273","v":0},{"$f":"dec!N273","v":0},{"$f":"may!N273","v":0},{"$f":"june!N273","v":0},0,0,0,0,0,0,0,0,null,null,null,null,null,{"$f":"proj16jul!F273","v":7906},{"$f":"dec!O273","v":0},{"$f":"may!O273","v":9081},{"$f":"june!O273","v":9081},659,659,659,659,659,-471,-471,-471,null,null,null,null,0,264,"SCITUATE",264,"VC6000191971",0,null,null,"VC6000191971","TOWN OF SCITUATE",0,-471]
[265,"SEEKONK                      ",{"$f":"proj16jul!D274","v":0},{"$f":"dec!N274","v":0},{"$f":"may!N274","v":0},{"$f":"june!N274","v":0},0,0,0,0,0,0,0,0,null,null,null,null,null,{"$f":"proj16jul!F274","v":26934},{"$f":"dec!O274","v":32100},{"$f":"may!O274","v":36631},{"$f":"june!O274","v":36631},2245,2245,2245,2245,2245,2983,2982,2982,null,null,null,null,0,265,"SEEKONK",265,"VC6000191972",0,null,null,"VC6000191972","TOWN OF SEEKONK",0,2982]
[266,"SHARON                       ",{"$f":"proj16jul!D275","v":0},{"$f":"dec!N275","v":0},{"$f":"may!N275","v":0},{"$f":"june!N275","v":0},0,0,0,0,0,0,0,0,null,null,null,null,null,{"$f":"proj16jul!F275","v":3953},{"$f":"dec!O275","v":20700},{"$f":"may!O275","v":17856},{"$f":"june!O275","v":17856},330,330,330,330,330,2722,2722,2722,null,null,null,null,0,266,"SHARON",266,"VC6000191973",0,null,null,"VC6000191973","TOWN OF SHARON",0,2722]
[267,"SHEFFIELD                    ",{"$f":"proj16jul!D276","v":0},{"$f":"dec!N276","v":0},{"$f":"may!N276","v":0},{"$f":"june!N276","v":0},0,0,0,0,0,0,0,0,null,null,null,null,null,{"$f":"proj16jul!F276","v":0},{"$f":"dec!O276","v":0},{"$f":"may!O276","v":0},{"$f":"june!O276","v":0},0,0,0,0,0,0,0,0,null,null,null,null,0,267,"SHEFFIELD",267,"VC6000191974",0,null,null,"VC6000191974","TOWN OF SHEFFIELD",0,0]
[268,"SHELBURNE                    ",{"$f":"proj16jul!D277","v":0},{"$f":"dec!N277","v":0},{"$f":"may!N277","v":0},{"$f":"june!N277","v":0},0,0,0,0,0,0,0,0,null,null,null,null,null,{"$f":"proj16jul!F277","v":0},{"$f":"dec!O277","v":0},{"$f":"may!O277","v":0},{"$f":"june!O277","v":0},0,0,0,0,0,0,0,0,null,null,null,null,0,268,"SHELBURNE",268,"VC6000191975",0,null,null,"VC6000191975","TOWN OF SHELBURNE",0,0]
[269,"SHERBORN                     ",{"$f":"proj16jul!D278","v":0},{"$f":"dec!N278","v":0},{"$f":"may!N278","v":0},{"$f":"june!N278","v":0},0,0,0,0,0,0,0,0,null,null,null,null,null,{"$f":"proj16jul!F278","v":0},{"$f":"dec!O278","v":0},{"$f":"may!O278","v":0},{"$f":"june!O278","v":0},0,0,0,0,0,0,0,0,null,null,null,null,0,269,"SHERBORN",269,"VC6000191976",0,null,null,"VC6000191976","TOWN OF SHERBORN",0,0]
[270,"SHIRLEY                      ",{"$f":"proj16jul!D279","v":0},{"$f":"dec!N279","v":0},{"$f":"may!N279","v":0},{"$f":"june!N279","v":0},0,0,0,0,0,0,0,0,null,null,null,null,null,{"$f":"proj16jul!F279","v":0},{"$f":"dec!O279","v":0},{"$f":"may!O279","v":0},{"$f":"june!O279","v":0},0,0,0,0,0,0,0,0,null,null,null,null,0,270,"SHIRLEY",270,"VC6000191977",0,null,null,"VC6000191977","TOWN OF SHIRLEY",0,0]
[271,"SHREWSBURY                   ",{"$f":"proj16jul!D280","v":4989},{"$f":"dec!N280","v":0},{"$f":"may!N280","v":0},{"$f":"june!N280","v":0},415,416,416,416,415,0,-297,-297,null,null,null,null,null,{"$f":"proj16jul!F280","v":211728},{"$f":"dec!O280","v":184243},{"$f":"may!O280","v":173357},{"$f":"june!O280","v":162855},17644,17644,17644,17644,17644,14014,13718,13718,null,null,null,null,0,271,"SHREWSBURY",271,"VC6000191980",0,null,null,"VC6000191980","TOWN OF SHREWSBURY",-297,13718]
[272,"SHUTESBURY                   ",{"$f":"proj16jul!D281","v":0},{"$f":"dec!N281","v":0},{"$f":"may!N281","v":0},{"$f":"june!N281","v":0},0,0,0,0,0,0,0,0,null,null,null,null,null,{"$f":"proj16jul!F281","v":40000},{"$f":"dec!O281","v":59000},{"$f":"may!O281","v":59086},{"$f":"june!O281","v":61092},3334,3334,3334,3334,3333,6048,6048,6047,null,null,null,null,0,272,"SHUTESBURY",272,"VC6000191981",0,null,null,"VC6000191981","TOWN OF SHUTESBURY",0,6047]
[273,"SOMERSET                     ",{"$f":"proj16jul!D282","v":0},{"$f":"dec!N282","v":0},{"$f":"may!N282","v":0},{"$f":"june!N282","v":0},0,0,0,0,0,0,0,0,null,null,null,null,null,{"$f":"proj16jul!F282","v":29567},{"$f":"dec!O282","v":100700},{"$f":"may!O282","v":99226},{"$f":"june!O282","v":73176},2464,2464,2464,2464,2464,12626,12626,12626,null,null,null,null,0,273,"SOMERSET",273,"VC6000191982",0,null,null,"VC6000191982","TOWN OF SOMERSET",0,12626]
[274,"SOMERVILLE                   ",{"$f":"proj16jul!D283","v":0},{"$f":"dec!N283","v":0},{"$f":"may!N283","v":0},{"$f":"june!N283","v":0},0,0,0,0,0,0,0,0,null,null,null,null,null,{"$f":"proj16jul!F283","v":9514},{"$f":"dec!O283","v":13400},{"$f":"may!O283","v":28400},{"$f":"june!O283","v":28400},793,793,793,793,793,1348,1348,1348,null,null,null,null,0,274,"SOMERVILLE",274,"VC6000192138",{"$f":"IF(MID(AS283,1,6)<>MID(AL283,1,6),1,0)","v":1},null,null,"VC6000192138","CITY OF SOMERVILLE",0,1348]
[275,"SOUTHAMPTON                  ",{"$f":"proj16jul!D284","v":394230},{"$f":"dec!N284","v":416610},{"$f":"may!N284","v":435026},{"$f":"june!N284","v":435026},32852,32853,32852,32853,32852,36049,36049,36050,null,null,null,null,null,{"$f":"proj16jul!F284","v":113346},{"$f":"dec!O284","v":78109},{"$f":"may!O284","v":75203},{"$f":"june!O284","v":75203},9446,9446,9446,9446,9446,4412,4412,4411,null,null,null,null,0,275,"SOUTHAMPTON",276,"VC6000191985",{"$f":"IF(MID(AS284,9,6)<>MID(AL284,1,6),1,0)","v":0},null,null,"VC6000191985","TOWN OF SOUTHAMPTON",36050,4411]
[276,"SOUTHBOROUGH                 ",{"$f":"proj16jul!D285","v":0},{"$f":"dec!N285","v":0},{"$f":"may!N285","v":0},{"$f":"june!N285","v":0},0,0,0,0,0,0,0,0,null,null,null,null,null,{"$f":"proj16jul!F285","v":16812},{"$f":"dec!O285","v":37500},{"$f":"may!O285","v":29818},{"$f":"june!O285","v":29818},1401,1401,1401,1401,1401,4357,4357,4357,null,null,null,null,0,276,"SOUTHBOROUGH",277,"VC6000191986",0,null,null,"VC6000191986","TOWN OF SOUTHBOROUGH",0,4357]
[277,"SOUTHBRIDGE                  ",{"$f":"proj16jul!D286","v":71119},{"$f":"dec!N286","v":48902},{"$f":"may!N286","v":48902},{"$f":"june!N286","v":36550},5926,5927,5926,5927,5926,2752,2753,2753,null,null,null,null,null,{"$f":"proj16jul!F286","v":1301647},{"$f":"dec!O286","v":1492451},{"$f":"may!O286","v":1476269},{"$f":"june!O286","v":1489502},108471,108471,108471,108471,108471,135728,135728,135728,null,null,null,null,0,277,"SOUTHBRIDGE",278,"VC6000191987",0,null,null,"VC6000191987","TOWN OF SOUTHBRIDGE",2753,135728]
[278,"SOUTH HADLEY                 ",{"$f":"proj16jul!D287","v":960997},{"$f":"dec!N287","v":868955},{"$f":"may!N287","v":903146},{"$f":"june!N287","v":902727},80083,80083,80083,80083,80083,66934,66934,66934,null,null,null,null,null,{"$f":"proj16jul!F287","v":738717},{"$f":"dec!O287","v":741097},{"$f":"may!O287","v":753267},{"$f":"june!O287","v":742567},61560,61560,61560,61560,61560,61900,61900,61900,null,null,null,null,0,278,"SOUTH HADLEY",275,"VC6000191983",0,null,null,"VC6000191983","TOWN OF SOUTH HADLEY",66934,61900]
[279,"SOUTHWICK                    ",{"$f":"proj16jul!D288","v":0},{"$f":"dec!N288","v":0},{"$f":"may!N288","v":0},{"$f":"june!N288","v":0},0,0,0,0,0,0,0,0,null,null,null,null,null,{"$f":"proj16jul!F288","v":0},{"$f":"dec!O288","v":0},{"$f":"may!O288","v":0},{"$f":"june!O288","v":0},0,0,0,0,0,0,0,0,null,null,null,null,0,279,"SOUTHWICK",279,"VC6000191988",0,null,null,"VC6000191988","TOWN OF SOUTHWICK",0,0]
[280,"SPENCER                      ",{"$f":"proj16jul!D289","v":0},{"$f":"dec!N289","v":0},{"$f":"may!N289","v":0},{"$f":"june!N289","v":0},0,0,0,0,0,0,0,0,null,null,null,null,null,{"$f":"proj16jul!F289","v":0},{"$f":"dec!O289","v":0},{"$f":"may!O289","v":0},{"$f":"june!O289","v":0},0,0,0,0,0,0,0,0,null,null,null,null,0,280,"SPENCER",280,"VC6000191989",0,null,null,"VC6000191989","TOWN OF SPENCER",0,0]
[281,"SPRINGFIELD                  ",{"$f":"proj16jul!D290","v":45904},{"$f":"dec!N290","v":30000},{"$f":"may!N290","v":80452},{"$f":"june!N290","v":78352},3825,3825,3826,3825,3825,1553,1553,1553,null,null,null,null,null,{"$f":"proj16jul!F290","v":4294860},{"$f":"dec!O290","v":4482138},{"$f":"may!O290","v":4523859},{"$f":"june!O290","v":4480145},357905,357905,357905,357905,357905,384659,384659,384659,null,null,null,null,0,281,"SPRINGFIELD",281,"VC6000192140",{"$f":"IF(MID(AS290,1,6)<>MID(AL290,1,6),1,0)","v":1},null,null,"VC6000192140","CITY OF SPRINGFIELD",1553,384659]
[282,"STERLING                     ",{"$f":"proj16jul!D291","v":0},{"$f":"dec!N291","v":0},{"$f":"may!N291","v":0},{"$f":"june!N291","v":0},0,0,0,0,0,0,0,0,null,null,null,null,null,{"$f":"proj16jul!F291","v":0},{"$f":"dec!O291","v":0},{"$f":"may!O291","v":0},{"$f":"june!O291","v":0},0,0,0,0,0,0,0,0,null,null,null,null,0,282,"STERLING",282,"VC6000191990",{"$f":"IF(MID(AS291,9,6)<>MID(AL291,1,6),1,0)","v":0},null,null,"VC6000191990","TOWN OF STERLING",0,0]
[283,"STOCKBRIDGE                  ",{"$f":"proj16jul!D292","v":0},{"$f":"dec!N292","v":0},{"$f":"may!N292","v":0},{"$f":"june!N292","v":0},0,0,0,0,0,0,0,0,null,null,null,null,null,{"$f":"proj16jul!F292","v":0},{"$f":"dec!O292","v":0},{"$f":"may!O292","v":0},{"$f":"june!O292","v":0},0,0,0,0,0,0,0,0,null,null,null,null,0,283,"STOCKBRIDGE",283,"VC6000191991",0,null,null,"VC6000191991","TOWN OF STOCKBRIDGE",0,0]
[284,"STONEHAM                     ",{"$f":"proj16jul!D293","v":0},{"$f":"dec!N293","v":0},{"$f":"may!N293","v":0},{"$f":"june!N293","v":0},0,0,0,0,0,0,0,0,null,null,null,null,null,{"$f":"proj16jul!F293","v":21674},{"$f":"dec!O293","v":38274},{"$f":"may!O293","v":58825},{"$f":"june!O293","v":51836},1807,1807,1806,1806,1806,4178,4178,4178,null,null,null,null,0,284,"STONEHAM",284,"VC6000191992",0,null,null,"VC6000191992","TOWN OF STONEHAM",0,4178]
[285,"STOUGHTON                    ",{"$f":"proj16jul!D294","v":0},{"$f":"dec!N294","v":0},{"$f":"may!N294","v":0},{"$f":"june!N294","v":0},0,0,0,0,0,0,0,0,null,null,null,null,null,{"$f":"proj16jul!F294","v":76138},{"$f":"dec!O294","v":119452},{"$f":"may!O294","v":140256},{"$f":"june!O294","v":143635},6345,6345,6345,6345,6345,12533,12533,12533,null,null,null,null,0,285,"STOUGHTON",285,"VC6000191993",0,null,null,"VC6000191993","TOWN OF STOUGHTON",0,12533]
[286,"STOW                         ",{"$f":"proj16jul!D295","v":0},{"$f":"dec!N295","v":0},{"$f":"may!N295","v":0},{"$f":"june!N295","v":0},0,0,0,0,0,0,0,0,null,null,null,null,null,{"$f":"proj16jul!F295","v":0},{"$f":"dec!O295","v":0},{"$f":"may!O295","v":0},{"$f":"june!O295","v":0},0,0,0,0,0,0,0,0,null,null,null,null,1,286,"STOW",286,"VC6000191994",0,null,null,"VC6000191994","TOWN OF STOW",0,0]
[287,"STURBRIDGE                   ",{"$f":"proj16jul!D296","v":0},{"$f":"dec!N296","v":0},{"$f":"may!N296","v":0},{"$f":"june!N296","v":0},0,0,0,0,0,0,0,0,null,null,null,null,null,{"$f":"proj16jul!F296","v":25222},{"$f":"dec!O296","v":46200},{"$f":"may!O296","v":51935},{"$f":"june!O296","v":50085},2102,2102,2102,2102,2102,5099,5099,5099,null,null,null,null,0,287,"STURBRIDGE",287,"VC6000191995",0,null,null,"VC6000191995","TOWN OF STURBRIDGE",0,5099]
[288,"SUDBURY                      ",{"$f":"proj16jul!D297","v":0},{"$f":"dec!N297","v":0},{"$f":"may!N297","v":0},{"$f":"june!N297","v":0},0,0,0,0,0,0,0,0,null,null,null,null,null,{"$f":"proj16jul!F297","v":23284},{"$f":"dec!O297","v":29230},{"$f":"may!O297","v":15356},{"$f":"june!O297","v":15112},1941,1941,1941,1941,1940,2790,2790,2790,null,null,null,null,0,288,"SUDBURY",288,"VC6000191996",0,null,null,"VC6000191996","TOWN OF SUDBURY",0,2790]
[289,"SUNDERLAND                   ",{"$f":"proj16jul!D298","v":262071},{"$f":"dec!N298","v":320512},{"$f":"may!N298","v":307557},{"$f":"june!N298","v":303357},21839,21839,21839,21840,21839,30188,30188,30188,null,null,null,null,null,{"$f":"proj16jul!F298","v":93953},{"$f":"dec!O298","v":40000},{"$f":"may!O298","v":40000},{"$f":"june!O298","v":40000},7830,7830,7830,7830,7830,122,122,122,null,null,null,null,0,289,"SUNDERLAND",289,"VC6000191997",0,null,null,"VC6000191997","TOWN OF SUNDERLAND",30188,122]
[290,"SUTTON                       ",{"$f":"proj16jul!D299","v":292239},{"$f":"dec!N299","v":244538},{"$f":"may!N299","v":244083},{"$f":"june!N299","v":219083},24353,24353,24353,24354,24353,17538,17539,17539,null,null,null,null,null,{"$f":"proj16jul!F299","v":106098},{"$f":"dec!O299","v":112031},{"$f":"may!O299","v":135295},{"$f":"june!O299","v":96430},8842,8842,8842,8842,8842,9689,9689,9689,null,null,null,null,0,290,"SUTTON",290,"VC6000191998",0,null,null,"VC6000191998","TOWN OF SUTTON",17539,9689]
[291,"SWAMPSCOTT                   ",{"$f":"proj16jul!D300","v":0},{"$f":"dec!N300","v":0},{"$f":"may!N300","v":0},{"$f":"june!N300","v":0},0,0,0,0,0,0,0,0,null,null,null,null,null,{"$f":"proj16jul!F300","v":20812},{"$f":"dec!O300","v":25100},{"$f":"may!O300","v":31837},{"$f":"june!O300","v":33737},1735,1735,1735,1735,1734,2347,2347,2347,null,null,null,null,0,291,"SWAMPSCOTT",291,"VC6000191999",0,null,null,"VC6000191999","TOWN OF SWAMPSCOTT",0,2347]
[292,"SWANSEA                      ",{"$f":"proj16jul!D301","v":0},{"$f":"dec!N301","v":0},{"$f":"may!N301","v":0},{"$f":"june!N301","v":0},0,0,0,0,0,0,0,0,null,null,null,null,null,{"$f":"proj16jul!F301","v":47456},{"$f":"dec!O301","v":95400},{"$f":"may!O301","v":95201},{"$f":"june!O301","v":77201},3955,3955,3955,3955,3955,10804,10804,10804,null,null,null,null,0,292,"SWANSEA",292,"VC6000192002",0,null,null,"VC6000192002","TOWN OF SWANSEA",0,10804]
[293,"TAUNTON                      ",{"$f":"proj16jul!D302","v":444565},{"$f":"dec!N302","v":422939},{"$f":"may!N302","v":478718},{"$f":"june!N302","v":473718},37047,37047,37047,37047,37047,33957,33957,33958,null,null,null,null,null,{"$f":"proj16jul!F302","v":361081},{"$f":"dec!O302","v":660353},{"$f":"may!O302","v":649973},{"$f":"june!O302","v":629342},30091,30090,30090,30090,30090,72844,72843,72843,null,null,null,null,0,293,"TAUNTON",293,"VC6000192003",0,null,null,"VC6000192003","CITY OF TAUNTON",33958,72843]
[294,"TEMPLETON                    ",{"$f":"proj16jul!D303","v":0},{"$f":"dec!N303","v":0},{"$f":"may!N303","v":0},{"$f":"june!N303","v":0},0,0,0,0,0,0,0,0,null,null,null,null,null,{"$f":"proj16jul!F303","v":0},{"$f":"dec!O303","v":0},{"$f":"may!O303","v":0},{"$f":"june!O303","v":0},0,0,0,0,0,0,0,0,null,null,null,null,0,294,"TEMPLETON",294,"VC6000192004",0,null,null,"VC6000192004","TOWN OF TEMPLETON",0,0]
[295,"TEWKSBURY                    ",{"$f":"proj16jul!D304","v":0},{"$f":"dec!N304","v":0},{"$f":"may!N304","v":0},{"$f":"june!N304","v":0},0,0,0,0,0,0,0,0,null,null,null,null,null,{"$f":"proj16jul!F304","v":32671},{"$f":"dec!O304","v":49200},{"$f":"may!O304","v":40779},{"$f":"june!O304","v":40779},2723,2723,2723,2723,2723,5084,5084,5084,null,null,null,null,0,295,"TEWKSBURY",295,"VC6000192005",0,null,null,"VC6000192005","TOWN OF TEWKSBURY",0,5084]
[296,"TISBURY                      ",{"$f":"proj16jul!D305","v":114178},{"$f":"dec!N305","v":95144},{"$f":"may!N305","v":110661},{"$f":"june!N305","v":110661},9514,9515,9515,9515,9515,6795,6795,6796,null,null,null,null,null,{"$f":"proj16jul!F305","v":251699},{"$f":"dec!O305","v":260852},{"$f":"may!O305","v":260852},{"$f":"june!O305","v":249547},20975,20975,20975,20975,20975,22283,22283,22283,null,null,null,null,0,296,"TISBURY",296,"VC6000192006",0,null,null,"VC6000192006","TOWN OF TISBURY",6796,22283]
[297,"TOLLAND                      ",{"$f":"proj16jul!D306","v":0},{"$f":"dec!N306","v":0},{"$f":"may!N306","v":0},{"$f":"june!N306","v":0},0,0,0,0,0,0,0,0,null,null,null,null,null,{"$f":"proj16jul!F306","v":0},{"$f":"dec!O306","v":0},{"$f":"may!O306","v":0},{"$f":"june!O306","v":0},0,0,0,0,0,0,0,0,null,null,null,null,0,297,"TOLLAND",297,"VC6000192007",0,null,null,"VC6000192007","TOWN OF TOLLAND",0,0]
[298,"TOPSFIELD                    ",{"$f":"proj16jul!D307","v":0},{"$f":"dec!N307","v":0},{"$f":"may!N307","v":0},{"$f":"june!N307","v":0},0,0,0,0,0,0,0,0,null,null,null,null,null,{"$f":"proj16jul!F307","v":7503},{"$f":"dec!O307","v":0},{"$f":"may!O307","v":0},{"$f":"june!O307","v":0},626,626,626,625,625,-447,-447,-447,null,null,null,null,0,298,"TOPSFIELD",298,"VC6000192008",0,null,null,"VC6000192008","TOWN OF TOPSFIELD",0,-447]
[299,"TOWNSEND                     ",{"$f":"proj16jul!D308","v":0},{"$f":"dec!N308","v":0},{"$f":"may!N308","v":0},{"$f":"june!N308","v":0},0,0,0,0,0,0,0,0,null,null,null,null,null,{"$f":"proj16jul!F308","v":0},{"$f":"dec!O308","v":0},{"$f":"may!O308","v":0},{"$f":"june!O308","v":0},0,0,0,0,0,0,0,0,null,null,null,null,0,299,"TOWNSEND",299,"VC6000192009",0,null,null,"VC6000192009","TOWN OF TOWNSEND",0,0]
[300,"TRURO                        ",{"$f":"proj16jul!D309","v":121623},{"$f":"dec!N309","v":98389},{"$f":"may!N309","v":80283},{"$f":"june!N309","v":80283},10135,10135,10135,10136,10135,6816,6816,6816,null,null,null,null,null,{"$f":"proj16jul!F309","v":107940},{"$f":"dec!O309","v":145606},{"$f":"may!O309","v":253107},{"$f":"june!O309","v":253107},8995,8995,8995,8995,8995,14376,14376,14376,null,null,null,null,1,300,"TRURO",300,"VC6000192010",0,null,null,"VC6000192010","TOWN OF TRURO",6816,14376]
[301,"TYNGSBOROUGH                 ",{"$f":"proj16jul!D310","v":223965},{"$f":"dec!N310","v":223196},{"$f":"may!N310","v":243391},{"$f":"june!N310","v":243391},18663,18664,18664,18664,18663,18554,18554,18554,null,null,null,null,null,{"$f":"proj16jul!F310","v":112513},{"$f":"dec!O310","v":127400},{"$f":"may!O310","v":136550},{"$f":"june!O310","v":139166},9377,9376,9376,9376,9376,11503,11503,11503,null,null,null,null,0,301,"TYNGSBOROUGH",301,"VC6000192011",0,null,null,"VC6000192011","TOWN OF TYNGSBOROUGH",18554,11503]
[302,"TYRINGHAM                    ",{"$f":"proj16jul!D311","v":0},{"$f":"dec!N311","v":0},{"$f":"may!N311","v":0},{"$f":"june!N311","v":0},0,0,0,0,0,0,0,0,null,null,null,null,null,{"$f":"proj16jul!F311","v":72960},{"$f":"dec!O311","v":60000},{"$f":"may!O311","v":67175},{"$f":"june!O311","v":67175},6080,6080,6080,6080,6080,4229,4229,4229,null,null,null,null,0,302,"TYRINGHAM",302,"VC6000192012",0,null,null,"VC6000192012","TOWN OF TYRINGHAM",0,4229]
[303,"UPTON                        ",{"$f":"proj16jul!D312","v":0},{"$f":"dec!N312","v":0},{"$f":"may!N312","v":0},{"$f":"june!N312","v":0},0,0,0,0,0,0,0,0,null,null,null,null,null,{"$f":"proj16jul!F312","v":0},{"$f":"dec!O312","v":0},{"$f":"may!O312","v":0},{"$f":"june!O312","v":0},0,0,0,0,0,0,0,0,null,null,null,null,1,303,"UPTON",303,"VC6000192013",0,null,null,"VC6000192013","TOWN OF UPTON",0,0]
[304,"UXBRIDGE                     ",{"$f":"proj16jul!D313","v":563983},{"$f":"dec!N313","v":851098},{"$f":"may!N313","v":869723},{"$f":"june!N313","v":869573},46998,46999,46998,46999,46998,88015,88015,88015,null,null,null,null,null,{"$f":"proj16jul!F313","v":1100081},{"$f":"dec!O313","v":1086333},{"$f":"may!O313","v":988989},{"$f":"june!O313","v":985307},91674,91674,91674,91674,91674,89709,89709,89709,null,null,null,null,0,304,"UXBRIDGE",304,"VC6000192015",0,null,null,"VC6000192015","TOWN OF UXBRIDGE",88015,89709]
[305,"WAKEFIELD                    ",{"$f":"proj16jul!D314","v":0},{"$f":"dec!N314","v":0},{"$f":"may!N314","v":0},{"$f":"june!N314","v":0},0,0,0,0,0,0,0,0,null,null,null,null,null,{"$f":"proj16jul!F314","v":25459},{"$f":"dec!O314","v":50800},{"$f":"may!O314","v":82996},{"$f":"june!O314","v":77960},2122,2122,2122,2122,2122,5742,5742,5742,null,null,null,null,0,305,"WAKEFIELD",305,"VC6000192016",0,null,null,"VC6000192016","TOWN OF WAKEFIELD",0,5742]
[306,"WALES                        ",{"$f":"proj16jul!D315","v":53738},{"$f":"dec!N315","v":35000},{"$f":"may!N315","v":30850},{"$f":"june!N315","v":30850},4478,4478,4478,4478,4478,1801,1801,1801,null,null,null,null,null,{"$f":"proj16jul!F315","v":86382},{"$f":"dec!O315","v":73880},{"$f":"may!O315","v":65395},{"$f":"june!O315","v":75395},7199,7199,7199,7199,7199,5413,5412,5412,null,null,null,null,1,306,"WALES",306,"VC6000192017",0,null,null,"VC6000192017","TOWN OF WALES",1801,5412]
[307,"WALPOLE                      ",{"$f":"proj16jul!D316","v":0},{"$f":"dec!N316","v":0},{"$f":"may!N316","v":0},{"$f":"june!N316","v":0},0,0,0,0,0,0,0,0,null,null,null,null,null,{"$f":"proj16jul!F316","v":57919},{"$f":"dec!O316","v":63973},{"$f":"may!O316","v":61154},{"$f":"june!O316","v":61154},4827,4827,4827,4827,4827,5692,5691,5691,null,null,null,null,0,307,"WALPOLE",307,"VC6000192018",0,null,null,"VC6000192018","TOWN OF WALPOLE",0,5691]
[308,"WALTHAM                      ",{"$f":"proj16jul!D317","v":0},{"$f":"dec!N317","v":0},{"$f":"may!N317","v":0},{"$f":"june!N317","v":0},0,0,0,0,0,0,0,0,null,null,null,null,null,{"$f":"proj16jul!F317","v":37595},{"$f":"dec!O317","v":60900},{"$f":"may!O317","v":59324},{"$f":"june!O317","v":56012},3133,3133,3133,3133,3133,6463,6462,6462,null,null,null,null,0,308,"WALTHAM",308,"VC6000192141",{"$f":"IF(MID(AS317,1,6)<>MID(AL317,1,6),1,0)","v":1},null,null,"VC6000192141","CITY OF WALTHAM",0,6462]
[309,"WARE                         ",{"$f":"proj16jul!D318","v":238934},{"$f":"dec!N318","v":309186},{"$f":"may!N318","v":312803},{"$f":"june!N318","v":312701},19911,19911,19911,19911,19911,29947,29947,29947,null,null,null,null,null,{"$f":"proj16jul!F318","v":1036761},{"$f":"dec!O318","v":1065949},{"$f":"may!O318","v":1058217},{"$f":"june!O318","v":1057969},86397,86397,86397,86397,86397,90567,90567,90566,null,null,null,null,1,309,"WARE",309,"VC6000192019",{"$f":"IF(MID(AS318,9,6)<>MID(AL318,1,6),1,0)","v":0},null,null,"VC6000192019","TOWN OF WARE",29947,90566]
[310,"WAREHAM                      ",{"$f":"proj16jul!D319","v":226728},{"$f":"dec!N319","v":104000},{"$f":"may!N319","v":146058},{"$f":"june!N319","v":146058},18894,18894,18894,18894,18894,1361,1361,1361,null,null,null,null,null,{"$f":"proj16jul!F319","v":1004176},{"$f":"dec!O319","v":1058430},{"$f":"may!O319","v":1193155},{"$f":"june!O319","v":1188700},83682,83682,83682,83682,83681,91432,91432,91432,null,null,null,null,0,310,"WAREHAM",310,"VC6000192021",0,null,null,"VC6000192021","TOWN OF WAREHAM",1361,91432]
[311,"WARREN                       ",{"$f":"proj16jul!D320","v":0},{"$f":"dec!N320","v":0},{"$f":"may!N320","v":0},{"$f":"june!N320","v":0},0,0,0,0,0,0,0,0,null,null,null,null,null,{"$f":"proj16jul!F320","v":0},{"$f":"dec!O320","v":0},{"$f":"may!O320","v":0},{"$f":"june!O320","v":0},0,0,0,0,0,0,0,0,null,null,null,null,0,311,"WARREN",311,"VC6000192022",0,null,null,"VC6000192022","TOWN OF WARREN",0,0]
[312,"WARWICK                      ",{"$f":"proj16jul!D321","v":0},{"$f":"dec!N321","v":0},{"$f":"may!N321","v":0},{"$f":"june!N321","v":0},0,0,0,0,0,0,0,0,null,null,null,null,null,{"$f":"proj16jul!F321","v":0},{"$f":"dec!O321","v":0},{"$f":"may!O321","v":0},{"$f":"june!O321","v":0},0,0,0,0,0,0,0,0,null,null,null,null,0,312,"WARWICK",312,"VC6000192023",0,null,null,"VC6000192023","TOWN OF WARWICK",0,0]
[313,"WASHINGTON                   ",{"$f":"proj16jul!D322","v":0},{"$f":"dec!N322","v":0},{"$f":"may!N322","v":0},{"$f":"june!N322","v":0},0,0,0,0,0,0,0,0,null,null,null,null,null,{"$f":"proj16jul!F322","v":0},{"$f":"dec!O322","v":0},{"$f":"may!O322","v":0},{"$f":"june!O322","v":0},0,0,0,0,0,0,0,0,null,null,null,null,0,313,"WASHINGTON",313,"VC6000192025",0,null,null,"VC6000192025","TOWN OF WASHINGTON",0,0]
[314,"WATERTOWN                    ",{"$f":"proj16jul!D323","v":0},{"$f":"dec!N323","v":0},{"$f":"may!N323","v":0},{"$f":"june!N323","v":0},0,0,0,0,0,0,0,0,null,null,null,null,null,{"$f":"proj16jul!F323","v":36448},{"$f":"dec!O323","v":51900},{"$f":"may!O323","v":57084},{"$f":"june!O323","v":57084},3038,3038,3038,3038,3037,5245,5245,5245,null,null,null,null,0,314,"WATERTOWN",314,"VC6000192026",0,null,null,"VC6000192026","TOWN OF WATERTOWN",0,5245]
[315,"WAYLAND                      ",{"$f":"proj16jul!D324","v":0},{"$f":"dec!N324","v":0},{"$f":"may!N324","v":0},{"$f":"june!N324","v":0},0,0,0,0,0,0,0,0,null,null,null,null,null,{"$f":"proj16jul!F324","v":5000},{"$f":"dec!O324","v":20700},{"$f":"may!O324","v":27144},{"$f":"june!O324","v":82023},417,417,417,417,417,2660,2660,2659,null,null,null,null,0,315,"WAYLAND",315,"VC6000192027",0,null,null,"VC6000192027","TOWN OF WAYLAND",0,2659]
[316,"WEBSTER                      ",{"$f":"proj16jul!D325","v":153939},{"$f":"dec!N325","v":161248},{"$f":"may!N325","v":161248},{"$f":"june!N325","v":145981},12828,12828,12828,12829,12828,13872,13872,13872,null,null,null,null,null,{"$f":"proj16jul!F325","v":674450},{"$f":"dec!O325","v":642176},{"$f":"may!O325","v":626887},{"$f":"june!O325","v":630939},56205,56205,56204,56204,56204,51594,51594,51594,null,null,null,null,0,316,"WEBSTER",316,"VC6000192028",0,null,null,"VC6000192028","TOWN OF WEBSTER",13872,51594]
[317,"WELLESLEY                    ",{"$f":"proj16jul!D326","v":0},{"$f":"dec!N326","v":0},{"$f":"may!N326","v":0},{"$f":"june!N326","v":0},0,0,0,0,0,0,0,0,null,null,null,null,null,{"$f":"proj16jul!F326","v":5000},{"$f":"dec!O326","v":5000},{"$f":"may!O326","v":550},{"$f":"june!O326","v":550},417,417,417,417,417,417,417,417,null,null,null,null,0,317,"WELLESLEY",317,"VC6000192029",0,null,null,"VC6000192029","TOWN OF WELLESLEY",0,417]
[318,"WELLFLEET                    ",{"$f":"proj16jul!D327","v":0},{"$f":"dec!N327","v":0},{"$f":"may!N327","v":0},{"$f":"june!N327","v":0},0,0,0,0,0,0,0,0,null,null,null,null,null,{"$f":"proj16jul!F327","v":178480},{"$f":"dec!O327","v":40000},{"$f":"may!O327","v":67587},{"$f":"june!O327","v":67587},14874,14874,14874,14874,14873,-4910,-4910,-4910,null,null,null,null,0,318,"WELLFLEET",318,"VC6000192030",0,null,null,"VC6000192030","TOWN OF WELLFLEET",0,-4910]
[319,"WENDELL                      ",{"$f":"proj16jul!D328","v":0},{"$f":"dec!N328","v":0},{"$f":"may!N328","v":0},{"$f":"june!N328","v":0},0,0,0,0,0,0,0,0,null,null,null,null,null,{"$f":"proj16jul!F328","v":0},{"$f":"dec!O328","v":0},{"$f":"may!O328","v":0},{"$f":"june!O328","v":0},0,0,0,0,0,0,0,0,null,null,null,null,0,319,"WENDELL",319,"VC6000192032",0,null,null,"VC6000192032","TOWN OF WENDELL",0,0]
[320,"WENHAM                       ",{"$f":"proj16jul!D329","v":0},{"$f":"dec!N329","v":0},{"$f":"may!N329","v":0},{"$f":"june!N329","v":0},0,0,0,0,0,0,0,0,null,null,null,null,null,{"$f":"proj16jul!F329","v":0},{"$f":"dec!O329","v":0},{"$f":"may!O329","v":0},{"$f":"june!O329","v":0},0,0,0,0,0,0,0,0,null,null,null,null,0,320,"WENHAM",320,"VC6000192033",0,null,null,"VC6000192033","TOWN OF WENHAM",0,0]
[321,"WESTBOROUGH                  ",{"$f":"proj16jul!D330","v":0},{"$f":"dec!N330","v":0},{"$f":"may!N330","v":0},{"$f":"june!N330","v":0},0,0,0,0,0,0,0,0,null,null,null,null,null,{"$f":"proj16jul!F330","v":58753},{"$f":"dec!O330","v":43700},{"$f":"may!O330","v":34300},{"$f":"june!O330","v":39757},4897,4896,4896,4896,4896,2746,2746,2746,null,null,null,null,0,321,"WESTBOROUGH",328,"VC6000192041",0,null,null,"VC6000192041","TOWN OF WESTBOROUGH",0,2746]
[322,"WEST BOYLSTON                ",{"$f":"proj16jul!D331","v":835110},{"$f":"dec!N331","v":880072},{"$f":"may!N331","v":897277},{"$f":"june!N331","v":897277},69592,69593,69592,69593,69592,76015,76015,76016,null,null,null,null,null,{"$f":"proj16jul!F331","v":219763},{"$f":"dec!O331","v":201058},{"$f":"may!O331","v":195808},{"$f":"june!O331","v":195235},18314,18314,18314,18314,18314,15642,15641,15641,null,null,null,null,{"$f":"IF(MID(B331,1,6)<>MID(AL331,1,6),1,0)","v":0},322,"WEST BOYLSTON",321,"VC6000192034",0,null,null,"VC6000192034","TOWN OF WEST BOYLSTON",76016,15641]
[323,"WEST BRIDGEWATER             ",{"$f":"proj16jul!D332","v":1346309},{"$f":"dec!N332","v":1339979},{"$f":"may!N332","v":1425839},{"$f":"june!N332","v":1425839},112192,112192,112193,112192,112193,111288,111288,111288,null,null,null,null,null,{"$f":"proj16jul!F332","v":55021},{"$f":"dec!O332","v":48400},{"$f":"may!O332","v":57740},{"$f":"june!O332","v":41740},4586,4585,4585,4585,4585,3640,3639,3639,null,null,null,null,0,323,"WEST BRIDGEWATER",322,"VC6000192035",0,null,null,"VC6000192035","TOWN OF WEST BRIDGEWATER",111288,3639]
[324,"WEST BROOKFIELD              ",{"$f":"proj16jul!D333","v":0},{"$f":"dec!N333","v":0},{"$f":"may!N333","v":0},{"$f":"june!N333","v":0},0,0,0,0,0,0,0,0,null,null,null,null,null,{"$f":"proj16jul!F333","v":48896},{"$f":"dec!O333","v":57246},{"$f":"may!O333","v":61303},{"$f":"june!O333","v":61303},4075,4075,4075,4075,4075,5268,5268,5267,null,null,null,null,0,324,"WEST BROOKFIELD",323,"VC6000192036",0,null,null,"VC6000192036","TOWN OF WEST BROOKFIELD",0,5267]
[325,"WESTFIELD                    ",{"$f":"proj16jul!D334","v":765759},{"$f":"dec!N334","v":645980},{"$f":"may!N334","v":796969},{"$f":"june!N334","v":776499},63813,63813,63813,63814,63813,46702,46702,46702,null,null,null,null,null,{"$f":"proj16jul!F334","v":537529},{"$f":"dec!O334","v":703620},{"$f":"may!O334","v":789386},{"$f":"june!O334","v":786431},44795,44794,44794,44794,44794,68522,68522,68521,null,null,null,null,0,325,"WESTFIELD",329,"VC6000192044",0,null,null,"VC6000192044","CITY OF WESTFIELD",46702,68521]
[326,"WESTFORD                     ",{"$f":"proj16jul!D335","v":381375},{"$f":"dec!N335","v":416298},{"$f":"may!N335","v":337450},{"$f":"june!N335","v":416682},31781,31781,31781,31782,31781,36770,36770,36770,null,null,null,null,null,{"$f":"proj16jul!F335","v":34765},{"$f":"dec!O335","v":67612},{"$f":"may!O335","v":87977},{"$f":"june!O335","v":86727},2898,2897,2897,2897,2897,7590,7590,7590,null,null,null,null,0,326,"WESTFORD",330,"VC6000192045",0,null,null,"VC6000192045","TOWN OF WESTFORD",36770,7590]
[327,"WESTHAMPTON                  ",{"$f":"proj16jul!D336","v":118455},{"$f":"dec!N336","v":129181},{"$f":"may!N336","v":148579},{"$f":"june!N336","v":148579},9871,9871,9871,9872,9871,11403,11403,11403,null,null,null,null,null,{"$f":"proj16jul!F336","v":38649},{"$f":"dec!O336","v":38649},{"$f":"may!O336","v":46027},{"$f":"june!O336","v":46027},3221,3221,3221,3221,3221,3221,3221,3221,null,null,null,null,0,327,"WESTHAMPTON",331,"VC6000192046",0,null,null,"VC6000192046","TOWN OF WESTHAMPTON",11403,3221]
[328,"WESTMINSTER                  ",{"$f":"proj16jul!D337","v":0},{"$f":"dec!N337","v":0},{"$f":"may!N337","v":0},{"$f":"june!N337","v":0},0,0,0,0,0,0,0,0,null,null,null,null,null,{"$f":"proj16jul!F337","v":0},{"$f":"dec!O337","v":0},{"$f":"may!O337","v":0},{"$f":"june!O337","v":0},0,0,0,0,0,0,0,0,null,null,null,null,0,328,"WESTMINSTER",332,"VC6000192048",0,null,null,"VC6000192048","TOWN OF WESTMINSTER",0,0]
[329,"WEST NEWBURY                 ",{"$f":"proj16jul!D338","v":0},{"$f":"dec!N338","v":0},{"$f":"may!N338","v":0},{"$f":"june!N338","v":0},0,0,0,0,0,0,0,0,null,null,null,null,null,{"$f":"proj16jul!F338","v":0},{"$f":"dec!O338","v":0},{"$f":"may!O338","v":0},{"$f":"june!O338","v":0},0,0,0,0,0,0,0,0,null,null,null,null,0,329,"WEST NEWBURY",324,"VC6000192037",0,null,null,"VC6000192037","TOWN OF WEST NEWBURY",0,0]
[330,"WESTON                       ",{"$f":"proj16jul!D339","v":0},{"$f":"dec!N339","v":0},{"$f":"may!N339","v":0},{"$f":"june!N339","v":0},0,0,0,0,0,0,0,0,null,null,null,null,null,{"$f":"proj16jul!F339","v":7906},{"$f":"dec!O339","v":20700},{"$f":"may!O339","v":20700},{"$f":"june!O339","v":22553},659,659,659,659,659,2487,2487,2487,null,null,null,null,0,330,"WESTON",333,"VC6000192049",0,null,null,"VC6000192049","TOWN OF WESTON",0,2487]
[331,"WESTPORT                     ",{"$f":"proj16jul!D340","v":0},{"$f":"dec!N340","v":0},{"$f":"may!N340","v":0},{"$f":"june!N340","v":0},0,0,0,0,0,0,0,0,null,null,null,null,null,{"$f":"proj16jul!F340","v":54998},{"$f":"dec!O340","v":83175},{"$f":"may!O340","v":78127},{"$f":"june!O340","v":78077},4584,4584,4583,4583,4583,8609,8609,8608,null,null,null,null,0,331,"WESTPORT",334,"VC6000192050",0,null,null,"VC6000192050","TOWN OF WESTPORT",0,8608]
[332,"WEST SPRINGFIELD             ",{"$f":"proj16jul!D341","v":664836},{"$f":"dec!N341","v":684643},{"$f":"may!N341","v":684643},{"$f":"june!N341","v":624831},55403,55403,55403,55403,55403,58232,58232,58232,null,null,null,null,null,{"$f":"proj16jul!F341","v":188884},{"$f":"dec!O341","v":260688},{"$f":"may!O341","v":271352},{"$f":"june!O341","v":267396},15741,15741,15741,15741,15740,25998,25998,25998,null,null,null,null,0,332,"WEST SPRINGFIELD",325,"VC6000192038",0,null,null,"VC6000192038","TOWN OF WEST SPRINGFIELD",58232,25998]
[333,"WEST STOCKBRIDGE             ",{"$f":"proj16jul!D342","v":0},{"$f":"dec!N342","v":0},{"$f":"may!N342","v":0},{"$f":"june!N342","v":0},0,0,0,0,0,0,0,0,null,null,null,null,null,{"$f":"proj16jul!F342","v":0},{"$f":"dec!O342","v":0},{"$f":"may!O342","v":0},{"$f":"june!O342","v":0},0,0,0,0,0,0,0,0,null,null,null,null,0,333,"WEST STOCKBRIDGE",326,"VC6000192039",0,null,null,"VC6000192039","TOWN OF WEST STOCKBRIDGE",0,0]
[334,"WEST TISBURY                 ",{"$f":"proj16jul!D343","v":0},{"$f":"dec!N343","v":0},{"$f":"may!N343","v":0},{"$f":"june!N343","v":0},0,0,0,0,0,0,0,0,null,null,null,null,null,{"$f":"proj16jul!F343","v":0},{"$f":"dec!O343","v":0},{"$f":"may!O343","v":0},{"$f":"june!O343","v":0},0,0,0,0,0,0,0,0,null,null,null,null,0,334,"WEST TISBURY",327,"VC6000192040",0,null,null,"VC6000192040","TOWN OF WEST TISBURY",0,0]
[335,"WESTWOOD                     ",{"$f":"proj16jul!D344","v":0},{"$f":"dec!N344","v":0},{"$f":"may!N344","v":0},{"$f":"june!N344","v":0},0,0,0,0,0,0,0,0,null,null,null,null,null,{"$f":"proj16jul!F344","v":0},{"$f":"dec!O344","v":0},{"$f":"may!O344","v":0},{"$f":"june!O344","v":0},0,0,0,0,0,0,0,0,null,null,null,null,0,335,"WESTWOOD",335,"VC6000192051",0,null,null,"VC6000192051","TOWN OF WESTWOOD",0,0]
[336,"WEYMOUTH                     ",{"$f":"proj16jul!D345","v":0},{"$f":"dec!N345","v":0},{"$f":"may!N345","v":0},{"$f":"june!N345","v":0},0,0,0,0,0,0,0,0,null,null,null,null,null,{"$f":"proj16jul!F345","v":101288},{"$f":"dec!O345","v":127800},{"$f":"may!O345","v":123174},{"$f":"june!O345","v":123174},8441,8441,8441,8441,8441,12228,12228,12228,null,null,null,null,0,336,"WEYMOUTH",336,"VC6000192053",0,null,null,"VC6000192053","TOWN OF WEYMOUTH",0,12228]
[337,"WHATELY                      ",{"$f":"proj16jul!D346","v":261836},{"$f":"dec!N346","v":249559},{"$f":"may!N346","v":269713},{"$f":"june!N346","v":264213},21819,21820,21820,21819,21820,20065,20066,20066,null,null,null,null,null,{"$f":"proj16jul!F346","v":100380},{"$f":"dec!O346","v":61392},{"$f":"may!O346","v":71711},{"$f":"june!O346","v":66211},8365,8365,8365,8365,8365,2796,2796,2795,null,null,null,null,0,337,"WHATELY",337,"VC6000192055",0,null,null,"VC6000192055","TOWN OF WHATELY",20066,2795]
[338,"WHITMAN                      ",{"$f":"proj16jul!D347","v":0},{"$f":"dec!N347","v":0},{"$f":"may!N347","v":0},{"$f":"june!N347","v":0},0,0,0,0,0,0,0,0,null,null,null,null,null,{"$f":"proj16jul!F347","v":0},{"$f":"dec!O347","v":0},{"$f":"may!O347","v":0},{"$f":"june!O347","v":0},0,0,0,0,0,0,0,0,null,null,null,null,0,338,"WHITMAN",338,"VC6000192057",0,null,null,"VC6000192057","TOWN OF WHITMAN",0,0]
[339,"WILBRAHAM                    ",{"$f":"proj16jul!D348","v":0},{"$f":"dec!N348","v":0},{"$f":"may!N348","v":0},{"$f":"june!N348","v":0},0,0,0,0,0,0,0,0,null,null,null,null,null,{"$f":"proj16jul!F348","v":0},{"$f":"dec!O348","v":0},{"$f":"may!O348","v":0},{"$f":"june!O348","v":0},0,0,0,0,0,0,0,0,null,null,null,null,0,339,"WILBRAHAM",339,"VC6000192058",0,null,null,"VC6000192058","TOWN OF WILBRAHAM",0,0]
[340,"WILLIAMSBURG                 ",{"$f":"proj16jul!D349","v":65223},{"$f":"dec!N349","v":98000},{"$f":"may!N349","v":102805},{"$f":"june!N349","v":102805},5435,5435,5435,5436,5435,10117,10117,10118,null,null,null,null,null,{"$f":"proj16jul!F349","v":118318},{"$f":"dec!O349","v":99181},{"$f":"may!O349","v":97876},{"$f":"june!O349","v":95976},9860,9860,9860,9860,9860,7126,7126,7126,null,null,null,null,0,340,"WILLIAMSBURG",340,"VC6000192059",0,null,null,"VC6000192059","TOWN OF WILLIAMSBURG",10118,7126]
[341,"WILLIAMSTOWN                 ",{"$f":"proj16jul!D350","v":237644},{"$f":"dec!N350","v":169190},{"$f":"may!N350","v":169504},{"$f":"june!N350","v":169504},19803,19804,19804,19803,19804,10024,10024,10024,null,null,null,null,null,{"$f":"proj16jul!F350","v":30061},{"$f":"dec!O350","v":10000},{"$f":"may!O350","v":5000},{"$f":"june!O350","v":10000},2506,2505,2505,2505,2505,-361,-361,-361,null,null,null,null,0,341,"WILLIAMSTOWN",341,"VC6000192060",0,null,null,"VC6000192060","TOWN OF WILLIAMSTOWN",10024,-361]
[342,"WILMINGTON                   ",{"$f":"proj16jul!D351","v":0},{"$f":"dec!N351","v":0},{"$f":"may!N351","v":0},{"$f":"june!N351","v":0},0,0,0,0,0,0,0,0,null,null,null,null,null,{"$f":"proj16jul!F351","v":5000},{"$f":"dec!O351","v":10700},{"$f":"may!O351","v":8571},{"$f":"june!O351","v":8041},417,417,417,417,417,1231,1231,1231,null,null,null,null,0,342,"WILMINGTON",342,"VC6000192061",0,null,null,"VC6000192061","TOWN OF WILMINGTON",0,1231]
[343,"WINCHENDON                   ",{"$f":"proj16jul!D352","v":305721},{"$f":"dec!N352","v":216487},{"$f":"may!N352","v":150000},{"$f":"june!N352","v":93695},25476,25477,25477,25477,25476,12729,12729,12729,null,null,null,null,null,{"$f":"proj16jul!F352","v":702304},{"$f":"dec!O352","v":785601},{"$f":"may!O352","v":816550},{"$f":"june!O352","v":805543},58526,58526,58526,58526,58525,70425,70425,70425,null,null,null,null,0,343,"WINCHENDON",343,"VC6000192062",0,null,null,"VC6000192062","TOWN OF WINCHENDON",12729,70425]
[344,"WINCHESTER                   ",{"$f":"proj16jul!D353","v":0},{"$f":"dec!N353","v":0},{"$f":"may!N353","v":0},{"$f":"june!N353","v":0},0,0,0,0,0,0,0,0,null,null,null,null,null,{"$f":"proj16jul!F353","v":11122},{"$f":"dec!O353","v":30800},{"$f":"may!O353","v":28183},{"$f":"june!O353","v":28183},927,927,927,927,927,3738,3738,3738,null,null,null,null,0,344,"WINCHESTER",344,"VC6000192063",0,null,null,"VC6000192063","TOWN OF WINCHESTER",0,3738]
[345,"WINDSOR                      ",{"$f":"proj16jul!D354","v":0},{"$f":"dec!N354","v":0},{"$f":"may!N354","v":0},{"$f":"june!N354","v":0},0,0,0,0,0,0,0,0,null,null,null,null,null,{"$f":"proj16jul!F354","v":0},{"$f":"dec!O354","v":0},{"$f":"may!O354","v":0},{"$f":"june!O354","v":0},0,0,0,0,0,0,0,0,null,null,null,null,0,345,"WINDSOR",345,"VC6000192066",0,null,null,"VC6000192066","TOWN OF WINDSOR",0,0]
[346,"WINTHROP                     ",{"$f":"proj16jul!D355","v":60000},{"$f":"dec!N355","v":62000},{"$f":"may!N355","v":80000},{"$f":"june!N355","v":87223},5000,5000,5000,5000,5000,5285,5285,5286,null,null,null,null,null,{"$f":"proj16jul!F355","v":9514},{"$f":"dec!O355","v":13400},{"$f":"may!O355","v":24182},{"$f":"june!O355","v":24182},793,793,793,793,793,1348,1348,1348,null,null,null,null,0,346,"WINTHROP",346,"VC6000192065",0,null,null,"VC6000192065","TOWN OF WINTHROP",5286,1348]
[347,"WOBURN",{"$f":"proj16jul!D356","v":0},{"$f":"dec!N356","v":0},{"$f":"may!N356","v":0},{"$f":"june!N356","v":0},0,0,0,0,0,0,0,0,null,null,null,null,null,{"$f":"proj16jul!F356","v":71115},{"$f":"dec!O356","v":66700},{"$f":"may!O356","v":96964},{"$f":"june!O356","v":87032},5927,5927,5927,5926,5926,5296,5296,5295,null,null,null,null,0,347,"WOBURN",347,"VC6000192142",{"$f":"IF(MID(AS356,1,6)<>MID(AL356,1,6),1,0)","v":1},null,null,"VC6000192142","CITY OF WOBURN",0,5295]
[348,"WORCESTER                    ",{"$f":"proj16jul!D357","v":373775},{"$f":"dec!N357","v":423431},{"$f":"may!N357","v":423431},{"$f":"june!N357","v":391327},31147,31148,31148,31148,31148,38241,38241,38242,null,null,null,null,null,{"$f":"proj16jul!F357","v":2651386},{"$f":"dec!O357","v":2686481},{"$f":"may!O357","v":2714656},{"$f":"june!O357","v":2669896},220949,220949,220949,220949,220949,225963,225963,225962,null,null,null,null,0,348,"WORCESTER",348,"VC6000192146",{"$f":"IF(MID(AS357,1,6)<>MID(AL357,1,6),1,0)","v":1},null,null,"VC6000192146","CITY OF WORCESTER",38242,225962]
[349,"WORTHINGTON                  ",{"$f":"proj16jul!D358","v":0},{"$f":"dec!N358","v":25000},{"$f":"may!N358","v":26800},{"$f":"june!N358","v":26850},0,13333,6667,6666,6667,0,-1190,-1190,null,null,null,null,null,{"$f":"proj16jul!F358","v":0},{"$f":"dec!O358","v":428885},{"$f":"may!O358","v":450807},{"$f":"june!O358","v":467624},0,33684,33684,33684,33684,43212,42022,42021,null,null,null,null,0,349,"WORTHINGTON",349,"VC6000192067",{"$f":"IF(MID(AS358,9,6)<>MID(AL358,1,6),1,0)","v":0},null,null,"VC6000192067","TOWN OF WORTHINGTON",-1190,42021]
[350,"WRENTHAM                     ",{"$f":"proj16jul!D359","v":0},{"$f":"dec!N359","v":0},{"$f":"may!N359","v":0},{"$f":"june!N359","v":0},0,0,0,0,0,0,0,0,null,null,null,null,null,{"$f":"proj16jul!F359","v":39765},{"$f":"dec!O359","v":17500},{"$f":"may!O359","v":20850},{"$f":"june!O359","v":20850},3314,3314,3314,3314,3314,133,133,133,null,null,null,null,0,350,"WRENTHAM",350,"VC6000192068",{"$f":"IF(MID(AS359,9,6)<>MID(AL359,1,6),1,0)","v":0},null,null,"VC6000192068","TOWN OF WRENTHAM",0,133]
[351,"YARMOUTH                     ",{"$f":"proj16jul!D360","v":0},{"$f":"dec!N360","v":0},{"$f":"may!N360","v":0},{"$f":"june!N360","v":0},0,0,0,0,0,0,0,0,null,null,null,null,null,{"$f":"proj16jul!F360","v":0},{"$f":"dec!O360","v":0},{"$f":"may!O360","v":0},{"$f":"june!O360","v":0},0,0,0,0,0,0,0,0,null,null,null,null,0,351,"YARMOUTH",351,"VC6000192069",{"$f":"IF(MID(AS360,9,6)<>MID(AL360,1,6),1,0)","v":0},null,null,"VC6000192069","TOWN OF YARMOUTH",0,0]
[352,"DEVENS",{"$f":"proj16jul!D361","v":0},{"$f":"dec!N361","v":0},{"$f":"may!N361","v":0},{"$f":"june!N361","v":0},0,0,0,0,0,0,0,0,null,null,null,null,null,{"$f":"proj16jul!F361","v":30834},{"$f":"dec!O361","v":33408},{"$f":"may!O361","v":33408},{"$f":"june!O361","v":26703},2570,2570,2570,2570,2570,2937,2937,2937,null,null,null,null,0,352,"DEVENS",352,"VC6000186501",{"$f":"IF(MID(AS361,9,6)<>MID(AL361,1,6),1,0)","v":1},null,null,"VC6000186501","Devens",0,2937]
[406,"NORTHAMPTON SMITH            ",{"$f":"proj16jul!D362","v":0},{"$f":"dec!N362","v":0},{"$f":"may!N362","v":0},{"$f":"june!N362","v":0},0,0,0,0,0,0,0,0,null,null,null,null,null,{"$f":"proj16jul!F362","v":0},{"$f":"dec!O362","v":0},{"$f":"may!O362","v":0},{"$f":"june!O362","v":0},0,0,0,0,0,0,0,0,null,null,null,null,0,406,"NORTHAMPTON SMITH",406,"VC6000192124",{"$f":"IF(MID(AS362,9,6)<>MID(AL362,1,6),1,0)","v":1},null,null,"VC6000192124","NORTHAMPTON SMITH",0,0]
[600,"ACTON BOXBOROUGH             ",{"$f":"proj16jul!D363","v":261263},{"$f":"dec!N363","v":241662},{"$f":"may!N363","v":224191},{"$f":"june!N363","v":224191},21771,21772,21772,21772,21772,18971,18972,18972,null,null,null,null,null,{"$f":"proj16jul!F363","v":103482},{"$f":"dec!O363","v":110698},{"$f":"may!O363","v":72050},{"$f":"june!O363","v":99055},8624,8624,8624,8624,8624,9654,9654,9654,null,null,null,null,0,600,"ACTON BOXBOROUGH             ",701,"VC6000194987",{"$f":"IF(MID(AS363,1,6)<>MID(AL363,1,6),1,0)","v":1},null,null,"VC6000194987","ACTON-BOXBOROUGH RSD",18972,9654]
[603,"ADAMS CHESHIRE               ",{"$f":"proj16jul!D364","v":372017},{"$f":"dec!N364","v":297454},{"$f":"may!N364","v":309389},{"$f":"june!N364","v":309389},31001,31001,31002,31001,31002,20349,20349,20349,null,null,null,null,null,{"$f":"proj16jul!F364","v":506180},{"$f":"dec!O364","v":451780},{"$f":"may!O364","v":499396},{"$f":"june!O364","v":496241},42182,42182,42182,42182,42182,34410,34410,34410,null,null,null,null,0,603,"ADAMS CHESHIRE               ",702,"VC6000194989",{"$f":"IF(MID(AS364,1,6)<>MID(AL364,1,6),1,0)","v":1},null,null,"VC6000194989","ADAMS-CHESHIRE RSD",20349,34410]
[605,"AMHERST PELHAM               ",{"$f":"proj16jul!D365","v":631941},{"$f":"dec!N365","v":482749},{"$f":"may!N365","v":482749},{"$f":"june!N365","v":485602},52661,52662,52662,52662,52661,31348,31348,31349,null,null,null,null,null,{"$f":"proj16jul!F365","v":227771},{"$f":"dec!O365","v":241845},{"$f":"may!O365","v":274787},{"$f":"june!O365","v":274579},18981,18981,18981,18981,18981,20992,20992,20992,null,null,null,null,0,605,"AMHERST PELHAM",703,"VC6000194991",{"$f":"IF(MID(AS365,1,6)<>MID(AL365,1,6),1,0)","v":0},null,null,"VC6000194991","AMHERST-PELHAM RSD",31349,20992]
[610,"ASHBURNHAM WESTMINSTER       ",{"$f":"proj16jul!D366","v":788699},{"$f":"dec!N366","v":1042442},{"$f":"may!N366","v":1071445},{"$f":"june!N366","v":1066295},65724,65725,65725,65725,65725,101974,101974,101974,null,null,null,null,null,{"$f":"proj16jul!F366","v":295110},{"$f":"dec!O366","v":338615},{"$f":"may!O366","v":315990},{"$f":"june!O366","v":325990},24593,24593,24593,24593,24593,30808,30807,30807,null,null,null,null,0,610,"ASHBURNHAM WESTMINSTER",704,"VC6000194993",{"$f":"IF(MID(AS366,1,6)<>MID(AL366,1,6),1,0)","v":0},null,null,"VC6000194993","ASHBURNHAM-WESTMINSTER",101974,30807]
[615,"ATHOL ROYALSTON              ",{"$f":"proj16jul!D367","v":372175},{"$f":"dec!N367","v":335741},{"$f":"may!N367","v":335741},{"$f":"june!N367","v":386650},31014,31015,31014,31015,31014,25809,25810,25810,null,null,null,null,null,{"$f":"proj16jul!F367","v":2109562},{"$f":"dec!O367","v":2145696},{"$f":"may!O367","v":2265039},{"$f":"june!O367","v":2243909},175797,175797,175797,175797,175797,180959,180959,180959,null,null,null,null,0,615,"ATHOL ROYALSTON              ",705,"VC6000194995",{"$f":"IF(MID(AS367,1,6)<>MID(AL367,1,6),1,0)","v":1},null,null,"VC6000194995","ATHOL-ROYALSTON RSD",25810,180959]
[616,"AYER SHIRLEY",{"$f":"proj16jul!D368","v":779951},{"$f":"dec!N368","v":819792},{"$f":"may!N368","v":819792},{"$f":"june!N368","v":797878},64995,64996,64996,64996,64996,70687,70687,70687,null,null,null,null,null,{"$f":"proj16jul!F368","v":713575},{"$f":"dec!O368","v":727004},{"$f":"may!O368","v":687745},{"$f":"june!O368","v":712089},59465,59465,59465,59465,59465,61383,61383,61383,null,null,null,null,0,616,"AYER SHIRLEY",616,"VC0000511800",{"$f":"IF(MID(AS368,9,6)<>MID(AL368,1,6),1,0)","v":1},null,null,"VC0000511800","AYER SHIRLEY",70687,61383]
[618,"BERKSHIRE HILLS              ",{"$f":"proj16jul!D369","v":1298303},{"$f":"dec!N369","v":1269680},{"$f":"may!N369","v":1269680},{"$f":"june!N369","v":1271586},108191,108017,108105,108104,108105,104165,104165,104165,null,null,null,null,null,{"$f":"proj16jul!F369","v":580163},{"$f":"dec!O369","v":558660},{"$f":"may!O369","v":598812},{"$f":"june!O369","v":588844},48347,48347,48347,48347,48347,45275,45275,45275,null,null,null,null,0,618,"BERKSHIRE HILLS",706,"VC6000194996",{"$f":"IF(MID(AS369,1,6)<>MID(AL369,1,6),1,0)","v":0},null,null,"VC6000194996","BERKSHIRE HILLS RSD",104165,45275]
[620,"BERLIN BOYLSTON              ",{"$f":"proj16jul!D370","v":528640},{"$f":"dec!N370","v":514387},{"$f":"may!N370","v":514387},{"$f":"june!N370","v":532024},44053,44053,44054,44053,44053,42017,42017,42017,null,null,null,null,null,{"$f":"proj16jul!F370","v":161890},{"$f":"dec!O370","v":158266},{"$f":"may!O370","v":156067},{"$f":"june!O370","v":156067},13491,13491,13491,13491,13491,12973,12973,12973,null,null,null,null,0,620,"BERLIN BOYLSTON",707,"VC6000194998",0,null,null,"VC6000194998","BERLIN BOYLSTON RSD",42017,12973]
[622,"BLACKSTONE MILLVILLE         ",{"$f":"proj16jul!D371","v":197350},{"$f":"dec!N371","v":226000},{"$f":"may!N371","v":246347},{"$f":"june!N371","v":246347},16445,16446,16446,16446,16446,20538,20538,20539,null,null,null,null,null,{"$f":"proj16jul!F371","v":455181},{"$f":"dec!O371","v":471917},{"$f":"may!O371","v":501594},{"$f":"june!O371","v":507522},37932,37932,37932,37932,37932,40323,40323,40323,null,null,null,null,0,622,"BLACKSTONE MILLVILLE",765,"VC6000195069",0,null,null,"VC6000195069","BLACKSTONE MILLVILLE",20539,40323]
[625,"BRIDGEWATER RAYNHAM          ",{"$f":"proj16jul!D372","v":154726},{"$f":"dec!N372","v":172000},{"$f":"may!N372","v":154948},{"$f":"june!N372","v":154948},12893,12894,12894,12894,12894,15361,15361,15361,null,null,null,null,null,{"$f":"proj16jul!F372","v":936066},{"$f":"dec!O372","v":780499},{"$f":"may!O372","v":917133},{"$f":"june!O372","v":903061},78006,78006,78006,78006,78006,55782,55782,55781,null,null,null,null,0,625,"BRIDGEWATER RAYNHAM",710,"VC6000195001",0,null,null,"VC6000195001","BRIDGEWATER-RAYNHAM RSD",15361,55781]
[632,"CHESTERFIELD GOSHEN",{"$f":"proj16jul!D373","v":103289},{"$f":"dec!N373","v":145189},{"$f":"may!N373","v":155514},{"$f":"june!N373","v":155514},8607,8607,8608,8607,8608,14593,14593,14593,null,null,null,null,null,{"$f":"proj16jul!F373","v":36300},{"$f":"dec!O373","v":59000},{"$f":"may!O373","v":62761},{"$f":"june!O373","v":62761},3025,3025,3025,3025,3025,6268,6268,6268,null,null,null,null,0,632,"CHESTERFIELD GOSHEN",632,"VC6000195072",0,null,null,"VC6000195072","CHESTERFIELD-GOSHEN RSD",14593,6268]
[635,"CENTRAL BERKSHIRE            ",{"$f":"proj16jul!D374","v":978043},{"$f":"dec!N374","v":1022486},{"$f":"may!N374","v":1022486},{"$f":"june!N374","v":1035125},81503,81504,81503,81504,81503,87852,87852,87853,null,null,null,null,null,{"$f":"proj16jul!F374","v":808367},{"$f":"dec!O374","v":882971},{"$f":"may!O374","v":962498},{"$f":"june!O374","v":965551},67364,67364,67364,67364,67364,78022,78022,78022,null,null,null,null,0,635,"CENTRAL BERKSHIRE",712,"VC6000195002",0,null,null,"VC6000195002","CENTRAL BERKSHIRE RSD",87853,78022]
[640,"CONCORD CARLISLE             ",{"$f":"proj16jul!D375","v":0},{"$f":"dec!N375","v":0},{"$f":"may!N375","v":0},{"$f":"june!N375","v":0},0,0,0,0,0,0,0,0,null,null,null,null,null,{"$f":"proj16jul!F375","v":0},{"$f":"dec!O375","v":6700},{"$f":"may!O375","v":12742},{"$f":"june!O375","v":12742},0,0,0,0,0,958,957,957,null,null,null,null,0,640,"CONCORD CARLISLE",713,"VC6000195003",0,null,null,"VC6000195003","CONCORD-CARLISLE RSD",0,957]
[645,"DENNIS YARMOUTH              ",{"$f":"proj16jul!D376","v":686441},{"$f":"dec!N376","v":709268},{"$f":"may!N376","v":797974},{"$f":"june!N376","v":792724},57203,57203,57204,57203,57204,60464,60464,60464,null,null,null,null,null,{"$f":"proj16jul!F376","v":2187117},{"$f":"dec!O376","v":2119758},{"$f":"may!O376","v":2148115},{"$f":"june!O376","v":2142535},182260,182260,182260,182260,182260,172637,172637,172637,null,null,null,null,0,645,"DENNIS YARMOUTH",714,"VC6000195005",0,null,null,"VC6000195005","DENNIS-YARMOUTH RSD",60464,172637]
[650,"DIGHTON REHOBOTH             ",{"$f":"proj16jul!D377","v":0},{"$f":"dec!N377","v":64000},{"$f":"may!N377","v":50000},{"$f":"june!N377","v":50000},0,0,0,0,0,9142,9143,9143,null,null,null,null,null,{"$f":"proj16jul!F377","v":86107},{"$f":"dec!O377","v":140935},{"$f":"may!O377","v":149688},{"$f":"june!O377","v":133966},7176,7176,7176,7176,7176,15008,15008,15008,null,null,null,null,0,650,"DIGHTON REHOBOTH",715,"VC6000195006",0,null,null,"VC6000195006","DIGHTON-REHOBOTH",9143,15008]
[655,"DOVER SHERBORN               ",{"$f":"proj16jul!D378","v":0},{"$f":"dec!N378","v":0},{"$f":"may!N378","v":0},{"$f":"june!N378","v":0},0,0,0,0,0,0,0,0,null,null,null,null,null,{"$f":"proj16jul!F378","v":0},{"$f":"dec!O378","v":18400},{"$f":"may!O378","v":28753},{"$f":"june!O378","v":33203},0,0,0,0,0,2629,2629,2629,null,null,null,null,0,655,"DOVER SHERBORN               ",716,"VC6000195007",1,null,null,"VC6000195007","DOVER-SHERBORN",0,2629]
[658,"DUDLEY CHARLTON              ",{"$f":"proj16jul!D379","v":765916},{"$f":"dec!N379","v":827821},{"$f":"may!N379","v":816691},{"$f":"june!N379","v":809841},63826,63826,63827,63826,63826,72670,72670,72670,null,null,null,null,null,{"$f":"proj16jul!F379","v":255560},{"$f":"dec!O379","v":333517},{"$f":"may!O379","v":338083},{"$f":"june!O379","v":317369},21297,21297,21297,21297,21297,32434,32433,32433,null,null,null,null,0,658,"DUDLEY CHARLTON",780,"VC6000195082",0,null,null,"VC6000195082","DUDLEY CHARLTON RSD",72670,32433]
[660,"NAUSET                       ",{"$f":"proj16jul!D380","v":1551954},{"$f":"dec!N380","v":1642868},{"$f":"may!N380","v":1612328},{"$f":"june!N380","v":1611078},129329,129330,129329,129330,129329,142317,142317,142317,null,null,null,null,null,{"$f":"proj16jul!F380","v":263166},{"$f":"dec!O380","v":266949},{"$f":"may!O380","v":254076},{"$f":"june!O380","v":249525},21931,21931,21931,21931,21931,22471,22471,22471,null,null,null,null,0,660,"NAUSET",776,"VC6000195079",0,null,null,"VC6000195079","NAUSET RSD",142317,22471]
[662,"FARMINGTON RIVER",{"$f":"proj16jul!D381","v":88364},{"$f":"dec!N381","v":85719},{"$f":"may!N381","v":82080},{"$f":"june!N381","v":82080},7363,7364,7364,7363,7364,6985,6986,6986,null,null,null,null,null,{"$f":"proj16jul!F381","v":285231},{"$f":"dec!O381","v":257451},{"$f":"may!O381","v":243875},{"$f":"june!O381","v":243875},23770,23770,23770,23769,23769,19801,19801,19801,null,null,null,null,0,662,"FARMINGTON RIVER",788,"VC6000195092",0,null,null,"VC6000195092","FARMINGTON RIVER RSD",6986,19801]
[665,"FREETOWN LAKEVILLE           ",{"$f":"proj16jul!D382","v":118202},{"$f":"dec!N382","v":165000},{"$f":"may!N382","v":212263},{"$f":"june!N382","v":212263},9850,9850,9850,9850,9850,16535,16535,16536,null,null,null,null,null,{"$f":"proj16jul!F382","v":144453},{"$f":"dec!O382","v":152500},{"$f":"may!O382","v":144812},{"$f":"june!O382","v":144812},12038,12038,12038,12038,12038,13188,13187,13187,null,null,null,null,0,665,"FREETOWN LAKEVILLE",718,"VC6000195008",0,null,null,"VC6000195008","FREETOWN LAKEVILLE RSD",16536,13187]
[670,"FRONTIER                     ",{"$f":"proj16jul!D383","v":901451},{"$f":"dec!N383","v":878160},{"$f":"may!N383","v":1057146},{"$f":"june!N383","v":1046172},75120,75121,75121,75121,75121,71793,71793,71794,null,null,null,null,null,{"$f":"proj16jul!F383","v":287679},{"$f":"dec!O383","v":323204},{"$f":"may!O383","v":344231},{"$f":"june!O383","v":325837},23974,23974,23974,23973,23973,29048,29048,29048,null,null,null,null,0,670,"FRONTIER",720,"VC6000195009",0,null,null,"VC6000195009","FRONTIER REGIONAL SCHOOL",71794,29048]
[672,"GATEWAY                      ",{"$f":"proj16jul!D384","v":145799},{"$f":"dec!N384","v":249799},{"$f":"may!N384","v":309353},{"$f":"june!N384","v":309353},12149,12150,12150,12150,12150,27007,27007,27007,null,null,null,null,null,{"$f":"proj16jul!F384","v":791316},{"$f":"dec!O384","v":385422},{"$f":"may!O384","v":511973},{"$f":"june!O384","v":489020},65943,26805,26805,26805,26805,30323,30323,30323,null,null,null,null,0,672,"GATEWAY",721,"VC6000195010",0,null,null,"VC6000195010","GATEWAY RSD",27007,30323]
[673,"GROTON DUNSTABLE             ",{"$f":"proj16jul!D385","v":296230},{"$f":"dec!N385","v":239169},{"$f":"may!N385","v":239169},{"$f":"june!N385","v":247992},24685,24686,24686,24686,24686,16534,16534,16534,null,null,null,null,null,{"$f":"proj16jul!F385","v":92732},{"$f":"dec!O385","v":139576},{"$f":"may!O385","v":141686},{"$f":"june!O385","v":138405},7728,7728,7728,7728,7728,14420,14420,14420,null,null,null,null,0,673,"GROTON DUNSTABLE",772,"VC6000195075",0,null,null,"VC6000195075","GROTON DUNSTABLE RSD",16534,14420]
[674,"GILL MONTAGUE                ",{"$f":"proj16jul!D386","v":819041},{"$f":"dec!N386","v":657010},{"$f":"may!N386","v":803098},{"$f":"june!N386","v":803098},68253,68253,68254,68253,68254,45106,45106,45106,null,null,null,null,null,{"$f":"proj16jul!F386","v":1416848},{"$f":"dec!O386","v":1472954},{"$f":"may!O386","v":1480841},{"$f":"june!O386","v":1495499},118071,118071,118071,118071,118071,126086,126086,126086,null,null,null,null,0,674,"GILL MONTAGUE                ",764,"VC6000195065",1,null,null,"VC6000195065","GILL-MONTAGUE RSD",45106,126086]
[675,"HAMILTON WENHAM              ",{"$f":"proj16jul!D387","v":506976},{"$f":"dec!N387","v":471098},{"$f":"may!N387","v":468724},{"$f":"june!N387","v":468724},42248,42248,42248,42248,42248,37122,37122,37122,null,null,null,null,null,{"$f":"proj16jul!F387","v":26114},{"$f":"dec!O387","v":49100},{"$f":"may!O387","v":45981},{"$f":"june!O387","v":50981},2177,2177,2176,2176,2176,5460,5460,5460,null,null,null,null,0,675,"HAMILTON WENHAM",724,"VC6000195015",0,null,null,"VC6000195015","HAMILTON-WENHAM RSD",37122,5460]
[680,"HAMPDEN WILBRAHAM            ",{"$f":"proj16jul!D388","v":664668},{"$f":"dec!N388","v":639375},{"$f":"may!N388","v":703072},{"$f":"june!N388","v":703072},55389,55389,55389,55389,55389,51775,51775,51776,null,null,null,null,null,{"$f":"proj16jul!F388","v":69443},{"$f":"dec!O388","v":63100},{"$f":"may!O388","v":62786},{"$f":"june!O388","v":62636},5787,5787,5787,5787,5787,4881,4881,4881,null,null,null,null,0,680,"HAMPDEN WILBRAHAM",725,"VC6000195016",0,null,null,"VC6000195016","HAMPDEN WILBRAHAM RSD",51776,4881]
[683,"HAMPSHIRE                    ",{"$f":"proj16jul!D389","v":760858},{"$f":"dec!N389","v":660492},{"$f":"may!N389","v":769017},{"$f":"june!N389","v":769017},63404,63405,63405,63405,63405,49066,49067,49067,null,null,null,null,null,{"$f":"proj16jul!F389","v":351891},{"$f":"dec!O389","v":361171},{"$f":"may!O389","v":358173},{"$f":"june!O389","v":362893},29325,29325,29325,29324,29324,30650,30650,30650,null,null,null,null,0,683,"HAMPSHIRE",726,"VC6000195018",0,null,null,"VC6000195018","HAMPSHIRE RSD",49067,30650]
[685,"HAWLEMONT                    ",{"$f":"proj16jul!D390","v":91352},{"$f":"dec!N390","v":96596},{"$f":"may!N390","v":107764},{"$f":"june!N390","v":107764},7612,7613,7613,7612,7613,8361,8362,8362,null,null,null,null,null,{"$f":"proj16jul!F390","v":120243},{"$f":"dec!O390","v":76860},{"$f":"may!O390","v":141979},{"$f":"june!O390","v":141979},10021,10021,10021,10020,10020,3823,3823,3823,null,null,null,null,0,685,"HAWLEMONT",727,"VC6000195020",0,null,null,"VC6000195020","HAWLEMONT RSD",8362,3823]
[690,"KING PHILIP                  ",{"$f":"proj16jul!D391","v":0},{"$f":"dec!N391","v":0},{"$f":"may!N391","v":0},{"$f":"june!N391","v":0},0,0,0,0,0,0,0,0,null,null,null,null,null,{"$f":"proj16jul!F391","v":70582},{"$f":"dec!O391","v":123508},{"$f":"may!O391","v":134797},{"$f":"june!O391","v":115903},5882,5882,5882,5882,5882,13443,13443,13443,null,null,null,null,0,690,"KING PHILIP",728,"VC6000195021",0,null,null,"VC6000195021","KING PHILIP RSD",0,13443]
[695,"LINCOLN SUDBURY              ",{"$f":"proj16jul!D392","v":0},{"$f":"dec!N392","v":0},{"$f":"may!N392","v":0},{"$f":"june!N392","v":0},0,0,0,0,0,0,0,0,null,null,null,null,null,{"$f":"proj16jul!F392","v":0},{"$f":"dec!O392","v":17854},{"$f":"may!O392","v":13662},{"$f":"june!O392","v":15500},0,0,0,0,0,2551,2551,2551,null,null,null,null,0,695,"LINCOLN SUDBURY",729,"VC6000195023",0,null,null,"VC6000195023","LINCOLN-SUDBURY RSD",0,2551]
[698,"MANCHESTER ESSEX",{"$f":"proj16jul!D393","v":359525},{"$f":"dec!N393","v":358097},{"$f":"may!N393","v":457297},{"$f":"june!N393","v":457297},29960,29960,29961,29960,29961,29756,29756,29756,null,null,null,null,null,{"$f":"proj16jul!F393","v":51702},{"$f":"dec!O393","v":35855},{"$f":"may!O393","v":52387},{"$f":"june!O393","v":52387},4309,4309,4309,4309,4309,2045,2045,2044,null,null,null,null,0,698,"MANCHESTER ESSEX",698,"VC6000188905",{"$f":"IF(MID(AS393,9,6)<>MID(AL393,1,6),1,0)","v":1},null,null,"VC6000188905","MANCHESTER ESSEX RSD",29756,2044]
[700,"MARTHAS VINEYARD             ",{"$f":"proj16jul!D394","v":0},{"$f":"dec!N394","v":0},{"$f":"may!N394","v":0},{"$f":"june!N394","v":0},0,0,0,0,0,0,0,0,null,null,null,null,null,{"$f":"proj16jul!F394","v":0},{"$f":"dec!O394","v":17400},{"$f":"may!O394","v":17852},{"$f":"june!O394","v":17852},0,0,0,0,0,2486,2486,2486,null,null,null,null,0,700,"MARTHAS VINEYARD",731,"VC6000195026",{"$f":"IF(MID(AS394,1,6)<>MID(AL394,1,6),1,0)","v":0},null,null,"VC6000195026","MARTHAS VINEYARD RSD",0,2486]
[705,"MASCONOMET                   ",{"$f":"proj16jul!D395","v":0},{"$f":"dec!N395","v":0},{"$f":"may!N395","v":0},{"$f":"june!N395","v":0},0,0,0,0,0,0,0,0,null,null,null,null,null,{"$f":"proj16jul!F395","v":0},{"$f":"dec!O395","v":16700},{"$f":"may!O395","v":16700},{"$f":"june!O395","v":16700},0,0,0,0,0,2386,2386,2386,null,null,null,null,{"$f":"IF(MID(B395,1,6)<>MID(AL395,1,6),1,0)","v":0},705,"MASCONOMET",732,"VC6000195027",{"$f":"IF(MID(AS395,1,6)<>MID(AL395,1,6),1,0)","v":0},null,null,"VC6000195027","MASCONOMET RSD",0,2386]
[710,"MENDON UPTON                 ",{"$f":"proj16jul!D396","v":814955},{"$f":"dec!N396","v":875255},{"$f":"may!N396","v":811121},{"$f":"june!N396","v":810615},67912,67913,67913,67913,67913,76527,76527,76527,null,null,null,null,null,{"$f":"proj16jul!F396","v":351234},{"$f":"dec!O396","v":313564},{"$f":"may!O396","v":335287},{"$f":"june!O396","v":326161},29270,29270,29270,29270,29270,23888,23888,23888,null,null,null,null,0,710,"MENDON UPTON",733,"VC6000195028",{"$f":"IF(MID(AS396,1,6)<>MID(AL396,1,6),1,0)","v":0},null,null,"VC6000195028","MENDON-UPTON RSD",76527,23888]
[712,"MONOMOY",{"$f":"proj16jul!D397","v":1683336},{"$f":"dec!N397","v":1467354},{"$f":"may!N397","v":1515424},{"$f":"june!N397","v":1508000},140278,140278,140278,140278,140278,109423,109423,109423,null,null,null,null,null,{"$f":"proj16jul!F397","v":1037154},{"$f":"dec!O397","v":1111009},{"$f":"may!O397","v":1152727},{"$f":"june!O397","v":1147725},86430,86430,86430,86430,86430,96980,96980,96980,null,null,null,null,0,712,"MONOMOY",811,"VC0000577732",{"$f":"IF(MID(AS397,9,6)<>MID(AL397,1,6),1,0)","v":1},null,null,"VC0000577732","Monomoy Regional School",109423,96980]
[715,"MOUNT GREYLOCK               ",{"$f":"proj16jul!D398","v":352222},{"$f":"dec!N398","v":356522},{"$f":"may!N398","v":343658},{"$f":"june!N398","v":343658},29351,29352,29352,29352,29352,29966,29966,29966,null,null,null,null,null,{"$f":"proj16jul!F398","v":85256},{"$f":"dec!O398","v":140152},{"$f":"may!O398","v":126525},{"$f":"june!O398","v":121525},7105,7105,7105,7105,7105,14947,14947,14947,null,null,null,null,0,715,"MOUNT GREYLOCK",736,"VC6000195031",{"$f":"IF(MID(AS398,1,6)<>MID(AL398,1,6),1,0)","v":0},null,null,"VC6000195031","MOUNT GREYLOCK RSD",29966,14947]
[717,"MOHAWK TRAIL                 ",{"$f":"proj16jul!D399","v":500473},{"$f":"dec!N399","v":443381},{"$f":"may!N399","v":664959},{"$f":"june!N399","v":664959},41706,41706,41706,41706,41706,33550,33550,33550,null,null,null,null,null,{"$f":"proj16jul!F399","v":642946},{"$f":"dec!O399","v":684405},{"$f":"may!O399","v":783526},{"$f":"june!O399","v":736407},53579,53579,53579,53579,53579,59502,59502,59502,null,null,null,null,0,717,"MOHAWK TRAIL",734,"VC6000195029",0,null,null,"VC6000195029","MOHAWK TRAIL RSD",33550,59502]
[720,"NARRAGANSETT                 ",{"$f":"proj16jul!D400","v":862803},{"$f":"dec!N400","v":1033420},{"$f":"may!N400","v":1089651},{"$f":"june!N400","v":1089601},71900,71900,71900,71901,71900,96274,96274,96274,null,null,null,null,null,{"$f":"proj16jul!F400","v":859797},{"$f":"dec!O400","v":776163},{"$f":"may!O400","v":816803},{"$f":"june!O400","v":794982},71650,71650,71650,71650,71650,59702,59702,59702,null,null,null,null,0,720,"NARRAGANSETT",737,"VC6000195033",0,null,null,"VC6000195033","NARRAGANSETT RSD",96274,59702]
[725,"NASHOBA                      ",{"$f":"proj16jul!D401","v":881656},{"$f":"dec!N401","v":720937},{"$f":"may!N401","v":725154},{"$f":"june!N401","v":720154},73471,73471,73472,73471,73471,50511,50511,50511,null,null,null,null,null,{"$f":"proj16jul!F401","v":452128},{"$f":"dec!O401","v":400345},{"$f":"may!O401","v":412446},{"$f":"june!O401","v":430731},37678,37678,37678,37678,37677,30280,30280,30280,null,null,null,null,0,725,"NASHOBA",738,"VC6000195036",0,null,null,"VC6000195036","NASHOBA RSD",50511,30280]
[728,"NEW SALEM WENDELL            ",{"$f":"proj16jul!D402","v":144319},{"$f":"dec!N402","v":116803},{"$f":"may!N402","v":143537},{"$f":"june!N402","v":143537},12026,12027,12026,12027,12026,8095,8096,8096,null,null,null,null,null,{"$f":"proj16jul!F402","v":44469},{"$f":"dec!O402","v":72000},{"$f":"may!O402","v":73387},{"$f":"june!O402","v":73549},3706,3706,3706,3706,3706,7639,7639,7639,null,null,null,null,0,728,"NEW SALEM WENDELL",787,"VC6000195091",0,null,null,"VC6000195091","NEW SALEM/WENDELL RSD",8096,7639]
[730,"NORTHBORO SOUTHBORO          ",{"$f":"proj16jul!D403","v":0},{"$f":"dec!N403","v":0},{"$f":"may!N403","v":0},{"$f":"june!N403","v":0},0,0,0,0,0,0,0,0,null,null,null,null,null,{"$f":"proj16jul!F403","v":15000},{"$f":"dec!O403","v":66700},{"$f":"may!O403","v":101135},{"$f":"june!O403","v":97558},1250,1250,1250,1250,1250,8636,8636,8636,null,null,null,null,0,730,"NORTHBORO SOUTHBORO",741,"VC6000195040",0,null,null,"VC6000195040","NORTHBOROUGH-SOUTHBOROUGH",0,8636]
[735,"NORTH MIDDLESEX              ",{"$f":"proj16jul!D404","v":460730},{"$f":"dec!N404","v":467037},{"$f":"may!N404","v":491373},{"$f":"june!N404","v":491373},38394,38394,38394,38394,38394,39295,39295,39295,null,null,null,null,null,{"$f":"proj16jul!F404","v":497359},{"$f":"dec!O404","v":514481},{"$f":"may!O404","v":514206},{"$f":"june!O404","v":523536},41447,41447,41447,41447,41447,43893,43893,43892,null,null,null,null,0,735,"NORTH MIDDLESEX",740,"VC6000195039",0,null,null,"VC6000195039","NORTH MIDDLESEX RSD",39295,43892]
[740,"OLD ROCHESTER                ",{"$f":"proj16jul!D405","v":440646},{"$f":"dec!N405","v":376398},{"$f":"may!N405","v":381316},{"$f":"june!N405","v":381316},36720,36721,36720,36721,36720,27542,27542,27542,null,null,null,null,null,{"$f":"proj16jul!F405","v":38884},{"$f":"dec!O405","v":53170},{"$f":"may!O405","v":47704},{"$f":"june!O405","v":47704},3241,3241,3241,3241,3240,5281,5281,5281,null,null,null,null,0,740,"OLD ROCHESTER",745,"VC6000195043",0,null,null,"VC6000195043","OLD ROCHESTER RSD",27542,5281]
[745,"PENTUCKET                    ",{"$f":"proj16jul!D406","v":672571},{"$f":"dec!N406","v":598369},{"$f":"may!N406","v":599768},{"$f":"june!N406","v":599768},56047,56048,56047,56048,56047,45447,45447,45447,null,null,null,null,null,{"$f":"proj16jul!F406","v":231315},{"$f":"dec!O406","v":195715},{"$f":"may!O406","v":192149},{"$f":"june!O406","v":184532},19277,19277,19277,19276,19276,14191,14191,14190,null,null,null,null,0,745,"PENTUCKET",746,"VC6000195044",0,null,null,"VC6000195044","PENTUCKET RSD",45447,14190]
[750,"PIONEER                      ",{"$f":"proj16jul!D407","v":1050984},{"$f":"dec!N407","v":886731},{"$f":"may!N407","v":886731},{"$f":"june!N407","v":857073},87582,87582,87582,87582,87582,64117,64117,64117,null,null,null,null,null,{"$f":"proj16jul!F407","v":333731},{"$f":"dec!O407","v":335670},{"$f":"may!O407","v":377899},{"$f":"june!O407","v":380399},27811,27811,27811,27811,27811,28088,28088,28088,null,null,null,null,0,750,"PIONEER",747,"VC6000195046",0,null,null,"VC6000195046","PIONEER VALLEY RSD",64117,28088]
[753,"QUABBIN                      ",{"$f":"proj16jul!D408","v":1925967},{"$f":"dec!N408","v":1832098},{"$f":"may!N408","v":1861729},{"$f":"june!N408","v":1861729},160497,160497,160497,160498,160497,147087,147087,147087,null,null,null,null,null,{"$f":"proj16jul!F408","v":570414},{"$f":"dec!O408","v":638983},{"$f":"may!O408","v":645422},{"$f":"june!O408","v":717309},47535,47535,47535,47535,47535,57330,57330,57330,null,null,null,null,0,753,"QUABBIN",749,"VC6000195047",0,null,null,"VC6000195047","QUABBIN RSD",147087,57330]
[755,"RALPH C MAHAR                ",{"$f":"proj16jul!D409","v":1260687},{"$f":"dec!N409","v":1321657},{"$f":"may!N409","v":1442867},{"$f":"june!N409","v":1442717},105057,105057,105057,105058,105057,113767,113767,113767,null,null,null,null,null,{"$f":"proj16jul!F409","v":364504},{"$f":"dec!O409","v":287184},{"$f":"may!O409","v":302204},{"$f":"june!O409","v":321379},30376,30376,30376,30376,30375,19330,19330,19329,null,null,null,null,0,755,"RALPH C MAHAR",730,"VC6000195024",0,null,null,"VC6000195024","RALPH C MAHAR RSD",113767,19329]
[760,"SILVER LAKE                  ",{"$f":"proj16jul!D410","v":0},{"$f":"dec!N410","v":0},{"$f":"may!N410","v":0},{"$f":"june!N410","v":0},0,0,0,0,0,0,0,0,null,null,null,null,null,{"$f":"proj16jul!F410","v":10000},{"$f":"dec!O410","v":40100},{"$f":"may!O410","v":45055},{"$f":"june!O410","v":44856},834,834,834,834,833,5133,5133,5133,null,null,null,null,0,760,"SILVER LAKE",752,"VC6000195052",0,null,null,"VC6000195052","SILVER LAKE RSD",0,5133]
[763,"SOMERSET BERKLEY",{"$f":"proj16jul!D411","v":164871},{"$f":"dec!N411","v":299197},{"$f":"may!N411","v":293733},{"$f":"june!N411","v":293733},13739,13739,13739,13740,13739,32928,32928,32929,null,null,null,null,null,{"$f":"proj16jul!F411","v":35879},{"$f":"dec!O411","v":36700},{"$f":"may!O411","v":40006},{"$f":"june!O411","v":35006},2990,2990,2990,2990,2990,3108,3107,3107,null,null,null,null,0,763,"SOMERSET BERKLEY",790,"VC0000538035",{"$f":"IF(MID(AS411,9,6)<>MID(AL411,1,6),1,0)","v":1},null,null,"VC0000538035","SOMERSET BERKLEY",32929,3107]
[765,"SOUTHERN BERKSHIRE           ",{"$f":"proj16jul!D412","v":689770},{"$f":"dec!N412","v":673764},{"$f":"may!N412","v":714799},{"$f":"june!N412","v":714799},57480,57481,57481,57481,57481,55194,55194,55194,null,null,null,null,null,{"$f":"proj16jul!F412","v":665880},{"$f":"dec!O412","v":592028},{"$f":"may!O412","v":587703},{"$f":"june!O412","v":600232},55490,55490,55490,55490,55490,44940,44940,44940,null,null,null,null,0,765,"SOUTHERN BERKSHIRE",755,"VC6000195055",{"$f":"IF(MID(AS412,1,6)<>MID(AL412,1,6),1,0)","v":0},null,null,"VC6000195055","SOUTHERN BERKSHIRE RSD",55194,44940]
[766,"SOUTHWICK TOLLAND GRANVILLE",{"$f":"proj16jul!D413","v":590457},{"$f":"dec!N413","v":683195},{"$f":"may!N413","v":704096},{"$f":"june!N413","v":704096},49204,49205,49205,49205,49204,62453,62453,62453,null,null,null,null,null,{"$f":"proj16jul!F413","v":280907},{"$f":"dec!O413","v":264532},{"$f":"may!O413","v":290340},{"$f":"june!O413","v":294229},23409,23409,23409,23409,23409,21070,21070,21070,null,null,null,null,0,766,"SOUTHWICK TOLLAND",766,"VC6000195070",0,null,null,"VC6000195070","SOUTHWICK-TOLLAND RSD",62453,21070]
[767,"SPENCER EAST BROOKFIELD      ",{"$f":"proj16jul!D414","v":333107},{"$f":"dec!N414","v":271187},{"$f":"may!N414","v":279486},{"$f":"june!N414","v":279486},27758,27759,27759,27759,27759,18913,18913,18913,null,null,null,null,null,{"$f":"proj16jul!F414","v":1072219},{"$f":"dec!O414","v":1212400},{"$f":"may!O414","v":1188191},{"$f":"june!O414","v":1167779},89352,89352,89352,89352,89352,109378,109377,109377,null,null,null,null,0,767,"SPENCER EAST BROOKFIELD",756,"VC6000195057",0,null,null,"VC6000195057","SPENCER-EAST BROOKFIELD",18913,109377]
[770,"TANTASQUA                    ",{"$f":"proj16jul!D415","v":932098},{"$f":"dec!N415","v":902593},{"$f":"may!N415","v":933187},{"$f":"june!N415","v":933187},77674,77675,77675,77675,77675,73459,73460,73460,null,null,null,null,null,{"$f":"proj16jul!F415","v":188462},{"$f":"dec!O415","v":160653},{"$f":"may!O415","v":163822},{"$f":"june!O415","v":163822},15706,15706,15705,15705,15705,11733,11733,11732,null,null,null,null,0,770,"TANTASQUA",757,"VC6000195058",0,null,null,"VC6000195058","TANTASQUA RSD",73460,11732]
[773,"TRITON                       ",{"$f":"proj16jul!D416","v":1209512},{"$f":"dec!N416","v":1035310},{"$f":"may!N416","v":996175},{"$f":"june!N416","v":996175},100792,100793,100793,100792,100793,75906,75906,75907,null,null,null,null,null,{"$f":"proj16jul!F416","v":943249},{"$f":"dec!O416","v":866809},{"$f":"may!O416","v":871631},{"$f":"june!O416","v":851495},78605,78604,78604,78604,78604,67684,67684,67684,null,null,null,null,0,773,"TRITON",763,"VC6000195064",0,null,null,"VC6000195064","TRITON RSD",75907,67684]
[774,"UP ISLAND",{"$f":"proj16jul!D417","v":315995},{"$f":"dec!N417","v":360039},{"$f":"may!N417","v":360039},{"$f":"june!N417","v":376918},26332,26333,26333,26333,26333,32625,32625,32625,null,null,null,null,null,{"$f":"proj16jul!F417","v":113764},{"$f":"dec!O417","v":80768},{"$f":"may!O417","v":80468},{"$f":"june!O417","v":54700},9481,9481,9481,9481,9480,4767,4767,4766,null,null,null,null,0,774,"UP ISLAND",789,"VC6000195093",0,null,null,"VC6000195093","UP ISLAND RSD",32625,4766]
[775,"WACHUSETT                    ",{"$f":"proj16jul!D418","v":1068886},{"$f":"dec!N418","v":955202},{"$f":"may!N418","v":955202},{"$f":"june!N418","v":1012789},89073,89074,89074,89074,89074,72833,72833,72833,null,null,null,null,null,{"$f":"proj16jul!F418","v":587867},{"$f":"dec!O418","v":637551},{"$f":"may!O418","v":652099},{"$f":"june!O418","v":662132},48989,48989,48989,48989,48989,56087,56087,56087,null,null,null,null,0,775,"WACHUSETT",759,"VC6000195060",0,null,null,"VC6000195060","WACHUSETTS RSD",72833,56087]
[778,"QUABOAG",{"$f":"proj16jul!D419","v":1031030},{"$f":"dec!N419","v":1047949},{"$f":"may!N419","v":1040901},{"$f":"june!N419","v":1035901},85919,85919,85919,85919,85919,88336,88336,88336,null,null,null,null,null,{"$f":"proj16jul!F419","v":519822},{"$f":"dec!O419","v":557343},{"$f":"may!O419","v":555804},{"$f":"june!O419","v":555672},43319,43319,43319,43319,43319,48679,48679,48678,null,null,null,null,0,778,"QUABOAG",750,"VC6000195050",0,null,null,"VC6000195050","QUABOAG RSD",88336,48678]
[780,"WHITMAN HANSON               ",{"$f":"proj16jul!D420","v":78500},{"$f":"dec!N420","v":179000},{"$f":"may!N420","v":186073},{"$f":"june!N420","v":186073},6541,6542,6542,6541,6542,20898,20899,20899,null,null,null,null,null,{"$f":"proj16jul!F420","v":75076},{"$f":"dec!O420","v":120920},{"$f":"may!O420","v":118449},{"$f":"june!O420","v":98250},6257,6257,6257,6257,6256,12806,12805,12805,null,null,null,null,0,780,"WHITMAN HANSON",761,"VC6000195061",0,null,null,"VC6000195061","WHITMAN HANSON RSD",20899,12805]
[801,"ASSABET VALLEY               ",{"$f":"proj16jul!D421","v":0},{"$f":"dec!N421","v":0},{"$f":"may!N421","v":0},{"$f":"june!N421","v":0},0,0,0,0,0,0,0,0,null,null,null,null,null,{"$f":"proj16jul!F421","v":13953},{"$f":"dec!O421","v":0},{"$f":"may!O421","v":0},{"$f":"june!O421","v":0},1163,1163,1163,1163,1163,-831,-831,-831,null,null,null,null,0,801,"ASSABET VALLEY",770,"VC6000195073",0,null,null,"VC6000195073","ASSABET VALLEY RVSD",0,-831]
[805,"BLACKSTONE VALLEY            ",{"$f":"proj16jul!D422","v":0},{"$f":"dec!N422","v":0},{"$f":"may!N422","v":0},{"$f":"june!N422","v":0},0,0,0,0,0,0,0,0,null,null,null,null,null,{"$f":"proj16jul!F422","v":0},{"$f":"dec!O422","v":0},{"$f":"may!O422","v":0},{"$f":"june!O422","v":0},0,0,0,0,0,0,0,0,null,null,null,null,0,805,"BLACKSTONE VALLEY",708,"VC6000194999",0,null,null,"VC6000194999","BLACKSTONE VALLEY VOC RSD",0,0]
[806,"BLUE HILLS                   ",{"$f":"proj16jul!D423","v":0},{"$f":"dec!N423","v":0},{"$f":"may!N423","v":0},{"$f":"june!N423","v":0},0,0,0,0,0,0,0,0,null,null,null,null,null,{"$f":"proj16jul!F423","v":5000},{"$f":"dec!O423","v":0},{"$f":"may!O423","v":0},{"$f":"june!O423","v":0},417,417,417,417,417,-298,-298,-298,null,null,null,null,0,806,"BLUE HILLS",709,"VC6000195000",0,null,null,"VC6000195000","BLUE HILLS REGIONAL VOCATIONAL",0,-298]
[810,"BRISTOL PLYMOUTH             ",{"$f":"proj16jul!D424","v":0},{"$f":"dec!N424","v":0},{"$f":"may!N424","v":0},{"$f":"june!N424","v":0},0,0,0,0,0,0,0,0,null,null,null,null,null,{"$f":"proj16jul!F424","v":26800},{"$f":"dec!O424","v":49000},{"$f":"may!O424","v":34150},{"$f":"june!O424","v":34150},2234,2234,2234,2234,2233,5405,5405,5405,null,null,null,null,0,810,"BRISTOL PLYMOUTH",771,"VC6000195074",0,null,null,"VC6000195074","BRISTOL-PLYMOUTH RSD",0,5405]
[815,"CAPE COD                     ",{"$f":"proj16jul!D425","v":0},{"$f":"dec!N425","v":0},{"$f":"may!N425","v":0},{"$f":"june!N425","v":0},0,0,0,0,0,0,0,0,null,null,null,null,null,{"$f":"proj16jul!F425","v":10000},{"$f":"dec!O425","v":29000},{"$f":"may!O425","v":26261},{"$f":"june!O425","v":26261},834,834,834,834,833,3548,3548,3547,null,null,null,null,0,815,"CAPE COD",779,"VC6000195081",0,null,null,"VC6000195081","CAPE COD REGIONAL TECHNICAL",0,3547]
[817,"ESSEX NORTH SHORE",{"$f":"proj16jul!D426","v":10000},{"$f":"dec!N426","v":5000},{"$f":"may!N426","v":5000},{"$f":"june!N426","v":5000},833,833,834,833,833,119,119,119,null,null,null,null,null,{"$f":"proj16jul!F426","v":92274},{"$f":"dec!O426","v":117224},{"$f":"may!O426","v":119061},{"$f":"june!O426","v":119061},7690,7690,7690,7690,7690,11254,11254,11254,null,null,null,null,0,817,"ESSEX NORTH SHORE",783,"VC6000162377",{"$f":"IF(MID(AS426,9,6)<>MID(AL426,1,6),1,0)","v":1},null,null,"VC6000162377","ESSEX NORTH SHORE RSD",119,11254]
[818,"FRANKLIN COUNTY              ",{"$f":"proj16jul!D427","v":0},{"$f":"dec!N427","v":0},{"$f":"may!N427","v":0},{"$f":"june!N427","v":0},0,0,0,0,0,0,0,0,null,null,null,null,null,{"$f":"proj16jul!F427","v":11900},{"$f":"dec!O427","v":10000},{"$f":"may!O427","v":7600},{"$f":"june!O427","v":7600},992,992,992,992,992,720,720,720,null,null,null,null,0,818,"FRANKLIN COUNTY",782,"VC6000195084",{"$f":"IF(MID(AS427,1,6)<>MID(AL427,1,6),1,0)","v":0},null,null,"VC6000195084","FRANKLIN COUNTY TECHNICAL",0,720]
[821,"GREATER FALL RIVER           ",{"$f":"proj16jul!D428","v":0},{"$f":"dec!N428","v":0},{"$f":"may!N428","v":0},{"$f":"june!N428","v":0},0,0,0,0,0,0,0,0,null,null,null,null,null,{"$f":"proj16jul!F428","v":7550},{"$f":"dec!O428","v":44000},{"$f":"may!O428","v":93959},{"$f":"june!O428","v":89959},630,630,629,629,629,5837,5836,5836,null,null,null,null,0,821,"GREATER FALL RIVER",722,"VC6000195011",0,null,null,"VC6000195011","GREATER FALL RIVER VOCATIONAL",0,5836]
[823,"GREATER LAWRENCE             ",{"$f":"proj16jul!D429","v":27500},{"$f":"dec!N429","v":29000},{"$f":"may!N429","v":31991},{"$f":"june!N429","v":31991},2291,2292,2292,2291,2292,2506,2506,2506,null,null,null,null,null,{"$f":"proj16jul!F429","v":764958},{"$f":"dec!O429","v":642141},{"$f":"may!O429","v":631540},{"$f":"june!O429","v":631503},63747,63747,63747,63747,63747,46201,46201,46201,null,null,null,null,0,823,"GREATER LAWRENCE",723,"VC6000195014",0,null,null,"VC6000195014","GREATER LAWRENCE RSD",2506,46201]
[825,"GREATER NEW BEDFORD          ",{"$f":"proj16jul!D430","v":0},{"$f":"dec!N430","v":0},{"$f":"may!N430","v":0},{"$f":"june!N430","v":0},0,0,0,0,0,0,0,0,null,null,null,null,null,{"$f":"proj16jul!F430","v":10000},{"$f":"dec!O430","v":25000},{"$f":"may!O430","v":25000},{"$f":"june!O430","v":25000},834,834,834,834,833,2976,2976,2976,null,null,null,null,0,825,"GREATER NEW BEDFORD",786,"VC6000195089",0,null,null,"VC6000195089","GREATER NEW BEDFORD RSD",0,2976]
[828,"GREATER LOWELL               ",{"$f":"proj16jul!D431","v":25070},{"$f":"dec!N431","v":14232},{"$f":"may!N431","v":14232},{"$f":"june!N431","v":0},2089,2089,2089,2089,2089,541,541,541,null,null,null,null,null,{"$f":"proj16jul!F431","v":146589},{"$f":"dec!O431","v":139425},{"$f":"may!O431","v":141475},{"$f":"june!O431","v":133200},12216,12216,12216,12216,12216,11193,11192,11192,null,null,null,null,0,828,"GREATER LOWELL",767,"VC6000195071",0,null,null,"VC6000195071","GREATER LOWELL RSD",541,11192]
[829,"SOUTH MIDDLESEX              ",{"$f":"proj16jul!D432","v":0},{"$f":"dec!N432","v":0},{"$f":"may!N432","v":0},{"$f":"june!N432","v":0},0,0,0,0,0,0,0,0,null,null,null,null,null,{"$f":"proj16jul!F432","v":3953},{"$f":"dec!O432","v":0},{"$f":"may!O432","v":0},{"$f":"june!O432","v":0},330,330,330,330,330,-236,-236,-236,null,null,null,null,0,829,"SOUTH MIDDLESEX",778,"VC6000195080",0,null,null,"VC6000195080","SOUTH MIDDLESEX RSD",0,-236]
[830,"MINUTEMAN                    ",{"$f":"proj16jul!D433","v":0},{"$f":"dec!N433","v":0},{"$f":"may!N433","v":0},{"$f":"june!N433","v":0},0,0,0,0,0,0,0,0,null,null,null,null,null,{"$f":"proj16jul!F433","v":9150},{"$f":"dec!O433","v":5000},{"$f":"may!O433","v":5000},{"$f":"june!O433","v":8100},763,763,763,763,763,170,170,169,null,null,null,null,0,830,"MINUTEMAN",781,"VC6000195083",0,null,null,"VC6000195083","MINUTEMAN SCIENCE & TECHNOLOGY",0,169]
[832,"MONTACHUSETT                 ",{"$f":"proj16jul!D434","v":128988},{"$f":"dec!N434","v":107121},{"$f":"may!N434","v":109611},{"$f":"june!N434","v":109561},10749,10749,10749,10749,10749,7625,7625,7625,null,null,null,null,null,{"$f":"proj16jul!F434","v":280442},{"$f":"dec!O434","v":359000},{"$f":"may!O434","v":363280},{"$f":"june!O434","v":365416},23371,23371,23370,23370,23370,34593,34593,34593,null,null,null,null,0,832,"MONTACHUSETT",735,"VC6000195030",0,null,null,"VC6000195030","MONTACHUSETT RSD",7625,34593]
[851,"NORTHERN BERKSHIRE           ",{"$f":"proj16jul!D435","v":0},{"$f":"dec!N435","v":0},{"$f":"may!N435","v":0},{"$f":"june!N435","v":0},0,0,0,0,0,0,0,0,null,null,null,null,null,{"$f":"proj16jul!F435","v":20000},{"$f":"dec!O435","v":5000},{"$f":"may!O435","v":0},{"$f":"june!O435","v":0},1667,1667,1667,1667,1667,-477,-477,-477,null,null,null,null,0,851,"NORTHERN BERKSHIRE",743,"VC6000195042",0,null,null,"VC6000195042","NORTHERN BERKSHIRE VOCATIONAL",0,-477]
[852,"NASHOBA VALLEY               ",{"$f":"proj16jul!D436","v":365249},{"$f":"dec!N436","v":335948},{"$f":"may!N436","v":335948},{"$f":"june!N436","v":335726},30437,30437,30438,30437,30438,26251,26251,26251,null,null,null,null,null,{"$f":"proj16jul!F436","v":56788},{"$f":"dec!O436","v":39584},{"$f":"may!O436","v":33249},{"$f":"june!O436","v":18967},4733,4733,4733,4733,4732,2275,2275,2274,null,null,null,null,0,852,"NASHOBA VALLEY",739,"VC6000195037",0,null,null,"VC6000195037","NASHOBA VALLEY TECHNICAL",26251,2274]
[853,"NORTHEAST METROPOLITAN       ",{"$f":"proj16jul!D437","v":218436},{"$f":"dec!N437","v":188361},{"$f":"may!N437","v":163103},{"$f":"june!N437","v":163103},18203,18203,18203,18203,18203,13906,13906,13906,null,null,null,null,null,{"$f":"proj16jul!F437","v":0},{"$f":"dec!O437","v":14000},{"$f":"may!O437","v":10748},{"$f":"june!O437","v":10748},0,0,0,0,0,2000,2000,2000,null,null,null,null,0,853,"NORTHEAST METROPOLITAN",742,"VC6000195041",0,null,null,"VC6000195041","NORTHEAST METROPOLITAN RSD",13906,2000]
[855,"OLD COLONY                   ",{"$f":"proj16jul!D438","v":0},{"$f":"dec!N438","v":0},{"$f":"may!N438","v":0},{"$f":"june!N438","v":0},0,0,0,0,0,0,0,0,null,null,null,null,null,{"$f":"proj16jul!F438","v":0},{"$f":"dec!O438","v":10000},{"$f":"may!O438","v":4050},{"$f":"june!O438","v":4050},0,0,0,0,0,1429,1429,1429,null,null,null,null,0,855,"OLD COLONY",784,"VC6000195086",0,null,null,"VC6000195086","OLD COLONY REGIONAL VOC",0,1429]
[860,"PATHFINDER                   ",{"$f":"proj16jul!D439","v":127081},{"$f":"dec!N439","v":194801},{"$f":"may!N439","v":183358},{"$f":"june!N439","v":183358},10590,10590,10590,10590,10590,20264,20264,20264,null,null,null,null,null,{"$f":"proj16jul!F439","v":83687},{"$f":"dec!O439","v":67235},{"$f":"may!O439","v":59162},{"$f":"june!O439","v":59162},6974,6974,6974,6974,6974,4624,4624,4624,null,null,null,null,0,860,"PATHFINDER",773,"VC6000195076",0,null,null,"VC6000195076","PATHFINDER REGIONAL VOCATIONAL",20264,4624]
[871,"SHAWSHEEN VALLEY             ",{"$f":"proj16jul!D440","v":0},{"$f":"dec!N440","v":0},{"$f":"may!N440","v":0},{"$f":"june!N440","v":0},0,0,0,0,0,0,0,0,null,null,null,null,null,{"$f":"proj16jul!F440","v":117766},{"$f":"dec!O440","v":104477},{"$f":"may!O440","v":99401},{"$f":"june!O440","v":99451},9814,9814,9814,9814,9814,7916,7916,7915,null,null,null,null,0,871,"SHAWSHEEN VALLEY",751,"VC6000195051",0,null,null,"VC6000195051","SHAWSHEEN VALLEY TECHNICAL",0,7915]
[872,"SOUTHEASTERN                 ",{"$f":"proj16jul!D441","v":0},{"$f":"dec!N441","v":0},{"$f":"may!N441","v":0},{"$f":"june!N441","v":0},0,0,0,0,0,0,0,0,null,null,null,null,null,{"$f":"proj16jul!F441","v":27181},{"$f":"dec!O441","v":15000},{"$f":"may!O441","v":20000},{"$f":"june!O441","v":20000},2266,2265,2265,2265,2265,525,525,525,null,null,null,null,0,872,"SOUTHEASTERN",754,"VC6000195054",0,null,null,"VC6000195054","SOUTHEASTERN RSD",0,525]
[873,"SOUTH SHORE                  ",{"$f":"proj16jul!D442","v":0},{"$f":"dec!N442","v":0},{"$f":"may!N442","v":0},{"$f":"june!N442","v":0},0,0,0,0,0,0,0,0,null,null,null,null,null,{"$f":"proj16jul!F442","v":5000},{"$f":"dec!O442","v":5000},{"$f":"may!O442","v":5000},{"$f":"june!O442","v":5000},417,417,417,417,417,417,417,417,null,null,null,null,0,873,"SOUTH SHORE",753,"VC6000195053",0,null,null,"VC6000195053","SOUTH SHORE VOCATIONAL",0,417]
[876,"SOUTHERN WORCESTER           ",{"$f":"proj16jul!D443","v":0},{"$f":"dec!N443","v":0},{"$f":"may!N443","v":0},{"$f":"june!N443","v":0},0,0,0,0,0,0,0,0,null,null,null,null,null,{"$f":"proj16jul!F443","v":174114},{"$f":"dec!O443","v":170155},{"$f":"may!O443","v":181431},{"$f":"june!O443","v":181431},14510,14510,14510,14510,14510,13944,13944,13944,null,null,null,null,0,876,"SOUTHERN WORCESTER",762,"VC6000195062",0,null,null,"VC6000195062","SOUTHERN WORCESTER COUNTY",0,13944]
[878,"TRI COUNTY                   ",{"$f":"proj16jul!D444","v":0},{"$f":"dec!N444","v":0},{"$f":"may!N444","v":0},{"$f":"june!N444","v":0},0,0,0,0,0,0,0,0,null,null,null,null,null,{"$f":"proj16jul!F444","v":0},{"$f":"dec!O444","v":5000},{"$f":"may!O444","v":3450},{"$f":"june!O444","v":3450},0,0,0,0,0,715,715,714,null,null,null,null,0,878,"TRI COUNTY                   ",785,"VC6000195087",1,null,null,"VC6000195087","TRI-COUNTY REGIONAL VOCATIONAL",0,714]
[879,"UPPER CAPE COD               ",{"$f":"proj16jul!D445","v":0},{"$f":"dec!N445","v":0},{"$f":"may!N445","v":0},{"$f":"june!N445","v":0},0,0,0,0,0,0,0,0,null,null,null,null,null,{"$f":"proj16jul!F445","v":20000},{"$f":"dec!O445","v":15000},{"$f":"may!O445","v":10550},{"$f":"june!O445","v":6600},1667,1667,1667,1667,1667,953,952,952,null,null,null,null,0,879,"UPPER CAPE COD",758,"VC6000195059",0,null,null,"VC6000195059","UPPER CAPE COD RSD",0,952]
[885,"WHITTIER                     ",{"$f":"proj16jul!D446","v":749436},{"$f":"dec!N446","v":641668},{"$f":"may!N446","v":628063},{"$f":"june!N446","v":628063},62453,62453,62453,62453,62453,47057,47057,47057,null,null,null,null,null,{"$f":"proj16jul!F446","v":33338},{"$f":"dec!O446","v":24000},{"$f":"may!O446","v":24941},{"$f":"june!O446","v":24941},2779,2779,2778,2778,2778,1444,1444,1444,null,null,null,null,0,885,"WHITTIER",774,"VC6000195077",1,null,null,"VC6000195077","WHITTER REGIONAL VOC TECH",47057,1444]
[910,"BRISTOL COUNTY               ",{"$f":"proj16jul!D447","v":0},{"$f":"dec!N447","v":0},{"$f":"may!N447","v":0},{"$f":"june!N447","v":0},0,0,0,0,0,0,0,0,null,null,null,null,null,{"$f":"proj16jul!F447","v":0},{"$f":"dec!O447","v":0},{"$f":"may!O447","v":0},{"$f":"june!O447","v":0},0,0,0,0,0,0,0,0,null,null,null,null,0,910,"BRISTOL COUNTY",810,"VC6000195094",0,null,null,"VC6000195094","BRISTOL COUNTY AGRICULTURAL",0,0]
[915,"NORFOLK COUNTY               ",{"$f":"proj16jul!D448","v":0},{"$f":"dec!N448","v":0},{"$f":"may!N448","v":0},{"$f":"june!N448","v":0},0,0,0,0,0,0,0,0,null,null,null,null,null,{"$f":"proj16jul!F448","v":0},{"$f":"dec!O448","v":0},{"$f":"may!O448","v":0},{"$f":"june!O448","v":0},0,0,0,0,0,0,0,0,null,null,null,null,0,915,"NORFOLK COUNTY",830,"VC6000195096",0,null,null,"VC6000195096","NORFOLK COUNTY AGRICULTURAL",0,0]
[3901,"MAVA",{"$f":"proj16jul!D449","v":2578913.75},{"$f":"dec!N449","v":4490820},{"$f":"may!N449","v":5027267},{"$f":"june!N449","v":4307308},214909,214910,214909,214910,214909,488039,488039,488039,null,null,null,null,null,{"$f":"proj16jul!F449","v":0},{"$f":"dec!O449","v":0},{"$f":"may!O449","v":0},{"$f":"june!O449","v":0},0,0,0,0,0,0,0,0,null,null,null,null,0,3901,"MAVA",950,"VC0000683905",{"$f":"IF(MID(AS449,9,6)<>MID(AL449,1,6),1,0)","v":1},null,null,"VC0000683905","MAVA",488039,0]
[3902,"TECCA",{"$f":"proj16jul!D450","v":3869662.5},{"$f":"dec!N450","v":5822365},{"$f":"may!N450","v":6137680},{"$f":"june!N450","v":6136953},322471,322472,322472,322472,322472,601429,601429,601429,null,null,null,null,null,{"$f":"proj16jul!F450","v":0},{"$f":"dec!O450","v":0},{"$f":"may!O450","v":0},{"$f":"june!O450","v":0},0,0,0,0,0,0,0,0,null,null,null,null,0,3902,"TECCA",null,"VC0000734071",{"$f":"IF(MID(AS450,9,6)<>MID(AL450,1,6),1,0)","v":1},null,null,"VC0000734071","TECCA",601429,0]
[9999,"total",{"$f":"SUM(C10:C450)","v":87705649.25},{"$f":"SUM(D10:D450)","v":92090242},95542313,94714967,7308718,7329884,7319357,7319345,7319324,7929060,7927602,7927638,0,0,{"$f":"SUM(E451:O451)","v":250638208},0,null,{"$f":"SUM(T10:T450)","v":87763652},92197577,95697563,94869842,7313774,7312523,7312505,7312483,7312451,7949309,7947788,7947733,0,0,0,0]

{"sheet":"monthly summary","index":13,"n_rows":47,"n_cols":7,"rows_kept":47,"cut":false,"hidden":true,"merged":[[5,0,5,6],[6,0,6,6],[7,0,7,6],[46,1,46,6]]}
["Please select an lea from the drop down below:"]
[175,{"$f":"IF(A2=1,\"\",VALUE(VLOOKUP(A2,lea_info,2)))","v":174},{"$f":"A10+1","v":175}]
[635]
[]
[]
["Massachusetts Department of Elementary and Secondary Education"]
["Office of School Finance"]
["School Choice Tuition Summary, FY16"]
[]
[{"$f":"B2","v":174},{"$f":"IF($A$10=\"\",\"Please select a lea\", VLOOKUP($A$10,code437,2))","v":"MAYNARD                      "}]
[null,null,null,"annual ","prior yr","net annual","monthly"]
["receiving",null,"fte","tuition","adjustment","tuition","payment"]
[]
[null,"July cherry sheet",{"$f":"VLOOKUP($A$10,proj16jul,3)","v":35.159999999999997},{"$f":"VLOOKUP($A$10,proj16jul,4)","v":264647},0,{"$f":"VLOOKUP($A$10,proj16jul,4)","v":264647}]
[null,"July",{"$f":"VLOOKUP($A$10,proj16jul,3)","v":35.159999999999997},{"$f":"VLOOKUP($A$10,proj16jul,4)","v":264647},0,{"$f":"VLOOKUP($A$10,proj16jul,4)","v":264647},{"$f":"VLOOKUP($A$10,distributions,7)","v":22053}]
[null,"August",{"$f":"VLOOKUP($A$10,proj16aug,5)","v":35.159999999999997},{"$f":"VLOOKUP($A$10,proj16aug,6)","v":264647},{"$f":"VLOOKUP($A$10,proj16aug,10)","v":0},{"$f":"VLOOKUP($A$10,proj16aug,13)","v":264647},{"$f":"VLOOKUP($A$10,distributions,8)","v":22054}]
[null,"September",{"$f":"VLOOKUP($A$10,proj16aug,5)","v":35.159999999999997},{"$f":"VLOOKUP($A$10,proj16aug,6)","v":264647},{"$f":"VLOOKUP($A$10,proj16aug,10)","v":0},{"$f":"VLOOKUP($A$10,proj16aug,13)","v":264647},{"$f":"VLOOKUP($A$10,distributions,9)","v":22054}]
[null,"October",{"$f":"VLOOKUP($A$10,proj16aug,5)","v":35.159999999999997},{"$f":"VLOOKUP($A$10,proj16aug,6)","v":264647},{"$f":"VLOOKUP($A$10,proj16aug,10)","v":0},{"$f":"VLOOKUP($A$10,proj16aug,13)","v":264647},{"$f":"VLOOKUP($A$10,distributions,10)","v":22054}]
[null,"November",{"$f":"VLOOKUP($A$10,proj16aug,5)","v":35.159999999999997},{"$f":"VLOOKUP($A$10,proj16aug,6)","v":264647},{"$f":"VLOOKUP($A$10,proj16aug,10)","v":0},{"$f":"VLOOKUP($A$10,proj16aug,13)","v":264647},{"$f":"VLOOKUP($A$10,distributions,11)","v":22054}]
[null,"December",{"$f":"VLOOKUP($A$10,dec,5)","v":40.5},{"$f":"VLOOKUP($A$10,dec,6)","v":335347},{"$f":"VLOOKUP($A$10,dec,10)","v":0},{"$f":"VLOOKUP($A$10,dec,14)","v":335347},{"$f":"VLOOKUP($A$10,distributions,12)","v":32154}]
[null,"January",{"$f":"VLOOKUP($A$10,dec,5)","v":40.5},{"$f":"VLOOKUP($A$10,dec,6)","v":335347},{"$f":"VLOOKUP($A$10,dec,10)","v":0},{"$f":"VLOOKUP($A$10,dec,14)","v":335347},{"$f":"VLOOKUP($A$10,distributions,13)","v":32154}]
[null,"February",{"$f":"VLOOKUP($A$10,dec,5)","v":40.5},{"$f":"VLOOKUP($A$10,dec,6)","v":335347},{"$f":"VLOOKUP($A$10,dec,10)","v":0},{"$f":"VLOOKUP($A$10,dec,14)","v":335347},{"$f":"VLOOKUP($A$10,distributions,14)","v":32154}]
[null,"March",null,null,null,null,{"$f":"VLOOKUP($A$10,distributions,15)","v":0}]
[null,"April",null,null,null,null,{"$f":"VLOOKUP($A$10,distributions,16)","v":0}]
[null,"May",null,null,null,null,{"$f":"VLOOKUP($A$10,distributions,17)","v":0}]
[null,"June*",null,null,null,null,{"$f":"VLOOKUP($A$10,distributions,18)","v":0}]
[null,"total payments",null,null,null,null,{"$f":"SUM(G15:G26)","v":206731}]
[]
[null,null,null,"annual ","prior yr","net annual","monthly"]
["sending",null,"fte","tuition","adjustment","tuition","payment"]
[]
[null,"July cherry sheet",{"$f":"VLOOKUP($A$10,proj16jul,5)","v":15.629999999999999},{"$f":"VLOOKUP($A$10,proj16jul,6)","v":80595},0,{"$f":"VLOOKUP($A$10,proj16jul,6)","v":80595}]
[null,"July",{"$f":"VLOOKUP($A$10,proj16jul,5)","v":15.629999999999999},{"$f":"VLOOKUP($A$10,proj16jul,6)","v":80595},0,{"$f":"VLOOKUP($A$10,proj16jul,6)","v":80595},{"$f":"VLOOKUP($A$10,distributions,24)","v":6717}]
[null,"August",{"$f":"VLOOKUP($A$10,proj16aug,7)","v":15.629999999999999},{"$f":"VLOOKUP($A$10,proj16aug,8)","v":80595},{"$f":"VLOOKUP($A$10,proj16aug,11)","v":0},{"$f":"VLOOKUP($A$10,proj16aug,14)","v":80595},{"$f":"VLOOKUP($A$10,distributions,25)","v":6717}]
[null,"September",{"$f":"VLOOKUP($A$10,proj16aug,7)","v":15.629999999999999},{"$f":"VLOOKUP($A$10,proj16aug,8)","v":80595},{"$f":"VLOOKUP($A$10,proj16aug,11)","v":0},{"$f":"VLOOKUP($A$10,proj16aug,14)","v":80595},{"$f":"VLOOKUP($A$10,distributions,26)","v":6717}]
[null,"October",{"$f":"VLOOKUP($A$10,proj16aug,7)","v":15.629999999999999},{"$f":"VLOOKUP($A$10,proj16aug,8)","v":80595},{"$f":"VLOOKUP($A$10,proj16aug,11)","v":0},{"$f":"VLOOKUP($A$10,proj16aug,14)","v":80595},{"$f":"VLOOKUP($A$10,distributions,27)","v":6716}]
[null,"November",{"$f":"VLOOKUP($A$10,proj16aug,7)","v":15.629999999999999},{"$f":"VLOOKUP($A$10,proj16aug,8)","v":80595},{"$f":"VLOOKUP($A$10,proj16aug,11)","v":0},{"$f":"VLOOKUP($A$10,proj16aug,14)","v":80595},{"$f":"VLOOKUP($A$10,distributions,28)","v":6716}]
[null,"December",{"$f":"VLOOKUP($A$10,dec,7)","v":10},{"$f":"VLOOKUP($A$10,dec,8)","v":52445},{"$f":"VLOOKUP($A$10,dec,11)","v":0},{"$f":"VLOOKUP($A$10,dec,15)","v":52445},{"$f":"VLOOKUP($A$10,distributions,29)","v":2695}]
[null,"January",{"$f":"VLOOKUP($A$10,dec,7)","v":10},{"$f":"VLOOKUP($A$10,dec,8)","v":52445},{"$f":"VLOOKUP($A$10,dec,11)","v":0},{"$f":"VLOOKUP($A$10,dec,15)","v":52445},{"$f":"VLOOKUP($A$10,distributions,30)","v":2695}]
[null,"February",{"$f":"VLOOKUP($A$10,dec,7)","v":10},{"$f":"VLOOKUP($A$10,dec,8)","v":52445},{"$f":"VLOOKUP($A$10,dec,11)","v":0},{"$f":"VLOOKUP($A$10,dec,15)","v":52445},{"$f":"VLOOKUP($A$10,distributions,31)","v":2695}]
[null,"March",null,null,null,null,{"$f":"VLOOKUP($A$10,distributions,32)","v":0}]
[null,"April",null,null,null,null,{"$f":"VLOOKUP($A$10,distributions,33)","v":0}]
[null,"May",null,null,null,null,{"$f":"VLOOKUP($A$10,distributions,34)","v":0}]
[null,"June*",null,null,null,null,{"$f":"VLOOKUP($A$10,distributions,35)","v":0}]
[null,"total assessments",null,null,null,null,{"$f":"SUM(G33:G44)","v":41668}]
[]
[null,"* June monthly amounts are ESE estimates.  "]

{"sheet":"district pupil trends","index":14,"n_rows":70,"n_cols":3,"rows_kept":70,"cut":false,"hidden":false,"merged":[[3,0,3,6],[4,0,4,6],[5,0,5,6],[2,1,2,6]]}
["Please select an lea from the drop down below:"]
[175,{"$f":"IF(A2=1,\"\",VALUE(VLOOKUP(A2,lea_info,2)))","v":174},{"$f":"A3+1","v":175}]
[174,{"$f":"IF($A$3=\"\",\"Please select a lea\", VLOOKUP($A$3,code437,2))","v":"MAYNARD                      "}]
[]
[]
[]
[]
[]
[]
[]
[]
[]
[]
[]
[]
[]
[]
[]
[]
[]
[]
[]
[]
[]
[]
[]
[]
[]
[]
[]
[]
[]
[]
[]
[]
[]
[]
[]
[]
[]
[]
[]
[]
[]
[]
[]
[]
[]
[]
[]
[]
[]
[]
[]
[]
[]
[null,null,"remember to"]
[null,null,"update all years"]
[null,null,"if extra columns added to receiving"]
[null,"receiving","sending"]
["FY07",{"$f":"VLOOKUP($A$3,fte10yr,5)","v":22.99},{"$f":"VLOOKUP($A$3,fte10yr,19)","v":27.95}]
["FY08",{"$f":"VLOOKUP($A$3,fte10yr,6)","v":30.11},{"$f":"VLOOKUP($A$3,fte10yr,20)","v":45.414999999999999}]
["FY09",{"$f":"VLOOKUP($A$3,fte10yr,7)","v":27.94},{"$f":"VLOOKUP($A$3,fte10yr,21)","v":42.96}]
["FY10",{"$f":"VLOOKUP($A$3,fte10yr,8)","v":18.32},{"$f":"VLOOKUP($A$3,fte10yr,22)","v":52.43}]
["FY11",{"$f":"VLOOKUP($A$3,fte10yr,9)","v":15.84},{"$f":"VLOOKUP($A$3,fte10yr,23)","v":45.709999999999994}]
["FY12",{"$f":"VLOOKUP($A$3,fte10yr,10)","v":18.759999999999998},{"$f":"VLOOKUP($A$3,fte10yr,24)","v":33.700000000000003}]
["FY13",{"$f":"VLOOKUP($A$3,fte10yr,11)","v":37.459999999999994},{"$f":"VLOOKUP($A$3,fte10yr,25)","v":29}]
["FY14",{"$f":"VLOOKUP($A$3,fte10yr,12)","v":37.500000000000007},{"$f":"VLOOKUP($A$3,fte10yr,26)","v":24.16}]
["FY15",{"$f":"VLOOKUP($A$3,fte10yr,13)","v":35.159999999999997},{"$f":"VLOOKUP($A$3,fte10yr,27)","v":15.629999999999999}]
["FY16",{"$f":"VLOOKUP($A$3,fte10yr,14)","v":39.520000000000003},{"$f":"VLOOKUP($A$3,fte10yr,28)","v":9}]

{"sheet":"detail1516","index":15,"n_rows":2498,"n_cols":18,"rows_kept":2498,"cut":false,"hidden":false,"merged":[]}
[]
[]
[null,"use these formulas when adding new concats at bottom"]
[null,"=TRUNC(A2113,-3)/1000","=VLOOKUP(B2113,code437,2)","=A2113-B2113*1000","=VLOOKUP(D2113,code437,2)",{"$f":"SUM(F10:F2644)","v":14849.899999999996},15341.5,{"$f":"SUM(H10:H2644)","v":15635.539999999977},null,{"$f":"SUM(J10:J2644)","v":88957428},92151127,{"$f":"SUM(L10:L2644)","v":94900055}]
[null,null,null,null,null,null,null,{"$f":"SUM(H10:H2993)","v":15635.539999999977},null,null,null,{"$f":"SUM(L10:L2993)","v":94900055},null,null,null,"jun 15, 819pmk"]
["use these formulas when adding new concats at bottom",null,null,null,null,null,null,null,null,null,null,null,null,null,null,"jun22, 934am; after finalizing choicecalc jun19"]
["=TRUNC(A2113,-3)/1000",null,"=VLOOKUP(B2113,code437,2)","=A2113-B2113*1000","=VLOOKUP(D2113,code437,2)",{"$f":"SUM(F10:F2139)","v":14007.579999999989},14510,{"$f":"SUM(H10:H2139)","v":14386.869999999992},{"$f":"SUM(I10:I2139)","v":197.86999999999989},88941607,85998800,{"$f":"SUM(L10:L2139)","v":86181920},{"$f":"SUM(M10:M1716)","v":2038305},null,null,null,{"$f":"SUM(Q10:Q2140)","v":14387.869999999992},{"$f":"SUM(R10:R2140)","v":86188620}]
[null," --receiving district -",null," ---sending district----",null,"jun","dec","jun",null,"jun","dec","jun"]
["concat","lea","name","lea","name","FTE15","FTE16","FTE16","chg","tuition15","tuition16","tuition16","chg","comments","codecheck","Row Labels","Sum of fte","Sum of payment"]
[1251,1,"ABINGTON                     ",251,"ROCKLAND                     ",2,1,{"$f":"Q10","v":1},{"$f":"H10-G10","v":0},10000,5000,{"$f":"R10","v":5000},{"$f":"L10-K10","v":0},null,{"$f":"P10-A10","v":0},1251,1,5000]
[5061,5,"AGAWAM                       ",61,"CHICOPEE                     ",1,2,{"$f":"Q11","v":1},{"$f":"H11-G11","v":-1},5000,15706,{"$f":"R11","v":5000},{"$f":"L11-K11","v":-10706},null,0,5061,1,5000]
[5086,5,"AGAWAM                       ",86,"EASTHAMPTON                  ",1,0,0,0,10706,0,0,0,null,0,5086]
[5137,5,"AGAWAM                       ",137,"HOLYOKE                      ",2,2,3,1,10000,10000,18372,8372,null,0,5137,3,18372]
[5159,5,"AGAWAM",159,"LONGMEADOW                   ",1,1,1,0,5000,5000,5000,0,null,0,5159,1,5000]
[5281,5,"AGAWAM                       ",281,"SPRINGFIELD                  ",61.57,61,57.9,-3.1000000000000014,322884,328034,333069,5035,null,0,5281,57.9,333069]
[5309,5,"AGAWAM                       ",309,"WARE                         ",null,1,0,-1,null,5000,0,-5000,null,0,5309]
[5325,5,"AGAWAM                       ",325,"WESTFIELD                    ",1,1,1,0,5000,5000,5000,0,null,0,5325,1,5000]
[5332,5,"AGAWAM                       ",332,"WEST SPRINGFIELD             ",1,2,2,0,5000,10000,10000,0,null,0,5332,2,10000]
[5680,5,"AGAWAM                       ",680,"HAMPDEN WILBRAHAM            ",1,1,1,0,5000,5000,5000,0,null,0,5680,1,5000]
[5766,5,"AGAWAM                       ",766,"SOUTHWICK TOLLAND",9,7,8.120000000000001,1.120000000000001,46736,40736,51475,10739,null,0,5766,8.120000000000001,51475]
[5778,5,"AGAWAM                       ",778,"QUABOAG",1,1,1,0,5000,5000,5000,0,null,0,5778,1,5000]
[5860,5,"AGAWAM                       ",860,"PATHFINDER                   ",1,0,0,0,5000,0,0,0,null,0,5860]
[7105,7,"AMESBURY                     ",105,"GEORGETOWN                   ",1,0,0,0,8847,0,0,0,null,0,7105]
[7128,7,"AMESBURY                     ",128,"HAVERHILL                    ",8,3,3,0,40256,15000,15000,0,null,0,7128,3,15000]
[7144,7,"AMESBURY                     ",144,"IPSWICH                      ",1,0,0,0,5000,0,0,0,null,0,7144]
[7181,7,"AMESBURY                     ",181,"METHUEN                      ",1,1,1,0,5000,5000,5000,0,null,0,7181,1,5000]
[7204,7,"AMESBURY                     ",204,"NEWBURYPORT                  ",3,3,1.81,-1.19,22852,22852,14708,-8144,null,0,7204,1.81,14708]
[7745,7,"AMESBURY                     ",745,"PENTUCKET                    ",6,4,2.4,-1.6,56672,46672,39055,-7617,null,0,7745,2.4,39055]
[7773,7,"AMESBURY                     ",773,"TRITON                       ",10,5,4.1500000000000004,-0.84999999999999964,57887,32000,20750,-11250,null,0,7773,4.1500000000000004,20750]
[8024,8,"AMHERST                      ",24,"BELCHERTOWN                  ",11,11,10.98,-1.9999999999999574E-2,67572,95597,106507,10910,null,0,8024,10.98,106507]
[8061,8,"AMHERST                      ",61,"CHICOPEE                     ",1,1,0,-1,6828,6828,0,-6828,null,0,8061]
[8114,8,"AMHERST                      ",114,"GREENFIELD                   ",1.62,2,2,0,8100,14000,12521,-1479,null,0,8114,2,12521]
[8117,8,"AMHERST                      ",117,"HADLEY                       ",11.21,9,9,0,71042,58040,57365,-675,null,0,8117,9,57365]
[8137,8,"AMHERST                      ",137,"HOLYOKE                      ",3,3,3,0,15000,15000,15000,0,null,0,8137,3,15000]
[8154,8,"AMHERST                      ",154,"LEVERETT                     ",3,0,0,0,15971,0,0,0,null,0,8154]
[8210,8,"AMHERST                      ",210,"NORTHAMPTON                  ",2.88,5,5,0,15577,30177,29704,-473,null,0,8210,5,29704]
[8227,8,"AMHERST                      ",227,"PALMER                       ",1,0,0,0,5000,0,0,0,null,0,8227]
[8230,8,"AMHERST                      ",230,"PELHAM                       ",1,0,1,1,29025,0,5000,5000,null,0,8230,1,5000]
[8272,8,"AMHERST                      ",272,"SHUTESBURY                   ",null,2,1.99,-1.0000000000000009E-2,null,10000,9950,-50,null,0,8272,1.99,9950]
[8278,8,"AMHERST                      ",278,"SOUTH HADLEY                 ",4,3,3,0,25023,20023,20003,-20,null,0,8278,3,20003]
[8281,8,"AMHERST                      ",281,"SPRINGFIELD                  ",3,4,4.99,0.99000000000000021,19767,24767,35083,10316,null,0,8281,4.99,35083]
[8289,8,"AMHERST                      ",289,"SUNDERLAND                   ",1,2,2,0,5000,10000,10000,0,null,0,8289,2,10000]
[8337,8,"AMHERST                      ",337,"WHATELY                      ",1,0,0,0,8201,0,0,0,null,0,8337]
[8674,8,"AMHERST                      ",674,"GILL MONTAGUE                ",5.1400000000000006,5,5,0,25700,25000,25000,0,null,0,8674,5,25000]
[8720,8,"AMHERST                      ",720,"NARRAGANSETT                 ",2,2,2,0,10267,10000,10000,0,null,0,8720,2,10000]
[8728,8,"AMHERST                      ",728,"NEW SALEM WENDELL            ",2,0,0,0,10000,0,0,0,null,0,8728]
[14025,14,"ASHLAND                      ",25,"BELLINGHAM                   ",1,1,0.64,-0.36,13280,13280,3200,-10080,null,0,14025,0.64,3200]
[14035,14,"ASHLAND                      ",35,"BOSTON                       ",1,1,1,0,5000,5000,5000,0,null,0,14035,1,5000]
[14100,14,"ASHLAND                      ",100,"FRAMINGHAM                   ",13.049999999999999,19,18,-1,89828,112354,108520,-3834,null,0,14100,18,108520]
[14136,14,"ASHLAND                      ",136,"HOLLISTON                    ",2.1800000000000002,3,3.37,0.37000000000000011,16933,21033,19385,-1648,null,0,14136,3.37,19385]
[14139,14,"ASHLAND                      ",139,"HOPKINTON                    ",2.14,2.5,2.75,0.25,10700,12500,13750,1250,null,0,14139,2.75,13750]
[14141,14,"ASHLAND                      ",141,"HUDSON                       ",null,2,1.37,-0.62999999999999989,null,18000,14952,-3048,null,0,14141,1.37,14952]
[14170,14,"ASHLAND                      ",170,"MARLBOROUGH                  ",1,1,0,-1,5000,5000,0,-5000,null,0,14170]
[14185,14,"ASHLAND                      ",185,"MILFORD                      ",8,9,7.42,-1.58,55057,64057,50272,-13785,null,0,14185,7.42,50272]
[14198,14,"ASHLAND                      ",198,"NATICK                       ",1.31,3,4.3800000000000008,1.3800000000000008,6550,19000,29036,10036,null,0,14198,4.3800000000000008,29036]
[14214,{"$f":"TRUNC(A56,-3)/1000","v":14},{"$f":"VLOOKUP(B56,code437,2)","v":"ASHLAND                      "},{"$f":"A56-B56*1000","v":214},"NORTHBRIDGE                  ",null,null,1,1,null,null,5000,5000,null,0,14214,1,5000]
[14226,14,"ASHLAND                      ",226,"OXFORD                       ",1,1,1,0,5000,5000,5000,0,null,0,14226,1,5000]
[14287,14,"ASHLAND                      ",287,"STURBRIDGE                   ",null,0.5,0.5,0,null,2500,2500,0,null,0,14287,0.5,2500]
[14321,14,"ASHLAND                      ",321,"WESTBOROUGH                  ",1.08,0,0,0,5400,0,0,0,null,0,14321]
[14348,14,"ASHLAND                      ",348,"WORCESTER                    ",null,1,1,0,null,5000,5000,0,null,0,14348,1,5000]
[14725,14,"ASHLAND                      ",725,"NASHOBA                      ",null,1,1,0,null,5000,5000,0,null,0,14725,1,5000]
[17064,17,"AUBURN                       ",64,"CLINTON                      ",1,0,0,0,5000,0,0,0,null,0,17064]
[17103,{"$f":"TRUNC(A63,-3)/1000","v":17},{"$f":"VLOOKUP(B63,code437,2)","v":"AUBURN                       "},{"$f":"A63-B63*1000","v":103},"GARDNER                      ",null,null,1,1,null,null,5000,5000,null,0,17103,1,5000]
[17151,17,"AUBURN                       ",151,"LEICESTER                    ",7,15,15,0,35000,79000,81546,2546,null,0,17151,15,81546]
[17226,17,"AUBURN                       ",226,"OXFORD                       ",6,9,9,0,30000,45000,45000,0,null,0,17226,9,45000]
[17271,17,"AUBURN                       ",271,"SHREWSBURY                   ",2,1,0,-1,10000,5000,0,-5000,null,0,17271]
[17304,17,"AUBURN                       ",304,"UXBRIDGE                     ",null,1,1,0,null,5000,5000,0,null,0,17304,1,5000]
[17309,17,"AUBURN                       ",309,"WARE                         ",0.45,1,1,0,2250,5000,5000,0,null,0,17309,1,5000]
[17316,17,"AUBURN                       ",316,"WEBSTER                      ",1,1,1,0,8078,5000,5000,0,null,0,17316,1,5000]
[17348,17,"AUBURN                       ",348,"WORCESTER                    ",22,24,22.61,-1.3900000000000006,121810,128404,123664,-4740,null,0,17348,22.61,123664]
[17658,17,"AUBURN                       ",658,"DUDLEY CHARLTON              ",1.46,1,1,0,7300,5000,5000,0,null,0,17658,1,5000]
[17767,17,"AUBURN                       ",767,"SPENCER EAST BROOKFIELD      ",6,7,7,0,30000,35000,35000,0,null,0,17767,7,35000]
[17770,17,"AUBURN                       ",770,"TANTASQUA                    ",null,1,2,1,null,5000,10000,5000,null,0,17770,2,10000]
[17775,17,"AUBURN                       ",775,"WACHUSETT                    ",null,2,1.48,-0.52,null,10000,7400,-2600,null,{"$f":"P74-A74","v":0},17775,1.48,7400]
[18035,18,"AVON                         ",35,"BOSTON                       ",4,2,{"$f":"Q75","v":2},{"$f":"H75-G75","v":0},20000,10000,{"$f":"R75","v":10000},{"$f":"L75-K75","v":0},null,0,18035,2,10000]
[18044,18,"AVON                         ",44,"BROCKTON                     ",63.78,66,62.81,-3.1899999999999977,328882,339982,323797,-16185,null,0,18044,62.81,323797]
[18133,18,"AVON                         ",133,"HOLBROOK                     ",3.5,5,5,0,17500,25000,25000,0,null,0,18133,5,25000]
[18218,18,"AVON                         ",218,"NORTON                       ",2,2,2,0,12436,12436,13122,686,null,0,18218,2,13122]
[18244,18,"AVON                         ",244,"RANDOLPH                     ",106.88,115,113.37,-1.6299999999999955,560407,622502,593751,-28751,null,0,18244,113.37,593751]
[18293,18,"AVON                         ",293,"TAUNTON                      ",2,3,3,0,10000,15000,15000,0,null,0,18293,3,15000]
[20036,20,"BARNSTABLE                   ",36,"BOURNE                       ",4.96,4,4,0,47386,31227,36905,5678,null,0,20036,4,36905]
[20096,20,"BARNSTABLE                   ",96,"FALMOUTH                     ",6.6099999999999994,4,4,0,33050,20000,20000,0,null,0,20096,4,20000]
[20172,20,"BARNSTABLE                   ",172,"MASHPEE                      ",7.18,16,16.490000000000002,0.49000000000000199,35900,84000,87177,3177,null,0,20172,16.490000000000002,87177]
[20261,20,"BARNSTABLE                   ",261,"SANDWICH                     ",27.46,23,23.580000000000002,0.58000000000000185,138544,130000,136244,6244,null,0,20261,23.580000000000002,136244]
[20300,20,"BARNSTABLE                   ",300,"TRURO                        ",0.38,0,0,0,1900,0,0,0,null,0,20300]
[20310,20,"BARNSTABLE                   ",310,"WAREHAM                      ",1,1,1,0,7074,5000,5000,0,null,0,20310,1,5000]
[20645,20,"BARNSTABLE                   ",645,"DENNIS YARMOUTH              ",54.699999999999996,55,51.71,-3.2899999999999991,340190,378942,356328,-22614,null,0,20645,51.71,356328]
[20712,20,"BARNSTABLE                   ",712,"MONOMOY",2.57,1,1,0,12850,9137,9064,-73,null,0,20712,1,9064]
[24043,24,"BELCHERTOWN                  ",43,"BRIMFIELD                    ",1,0,0,0,5000,0,0,0,null,0,24043]
[24061,24,"BELCHERTOWN                  ",61,"CHICOPEE                     ",1.23,2,1.27,-0.73,6150,10000,6350,-3650,null,0,24061,1.27,6350]
[24111,24,"BELCHERTOWN                  ",111,"GRANBY                       ",16.46,16,15.4,-0.59999999999999964,115892,133592,118726,-14866,null,0,24111,15.4,118726]
[24117,24,"BELCHERTOWN                  ",117,"HADLEY                       ",2,2,2,0,10000,10000,10000,0,null,0,24117,2,10000]
[24137,24,"BELCHERTOWN                  ",137,"HOLYOKE                      ",1,4,4.12,0.12000000000000011,5000,20000,20600,600,null,0,24137,4.12,20600]
[24161,24,"BELCHERTOWN                  ",161,"LUDLOW                       ",7,6,6,0,37069,30513,32981,2468,null,0,24161,6,32981]
[24191,24,"BELCHERTOWN                  ",191,"MONSON                       ",3,6,6.1,9.9999999999999645E-2,15000,34000,30500,-3500,null,0,24191,6.1,30500]
[24210,24,"BELCHERTOWN                  ",210,"NORTHAMPTON                  ",null,2,2,0,null,10000,10000,0,null,0,24210,2,10000]
[24227,24,"BELCHERTOWN                  ",227,"PALMER                       ",18.66,20,19.439999999999998,-0.56000000000000227,103578,117278,119214,1936,null,0,24227,19.439999999999998,119214]
[24278,24,"BELCHERTOWN                  ",278,"SOUTH HADLEY                 ",1,3,2.0700000000000003,-0.92999999999999972,5000,15000,11073,-3927,null,0,24278,2.0700000000000003,11073]
[24281,24,"BELCHERTOWN                  ",281,"SPRINGFIELD                  ",3.16,9,9,0,15948,53000,57157,4157,null,0,24281,9,57157]
[24309,24,"BELCHERTOWN                  ",309,"WARE                         ",39,43,44.45,1.4500000000000028,195254,242000,234637,-7363,null,0,24309,44.45,234637]
[24348,24,"BELCHERTOWN                  ",348,"WORCESTER                    ",null,1,1,0,null,5000,5000,0,null,0,24348,1,5000]
[24605,24,"BELCHERTOWN                  ",605,"AMHERST PELHAM               ",5,4,5.6400000000000006,1.6400000000000006,62098,59704,68073,8369,null,0,24605,5.6400000000000006,68073]
[24670,{"$f":"TRUNC(A103,-3)/1000","v":24},{"$f":"VLOOKUP(B103,code437,2)","v":"BELCHERTOWN                  "},{"$f":"A103-B103*1000","v":670},"FRONTIER                     ",null,null,1,1,null,null,5000,5000,null,0,24670,1,5000]
[24680,24,"BELCHERTOWN                  ",680,"HAMPDEN WILBRAHAM            ",null,3,3,0,null,15000,15000,0,null,0,24680,3,15000]
[24728,24,"BELCHERTOWN                  ",728,"NEW SALEM WENDELL            ",1,1,1,0,5000,5000,5000,0,null,0,24728,1,5000]
[25035,25,"BELLINGHAM                   ",35,"BOSTON                       ",null,1,0.76,-0.24,null,5000,3800,-1200,null,0,25035,0.76,3800]
[25073,25,"BELLINGHAM                   ",73,"DEDHAM                       ",null,2,1.44,-0.56000000000000005,null,14000,7200,-6800,null,0,25073,1.44,7200]
[25101,25,"BELLINGHAM                   ",101,"FRANKLIN                     ",4.41,2,2,0,22050,14000,12281,-1719,null,0,25101,2,12281]
[25138,25,"BELLINGHAM                   ",138,"HOPEDALE                     ",1.08,1,1,0,5400,5000,5000,0,null,0,25138,1,5000]
[25139,25,"BELLINGHAM                   ",139,"HOPKINTON                    ",0.76,0,0,0,3800,0,0,0,null,0,25139]
[25177,25,"BELLINGHAM                   ",177,"MEDWAY                       ",1,0,0,0,5000,0,0,0,null,0,25177]
[25185,25,"BELLINGHAM                   ",185,"MILFORD                      ",4,2,2.58,0.58000000000000007,20000,10000,12900,2900,null,0,25185,2.58,12900]
[25199,25,"BELLINGHAM                   ",199,"NEEDHAM                      ",1,0,0,0,5898,0,0,0,null,0,25199]
[25208,25,"BELLINGHAM",208,"NORFOLK                      ",1,0,1,1,5000,0,5000,5000,null,0,25208,1,5000]
[25212,{"$f":"TRUNC(A115,-3)/1000","v":25},{"$f":"VLOOKUP(B115,code437,2)","v":"BELLINGHAM                   "},{"$f":"A115-B115*1000","v":212},"NORTH ATTLEBOROUGH           ",null,null,0.27,0.27,null,null,2733,2733,null,0,25212,0.27,2733]
[25214,25,"BELLINGHAM                   ",214,"NORTHBRIDGE                  ",1,1,1,0,5000,5000,5000,0,null,0,25214,1,5000]
[25350,25,"BELLINGHAM                   ",350,"WRENTHAM                     ",1,1,1,0,5000,5000,5000,0,null,0,25350,1,5000]
[25622,25,"BELLINGHAM                   ",622,"BLACKSTONE MILLVILLE         ",28.13,22,28.139999999999997,6.139999999999997,170908,139459,159756,20297,null,0,25622,28.139999999999997,159756]
[25635,25,"BELLINGHAM                   ",635,"CENTRAL BERKSHIRE            ",null,1,0,-1,null,5000,0,-5000,null,0,25635]
[25690,25,"BELLINGHAM",690,"KING PHILIP                  ",1,0,0,0,5000,0,0,0,null,0,25690]
[25710,25,"BELLINGHAM                   ",710,"MENDON UPTON                 ",0.95,0,0,0,4750,0,0,0,null,0,25710]
[27044,{"$f":"TRUNC(A122,-3)/1000","v":27},{"$f":"VLOOKUP(B122,code437,2)","v":"BERKLEY                      "},{"$f":"A122-B122*1000","v":44},"BROCKTON                     ",null,null,2,2,null,null,10000,10000,null,0,27044,2,10000]
[27095,27,"BERKLEY                      ",95,"FALL RIVER                   ",31.6,44,37.990000000000009,-6.0099999999999909,158310,234000,189950,-44050,null,0,27095,37.990000000000009,189950]
[27182,27,"BERKLEY                      ",182,"MIDDLEBOROUGH                ",1,0,0,0,5000,0,0,0,null,0,27182]
[27201,27,"BERKLEY                      ",201,"NEW BEDFORD                  ",null,2,2,0,null,10000,10000,0,null,0,27201,2,10000]
[27218,27,"BERKLEY                      ",218,"NORTON                       ",null,1,1,0,null,5000,5000,0,null,0,27218,1,5000]
[27273,27,"BERKLEY                      ",273,"SOMERSET                     ",3,8,8.24,0.24000000000000021,15000,44000,41200,-2800,null,0,27273,8.24,41200]
[27292,27,"BERKLEY                      ",292,"SWANSEA                      ",2,1,1,0,10000,5000,5000,0,null,0,27292,1,5000]
[27293,27,"BERKLEY                      ",293,"TAUNTON                      ",23,36,33.31,-2.6899999999999977,118378,200114,166550,-33564,null,0,27293,33.31,166550]
[27331,27,"BERKLEY                      ",331,"WESTPORT                     ",1,1,1,0,5000,9000,5000,-4000,null,0,27331,1,5000]
[27625,27,"BERKLEY                      ",625,"BRIDGEWATER RAYNHAM          ",5,4,5,1,25000,20000,25000,5000,null,0,27625,5,25000]
[27650,27,"BERKLEY                      ",650,"DIGHTON REHOBOTH             ",5,3,3,0,25000,15000,15000,0,null,0,27650,3,15000]
[27665,27,"BERKLEY                      ",665,"FREETOWN LAKEVILLE           ",7,8,9.620000000000001,1.620000000000001,35000,40000,48100,8100,null,0,27665,9.620000000000001,48100]
[28039,28,"BERLIN                       ",39,"BOYLSTON                     ",5,5,5,0,69045,69045,67664,-1381,null,0,28039,5,67664]
[28064,28,"BERLIN                       ",64,"CLINTON                      ",12,13,12.41,-0.58999999999999986,65006,70006,70157,151,null,0,28064,12.41,70157]
[28170,28,"BERLIN                       ",170,"MARLBOROUGH                  ",1,0,0,0,11578,0,0,0,null,0,28170]
[28348,28,"BERLIN                       ",348,"WORCESTER                    ",null,1,1,0,null,5000,5000,0,null,0,28348,1,5000]
[28616,28,"BERLIN                       ",616,"AYER SHIRLEY",null,1,1,0,null,5000,5000,0,null,{"$f":"P138-A138","v":0},28616,1,5000]
[30035,30,"BEVERLY                      ",35,"BOSTON                       ",1,0,{"$f":"Q139","v":0},{"$f":"H139-G139","v":0},5000,0,{"$f":"R139","v":0},{"$f":"L139-K139","v":0},null,0,30035]
[30038,30,"BEVERLY                      ",38,"BOXFORD                      ",null,2,2,0,null,10000,10000,0,null,0,30038,2,10000]
[30044,{"$f":"TRUNC(A141,-3)/1000","v":30},{"$f":"VLOOKUP(B141,code437,2)","v":"BEVERLY                      "},{"$f":"A141-B141*1000","v":44},"BROCKTON                     ",null,null,1,1,null,null,5000,5000,null,0,30044,1,5000]
[30057,30,"BEVERLY                      ",57,"CHELSEA                      ",null,1,1,0,null,5000,5000,0,null,0,30057,1,5000]
[30071,30,"BEVERLY                      ",71,"DANVERS                      ",10.5,13,13,0,54769,67269,68382,1113,null,0,30071,13,68382]
[30107,30,"BEVERLY                      ",107,"GLOUCESTER                   ",8,6,6,0,41793,37000,37483,483,null,0,30107,6,37483]
[30128,30,"BEVERLY                      ",128,"HAVERHILL                    ",1,1,1,0,5000,5000,5000,0,null,0,30128,1,5000]
[30144,30,"BEVERLY                      ",144,"IPSWICH                      ",2.84,2,2,0,17430,10000,10000,0,null,0,30144,2,10000]
[30163,30,"BEVERLY                      ",163,"LYNN                         ",15,18,16.55,-1.4499999999999993,82283,113283,114998,1715,null,0,30163,16.55,114998]
[30168,30,"BEVERLY                      ",168,"MARBLEHEAD                   ",null,2,2,0,null,10000,10947,947,null,0,30168,2,10947]
[30229,30,"BEVERLY                      ",229,"PEABODY                      ",16.259999999999998,18,17,-1,83508,94084,86225,-7859,null,0,30229,17,86225]
[30246,30,"BEVERLY                      ",246,"READING                      ",1,0,0,0,6997,0,0,0,null,0,30246]
[30252,30,"BEVERLY                      ",252,"ROCKPORT                     ",2,2,2,0,10000,10000,10000,0,null,0,30252,2,10000]
[30258,30,"BEVERLY                      ",258,"SALEM                        ",27.97,32.5,28.869999999999997,-3.6300000000000026,157321,188516,167456,-21060,null,0,30258,28.869999999999997,167456]
[30262,30,"BEVERLY                      ",262,"SAUGUS                       ",2,1,1,0,10000,5000,5000,0,null,0,30262,1,5000]
[30284,30,"BEVERLY                      ",284,"STONEHAM                     ",1,1,1,0,14274,14274,16187,1913,null,0,30284,1,16187]
[30291,30,"BEVERLY                      ",291,"SWAMPSCOTT                   ",1,1,1.38,0.37999999999999989,5000,5000,6900,1900,null,0,30291,1.38,6900]
[30675,30,"BEVERLY                      ",675,"HAMILTON WENHAM              ",1,1,2,1,5000,5000,10000,5000,null,0,30675,2,10000]
[30698,30,"BEVERLY                      ",698,"MANCHESTER ESSEX",2.4,2,2,0,12000,10000,10000,0,null,0,30698,2,10000]
[30745,{"$f":"TRUNC(A158,-3)/1000","v":30},{"$f":"VLOOKUP(B158,code437,2)","v":"BEVERLY                      "},{"$f":"A158-B158*1000","v":745},"PENTUCKET                    ",null,null,1,1,null,null,5000,5000,null,0,30745,1,5000]
[30773,30,"BEVERLY                      ",773,"TRITON                       ",2.35,2.5,2.5,0,14102,12500,12500,0,null,0,30773,2.5,12500]
[36016,36,"BOURNE                       ",16,"ATTLEBORO                    ",null,1,0,-1,null,5000,0,-5000,null,0,36016]
[36094,36,"BOURNE                       ",94,"FAIRHAVEN                    ",1,1,1,0,5000,5000,5000,0,null,0,36094,1,5000]
[36096,36,"BOURNE                       ",96,"FALMOUTH                     ",10,6,7.78,1.7800000000000002,50000,30000,38900,8900,null,0,36096,7.78,38900]
[36172,36,"BOURNE                       ",172,"MASHPEE                      ",6.27,5,5,0,31350,25000,25000,0,null,0,36172,5,25000]
[36201,36,"BOURNE                       ",201,"NEW BEDFORD                  ",2,0,0,0,13206,0,0,0,null,0,36201]
[36239,36,"BOURNE                       ",239,"PLYMOUTH                     ",11.200000000000001,11.5,11.5,0,74594,79591,60713,-18878,null,0,36239,11.5,60713]
[36261,36,"BOURNE                       ",261,"SANDWICH                     ",7.16,3,3,0,36004,15000,15000,0,null,0,36261,3,15000]
[36293,{"$f":"TRUNC(A167,-3)/1000","v":36},{"$f":"VLOOKUP(B167,code437,2)","v":"BOURNE                       "},{"$f":"A167-B167*1000","v":293},"TAUNTON                      ",null,null,1,1,null,null,16193,16193,null,0,36293,1,16193]
[36310,36,"BOURNE                       ",310,"WAREHAM                      ",85.83,88,103.36,15.36,498715,522086,628414,106328,null,0,36310,103.36,628414]
[36660,36,"BOURNE                       ",660,"NAUSET                       ",2,2,1.26,-0.74,10000,10000,6300,-3700,null,0,36660,1.26,6300]
[36712,36,"BOURNE                       ",712,"MONOMOY",1,1,1,0,5000,5000,5000,0,null,0,36712,1,5000]
[39064,39,"BOYLSTON                     ",64,"CLINTON                      ",3,2,2,0,15000,10000,10000,0,null,0,39064,2,10000]
[39151,39,"BOYLSTON                     ",151,"LEICESTER                    ",null,0.5,0.5,0,null,2500,5717,3217,null,0,39151,0.5,5717]
[39226,39,"BOYLSTON                     ",226,"OXFORD                       ",null,1,1,0,null,5000,5000,0,null,0,39226,1,5000]
[39348,39,"BOYLSTON                     ",348,"WORCESTER                    ",10,13.5,13.5,0,55513,73013,74048,1035,null,0,39348,13.5,74048]
[44001,44,"BROCKTON                     ",1,"ABINGTON                     ",1,1,0.31,-0.69,5000,5000,1550,-3450,null,0,44001,0.31,1550]
[44018,44,"BROCKTON                     ",18,"AVON                         ",1,0,0,0,5000,0,0,0,null,0,44018]
[44073,44,"BROCKTON                     ",73,"DEDHAM                       ",null,1,0,-1,null,9000,0,-9000,null,0,44073]
[44083,44,"BROCKTON                     ",83,"EAST BRIDGEWATER             ",2,3,2,-1,10000,15000,10000,-5000,null,0,44083,2,10000]
[44088,44,"BROCKTON                     ",88,"EASTON                       ",1,1,1,0,5000,5000,5000,0,null,0,44088,1,5000]
[44133,44,"BROCKTON                     ",133,"HOLBROOK                     ",1,1,2,1,5000,5000,31972,26972,null,0,44133,2,31972]
[44182,44,"BROCKTON                     ",182,"MIDDLEBOROUGH                ",2,2,2,0,10000,10000,10000,0,null,0,44182,2,10000]
[44244,44,"BROCKTON                     ",244,"RANDOLPH                     ",1,1,0.22,-0.78,5000,5000,1100,-3900,null,0,44244,0.22,1100]
[44266,44,"BROCKTON                     ",266,"SHARON                       ",null,1,1,0,null,5000,5000,0,null,0,44266,1,5000]
[44285,44,"BROCKTON                     ",285,"STOUGHTON                    ",2,3,3,0,10000,22000,53113,31113,null,0,44285,3,53113]
[44293,44,"BROCKTON                     ",293,"TAUNTON                      ",1,2,2,0,5000,10000,10000,0,null,0,44293,2,10000]
[44323,44,"BROCKTON                     ",323,"WEST BRIDGEWATER             ",3,0,2,2,15000,0,10000,10000,null,0,44323,2,10000]
[44625,44,"BROCKTON                     ",625,"BRIDGEWATER RAYNHAM          ",5,7,6,-1,25000,35000,30000,-5000,null,0,44625,6,30000]
[44665,44,"BROCKTON                     ",665,"FREETOWN LAKEVILLE           ",2,1,1,0,10000,5000,5000,0,null,0,44665,1,5000]
[44780,44,"BROCKTON                     ",780,"WHITMAN HANSON               ",1,0,0,0,5000,0,0,0,null,0,44780]
[44821,44,"BROCKTON                     ",821,"GREATER FALL RIVER           ",null,1,0.9,-9.9999999999999978E-2,null,5000,55209,50209,null,0,44821,0.9,55209]
[45043,45,"BROOKFIELD                   ",43,"BRIMFIELD                    ",0.37,0,0,0,1850,0,0,0,null,0,45043]
[45135,45,"BROOKFIELD                   ",135,"HOLLAND                      ",1,0,1,1,5000,0,5000,5000,null,0,45135,1,5000]
[45215,45,"BROOKFIELD                   ",215,"NORTH BROOKFIELD             ",16,11,11,0,99366,55000,55000,0,null,0,45215,11,55000]
[45277,45,"BROOKFIELD                   ",277,"SOUTHBRIDGE                  ",3.62,3,3,0,18100,15000,15000,0,null,0,45277,3,15000]
[45287,45,"BROOKFIELD                   ",287,"STURBRIDGE                   ",2.2000000000000002,3,3.88,0.87999999999999989,11000,15000,19400,4400,null,0,45287,3.88,19400]
[45306,45,"BROOKFIELD                   ",306,"WALES                        ",2,1,1,0,11795,6795,7283,488,null,0,45306,1,7283]
[45309,45,"BROOKFIELD                   ",309,"WARE                         ",5,6,5.3599999999999994,-0.64000000000000057,25000,30000,26800,-3200,null,0,45309,5.3599999999999994,26800]
[45316,45,"BROOKFIELD                   ",316,"WEBSTER                      ",1,1,1,0,5000,5000,5000,0,null,0,45316,1,5000]
[45753,45,"BROOKFIELD                   ",753,"QUABBIN                      ",1,1,1,0,5000,5000,5000,0,null,0,45753,1,5000]
[45767,45,"BROOKFIELD                   ",767,"SPENCER EAST BROOKFIELD      ",16.88,16,14,-2,84400,80000,70000,-10000,null,0,45767,14,70000]
[45778,45,"BROOKFIELD                   ",778,"QUABOAG",11.79,15,15.67,0.66999999999999993,122773,138823,146290,7467,null,{"$f":"P201-A201","v":0},45778,15.67,146290]
[48023,48,"BURLINGTON                   ",23,"BEDFORD                      ",1,1,{"$f":"Q202","v":1},{"$f":"H202-G202","v":0},5000,5000,{"$f":"R202","v":5000},{"$f":"L202-K202","v":0},null,0,48023,1,5000]
[48031,48,"BURLINGTON                   ",31,"BILLERICA                    ",6.36,4,4,0,31800,20000,20000,0,null,0,48031,4,20000]
[48035,48,"BURLINGTON                   ",35,"BOSTON                       ",1,1,1,0,5000,9000,5000,-4000,null,0,48035,1,5000]
[48149,48,"BURLINGTON                   ",149,"LAWRENCE                     ",1,1,1,0,5000,5000,5000,0,null,0,48149,1,5000]
[48155,48,"BURLINGTON                   ",155,"LEXINGTON                    ",1,1,1,0,5000,5000,5000,0,null,0,48155,1,5000]
[48158,48,"BURLINGTON                   ",158,"LITTLETON                    ",null,1,1,0,null,5000,5000,0,null,0,48158,1,5000]
[48160,48,"BURLINGTON                   ",160,"LOWELL                       ",1.3900000000000001,0,0,0,6950,0,0,0,null,0,48160]
[48176,48,"BURLINGTON                   ",176,"MEDFORD                      ",null,1,1,0,null,5000,5000,0,null,0,48176,1,5000]
[48178,48,"BURLINGTON                   ",178,"MELROSE                      ",1,1,0.45,-0.55000000000000004,5000,5000,2250,-2750,null,0,48178,0.45,2250]
[48181,48,"BURLINGTON                   ",181,"METHUEN                      ",null,2,2,0,null,10000,10000,0,null,0,48181,2,10000]
[48217,48,"BURLINGTON                   ",217,"NORTH READING                ",null,1,1,0,null,5000,5000,0,null,0,48217,1,5000]
[48246,{"$f":"TRUNC(A213,-3)/1000","v":48},{"$f":"VLOOKUP(B213,code437,2)","v":"BURLINGTON                   "},{"$f":"A213-B213*1000","v":246},"READING                      ",null,null,0.32,0.32,null,null,1600,1600,null,0,48246,0.32,1600]
[48248,48,"BURLINGTON                   ",248,"REVERE                       ",null,1,1,0,null,5000,5000,0,null,0,48248,1,5000]
[48284,48,"BURLINGTON                   ",284,"STONEHAM                     ",1,2,2,0,5000,14000,10000,-4000,null,0,48284,2,10000]
[48295,48,"BURLINGTON                   ",295,"TEWKSBURY                    ",1,0,0,0,5000,0,0,0,null,0,48295]
[48347,48,"BURLINGTON                   ",347,"WOBURN",10.27,12,12.160000000000004,0.16000000000000369,51350,60000,60800,800,null,0,48347,12.160000000000004,60800]
[52036,52,"CARVER                       ",36,"BOURNE                       ",1,1,1.56,0.56000000000000005,5000,5000,7800,2800,null,0,52036,1.56,7800]
[52083,52,"CARVER                       ",83,"EAST BRIDGEWATER             ",1,0,0,0,5000,0,0,0,null,0,52083]
[52118,52,"CARVER                       ",118,"HALIFAX                      ",1,1,1,0,5000,5000,5000,0,null,0,52118,1,5000]
[52182,52,"CARVER                       ",182,"MIDDLEBOROUGH                ",1,1,1,0,5000,5000,5000,0,null,0,52182,1,5000]
[52239,52,"CARVER                       ",239,"PLYMOUTH                     ",9.64,10,9,-1,48200,50000,45772,-4228,null,0,52239,9,45772]
[52240,52,"CARVER                       ",240,"PLYMPTON                     ",1,1,1,0,5000,5000,5000,0,null,0,52240,1,5000]
[52310,52,"CARVER                       ",310,"WAREHAM                      ",6,9,9,0,82791,97791,105570,7779,null,0,52310,9,105570]
[56031,56,"CHELMSFORD                   ",31,"BILLERICA                    ",1,3,3,0,5000,15000,15000,0,null,0,56031,3,15000]
[56079,56,"CHELMSFORD                   ",79,"DRACUT                       ",2,2,2,0,10000,14000,19526,5526,null,0,56079,2,19526]
[56105,{"$f":"TRUNC(A227,-3)/1000","v":56},{"$f":"VLOOKUP(B227,code437,2)","v":"CHELMSFORD                   "},{"$f":"A227-B227*1000","v":105},"GEORGETOWN                   ",null,null,1,1,null,null,5000,5000,null,0,56105,1,5000]
[56149,56,"CHELMSFORD                   ",149,"LAWRENCE                     ",1,1,0,-1,5000,5000,0,-5000,null,0,56149]
[56160,56,"CHELMSFORD                   ",160,"LOWELL                       ",30,45,43.89,-1.1099999999999994,245711,290561,329884,39323,null,0,56160,43.89,329884]
[56181,56,"CHELMSFORD                   ",181,"METHUEN                      ",1,0,0,0,5000,0,0,0,null,0,56181]
[56301,56,"CHELMSFORD                   ",301,"TYNGSBOROUGH                 ",4,4,4,0,20000,20000,20000,0,null,0,56301,4,20000]
[56326,56,"CHELMSFORD                   ",326,"WESTFORD                     ",3,3,3,0,25812,25812,31311,5499,null,0,56326,3,31311]
[56735,56,"CHELMSFORD                   ",735,"NORTH MIDDLESEX              ",2,1,1,0,10000,5000,5000,0,null,0,56735,1,5000]
[61005,61,"CHICOPEE                     ",5,"AGAWAM                       ",1,0,0,0,5000,0,0,0,null,0,61005]
[61024,61,"CHICOPEE                     ",24,"BELCHERTOWN                  ",null,3,2.3200000000000003,-0.67999999999999972,null,30207,21185,-9022,null,0,61024,2.3200000000000003,21185]
[61086,61,"CHICOPEE                     ",86,"EASTHAMPTON                  ",1,0,0,0,5000,0,0,0,null,0,61086]
[61111,61,"CHICOPEE                     ",111,"GRANBY                       ",2,4,5,1,10000,20000,25000,5000,null,0,61111,5,25000]
[61137,61,"CHICOPEE                     ",137,"HOLYOKE                      ",14,21,21,0,70000,105000,105000,0,null,0,61137,21,105000]
[61161,61,"CHICOPEE                     ",161,"LUDLOW                       ",2,3,3,0,10000,15000,15000,0,null,0,61161,3,15000]
[61227,61,"CHICOPEE                     ",227,"PALMER                       ",null,1,1,0,null,5000,5000,0,null,0,61227,1,5000]
[61278,61,"CHICOPEE                     ",278,"SOUTH HADLEY                 ",8,10,10,0,40000,50000,50000,0,null,0,61278,10,50000]
[61281,61,"CHICOPEE                     ",281,"SPRINGFIELD                  ",141.17000000000002,143,140.88,-2.1200000000000045,739316,729782,727362,-2420,null,0,61281,140.88,727362]
[61325,61,"CHICOPEE                     ",325,"WESTFIELD                    ",null,1,1,0,null,5000,5000,0,null,0,61325,1,5000]
[61332,61,"CHICOPEE                     ",332,"WEST SPRINGFIELD             ",3,4,2.2400000000000002,-1.7599999999999998,15000,20000,11200,-8800,null,0,61332,2.2400000000000002,11200]
[61680,61,"CHICOPEE                     ",680,"HAMPDEN WILBRAHAM            ",1,0,0,0,5000,0,0,0,null,0,61680]
[61766,61,"CHICOPEE                     ",766,"SOUTHWICK TOLLAND",1,0,0,0,5000,0,0,0,null,0,61766]
[61860,61,"CHICOPEE                     ",860,"PATHFINDER                   ",5,5,4,-1,37311,29104,24162,-4942,null,0,61860,4,24162]
[63098,63,"CLARKSBURG                   ",98,"FLORIDA                      ",1,1,1,0,5000,5000,5000,0,null,0,63098,1,5000]
[63209,63,"CLARKSBURG                   ",209,"NORTH ADAMS                  ",22.96,28,31.39,3.3900000000000006,139216,174974,183013,8039,null,0,63209,31.39,183013]
[63603,63,"CLARKSBURG                   ",603,"ADAMS CHESHIRE               ",2,3,2,-1,10441,19000,10000,-9000,null,0,63603,2,10000]
[63685,63,"CLARKSBURG                   ",685,"HAWLEMONT                    ",1,1,1,0,5000,5000,5000,0,null,0,63685,1,5000]
[64028,{"$f":"TRUNC(A252,-3)/1000","v":64},{"$f":"VLOOKUP(B252,code437,2)","v":"CLINTON                      "},{"$f":"A252-B252*1000","v":28},"BERLIN                       ",null,null,1,1,null,null,5000,5000,null,0,64028,1,5000]
[64039,64,"CLINTON                      ",39,"BOYLSTON                     ",0.74,2,0.38,-1.62,3700,10000,1900,-8100,null,0,64039,0.38,1900]
[64097,64,"CLINTON                      ",97,"FITCHBURG                    ",14.72,14,13.969999999999999,-3.0000000000001137E-2,82135,93000,106531,13531,null,0,64097,13.969999999999999,106531]
[64141,64,"CLINTON                      ",141,"HUDSON                       ",2,0,0.18,0.18,10000,0,900,900,null,0,64141,0.18,900]
[64153,64,"CLINTON                      ",153,"LEOMINSTER                   ",30.52,27,25.93,-1.0700000000000003,233160,204783,214897,10114,null,0,64153,25.93,214897]
[64162,64,"CLINTON                      ",162,"LUNENBURG                    ",2,0,0,0,31501,0,0,0,null,0,64162]
[64170,64,"CLINTON                      ",170,"MARLBOROUGH                  ",5,0,1.28,1.28,51398,0,6400,6400,null,0,64170,1.28,6400]
[64174,64,"CLINTON                      ",174,"MAYNARD                      ",0.33,0,0,0,1650,0,0,0,null,0,64174]
[64271,64,"CLINTON                      ",271,"SHREWSBURY                   ",1.6800000000000002,0,0,0,8400,0,0,0,null,0,64271]
[64322,64,"CLINTON                      ",322,"WEST BOYLSTON                ",2,0,0,0,21192,0,0,0,null,0,64322]
[64348,64,"CLINTON                      ",348,"WORCESTER                    ",14.370000000000001,6,6.82,0.82000000000000028,160409,90256,84632,-5624,null,0,64348,6.82,84632]
[64610,64,"CLINTON                      ",610,"ASHBURNHAM WESTMINSTER       ",0.78,0,0.37,0.37,3900,0,1850,1850,null,0,64610,0.37,1850]
[64620,64,"CLINTON                      ",620,"BERLIN BOYLSTON              ",2,2,2,0,10000,14000,16967,2967,null,0,64620,2,16967]
[64725,64,"CLINTON                      ",725,"NASHOBA                      ",25.740000000000002,16,17.95,1.9499999999999993,150891,97564,117185,19621,null,{"$f":"P265-A265","v":0},64725,17.95,117185]
[64775,64,"CLINTON                      ",775,"WACHUSETT                    ",13.370000000000003,12,{"$f":"Q266","v":12.55},{"$f":"H266-G266","v":0.55000000000000071},75532,75682,{"$f":"R266","v":83890},{"$f":"L266-K266","v":8208},null,0,64775,12.55,83890]
[68008,68,"CONWAY                       ",8,"AMHERST                      ",0.82,0,0,0,4100,0,0,0,null,0,68008]
[68074,68,"CONWAY                       ",74,"DEERFIELD                    ",2,2,2,0,10000,10000,12195,2195,null,0,68074,2,12195]
[68114,68,"CONWAY                       ",114,"GREENFIELD                   ",4,5,5,0,24997,29997,31582,1585,null,0,68114,5,31582]
[68278,68,"CONWAY                       ",278,"SOUTH HADLEY                 ",null,1,1,0,null,5000,5000,0,null,0,68278,1,5000]
[68337,68,"CONWAY                       ",337,"WHATELY                      ",2,2,2,0,15880,15880,14411,-1469,null,0,68337,2,14411]
[68674,68,"CONWAY                       ",674,"GILL MONTAGUE                ",1,2,1,-1,5000,26000,5000,-21000,null,0,68674,1,5000]
[68685,68,"CONWAY                       ",685,"HAWLEMONT                    ",2,3,3,0,26860,31860,29857,-2003,null,0,68685,3,29857]
[68717,68,"CONWAY                       ",717,"MOHAWK TRAIL                 ",8,5,5,0,40000,25000,25000,0,null,0,68717,5,25000]
[68750,68,"CONWAY                       ",750,"PIONEER                      ",null,1,0.21,-0.79,null,5000,1050,-3950,null,0,68750,0.21,1050]
[74008,74,"DEERFIELD                    ",8,"AMHERST                      ",1,1,1,0,5000,5000,5000,0,null,0,74008,1,5000]
[74086,74,"DEERFIELD                    ",86,"EASTHAMPTON                  ",1,2,2,0,5000,10000,10000,0,null,0,74086,2,10000]
[74114,74,"DEERFIELD                    ",114,"GREENFIELD                   ",51.48,44,46.41,2.4099999999999966,373588,294840,351395,56555,null,0,74114,46.41,351395]
[74117,74,"DEERFIELD                    ",117,"HADLEY                       ",2,2,2,0,13971,13971,14167,196,null,0,74117,2,14167]
[74127,74,"DEERFIELD                    ",127,"HATFIELD                     ",2,4,4,0,14449,24449,23268,-1181,null,0,74127,4,23268]
[74210,74,"DEERFIELD                    ",210,"NORTHAMPTON                  ",1,1,1,0,43321,39120,35663,-3457,null,0,74210,1,35663]
[74223,74,"DEERFIELD                    ",223,"ORANGE                       ",2,1,1.47,0.47,10000,5000,23995,18995,null,0,74223,1.47,23995]
[74278,74,"DEERFIELD                    ",278,"SOUTH HADLEY                 ",1,1,0,-1,5000,5000,0,-5000,null,0,74278]
[74289,74,"DEERFIELD                    ",289,"SUNDERLAND                   ",5,2,2,0,25000,10000,10000,0,null,0,74289,2,10000]
[74332,74,"DEERFIELD                    ",332,"WEST SPRINGFIELD             ",0.19,0,0,0,950,0,0,0,null,0,74332]
[74337,74,"DEERFIELD                    ",337,"WHATELY                      ",2,0,0,0,10000,0,0,0,null,0,74337]
[74625,{"$f":"TRUNC(A287,-3)/1000","v":74},{"$f":"VLOOKUP(B287,code437,2)","v":"DEERFIELD                    "},{"$f":"A287-B287*1000","v":625},"BRIDGEWATER RAYNHAM          ",null,null,0.24,0.24,null,null,1200,1200,"can't be",0,74625,0.24,1200]
[74632,74,"DEERFIELD                    ",632,"CHESTERFIELD GOSHEN",2,2,2,0,10000,10000,10000,0,null,0,74632,2,10000]
[74674,74,"DEERFIELD                    ",674,"GILL MONTAGUE                ",25,23,22.67,-0.32999999999999829,170582,130131,137936,7805,null,0,74674,22.67,137936]
[74685,74,"DEERFIELD                    ",685,"HAWLEMONT                    ",1,0,0,0,5000,0,0,0,null,0,74685]
[74717,74,"DEERFIELD                    ",717,"MOHAWK TRAIL                 ",2,2,2,0,10000,10000,10000,0,null,0,74717,2,10000]
[74750,74,"DEERFIELD                    ",750,"PIONEER                      ",2,3,3,0,10000,15000,15000,0,null,0,74750,3,15000]
[77017,77,"DOUGLAS                      ",17,"AUBURN                       ",null,3,1.29,-1.71,null,19000,10407,-8593,null,0,77017,1.29,10407]
[77110,{"$f":"TRUNC(A294,-3)/1000","v":77},{"$f":"VLOOKUP(B294,code437,2)","v":"DOUGLAS                      "},{"$f":"A294-B294*1000","v":110},"GRAFTON                      ",null,null,0.22,0.22,null,null,1100,1100,null,0,77110,0.22,1100]
[77138,{"$f":"TRUNC(A295,-3)/1000","v":77},{"$f":"VLOOKUP(B295,code437,2)","v":"DOUGLAS                      "},{"$f":"A295-B295*1000","v":138},"HOPEDALE                     ",null,null,0.98,0.98,null,null,4900,4900,null,0,77138,0.98,4900]
[77185,77,"DOUGLAS                      ",185,"MILFORD                      ",3,3,3,0,19847,23847,17076,-6771,null,0,77185,3,17076]
[77214,77,"DOUGLAS                      ",214,"NORTHBRIDGE                  ",23,15,18.57,3.5700000000000003,145278,85859,119247,33388,null,0,77214,18.57,119247]
[77226,77,"DOUGLAS                      ",226,"OXFORD                       ",1,3,4.0999999999999996,1.0999999999999996,5000,26000,43468,17468,null,0,77226,4.0999999999999996,43468]
[77287,77,"DOUGLAS                      ",287,"STURBRIDGE                   ",null,1,1,0,null,5000,5000,0,null,0,77287,1,5000]
[77290,77,"DOUGLAS                      ",290,"SUTTON                       ",5,5,5,0,25000,25000,25000,0,null,0,77290,5,25000]
[77304,77,"DOUGLAS                      ",304,"UXBRIDGE                     ",20,20,21.510000000000005,1.5100000000000051,103644,104000,107550,3550,null,0,77304,21.510000000000005,107550]
[77316,77,"DOUGLAS                      ",316,"WEBSTER                      ",63.81,53,53.769999999999996,0.76999999999999602,344299,286146,286690,544,null,0,77316,53.769999999999996,286690]
[77348,77,"DOUGLAS                      ",348,"WORCESTER                    ",3,2,1.8399999999999999,-0.16000000000000014,19497,10000,9200,-800,null,0,77348,1.8399999999999999,9200]
[77610,77,"DOUGLAS                      ",610,"ASHBURNHAM WESTMINSTER       ",null,1,0,-1,null,5000,0,-5000,null,0,77610]
[77622,77,"DOUGLAS                      ",622,"BLACKSTONE MILLVILLE         ",3,3,3.33,0.33000000000000007,15000,15000,16650,1650,null,0,77622,3.33,16650]
[77658,77,"DOUGLAS                      ",658,"DUDLEY CHARLTON              ",null,2,2,0,null,10000,10000,0,null,0,77658,2,10000]
[79031,79,"DRACUT                       ",31,"BILLERICA                    ",1,0,0,0,5000,0,0,0,null,0,79031]
[79149,79,"DRACUT                       ",149,"LAWRENCE                     ",3,2,2,0,17077,12077,11467,-610,null,0,79149,2,11467]
[79160,79,"DRACUT                       ",160,"LOWELL                       ",22.939999999999998,26,27.82,1.8200000000000003,118263,140563,159753,19190,null,0,79160,27.82,159753]
[79295,79,"DRACUT                       ",295,"TEWKSBURY                    ",null,1,1.4,0.39999999999999991,null,5000,7000,2000,null,0,79295,1.4,7000]
[79301,{"$f":"TRUNC(A311,-3)/1000","v":79},{"$f":"VLOOKUP(B311,code437,2)","v":"DRACUT                       "},{"$f":"A311-B311*1000","v":301},"TYNGSBOROUGH                 ",null,null,2.63,2.63,null,null,13150,13150,null,0,79301,2.63,13150]
[79326,{"$f":"TRUNC(A312,-3)/1000","v":79},{"$f":"VLOOKUP(B312,code437,2)","v":"DRACUT                       "},{"$f":"A312-B312*1000","v":326},"WESTFORD                     ",null,null,2,2,null,null,10000,10000,null,0,79326,2,10000]
[83001,83,"EAST BRIDGEWATER             ",1,"ABINGTON                     ",2,3,2,-1,10000,31000,10000,-21000,null,0,83001,2,10000]
[83044,83,"EAST BRIDGEWATER             ",44,"BROCKTON                     ",3.59,7,6.74,-0.25999999999999979,17950,42000,33700,-8300,null,0,83044,6.74,33700]
[83122,{"$f":"TRUNC(A315,-3)/1000","v":83},{"$f":"VLOOKUP(B315,code437,2)","v":"EAST BRIDGEWATER             "},{"$f":"A315-B315*1000","v":122},"HANOVER                      ",null,null,0.74,0.74,null,null,3700,3700,null,0,83122,0.74,3700]
[83133,83,"EAST BRIDGEWATER             ",133,"HOLBROOK                     ",1,0,0,0,5000,0,0,0,null,0,83133]
[83182,{"$f":"TRUNC(A317,-3)/1000","v":83},{"$f":"VLOOKUP(B317,code437,2)","v":"EAST BRIDGEWATER             "},{"$f":"A317-B317*1000","v":182},"MIDDLEBOROUGH                ",null,null,1,1,null,null,5000,5000,null,0,83182,1,5000]
[83218,83,"EAST BRIDGEWATER             ",218,"NORTON                       ",null,1,1,0,null,5000,5000,0,null,0,83218,1,5000]
[83251,83,"EAST BRIDGEWATER             ",251,"ROCKLAND                     ",1,0,0,0,5000,0,0,0,null,0,83251]
[83293,83,"EAST BRIDGEWATER             ",293,"TAUNTON                      ",0.22,1,1,0,1100,12000,5000,-7000,null,0,83293,1,5000]
[83323,83,"EAST BRIDGEWATER             ",323,"WEST BRIDGEWATER             ",1,2,2,0,5000,26000,10000,-16000,null,0,83323,2,10000]
[83625,83,"EAST BRIDGEWATER             ",625,"BRIDGEWATER RAYNHAM          ",4,6,4.53,-1.4699999999999998,20000,30000,22650,-7350,null,0,83625,4.53,22650]
[83780,83,"EAST BRIDGEWATER             ",780,"WHITMAN HANSON               ",1.8800000000000001,7,7,0,9400,55000,35000,-20000,null,0,83780,7,35000]
[86061,86,"EASTHAMPTON                  ",61,"CHICOPEE                     ",0.13,2,2.36,0.35999999999999988,650,10000,11800,1800,null,0,86061,2.36,11800]
[86127,86,"EASTHAMPTON                  ",127,"HATFIELD                     ",1,1,1,0,5000,5000,5000,0,null,0,86127,1,5000]
[86137,86,"EASTHAMPTON                  ",137,"HOLYOKE                      ",48.809999999999988,51,48.890000000000008,-2.1099999999999923,250745,265402,269433,4031,null,0,86137,48.890000000000008,269433]
[86210,86,"EASTHAMPTON                  ",210,"NORTHAMPTON                  ",4,7,7.3599999999999994,0.35999999999999943,21291,35000,36800,1800,null,0,86210,7.3599999999999994,36800]
[86275,86,"EASTHAMPTON                  ",275,"SOUTHAMPTON                  ",4,3,3.95,0.95000000000000018,20977,19000,22351,3351,null,0,86275,3.95,22351]
[86278,86,"EASTHAMPTON                  ",278,"SOUTH HADLEY                 ",0.4,1,1.63,0.62999999999999989,2000,9000,16681,7681,null,{"$f":"P329-A329","v":0},86278,1.63,16681]
[86281,86,"EASTHAMPTON                  ",281,"SPRINGFIELD                  ",3,1,{"$f":"Q330","v":1},{"$f":"H330-G330","v":0},15000,5000,{"$f":"R330","v":5000},{"$f":"L330-K330","v":0},null,0,86281,1,5000]
[86325,86,"EASTHAMPTON                  ",325,"WESTFIELD                    ",8.07,8,7.54,-0.45999999999999996,40350,52000,60028,8028,null,0,86325,7.54,60028]
[86327,86,"EASTHAMPTON                  ",327,"WESTHAMPTON                  ",1,1,1,0,5000,5000,5000,0,null,0,86327,1,5000]
[86332,86,"EASTHAMPTON                  ",332,"WEST SPRINGFIELD             ",null,1,1,0,null,12000,6821,-5179,null,0,86332,1,6821]
[86635,86,"EASTHAMPTON                  ",635,"CENTRAL BERKSHIRE            ",2,1,1,0,10000,5000,5000,0,null,0,86635,1,5000]
[86672,86,"EASTHAMPTON                  ",672,"GATEWAY                      ",1,1,1,0,5000,5000,5000,0,null,0,86672,1,5000]
[86683,86,"EASTHAMPTON                  ",683,"HAMPSHIRE                    ",10.75,8,8.370000000000001,0.37000000000000099,53750,40000,41850,1850,null,0,86683,8.370000000000001,41850]
[89221,89,"EDGARTOWN                    ",221,"OAK BLUFFS                   ",9.1900000000000013,5,5,0,57747,36028,48812,12784,null,0,89221,5,48812]
[89296,89,"EDGARTOWN                    ",296,"TISBURY                      ",3,3,3,0,15000,15000,15000,0,null,0,89296,3,15000]
[89774,89,"EDGARTOWN                    ",774,"UPISLAND",0.45,0,0,0,2250,0,0,0,null,0,89774]
[95027,95,"FALL RIVER                   ",27,"BERKLEY                      ",null,1,0.16,-0.84,null,5000,800,-4200,null,0,95027,0.16,800]
[95044,95,"FALL RIVER                   ",44,"BROCKTON                     ",1,3,3,0,5000,19000,15000,-4000,null,0,95044,3,15000]
[95102,95,"FALL RIVER                   ",102,"FREETOWN                     ",null,1,1,0,null,5000,5000,0,null,0,95102,1,5000]
[95201,95,"FALL RIVER                   ",201,"NEW BEDFORD                  ",null,1,1,0,null,21000,5000,-16000,null,0,95201,1,5000]
[95273,95,"FALL RIVER                   ",273,"SOMERSET                     ",0.22,5,2.99,-2.0099999999999998,1100,41000,14950,-26050,null,0,95273,2.99,14950]
[95292,95,"FALL RIVER                   ",292,"SWANSEA                      ",2.19,4,2,-2,10950,28000,10000,-18000,null,0,95292,2,10000]
[95293,95,"FALL RIVER                   ",293,"TAUNTON                      ",4,5,5,0,20000,25000,25000,0,null,0,95293,5,25000]
[95310,95,"FALL RIVER                   ",310,"WAREHAM                      ",null,1,1,0,null,5000,5000,0,null,0,95310,1,5000]
[95331,95,"FALL RIVER                   ",331,"WESTPORT                     ",3,7,6.99,-9.9999999999997868E-3,15000,35000,34950,-50,null,0,95331,6.99,34950]
[95650,95,"FALL RIVER                   ",650,"DIGHTON REHOBOTH             ",null,0,0,0,null,0,0,0,null,0,95650]
[95665,95,"FALL RIVER                   ",665,"FREETOWN LAKEVILLE           ",3,0,0,0,15000,0,0,0,null,0,95665]
[95763,95,"FALL RIVER                   ",763,"SOMERSET BERKLEY",2,3,2,-1,10000,15000,10000,-5000,null,0,95763,2,10000]
[95810,95,"FALL RIVER                   ",810,"BRISTOL PLYMOUTH             ",1,0,0,0,5000,0,0,0,null,0,95810]
[95821,95,"FALL RIVER                   ",821,"GREATER FALL RIVER           ",null,1,1,0,null,9000,5000,-4000,null,0,95821,1,5000]
[95879,95,"FALL RIVER                   ",879,"UPPER CAPE COD               ",null,1,0.21,-0.79,null,5000,1050,-3950,null,0,95879,0.21,1050]
[96020,96,"FALMOUTH                     ",20,"BARNSTABLE                   ",5,2,2,0,25000,17000,13957,-3043,null,0,96020,2,13957]
[96036,96,"FALMOUTH                     ",36,"BOURNE                       ",38.83,50,48.84,-1.1599999999999966,249568,300219,287827,-12392,null,0,96036,48.84,287827]
[96095,96,"FALMOUTH                     ",95,"FALL RIVER                   ",1,1,1,0,5000,5000,5000,0,null,0,96095,1,5000]
[96122,96,"FALMOUTH                     ",122,"HANOVER                      ",null,1,1,0,null,5000,5000,0,null,0,96122,1,5000]
[96172,96,"FALMOUTH                     ",172,"MASHPEE                      ",32.33,40,40.53,0.53000000000000114,220024,246511,233676,-12835,null,0,96172,40.53,233676]
[96182,96,"FALMOUTH                     ",182,"MIDDLEBOROUGH                ",1,0,0,0,5000,0,0,0,null,0,96182]
[96239,96,"FALMOUTH                     ",239,"PLYMOUTH                     ",1,1,1,0,5000,5000,5000,0,null,0,96239,1,5000]
[96261,96,"FALMOUTH                     ",261,"SANDWICH                     ",4,2,2,0,20000,14000,14940,940,null,0,96261,2,14940]
[96293,96,"FALMOUTH                     ",293,"TAUNTON                      ",null,1,1,0,null,5000,5000,0,null,0,96293,1,5000]
[96310,96,"FALMOUTH                     ",310,"WAREHAM                      ",4.29,10,10,0,32009,64559,60688,-3871,null,0,96310,10,60688]
[96815,96,"FALMOUTH                     ",815,"CAPE COD                     ",2,3,3.7800000000000002,0.78000000000000025,10000,29000,26261,-2739,null,0,96815,3.7800000000000002,26261]
[96879,96,"FALMOUTH                     ",879,"UPPER CAPE COD               ",2,1,1,0,10000,5000,5000,0,null,0,96879,1,5000]
[97031,97,"FITCHBURG                    ",31,"BILLERICA                    ",0.03,0,0,0,150,0,0,0,null,0,97031]
[97064,97,"FITCHBURG                    ",64,"CLINTON                      ",null,3,3.17,0.16999999999999993,null,15000,15850,850,null,0,97064,3.17,15850]
[97103,97,"FITCHBURG                    ",103,"GARDNER                      ",11.510000000000002,10,11.98,1.9800000000000004,65973,51268,72673,21405,null,0,97103,11.98,72673]
[97110,97,"FITCHBURG                    ",110,"GRAFTON                      ",0.13,0,0,0,650,0,0,0,null,0,97110]
[97128,97,"FITCHBURG                    ",128,"HAVERHILL                    ",1,0,0,0,6924,0,0,0,null,0,97128]
[97141,97,"FITCHBURG                    ",141,"HUDSON                       ",0.63,1,1,0,3150,5000,5000,0,null,0,97141,1,5000]
[97153,97,"FITCHBURG                    ",153,"LEOMINSTER                   ",98.820000000000007,95,95.249999999999957,0.24999999999995737,562044,558195,545895,-12300,null,0,97153,95.249999999999957,545895]
[97158,97,"FITCHBURG                    ",158,"LITTLETON                    ",1,1,1.42,0.41999999999999993,5445,9000,7750,-1250,null,0,97158,1.42,7750]
[97162,97,"FITCHBURG                    ",162,"LUNENBURG                    ",23.38,18,19.87,1.870000000000001,150606,118137,148851,30714,null,0,97162,19.87,148851]
[97170,97,"FITCHBURG                    ",170,"MARLBOROUGH                  ",0.31,0,0,0,1550,0,0,0,null,0,97170]
[97271,97,"FITCHBURG                    ",271,"SHREWSBURY                   ",null,1,0.49,-0.51,null,5000,2450,-2550,null,0,97271,0.49,2450]
[97322,97,"FITCHBURG                    ",322,"WEST BOYLSTON                ",2,1,1.69,0.69,10000,5000,8450,3450,null,0,97322,1.69,8450]
[97343,97,"FITCHBURG                    ",343,"WINCHENDON                   ",6.11,5,5,0,31020,25000,25000,0,null,0,97343,5,25000]
[97348,97,"FITCHBURG                    ",348,"WORCESTER                    ",1.68,2,2,0,8400,10000,10000,0,null,0,97348,2,10000]
[97610,97,"FITCHBURG                    ",610,"ASHBURNHAM WESTMINSTER       ",8.6900000000000013,6,6.6000000000000005,0.60000000000000053,52503,30000,33000,3000,null,0,97610,6.6000000000000005,33000]
[97616,97,"FITCHBURG                    ",616,"AYER SHIRLEY",7.26,6,6.25,0.25,42060,32604,32648,44,null,0,97616,6.25,32648]
[97673,97,"FITCHBURG                    ",673,"GROTON DUNSTABLE             ",0.31,0,0,0,1550,0,0,0,null,0,97673]
[97720,97,"FITCHBURG                    ",720,"NARRAGANSETT                 ",1.58,1,0.65,-0.35,7900,5000,3250,-1750,null,0,97720,0.65,3250]
[97725,97,"FITCHBURG                    ",725,"NASHOBA                      ",4.91,6,6,0,30617,33120,31841,-1279,null,0,97725,6,31841]
[97735,97,"FITCHBURG                    ",735,"NORTH MIDDLESEX              ",7.45,8,8.18,0.17999999999999972,43857,40000,40900,900,null,0,97735,8.18,40900]
[97753,97,"FITCHBURG                    ",753,"QUABBIN                      ",1,1,1.32,0.32000000000000006,9397,5000,6600,1600,null,0,97753,1.32,6600]
[97755,97,"FITCHBURG                    ",755,"RALPH C MAHAR                ",null,1,1.32,0.32000000000000006,null,5000,6600,1600,null,0,97755,1.32,6600]
[97775,97,"FITCHBURG                    ",775,"WACHUSETT                    ",2.3200000000000003,4,3.5599999999999996,-0.44000000000000039,14615,21665,17800,-3865,null,0,97775,3.5599999999999996,17800]
[98063,98,"FLORIDA                      ",63,"CLARKSBURG                   ",1,0,1.42,1.42,6708,0,9506,9506,null,0,98063,1.42,9506]
[98209,98,"FLORIDA                      ",209,"NORTH ADAMS                  ",1,1,1,0,5000,5000,5000,0,null,0,98209,1,5000]
[98263,{"$f":"TRUNC(A392,-3)/1000","v":98},{"$f":"VLOOKUP(B392,code437,2)","v":"FLORIDA                      "},{"$f":"A392-B392*1000","v":263},"SAVOY                        ",null,null,1,1,null,null,5000,5000,null,0,98263,1,5000]
[101025,101,"FRANKLIN                     ",25,"BELLINGHAM                   ",9,7,7,0,45468,39000,40017,1017,null,{"$f":"P393-A393","v":0},101025,7,40017]
[101185,101,"FRANKLIN                     ",185,"MILFORD                      ",1,0,{"$f":"Q394","v":0},{"$f":"H394-G394","v":0},5000,0,{"$f":"R394","v":0},{"$f":"L394-K394","v":0},null,0,101185]
[103097,103,"GARDNER                      ",97,"FITCHBURG                    ",22.689999999999998,17,15.879999999999999,-1.120000000000001,126247,93104,84018,-9086,null,0,103097,15.879999999999999,84018]
[103141,{"$f":"TRUNC(A396,-3)/1000","v":103},{"$f":"VLOOKUP(B396,code437,2)","v":"GARDNER                      "},{"$f":"A396-B396*1000","v":141},"HUDSON                       ",null,null,1.03,1.03,null,null,5150,5150,null,0,103141,1.03,5150]
[103153,103,"GARDNER                      ",153,"LEOMINSTER                   ",1.37,4,4.17,0.16999999999999993,6850,28000,27163,-837,null,0,103153,4.17,27163]
[103162,103,"GARDNER                      ",162,"LUNENBURG                    ",0.78,0,0.04,0.04,3900,0,200,200,null,0,103162,0.04,200]
[103223,103,"GARDNER                      ",223,"ORANGE                       ",0.23,0,0.5,0.5,1150,0,2876,2876,null,0,103223,0.5,2876]
[103343,103,"GARDNER                      ",343,"WINCHENDON                   ",41.499999999999993,33,34.42,1.4200000000000017,228952,179264,185422,6158,null,0,103343,34.42,185422]
[103610,103,"GARDNER                      ",610,"ASHBURNHAM WESTMINSTER       ",5.5900000000000007,12,11.459999999999999,-0.54000000000000092,28155,68000,59521,-8479,null,0,103610,11.459999999999999,59521]
[103615,103,"GARDNER                      ",615,"ATHOL ROYALSTON              ",6.5100000000000007,5,4.53,-0.46999999999999975,33391,27565,25251,-2314,null,0,103615,4.53,25251]
[103616,103,"GARDNER                      ",616,"AYER SHIRLEY",0.5,0,0,0,2500,0,0,0,null,0,103616]
[103673,103,"GARDNER                      ",673,"GROTON DUNSTABLE             ",null,1,1,0,null,12000,6620,-5380,null,0,103673,1,6620]
[103720,103,"GARDNER                      ",720,"NARRAGANSETT                 ",49.630000000000017,37,39.230000000000004,2.230000000000004,282674,203658,235703,32045,null,0,103720,39.230000000000004,235703]
[103735,103,"GARDNER                      ",735,"NORTH MIDDLESEX              ",2.41,0,2.4300000000000002,2.4300000000000002,12252,0,13575,13575,null,0,103735,2.4300000000000002,13575]
[103753,103,"GARDNER                      ",753,"QUABBIN                      ",7.91,6,6.47,0.46999999999999975,41204,30000,32350,2350,null,0,103753,6.47,32350]
[103755,103,"GARDNER                      ",755,"RALPH C MAHAR                ",0.11,0,0.25,0.25,858,0,1250,1250,null,0,103755,0.25,1250]
[103775,103,"GARDNER                      ",775,"WACHUSETT                    ",1,1,0.56999999999999995,-0.43000000000000005,5000,26000,2850,-23150,null,0,103775,0.56999999999999995,2850]
[105030,105,"GEORGETOWN                   ",30,"BEVERLY                      ",1,0,1,1,5000,0,5000,5000,null,0,105030,1,5000]
[105128,105,"GEORGETOWN                   ",128,"HAVERHILL                    ",24,20,22,2,125439,105439,113823,8384,null,0,105128,22,113823]
[105149,105,"GEORGETOWN                   ",149,"LAWRENCE                     ",3,7,7,0,15000,35000,35000,0,null,0,105149,7,35000]
[105181,105,"GEORGETOWN                   ",181,"METHUEN                      ",1,1,1,0,5000,5000,5000,0,null,0,105181,1,5000]
[105204,105,"GEORGETOWN                   ",204,"NEWBURYPORT                  ",1,1,1,0,5000,5000,5000,0,null,0,105204,1,5000]
[105252,105,"GEORGETOWN                   ",252,"ROCKPORT                     ",null,1,0,-1,null,5000,0,-5000,null,0,105252]
[105745,105,"GEORGETOWN                   ",745,"PENTUCKET                    ",3,4,4,0,15000,20000,20000,0,null,0,105745,4,20000]
[105773,105,"GEORGETOWN                   ",773,"TRITON                       ",5,3,4,1,25691,15000,20000,5000,null,0,105773,4,20000]
[107030,107,"GLOUCESTER                   ",30,"BEVERLY                      ",4,2,2,0,20000,10000,10000,0,null,0,107030,2,10000]
[107071,107,"GLOUCESTER                   ",71,"DANVERS                      ",4,4,4,0,21282,21282,21084,-198,null,0,107071,4,21084]
[107163,107,"GLOUCESTER                   ",163,"LYNN                         ",2,2,2,0,10000,10000,10000,0,null,0,107163,2,10000]
[107229,107,"GLOUCESTER                   ",229,"PEABODY                      ",null,1,1,0,null,5000,5000,0,null,0,107229,1,5000]
[107252,107,"GLOUCESTER                   ",252,"ROCKPORT                     ",21.2,17,19.48,2.4800000000000004,118807,89446,98510,9064,null,0,107252,19.48,98510]
[107698,107,"GLOUCESTER                   ",698,"MANCHESTER ESSEX",6,5,5.0600000000000005,6.0000000000000497E-2,34702,25855,26694,839,null,0,107698,5.0600000000000005,26694]
[107817,107,"GLOUCESTER                   ",817,"ESSEX NORTH SHORE",2,5,5,0,10000,31942,30587,-1355,null,0,107817,5,30587]
[110017,110,"GRAFTON                      ",17,"AUBURN                       ",2,1,2,1,18310,5000,12044,7044,null,0,110017,2,12044]
[110077,110,"GRAFTON                      ",77,"DOUGLAS                      ",2,3,3,0,10000,19000,16836,-2164,null,0,110077,3,16836]
[110186,110,"GRAFTON                      ",186,"MILLBURY                     ",3.5300000000000002,3,3,0,18390,15000,15000,0,null,0,110186,3,15000]
[110214,110,"GRAFTON                      ",214,"NORTHBRIDGE                  ",3,11,12.239999999999998,1.2399999999999984,15000,74310,110130,35820,null,0,110214,12.239999999999998,110130]
[110226,110,"GRAFTON                      ",226,"OXFORD                       ",2,2,2,0,10000,10000,10000,0,null,0,110226,2,10000]
[110271,110,"GRAFTON                      ",271,"SHREWSBURY                   ",2,2,1.32,-0.67999999999999994,28343,28343,25445,-2898,null,0,110271,1.32,25445]
[110290,110,"GRAFTON                      ",290,"SUTTON                       ",3,4,3,-1,20631,29631,15766,-13865,null,0,110290,3,15766]
[110322,110,"GRAFTON                      ",322,"WEST BOYLSTON                ",1,1,1,0,5000,5000,5000,0,null,0,110322,1,5000]
[110348,110,"GRAFTON                      ",348,"WORCESTER                    ",13,15,15,0,66083,80083,75959,-4124,null,0,110348,15,75959]
[111024,111,"GRANBY                       ",24,"BELCHERTOWN                  ",14.39,18,17.37,-0.62999999999999901,97938,111262,113619,2357,null,0,111024,17.37,113619]
[111061,111,"GRANBY                       ",61,"CHICOPEE                     ",37.39,28,27.6,-0.39999999999999858,205696,155423,147782,-7641,null,0,111061,27.6,147782]
[111137,111,"GRANBY                       ",137,"HOLYOKE                      ",8.129999999999999,8,8,0,51019,50369,47711,-2658,null,0,111137,8,47711]
[111161,111,"GRANBY                       ",161,"LUDLOW                       ",7,6,6.54,0.54,35000,30000,32700,2700,null,0,111161,6.54,32700]
[111210,111,"GRANBY                       ",210,"NORTHAMPTON                  ",null,2,2,0,null,10000,10000,0,null,0,111210,2,10000]
[111227,111,"GRANBY                       ",227,"PALMER                       ",1,1,1,0,5000,5000,5000,0,null,0,111227,1,5000]
[111278,111,"GRANBY                       ",278,"SOUTH HADLEY                 ",35.739999999999995,30,31.58,1.5799999999999983,191543,165048,173906,8858,null,0,111278,31.58,173906]
[111281,111,"GRANBY                       ",281,"SPRINGFIELD                  ",24.82,19,19,0,142710,119936,112095,-7841,null,0,111281,19,112095]
[111309,111,"GRANBY                       ",309,"WARE                         ",2.2800000000000002,2,2,0,11400,10000,10000,0,null,0,111309,2,10000]
[111332,111,"GRANBY                       ",332,"WEST SPRINGFIELD             ",2,1,1,0,10000,5000,5000,0,null,0,111332,1,5000]
[111670,111,"GRANBY                       ",670,"FRONTIER                     ",null,1,1,0,null,5000,5000,0,null,0,111670,1,5000]
[114074,114,"GREENFIELD                   ",74,"DEERFIELD                    ",0.57999999999999996,2,2,0,2900,10000,10000,0,null,0,114074,2,10000]
[114091,114,"GREENFIELD                   ",91,"ERVING                       ",3.35,6,5.16,-0.83999999999999986,29313,30000,25800,-4200,null,0,114091,5.16,25800]
[114137,114,"GREENFIELD                   ",137,"HOLYOKE                      ",1,1,1,0,5000,5000,5000,0,null,0,114137,1,5000]
[114210,114,"GREENFIELD                   ",210,"NORTHAMPTON                  ",1,0,0,0,5000,0,0,0,null,0,114210]
[114223,114,"GREENFIELD                   ",223,"ORANGE                       ",1.2000000000000002,2,1.58,-0.41999999999999993,6000,10000,7900,-2100,null,0,114223,1.58,7900]
[114289,114,"GREENFIELD                   ",289,"SUNDERLAND                   ",2,0,0,0,10000,0,0,0,null,0,114289]
[114615,114,"GREENFIELD                   ",615,"ATHOL ROYALSTON              ",2.8,1,1.74,0.74,28494,19157,40687,21530,null,0,114615,1.74,40687]
[114632,114,"GREENFIELD                   ",632,"CHESTERFIELD GOSHEN",1,0,0,0,5000,0,0,0,null,0,114632]
[114670,114,"GREENFIELD                   ",670,"FRONTIER                     ",1.1600000000000001,2,2,0,5800,10000,10000,0,null,0,114670,2,10000]
[114674,114,"GREENFIELD                   ",674,"GILL MONTAGUE                ",56.210000000000008,69,74.299999999999983,5.2999999999999829,363719,430884,422331,-8553,null,0,114674,74.299999999999983,422331]
[114683,114,"GREENFIELD                   ",683,"HAMPSHIRE                    ",0.5,0,0,0,2500,0,0,0,null,0,114683]
[114717,114,"GREENFIELD                   ",717,"MOHAWK TRAIL                 ",7.62,8,9.6999999999999993,1.6999999999999993,41234,40000,57363,17363,null,0,114717,9.6999999999999993,57363]
[114750,114,"GREENFIELD                   ",750,"PIONEER                      ",14.17,18,19.07,1.0700000000000003,73192,106000,131854,25854,null,{"$f":"P457-A457","v":0},114750,19.07,131854]
[117008,117,"HADLEY                       ",8,"AMHERST                      ",1,0,{"$f":"Q458","v":2},{"$f":"H458-G458","v":2},5000,0,{"$f":"R458","v":65205},{"$f":"L458-K458","v":65205},null,0,117008,2,65205]
[117024,117,"HADLEY                       ",24,"BELCHERTOWN                  ",3.26,6,6,0,16300,30000,30000,0,null,0,117024,6,30000]
[117061,117,"HADLEY                       ",61,"CHICOPEE                     ",3,2,2,0,15000,10000,16455,6455,null,0,117061,2,16455]
[117074,117,"HADLEY                       ",74,"DEERFIELD                    ",1,1,1,0,5000,5000,5000,0,null,0,117074,1,5000]
[117086,117,"HADLEY                       ",86,"EASTHAMPTON                  ",3,3,3,0,15000,15000,15000,0,null,0,117086,3,15000]
[117111,117,"HADLEY                       ",111,"GRANBY                       ",0.56999999999999995,2,2,0,2850,10000,10000,0,null,0,117111,2,10000]
[117127,117,"HADLEY                       ",127,"HATFIELD                     ",null,1,1,0,null,5000,5000,0,null,0,117127,1,5000]
[117137,117,"HADLEY                       ",137,"HOLYOKE                      ",11,12,12,0,65490,70490,61122,-9368,null,0,117137,12,61122]
[117154,117,"HADLEY                       ",154,"LEVERETT                     ",1,1,1,0,5000,5000,5000,0,null,0,117154,1,5000]
[117161,117,"HADLEY                       ",161,"LUDLOW                       ",1,1,1,0,5000,5000,5000,0,null,0,117161,1,5000]
[117210,117,"HADLEY                       ",210,"NORTHAMPTON                  ",8.57,12,9.11,-2.8900000000000006,69319,66058,57208,-8850,null,0,117210,9.11,57208]
[117272,117,"HADLEY                       ",272,"SHUTESBURY                   ",null,1,0,-1,null,5000,0,-5000,null,0,117272]
[117275,117,"HADLEY                       ",275,"SOUTHAMPTON                  ",0.79,0,0,0,3950,0,0,0,null,0,117275]
[117278,117,"HADLEY                       ",278,"SOUTH HADLEY                 ",33.93,29,30.119999999999997,1.1199999999999974,189702,160052,170991,10939,null,0,117278,30.119999999999997,170991]
[117281,117,"HADLEY                       ",281,"SPRINGFIELD                  ",1,1,1,0,5000,5000,5000,0,null,0,117281,1,5000]
[117289,117,"HADLEY                       ",289,"SUNDERLAND                   ",3,0,0,0,15000,0,0,0,null,0,117289]
[117309,117,"HADLEY                       ",309,"WARE                         ",2,0,0,0,10000,0,0,0,null,0,117309]
[117325,117,"HADLEY                       ",325,"WESTFIELD                    ",1,0,0,0,5000,0,0,0,null,0,117325]
[117605,117,"HADLEY                       ",605,"AMHERST PELHAM               ",10.31,11,12.24,1.2400000000000002,68631,80081,90296,10215,null,0,117605,12.24,90296]
[117670,117,"HADLEY                       ",670,"FRONTIER                     ",7,6,7,1,38524,33524,41402,7878,null,0,117670,7,41402]
[117674,117,"HADLEY                       ",674,"GILL MONTAGUE                ",4,2,2,0,20000,10000,10000,0,null,0,117674,2,10000]
[117683,117,"HADLEY                       ",683,"HAMPSHIRE                    ",5,5,5,0,25000,25000,25000,0,null,0,117683,5,25000]
[117717,117,"HADLEY                       ",717,"MOHAWK TRAIL                 ",1,1,1,0,5000,5000,5000,0,null,0,117717,1,5000]
[121148,121,"HANCOCK                      ",148,"LANESBOROUGH                 ",null,1,1,0,null,5000,5000,0,null,0,121148,1,5000]
[121200,121,"HANCOCK                      ",200,"NEW ASHFORD                  ",1,0,0,0,5000,0,0,0,null,0,121200]
[121236,121,"HANCOCK                      ",236,"PITTSFIELD                   ",1,1,2,1,5000,5000,10000,5000,null,0,121236,2,10000]
[121603,121,"HANCOCK                      ",603,"ADAMS CHESHIRE               ",1,2,2,0,5000,14000,13564,-436,null,0,121603,2,13564]
[125064,125,"HARVARD                      ",64,"CLINTON                      ",2,2,2,0,10000,10000,10000,0,null,0,125064,2,10000]
[125097,125,"HARVARD                      ",97,"FITCHBURG                    ",1,1,1,0,5000,5000,5000,0,null,0,125097,1,5000]
[125141,125,"HARVARD                      ",141,"HUDSON                       ",null,1,1,0,null,5000,5000,0,null,0,125141,1,5000]
[125153,125,"HARVARD                      ",153,"LEOMINSTER                   ",13,11,11,0,65000,55000,55000,0,null,0,125153,11,55000]
[125158,125,"HARVARD                      ",158,"LITTLETON                    ",1,1,1,0,5000,5000,5000,0,null,0,125158,1,5000]
[125162,125,"HARVARD                      ",162,"LUNENBURG                    ",5,6,6,0,26063,31063,30921,-142,null,0,125162,6,30921]
[125321,125,"HARVARD                      ",321,"WESTBOROUGH                  ",1,0,0,0,5000,0,0,0,null,0,125321]
[125600,125,"HARVARD                      ",600,"ACTON BOXBOROUGH             ",1,1,1,0,5000,5000,5000,0,null,0,125600,1,5000]
[125616,125,"HARVARD                      ",616,"AYER SHIRLEY",32,29,31.38,2.379999999999999,177291,162291,174971,12680,null,0,125616,31.38,174971]
[125673,125,"HARVARD                      ",673,"GROTON DUNSTABLE             ",2,2,2,0,10000,10000,10000,0,null,0,125673,2,10000]
[125725,125,"HARVARD                      ",725,"NASHOBA                      ",4,4,4,0,20000,20000,20000,0,null,0,125725,4,20000]
[125735,125,"HARVARD                      ",735,"NORTH MIDDLESEX              ",5,7,4,-3,25000,35000,20000,-15000,null,0,125735,4,20000]
[125775,125,"HARVARD                      ",775,"WACHUSETT                    ",3,3,3,0,15000,15000,15000,0,null,0,125775,3,15000]
[127008,127,"HATFIELD                     ",8,"AMHERST                      ",0.38,1,1.62,0.62000000000000011,1900,5000,8907,3907,null,0,127008,1.62,8907]
[127024,127,"HATFIELD                     ",24,"BELCHERTOWN                  ",1,1,1,0,5000,5000,5000,0,null,0,127024,1,5000]
[127061,127,"HATFIELD                     ",61,"CHICOPEE                     ",null,1,1,0,null,5000,5000,0,null,0,127061,1,5000]
[127068,127,"HATFIELD                     ",68,"CONWAY                       ",1,1,1,0,5000,5000,5000,0,null,0,127068,1,5000]
[127074,127,"HATFIELD                     ",74,"DEERFIELD                    ",0.35,1,1,0,1750,5000,5000,0,null,0,127074,1,5000]
[127086,127,"HATFIELD                     ",86,"EASTHAMPTON                  ",11,10,10,0,74989,67937,69205,1268,null,0,127086,10,69205]
[127111,127,"HATFIELD                     ",111,"GRANBY                       ",3.38,3,3,0,19156,15000,15000,0,null,0,127111,3,15000]
[127114,127,"HATFIELD                     ",114,"GREENFIELD                   ",8,9,8.26,-0.74000000000000021,42052,47052,43312,-3740,null,0,127114,8.26,43312]
[127117,{"$f":"TRUNC(A506,-3)/1000","v":127},{"$f":"VLOOKUP(B506,code437,2)","v":"HATFIELD                     "},{"$f":"A506-B506*1000","v":117},"HADLEY                       ",null,null,0.56000000000000005,0.56000000000000005,null,null,2800,2800,null,0,127117,0.56000000000000005,2800]
[127137,127,"HATFIELD                     ",137,"HOLYOKE                      ",31,32,29.900000000000002,-2.0999999999999979,183970,190970,211038,20068,null,0,127137,29.900000000000002,211038]
[127210,127,"HATFIELD                     ",210,"NORTHAMPTON                  ",26.52,28,28,0,173448,172556,191302,18746,null,0,127210,28,191302]
[127272,127,"HATFIELD                     ",272,"SHUTESBURY                   ",1,1,1,0,5000,5000,5000,0,null,0,127272,1,5000]
[127278,127,"HATFIELD                     ",278,"SOUTH HADLEY                 ",3,3,3,0,15000,15000,15000,0,null,0,127278,3,15000]
[127281,127,"HATFIELD                     ",281,"SPRINGFIELD                  ",0.35,0,0.52,0.52,1750,0,2600,2600,null,0,127281,0.52,2600]
[127289,127,"HATFIELD                     ",289,"SUNDERLAND                   ",1,1,1,0,5000,5000,5000,0,null,0,127289,1,5000]
[127325,{"$f":"TRUNC(A513,-3)/1000","v":127},{"$f":"VLOOKUP(B513,code437,2)","v":"HATFIELD                     "},{"$f":"A513-B513*1000","v":325},"WESTFIELD                    ",null,null,1.46,1.46,null,null,7300,7300,null,0,127325,1.46,7300]
[127332,127,"HATFIELD                     ",332,"WEST SPRINGFIELD             ",1,1,1,0,5000,5000,5000,0,null,0,127332,1,5000]
[127337,127,"HATFIELD                     ",337,"WHATELY                      ",4,2,2,0,22729,10000,10000,0,null,0,127337,2,10000]
[127340,127,"HATFIELD                     ",340,"WILLIAMSBURG                 ",4.45,3,3,0,33246,22651,18017,-4634,null,0,127340,3,18017]
[127605,127,"HATFIELD                     ",605,"AMHERST PELHAM               ",0.38,1,1,0,1900,9000,9643,643,null,0,127605,1,9643]
[127635,127,"HATFIELD                     ",635,"CENTRAL BERKSHIRE            ",1,0,0,0,5000,0,0,0,null,0,127635]
[127670,127,"HATFIELD                     ",670,"FRONTIER                     ",13.46,18,17.48,-0.51999999999999957,123044,144369,126793,-17576,null,0,127670,17.48,126793]
[127672,127,"HATFIELD                     ",672,"GATEWAY                      ",0.76,0,0,0,3800,0,0,0,null,0,127672]
[127674,127,"HATFIELD                     ",674,"GILL MONTAGUE                ",3.7800000000000002,5,5,0,24126,30226,28362,-1864,null,{"$f":"P521-A521","v":0},127674,5,28362]
[127683,127,"HATFIELD                     ",683,"HAMPSHIRE                    ",3.19,5,{"$f":"Q522","v":5},{"$f":"H522-G522","v":0},17463,36858,{"$f":"R522","v":50945},{"$f":"L522-K522","v":14087},null,0,127683,5,50945]
[127717,127,"HATFIELD                     ",717,"MOHAWK TRAIL                 ",4,4,4,0,68300,48500,73967,25467,null,0,127717,4,73967]
[128023,128,"HAVERHILL                    ",23,"BEDFORD                      ",null,1,0,-1,null,5000,0,-5000,null,0,128023]
[128071,128,"HAVERHILL                    ",71,"DANVERS                      ",1,0,2,2,5000,0,10000,10000,null,0,128071,2,10000]
[128149,128,"HAVERHILL                    ",149,"LAWRENCE                     ",29.990000000000002,30,29.47,-0.53000000000000114,172887,161343,171125,9782,null,0,128149,29.47,171125]
[128160,128,"HAVERHILL                    ",160,"LOWELL                       ",1,1,1,0,5000,5000,5000,0,null,0,128160,1,5000]
[128181,128,"HAVERHILL                    ",181,"METHUEN                      ",3.74,2,2,0,18700,10000,10000,0,null,0,128181,2,10000]
[128616,128,"HAVERHILL                    ",616,"AYER SHIRLEY",1,0,0,0,5000,0,0,0,null,0,128616]
[128745,128,"HAVERHILL                    ",745,"PENTUCKET                    ",5.7600000000000007,1,2,1,40914,5000,10000,5000,null,0,128745,2,10000]
[128773,128,"HAVERHILL                    ",773,"TRITON                       ",null,1,0.13,-0.87,null,5000,650,-4350,null,0,128773,0.13,650]
[133001,133,"HOLBROOK                     ",1,"ABINGTON                     ",1,1,0,-1,5000,5000,0,-5000,null,0,133001]
[133018,133,"HOLBROOK                     ",18,"AVON                         ",1,0,0,0,5000,0,0,0,null,0,133018]
[133035,133,"HOLBROOK                     ",35,"BOSTON                       ",0.17,0,0,0,850,0,0,0,null,0,133035]
[133040,133,"HOLBROOK                     ",40,"BRAINTREE                    ",1,0,0,0,5000,0,0,0,null,0,133040]
[133044,133,"HOLBROOK                     ",44,"BROCKTON                     ",13.4,17,18.87,1.870000000000001,68180,85000,101253,16253,null,0,133044,18.87,101253]
[133243,133,"HOLBROOK                     ",243,"QUINCY                       ",2,2,2,0,13531,13531,15975,2444,null,0,133243,2,15975]
[133244,133,"HOLBROOK                     ",244,"RANDOLPH                     ",36.909999999999997,34,34,0,198310,187760,183868,-3892,null,0,133244,34,183868]
[133251,133,"HOLBROOK                     ",251,"ROCKLAND                     ",1,1,1,0,5000,5000,5000,0,null,0,133251,1,5000]
[133266,133,"HOLBROOK                     ",266,"SHARON                       ",null,1,1,0,null,5000,5000,0,null,0,133266,1,5000]
[133336,133,"HOLBROOK                     ",336,"WEYMOUTH                     ",1,1,1,0,5000,5000,5000,0,null,0,133336,1,5000]
[135043,{"$f":"TRUNC(A542,-3)/1000","v":135},{"$f":"VLOOKUP(B542,code437,2)","v":"HOLLAND                      "},{"$f":"A542-B542*1000","v":43},"BRIMFIELD                    ",null,null,0.98,0.98,null,null,6416,6416,null,0,135043,0.98,6416]
[135185,135,"HOLLAND                      ",185,"MILFORD                      ",null,1,1,0,null,5000,5000,0,null,0,135185,1,5000]
[135226,135,"HOLLAND                      ",226,"OXFORD                       ",1,1,1,0,5000,5000,5000,0,null,0,135226,1,5000]
[135227,135,"HOLLAND                      ",227,"PALMER                       ",1,1,1,0,5000,5000,5000,0,null,0,135227,1,5000]
[135277,135,"HOLLAND                      ",277,"SOUTHBRIDGE                  ",21,27,29.259999999999998,2.259999999999998,131133,149809,165409,15600,null,0,135277,29.259999999999998,165409]
[135287,135,"HOLLAND                      ",287,"STURBRIDGE                   ",0.31,1,0,-1,1550,5000,0,-5000,null,0,135287]
[135306,135,"HOLLAND                      ",306,"WALES                        ",11,10,10,0,64587,52085,53112,1027,null,0,135306,10,53112]
[135658,135,"HOLLAND                      ",658,"DUDLEY CHARLTON              ",1,1,1,0,5000,5000,5000,0,null,0,135658,1,5000]
[135767,135,"HOLLAND                      ",767,"SPENCER EAST BROOKFIELD      ",5,8,8,0,33978,48978,50894,1916,null,0,135767,8,50894]
[135778,{"$f":"TRUNC(A551,-3)/1000","v":135},{"$f":"VLOOKUP(B551,code437,2)","v":"HOLLAND                      "},{"$f":"A551-B551*1000","v":778},"QUABOAG",null,null,0.69,0.69,null,null,3450,3450,null,0,135778,0.69,3450]
[136014,136,"HOLLISTON                    ",14,"ASHLAND                      ",7.59,5,5,0,38271,25000,25000,0,null,0,136014,5,25000]
[136025,136,"HOLLISTON                    ",25,"BELLINGHAM                   ",43.5,42,38.67,-3.3299999999999983,315982,312161,301070,-11091,null,0,136025,38.67,301070]
[136100,136,"HOLLISTON                    ",100,"FRAMINGHAM                   ",5,6,6,0,25000,30000,30000,0,null,0,136100,6,30000]
[136101,136,"HOLLISTON                    ",101,"FRANKLIN                     ",2,2,2.5,0.5,10000,10000,12500,2500,null,0,136101,2.5,12500]
[136110,136,"HOLLISTON                    ",110,"GRAFTON                      ",4,3,3,0,20000,15000,15000,0,null,0,136110,3,15000]
[136138,136,"HOLLISTON                    ",138,"HOPEDALE                     ",3.5,5,5,0,21477,28977,30585,1608,null,0,136138,5,30585]
[136139,136,"HOLLISTON                    ",139,"HOPKINTON                    ",5.5,6,4.18,-1.8200000000000003,27500,30000,20900,-9100,null,0,136139,4.18,20900]
[136177,136,"HOLLISTON                    ",177,"MEDWAY                       ",18,18,18.62,0.62000000000000099,109416,104500,141166,36666,null,0,136177,18.62,141166]
[136182,136,"HOLLISTON                    ",182,"MIDDLEBOROUGH                ",0.6,1,1,0,5884,5000,5000,0,null,0,136182,1,5000]
[136185,136,"HOLLISTON                    ",185,"MILFORD                      ",46.140000000000008,51,50.49,-0.50999999999999801,273747,301836,319319,17483,null,0,136185,50.49,319319]
[136187,136,"HOLLISTON                    ",187,"MILLIS                       ",11.5,11,10,-1,80621,78121,64727,-13394,null,0,136187,10,64727]
[136212,136,"HOLLISTON                    ",212,"NORTH ATTLEBOROUGH           ",0.5,0,0,0,2500,0,0,0,null,0,136212]
[136214,136,"HOLLISTON                    ",214,"NORTHBRIDGE                  ",null,1,1,0,null,5000,6465,1465,null,0,136214,1,6465]
[136304,136,"HOLLISTON                    ",304,"UXBRIDGE                     ",2,2,2,0,17047,17047,18365,1318,null,0,136304,2,18365]
[136622,{"$f":"TRUNC(A566,-3)/1000","v":136},{"$f":"VLOOKUP(B566,code437,2)","v":"HOLLISTON                    "},{"$f":"A566-B566*1000","v":622},"BLACKSTONE MILLVILLE         ",null,null,1,1,null,null,5000,5000,null,0,136622,1,5000]
[136690,136,"HOLLISTON                    ",690,"KING PHILIP                  ",1,2,2,0,16096,21096,12603,-8493,null,0,136690,2,12603]
[136710,136,"HOLLISTON                    ",710,"MENDON UPTON                 ",8,8,8,0,74700,74700,69727,-4973,null,0,136710,8,69727]
[137061,137,"HOLYOKE                      ",61,"CHICOPEE                     ",7.919999999999999,9,9,0,39600,56000,51800,-4200,null,0,137061,9,51800]
[137086,137,"HOLYOKE                      ",86,"EASTHAMPTON                  ",1.96,0,0,0,9800,0,0,0,null,0,137086]
[137161,137,"HOLYOKE                      ",161,"LUDLOW                       ",1,2,2,0,5000,10000,10000,0,null,0,137161,2,10000]
[137278,137,"HOLYOKE                      ",278,"SOUTH HADLEY                 ",5.68,10,7.43,-2.5700000000000003,28400,54000,37150,-16850,null,0,137278,7.43,37150]
[137281,137,"HOLYOKE                      ",281,"SPRINGFIELD                  ",32.14,29,28.139999999999997,-0.86000000000000298,176873,166976,163516,-3460,null,0,137281,28.139999999999997,163516]
[137325,137,"HOLYOKE                      ",325,"WESTFIELD                    ",2,4,4.12,0.12000000000000011,10000,20000,20600,600,null,0,137325,4.12,20600]
[137332,137,"HOLYOKE                      ",332,"WEST SPRINGFIELD             ",0,2,2,0,0,10000,10000,0,null,0,137332,2,10000]
[137683,137,"HOLYOKE                      ",683,"HAMPSHIRE                    ",1,0,0,0,5000,0,0,0,null,0,137683]
[138014,138,"HOPEDALE                     ",14,"ASHLAND                      ",null,2,2,0,null,14000,16142,2142,null,0,138014,2,16142]
[138025,138,"HOPEDALE                     ",25,"BELLINGHAM                   ",4,5,5,0,20000,29000,26546,-2454,null,0,138025,5,26546]
[138185,138,"HOPEDALE                     ",185,"MILFORD                      ",75.709999999999994,70,72.319999999999993,2.3199999999999932,425688,399040,418408,19368,null,0,138185,72.319999999999993,418408]
[138214,138,"HOPEDALE                     ",214,"NORTHBRIDGE                  ",1,2,2,0,5000,10000,10000,0,null,0,138214,2,10000]
[138304,138,"HOPEDALE                     ",304,"UXBRIDGE                     ",26,19,19,0,132371,95000,95000,0,null,0,138304,19,95000]
[138316,138,"HOPEDALE                     ",316,"WEBSTER                      ",null,1,1,0,null,5000,5000,0,null,0,138316,1,5000]
[138622,138,"HOPEDALE                     ",622,"BLACKSTONE MILLVILLE         ",9,10,10.45,0.44999999999999929,45000,50000,59021,9021,null,0,138622,10.45,59021]
[138710,138,"HOPEDALE                     ",710,"MENDON UPTON                 ",13.87,11,11,0,81380,64204,64417,213,null,{"$f":"P584-A584","v":0},138710,11,64417]
[141017,141,"HUDSON                       ",17,"AUBURN                       ",1,0,{"$f":"Q585","v":0},{"$f":"H585-G585","v":0},5000,0,{"$f":"R585","v":0},{"$f":"L585-K585","v":0},null,0,141017]
[141064,141,"HUDSON                       ",64,"CLINTON                      ",4,5,5.84,0.83999999999999986,25272,30272,38232,7960,null,0,141064,5.84,38232]
[141097,141,"HUDSON                       ",97,"FITCHBURG                    ",0.51,1,1,0,2550,5000,5000,0,null,0,141097,1,5000]
[141139,141,"HUDSON                       ",139,"HOPKINTON                    ",0.85,1,1,0,7065,7815,16685,8870,null,0,141139,1,16685]
[141153,141,"HUDSON                       ",153,"LEOMINSTER                   ",1,1,1,0,5000,5000,5000,0,null,0,141153,1,5000]
[141160,141,"HUDSON                       ",160,"LOWELL                       ",null,1,1,0,null,9000,5398,-3602,null,0,141160,1,5398]
[141170,141,"HUDSON                       ",170,"MARLBOROUGH                  ",64.209999999999994,59,62.879999999999995,3.8799999999999955,343668,316122,342843,26721,null,0,141170,62.879999999999995,342843]
[141174,141,"HUDSON                       ",174,"MAYNARD                      ",1,0,0,0,5000,0,0,0,null,0,141174]
[141185,141,"HUDSON                       ",185,"MILFORD                      ",1,0,0,0,5000,0,0,0,null,0,141185]
[141213,141,"HUDSON                       ",213,"NORTHBOROUGH                 ",1,0,0,0,5000,0,0,0,null,0,141213]
[141229,141,"HUDSON                       ",229,"PEABODY                      ",1,0,0,0,5000,0,0,0,null,0,141229]
[141271,141,"HUDSON                       ",271,"SHREWSBURY                   ",3.73,1,1,0,18650,5000,5000,0,null,0,141271,1,5000]
[141288,141,"HUDSON                       ",288,"SUDBURY                      ",null,1,0.5,-0.5,null,12000,5356,-6644,null,0,141288,0.5,5356]
[141321,{"$f":"TRUNC(A598,-3)/1000","v":141},{"$f":"VLOOKUP(B598,code437,2)","v":"HUDSON                       "},{"$f":"A598-B598*1000","v":321},"WESTBOROUGH                  ",null,null,0.52,0.52,null,null,2600,2600,null,0,141321,0.52,2600]
[141322,141,"HUDSON                       ",322,"WEST BOYLSTON                ",1,1,1,0,5000,5000,5000,0,null,0,141322,1,5000]
[141348,141,"HUDSON                       ",348,"WORCESTER                    ",2,3,3,0,13678,18678,18351,-327,null,0,141348,3,18351]
[141600,141,"HUDSON                       ",600,"ACTON BOXBOROUGH             ",0.56999999999999995,1,1,0,2850,5000,5000,0,null,0,141600,1,5000]
[141616,141,"HUDSON                       ",616,"AYER SHIRLEY",0.44,1,1,0,2200,5000,5000,0,null,0,141616,1,5000]
[141620,141,"HUDSON                       ",620,"BERLIN BOYLSTON              ",9,6,5.6899999999999995,-0.3100000000000005,47937,39166,34000,-5166,null,0,141620,5.6899999999999995,34000]
[141695,141,"HUDSON                       ",695,"LINCOLN SUDBURY              ",null,1,0.12,-0.88,null,5000,600,-4400,null,0,141695,0.12,600]
[141720,141,"HUDSON                       ",720,"NARRAGANSETT                 ",1,1,0.53,-0.47,5000,5000,2650,-2350,null,0,141720,0.53,2650]
[141725,141,"HUDSON                       ",725,"NASHOBA                      ",4.3100000000000005,3,4.0600000000000005,1.0600000000000005,21550,15000,26588,11588,null,0,141725,4.0600000000000005,26588]
[141730,141,"HUDSON                       ",730,"NORTHBORO SOUTHBORO          ",3,4,4,0,15000,60000,89180,29180,null,0,141730,4,89180]
[141753,141,"HUDSON                       ",753,"QUABBIN                      ",1,1,1,0,6524,6524,5000,-1524,null,0,141753,1,5000]
[144007,144,"IPSWICH                      ",7,"AMESBURY                     ",2,1,1,0,10000,5000,5000,0,null,0,144007,1,5000]
[144030,144,"IPSWICH                      ",30,"BEVERLY                      ",6,4,4,0,30000,20000,20000,0,null,0,144030,4,20000]
[144071,144,"IPSWICH                      ",71,"DANVERS                      ",4,4,4,0,20000,20000,20000,0,null,0,144071,4,20000]
[144105,144,"IPSWICH                      ",105,"GEORGETOWN                   ",2,6,5.97,-3.0000000000000249E-2,10000,30000,29850,-150,null,0,144105,5.97,29850]
[144107,144,"IPSWICH                      ",107,"GLOUCESTER                   ",8,6,8,2,40000,30000,40000,10000,null,0,144107,8,40000]
[144128,144,"IPSWICH                      ",128,"HAVERHILL                    ",2,2,4,2,10000,10000,20000,10000,null,0,144128,4,20000]
[144204,144,"IPSWICH                      ",204,"NEWBURYPORT                  ",1,1,1,0,5000,5000,5000,0,null,0,144204,1,5000]
[144675,144,"IPSWICH                      ",675,"HAMILTON WENHAM              ",null,1,1,0,null,5000,5000,0,null,0,144675,1,5000]
[144745,144,"IPSWICH                      ",745,"PENTUCKET                    ",1,2,0,-2,5000,10000,0,-10000,null,0,144745]
[144773,144,"IPSWICH                      ",773,"TRITON                       ",44,39,39,0,253036,230038,222224,-7814,null,0,144773,39,222224]
[148121,148,"LANESBOROUGH                 ",121,"HANCOCK                      ",1,1,1,0,5000,5000,5000,0,null,0,148121,1,5000]
[148236,148,"LANESBOROUGH                 ",236,"PITTSFIELD                   ",14,12,12,0,90999,80999,74804,-6195,null,0,148236,12,74804]
[148341,148,"LANESBOROUGH                 ",341,"WILLIAMSTOWN                 ",1,1,0,-1,5000,5000,0,-5000,null,0,148341]
[148603,148,"LANESBOROUGH                 ",603,"ADAMS CHESHIRE               ",4,5,6,1,20000,25000,30000,5000,null,0,148603,6,30000]
[150152,150,"LEE                          ",152,"LENOX                        ",29.270000000000003,30,30.019999999999996,1.9999999999996021E-2,181610,180590,168974,-11616,null,0,150152,30.019999999999996,168974]
[150236,150,"LEE                          ",236,"PITTSFIELD                   ",42.62,46,48.67,2.6700000000000017,228145,260362,304804,44442,null,0,150236,48.67,304804]
[150618,150,"LEE                          ",618,"BERKSHIRE HILLS              ",6,5,5,0,41298,25000,25000,0,null,0,150618,5,25000]
[150635,150,"LEE                          ",635,"CENTRAL BERKSHIRE            ",38.43,39,39.57,0.57000000000000028,210892,215636,213388,-2248,null,0,150635,39.57,213388]
[150662,150,"LEE                          ",662,"FARMINGTON RIVER",9.66,6,3.2799999999999994,-2.7200000000000006,59130,38000,21288,-16712,null,0,150662,3.2799999999999994,21288]
[150765,150,"LEE                          ",765,"SOUTHERN BERKSHIRE           ",1,1,1,0,5000,5000,5000,0,null,0,150765,1,5000]
[150766,150,"LEE                          ",766,"SOUTHWICK TOLLAND",1,1,1,0,5000,5000,5000,0,null,0,150766,1,5000]
[151017,151,"LEICESTER                    ",17,"AUBURN                       ",5,2,2,0,29784,10000,10000,0,null,0,151017,2,10000]
[151153,151,"LEICESTER                    ",153,"LEOMINSTER                   ",1,0,0,0,5000,0,0,0,null,0,151153]
[151215,151,"LEICESTER                    ",215,"NORTH BROOKFIELD             ",3,1,1,0,15000,5000,5000,0,null,0,151215,1,5000]
[151226,151,"LEICESTER                    ",226,"OXFORD                       ",4,4,4,0,20000,20000,20000,0,null,0,151226,4,20000]
[151277,151,"LEICESTER                    ",277,"SOUTHBRIDGE                  ",1,1,1,0,5805,5805,5542,-263,null,0,151277,1,5542]
[151316,151,"LEICESTER                    ",316,"WEBSTER                      ",2,1,1,0,23867,5000,5000,0,null,0,151316,1,5000]
[151343,151,"LEICESTER                    ",343,"WINCHENDON                   ",null,1,1,0,null,5000,5000,0,null,0,151343,1,5000]
[151348,151,"LEICESTER                    ",348,"WORCESTER                    ",33.61,32,34.209999999999994,2.2099999999999937,190673,167527,175089,7562,null,0,151348,34.209999999999994,175089]
[151658,151,"LEICESTER                    ",658,"DUDLEY CHARLTON              ",2,2,2.5499999999999998,0.54999999999999982,10000,10000,12750,2750,null,0,151658,2.5499999999999998,12750]
[151753,151,"LEICESTER                    ",753,"QUABBIN                      ",1,1,1,0,5000,5000,5000,0,null,0,151753,1,5000]
[151767,151,"LEICESTER                    ",767,"SPENCER EAST BROOKFIELD      ",33,46,48.38,2.3800000000000026,207584,287933,280619,-7314,null,0,151767,48.38,280619]
[151770,151,"LEICESTER                    ",770,"TANTASQUA                    ",0.39,1,1,0,1950,5000,5000,0,null,0,151770,1,5000]
[151775,151,"LEICESTER                    ",775,"WACHUSETT                    ",5,5,6,1,25000,32000,35881,3881,null,0,151775,6,35881]
[151778,151,"LEICESTER                    ",778,"QUABOAG",1,0,0,0,5000,0,0,0,null,0,151778]
[152148,152,"LENOX                        ",148,"LANESBOROUGH                 ",1,0,0,0,5000,0,0,0,null,0,152148]
[152150,152,"LENOX                        ",150,"LEE                          ",30.22,37,37.54,0.53999999999999915,154932,202625,199305,-3320,null,0,152150,37.54,199305]
[152236,152,"LENOX                        ",236,"PITTSFIELD                   ",171.2,175,170.68,-4.3199999999999932,882996,910217,877498,-32719,null,0,152236,170.68,877498]
[152249,152,"LENOX                        ",249,"RICHMOND                     ",10,9,9,0,50000,45000,45000,0,null,0,152249,9,45000]
[152302,152,"LENOX                        ",302,"TYRINGHAM                    ",8,6,7,1,42960,30000,37175,7175,null,{"$f":"P648-A648","v":0},152302,7,37175]
[152603,152,"LENOX                        ",603,"ADAMS CHESHIRE               ",1,1,{"$f":"Q649","v":1},{"$f":"H649-G649","v":0},5000,5000,{"$f":"R649","v":5000},{"$f":"L649-K649","v":0},null,0,152603,1,5000]
[152618,152,"LENOX                        ",618,"BERKSHIRE HILLS              ",5.48,3,2.8499999999999996,-0.15000000000000036,38763,17014,20766,3752,null,0,152618,2.8499999999999996,20766]
[152635,152,"LENOX                        ",635,"CENTRAL BERKSHIRE            ",12.890000000000002,16,17.57,1.5700000000000003,64450,80000,87850,7850,null,0,152635,17.57,87850]
[152662,152,"LENOX                        ",662,"FARMINGTON RIVER",2,2,2,0,10000,10000,10000,0,null,0,152662,2,10000]
[152715,152,"LENOX                        ",715,"MOUNT GREYLOCK               ",1,1,1,0,5000,5000,5000,0,null,0,152715,1,5000]
[152765,152,"LENOX                        ",765,"SOUTHERN BERKSHIRE           ",4,5,4.5199999999999996,-0.48000000000000043,20000,25000,22600,-2400,null,0,152765,4.5199999999999996,22600]
[153039,153,"LEOMINSTER                   ",39,"BOYLSTON                     ",null,1,0.22,-0.78,null,12000,4124,-7876,null,0,153039,0.22,4124]
[153097,153,"LEOMINSTER                   ",97,"FITCHBURG                    ",166.88,155,157.96999999999997,2.9699999999999704,911428,870671,870804,133,null,0,153097,157.96999999999997,870804]
[153103,153,"LEOMINSTER                   ",103,"GARDNER                      ",6.68,9,9.65,0.65000000000000036,33400,45000,50653,5653,null,0,153103,9.65,50653]
[153141,153,"LEOMINSTER                   ",141,"HUDSON                       ",1,0,0,0,5000,0,0,0,null,0,153141]
[153151,153,"LEOMINSTER                   ",151,"LEICESTER                    ",null,1,1,0,null,5000,5000,0,null,0,153151,1,5000]
[153162,153,"LEOMINSTER                   ",162,"LUNENBURG                    ",20.67,15,15,0,108843,75000,75000,0,null,0,153162,15,75000]
[153322,153,"LEOMINSTER                   ",322,"WEST BOYLSTON                ",1.1400000000000001,0,0,0,8238,0,0,0,null,0,153322]
[153343,153,"LEOMINSTER                   ",343,"WINCHENDON                   ",1,4,4,0,5000,20000,20000,0,null,0,153343,4,20000]
[153348,153,"LEOMINSTER                   ",348,"WORCESTER                    ",4,3,3,0,23500,18500,17341,-1159,null,0,153348,3,17341]
[153610,153,"LEOMINSTER                   ",610,"ASHBURNHAM WESTMINSTER       ",4.34,1,1,0,21700,5000,5000,0,null,0,153610,1,5000]
[153615,153,"LEOMINSTER                   ",615,"ATHOL ROYALSTON              ",1,2,2,0,5000,10000,10000,0,null,0,153615,2,10000]
[153616,153,"LEOMINSTER                   ",616,"AYER SHIRLEY",1.6800000000000002,3,3,0,8400,15000,15000,0,null,0,153616,3,15000]
[153720,153,"LEOMINSTER                   ",720,"NARRAGANSETT                 ",1,0,0,0,46858,0,0,0,null,0,153720]
[153725,153,"LEOMINSTER                   ",725,"NASHOBA                      ",2.2999999999999998,0,0,0,15347,0,0,0,null,0,153725]
[153735,153,"LEOMINSTER                   ",735,"NORTH MIDDLESEX              ",1,2,2,0,5000,10000,10000,0,null,0,153735,2,10000]
[153753,153,"LEOMINSTER                   ",753,"QUABBIN                      ",1,1,1,0,5000,5000,5000,0,null,0,153753,1,5000]
[153775,153,"LEOMINSTER                   ",775,"WACHUSETT                    ",1,1,1,0,5000,5000,5000,0,null,0,153775,1,5000]
[153801,153,"LEOMINSTER                   ",801,"ASSABET VALLEY               ",1,0,0,0,5000,0,0,0,null,0,153801]
[153832,153,"LEOMINSTER                   ",832,"MONTACHUSETT                 ",29.189999999999998,46,44.21,-1.7899999999999991,159792,255409,243848,-11561,null,0,153832,44.21,243848]
[153852,153,"LEOMINSTER                   ",852,"NASHOBA VALLEY               ",2,2,1.1100000000000001,-0.8899999999999999,28506,16352,13726,-2626,null,0,153852,1.1100000000000001,13726]
[154008,154,"LEVERETT                     ",8,"AMHERST                      ",4.17,6,6,0,26683,37291,43790,6499,null,0,154008,6,43790]
[154068,154,"LEVERETT                     ",68,"CONWAY                       ",1,1,1,0,14113,14113,9613,-4500,null,0,154068,1,9613]
[154114,154,"LEVERETT                     ",114,"GREENFIELD                   ",3,2,2,0,15000,10000,10000,0,null,0,154114,2,10000]
[154117,154,"LEVERETT                     ",117,"HADLEY                       ",2,2,2,0,10000,10000,10000,0,null,0,154117,2,10000]
[154210,154,"LEVERETT                     ",210,"NORTHAMPTON                  ",null,1,1,0,null,10968,10014,-954,null,0,154210,1,10014]
[154272,154,"LEVERETT                     ",272,"SHUTESBURY                   ",1,2,2.89,0.89000000000000012,5000,10000,14845,4845,null,0,154272,2.89,14845]
[154337,154,"LEVERETT                     ",337,"WHATELY                      ",0.32,0,0,0,3058,0,0,0,null,0,154337]
[154674,154,"LEVERETT                     ",674,"GILL MONTAGUE                ",9,7,6.31,-0.69000000000000039,89218,47444,46898,-546,null,0,154674,6.31,46898]
[158064,158,"LITTLETON                    ",64,"CLINTON                      ",0.5,1,1,0,2500,5000,5000,0,null,0,158064,1,5000]
[158097,158,"LITTLETON                    ",97,"FITCHBURG                    ",1,1,0,-1,5000,5000,0,-5000,null,0,158097]
[158103,158,"LITTLETON                    ",103,"GARDNER                      ",1,1,1,0,5000,5000,5000,0,null,0,158103,1,5000]
[158125,158,"LITTLETON                    ",125,"HARVARD                      ",null,1,1,0,null,5000,5000,0,null,0,158125,1,5000]
[158149,158,"LITTLETON                    ",149,"LAWRENCE                     ",null,1,1,0,null,5000,5000,0,null,0,158149,1,5000]
[158153,158,"LITTLETON                    ",153,"LEOMINSTER                   ",5,8.5,6.5,-2,25000,42500,32500,-10000,null,0,158153,6.5,32500]
[158160,158,"LITTLETON                    ",160,"LOWELL                       ",6,6,6,0,41981,41981,37614,-4367,null,0,158160,6,37614]
[158162,158,"LITTLETON                    ",162,"LUNENBURG                    ",2,1,1,0,10000,5000,5000,0,null,0,158162,1,5000]
[158174,158,"LITTLETON                    ",174,"MAYNARD                      ",1,1,1,0,5000,5000,5000,0,null,0,158174,1,5000]
[158326,158,"LITTLETON                    ",326,"WESTFORD                     ",null,1,1,0,null,5000,5000,0,null,0,158326,1,5000]
[158600,158,"LITTLETON                    ",600,"ACTON BOXBOROUGH             ",3.5,1,1,0,19634,5000,5000,0,null,0,158600,1,5000]
[158616,158,"LITTLETON                    ",616,"AYER SHIRLEY",41.989999999999995,47,47,0,225360,262506,252882,-9624,null,0,158616,47,252882]
[158673,158,"LITTLETON                    ",673,"GROTON DUNSTABLE             ",null,2,3.89,1.8900000000000001,null,17000,25191,8191,null,0,158673,3.89,25191]
[158725,158,"LITTLETON                    ",725,"NASHOBA                      ",1,1,1,0,5000,5000,5000,0,null,0,158725,1,5000]
[158735,158,"LITTLETON                    ",735,"NORTH MIDDLESEX              ",5.5,6,6,0,28856,39356,38385,-971,null,0,158735,6,38385]
[159005,159,"LONGMEADOW                   ",5,"AGAWAM                       ",1,1,1,0,13638,13638,9312,-4326,null,0,159005,1,9312]
[159087,159,"LONGMEADOW                   ",87,"EAST LONGMEADOW              ",1,1,1,0,5000,5000,5000,0,null,0,159087,1,5000]
[159191,159,"LONGMEADOW                   ",191,"MONSON                       ",1,0,0,0,5000,0,0,0,null,0,159191]
[159278,159,"LONGMEADOW                   ",278,"SOUTH HADLEY                 ",1,1,1,0,59100,59100,60200,1100,null,0,159278,1,60200]
[159281,159,"LONGMEADOW                   ",281,"SPRINGFIELD                  ",41,34,35.630000000000003,1.6300000000000026,281666,201904,248644,46740,null,0,159281,35.630000000000003,248644]
[159332,159,"LONGMEADOW                   ",332,"WEST SPRINGFIELD             ",null,1,1,0,null,5000,5000,0,null,0,159332,1,5000]
[161024,161,"LUDLOW                       ",24,"BELCHERTOWN                  ",2,1,1,0,10000,5000,5000,0,null,0,161024,1,5000]
[161061,161,"LUDLOW                       ",61,"CHICOPEE                     ",1,2,2,0,5000,10000,10000,0,null,0,161061,2,10000]
[161191,161,"LUDLOW                       ",191,"MONSON                       ",3,2,2,0,15000,10000,10000,0,null,0,161191,2,10000]
[161215,161,"LUDLOW                       ",215,"NORTH BROOKFIELD             ",null,1,1,0,null,5000,5000,0,null,0,161215,1,5000]
[161227,161,"LUDLOW                       ",227,"PALMER                       ",null,1,1,0,null,9000,6041,-2959,null,0,161227,1,6041]
[161281,161,"LUDLOW                       ",281,"SPRINGFIELD                  ",74.17,87,84.990000000000009,-2.0099999999999909,469229,562083,516363,-45720,null,0,161281,84.990000000000009,516363]
[161325,161,"LUDLOW                       ",325,"WESTFIELD                    ",null,1,1,0,null,5000,5000,0,null,0,161325,1,5000]
[161680,161,"LUDLOW                       ",680,"HAMPDEN WILBRAHAM            ",null,1,1,0,null,5000,5000,0,null,0,161680,1,5000]
[162064,162,"LUNENBURG                    ",64,"CLINTON                      ",1,0,0,0,7652,0,0,0,null,{"$f":"P712-A712","v":0},162064]
[162097,162,"LUNENBURG                    ",97,"FITCHBURG                    ",19,22,{"$f":"Q713","v":20.09},{"$f":"H713-G713","v":-1.9100000000000001},125389,141129,{"$f":"R713","v":123791},{"$f":"L713-K713","v":-17338},null,0,162097,20.09,123791]
[162100,162,"LUNENBURG                    ",100,"FRAMINGHAM                   ",0.93,0,0,0,4650,0,0,0,null,0,162100]
[162103,162,"LUNENBURG                    ",103,"GARDNER                      ",2,2,0.6,-1.4,10000,10000,3000,-7000,null,0,162103,0.6,3000]
[162153,162,"LUNENBURG                    ",153,"LEOMINSTER                   ",13.82,22,23.1,1.1000000000000014,69100,117260,122482,5222,null,0,162153,23.1,122482]
[162174,162,"LUNENBURG                    ",174,"MAYNARD                      ",0.8,0,0,0,4000,0,0,0,null,0,162174]
[162343,162,"LUNENBURG                    ",343,"WINCHENDON                   ",null,2,2,0,null,10000,10000,0,null,0,162343,2,10000]
[162610,162,"LUNENBURG                    ",610,"ASHBURNHAM WESTMINSTER       ",null,1,1.48,0.48,null,5000,7400,2400,null,0,162610,1.48,7400]
[162616,162,"LUNENBURG                    ",616,"AYER SHIRLEY",null,1,1,0,null,5000,5000,0,null,0,162616,1,5000]
[162735,162,"LUNENBURG                    ",735,"NORTH MIDDLESEX              ",1.3900000000000001,3,3,0,6950,15000,15000,0,null,0,162735,3,15000]
[171219,171,"MARSHFIELD                   ",219,"NORWELL                      ",1,0,0,0,9000,0,0,0,null,0,171219]
[171239,171,"MARSHFIELD                   ",239,"PLYMOUTH                     ",5,5,5,0,25000,25000,25000,0,null,0,171239,5,25000]
[172020,172,"MASHPEE                      ",20,"BARNSTABLE                   ",26,25,24,-1,139712,137637,132185,-5452,null,0,172020,24,132185]
[172036,172,"MASHPEE                      ",36,"BOURNE                       ",2,3,3,0,49558,15000,15000,0,null,0,172036,3,15000]
[172096,172,"MASHPEE                      ",96,"FALMOUTH                     ",25.21,19,18,-1,147616,113269,115459,2190,null,0,172096,18,115459]
[172201,172,"MASHPEE                      ",201,"NEW BEDFORD                  ",null,1,1,0,null,12000,13747,1747,null,0,172201,1,13747]
[172239,172,"MASHPEE                      ",239,"PLYMOUTH                     ",3,3,3,0,15592,15000,15000,0,null,0,172239,3,15000]
[172261,172,"MASHPEE                      ",261,"SANDWICH                     ",9.2100000000000009,10,10,0,46807,58000,54268,-3732,null,0,172261,10,54268]
[172308,172,"MASHPEE                      ",308,"WALTHAM                      ",null,1,0,-1,null,9000,0,-9000,null,0,172308]
[172310,172,"MASHPEE                      ",310,"WAREHAM                      ",6,5,5.75,0.75,37765,32765,39361,6596,null,0,172310,5.75,39361]
[172645,172,"MASHPEE                      ",645,"DENNIS YARMOUTH              ",1,1,0,-1,5000,5000,0,-5000,null,0,172645]
[173310,173,"MATTAPOISETT                 ",310,"WAREHAM                      ",2,2,2,0,37512,37512,38577,1065,null,0,173310,2,38577]
[173331,173,"MATTAPOISETT                 ",331,"WESTPORT                     ",1,0,0,0,5000,0,0,0,null,0,173331]
[174025,174,"MAYNARD                      ",25,"BELLINGHAM                   ",1,1,1,0,5000,5000,5000,0,null,0,174025,1,5000]
[174026,174,"MAYNARD                      ",26,"BELMONT                      ",0.14000000000000001,0,0,0,700,0,0,0,null,0,174026]
[174064,174,"MAYNARD                      ",64,"CLINTON                      ",2.06,2.5,4.08,1.58,10300,21500,43016,21516,null,0,174064,4.08,43016]
[174067,174,"MAYNARD                      ",67,"CONCORD                      ",1,1,0,-1,5000,5000,0,-5000,null,0,174067]
[174097,174,"MAYNARD                      ",97,"FITCHBURG                    ",1,2,2,0,5000,10000,10000,0,null,0,174097,2,10000]
[174141,174,"MAYNARD                      ",141,"HUDSON                       ",1.83,0,0,0,9150,0,0,0,null,0,174141]
[174153,174,"MAYNARD                      ",153,"LEOMINSTER                   ",2,1,1,0,24290,5000,5000,0,null,0,174153,1,5000]
[174162,174,"MAYNARD                      ",162,"LUNENBURG                    ",null,2,2,0,null,24290,16364,-7926,null,0,174162,2,16364]
[174170,174,"MAYNARD                      ",170,"MARLBOROUGH                  ",3,4,3.88,-0.12000000000000011,15513,32513,20940,-11573,null,0,174170,3.88,20940]
[174277,174,"MAYNARD                      ",277,"SOUTHBRIDGE                  ",1.5,0,0,0,7500,0,0,0,null,0,174277]
[174288,174,"MAYNARD                      ",288,"SUDBURY                      ",1,1,1,0,12230,12230,9756,-2474,null,0,174288,1,9756]
[174301,174,"MAYNARD                      ",301,"TYNGSBOROUGH                 ",0.38,1,1,0,1900,5000,5000,0,null,0,174301,1,5000]
[174308,174,"MAYNARD                      ",308,"WALTHAM                      ",null,1,0,-1,null,5000,0,-5000,null,0,174308]
[174314,174,"MAYNARD                      ",314,"WATERTOWN                    ",null,1,0,-1,null,5000,0,-5000,null,0,174314]
[174321,174,"MAYNARD                      ",321,"WESTBOROUGH                  ",1,1,1,0,5000,17000,10457,-6543,null,0,174321,1,10457]
[174326,174,"MAYNARD                      ",326,"WESTFORD                     ",null,1,1.28,0.28000000000000003,null,5000,6400,1400,null,0,174326,1.28,6400]
[174600,174,"MAYNARD                      ",600,"ACTON BOXBOROUGH             ",7,7,7.26,0.25999999999999979,75998,79998,62305,-17693,null,0,174600,7.26,62305]
[174616,174,"MAYNARD                      ",616,"AYER SHIRLEY",1,0,0,0,5000,0,0,0,null,0,174616]
[174725,174,"MAYNARD                      ",725,"NASHOBA                      ",11.25,14,14.02,1.9999999999999574E-2,82066,102816,93885,-8931,null,0,174725,14.02,93885]
[177014,177,"MEDWAY                       ",14,"ASHLAND                      ",1,1,1,0,11833,11833,12235,402,null,0,177014,1,12235]
[177016,177,"MEDWAY                       ",16,"ATTLEBORO                    ",2,2,2,0,10000,10000,10000,0,null,0,177016,2,10000]
[177025,177,"MEDWAY                       ",25,"BELLINGHAM                   ",19,32,31.269999999999996,-0.73000000000000398,103953,176953,170200,-6753,null,0,177025,31.269999999999996,170200]
[177101,177,"MEDWAY                       ",101,"FRANKLIN                     ",4.7799999999999994,8.5,7.65,-0.84999999999999964,23900,46500,44692,-1808,null,0,177101,7.65,44692]
[177136,177,"MEDWAY                       ",136,"HOLLISTON                    ",1.23,3,3,0,6150,19000,17864,-1136,null,0,177136,3,17864]
[177138,177,"MEDWAY                       ",138,"HOPEDALE                     ",3,1,2.25,1.25,26951,11804,15881,4077,null,0,177138,2.25,15881]
[177167,177,"MEDWAY                       ",167,"MANSFIELD                    ",1,0,0,0,5000,0,0,0,null,0,177167]
[177170,177,"MEDWAY                       ",170,"MARLBOROUGH                  ",1,0,0,0,5000,0,0,0,null,0,177170]
[177175,{"$f":"TRUNC(A762,-3)/1000","v":177},{"$f":"VLOOKUP(B762,code437,2)","v":"MEDWAY                       "},{"$f":"A762-B762*1000","v":175},"MEDFIELD                     ",null,null,1.28,1.28,null,null,6400,6400,null,0,177175,1.28,6400]
[177185,177,"MEDWAY                       ",185,"MILFORD                      ",8.61,19,19.579999999999998,0.57999999999999829,47859,106809,104028,-2781,null,0,177185,19.579999999999998,104028]
[177187,177,"MEDWAY                       ",187,"MILLIS                       ",12.12,10,10,0,62656,51663,52611,948,null,0,177187,10,52611]
[177214,177,"MEDWAY                       ",214,"NORTHBRIDGE                  ",null,1,0.32,-0.67999999999999994,null,5000,1600,-3400,null,0,177214,0.32,1600]
[177285,177,"MEDWAY                       ",285,"STOUGHTON                    ",1,1,1,0,5000,9000,8379,-621,null,0,177285,1,8379]
[177304,177,"MEDWAY                       ",304,"UXBRIDGE                     ",0.5,1,0.32,-0.67999999999999994,2500,5000,1600,-3400,null,0,177304,0.32,1600]
[177348,177,"MEDWAY                       ",348,"WORCESTER                    ",1.28,2,2,0,7878,11478,15262,3784,null,0,177348,2,15262]
[177350,177,"MEDWAY                       ",350,"WRENTHAM                     ",2,2.5,3.17,0.66999999999999993,10000,12500,15850,3350,null,0,177350,3.17,15850]
[177622,177,"MEDWAY                       ",622,"BLACKSTONE MILLVILLE         ",1.5,4,4,0,7500,24000,20928,-3072,null,0,177622,4,20928]
[177658,{"$f":"TRUNC(A771,-3)/1000","v":177},{"$f":"VLOOKUP(B771,code437,2)","v":"MEDWAY                       "},{"$f":"A771-B771*1000","v":658},"DUDLEY CHARLTON              ",null,null,0.34,0.34,null,null,1700,1700,null,0,177658,0.34,1700]
[177690,177,"MEDWAY                       ",690,"KING PHILIP                  ",1.22,0,0,0,8865,0,0,0,null,0,177690]
[177710,177,"MEDWAY                       ",710,"MENDON UPTON                 ",0.41,0,0,0,2050,0,0,0,null,0,177710]
[178035,{"$f":"TRUNC(A774,-3)/1000","v":178},{"$f":"VLOOKUP(B774,code437,2)","v":"MELROSE                      "},{"$f":"A774-B774*1000","v":35},"BOSTON                       ",null,null,1,1,null,null,5000,5000,null,0,178035,1,5000]
[178071,178,"MELROSE                      ",71,"DANVERS                      ",null,1,1,0,null,5000,6672,1672,null,0,178071,1,6672]
[178093,178,"MELROSE                      ",93,"EVERETT                      ",null,1,1,0,null,5000,5000,0,null,{"$f":"P776-A776","v":0},178093,1,5000]
[178163,178,"MELROSE                      ",163,"LYNN                         ",1,1,{"$f":"Q777","v":1},{"$f":"H777-G777","v":0},5000,5000,{"$f":"R777","v":5000},{"$f":"L777-K777","v":0},null,0,178163,1,5000]
[178165,178,"MELROSE                      ",165,"MALDEN                       ",2,4,4,0,10000,20000,20000,0,null,0,178165,4,20000]
[178176,178,"MELROSE                      ",176,"MEDFORD                      ",0.18,2,1.43,-0.57000000000000006,900,10000,7150,-2850,null,0,178176,1.43,7150]
[178229,178,"MELROSE                      ",229,"PEABODY                      ",1,1,1,0,5000,5000,5000,0,null,0,178229,1,5000]
[178246,178,"MELROSE                      ",246,"READING                      ",0.25,1,1.8599999999999999,0.85999999999999988,1250,9000,11558,2558,null,0,178246,1.8599999999999999,11558]
[178248,178,"MELROSE                      ",248,"REVERE                       ",3,3,3,0,15000,15000,15000,0,null,0,178248,3,15000]
[178262,178,"MELROSE                      ",262,"SAUGUS                       ",2,3,4,1,10000,22000,28521,6521,null,0,178262,4,28521]
[178284,178,"MELROSE                      ",284,"STONEHAM                     ",0.48,2,2,0,2400,10000,10000,0,null,0,178284,2,10000]
[178305,178,"MELROSE                      ",305,"WAKEFIELD                    ",0.72,4,4,0,3600,24000,21154,-2846,null,0,178305,4,21154]
[182088,182,"MIDDLEBOROUGH                ",88,"EASTON                       ",null,1,0,-1,null,5000,0,-5000,null,0,182088]
[182239,182,"MIDDLEBOROUGH                ",239,"PLYMOUTH                     ",null,1,0,-1,null,5000,0,-5000,null,0,182239]
[182293,182,"MIDDLEBOROUGH                ",293,"TAUNTON                      ",3,3,3,0,15000,15000,15000,0,null,0,182293,3,15000]
[185014,185,"MILFORD                      ",14,"ASHLAND                      ",0.39,0,0,0,1950,0,0,0,null,0,185014]
[185025,185,"MILFORD                      ",25,"BELLINGHAM                   ",6.0399999999999991,7,9.629999999999999,2.629999999999999,32383,35000,57240,22240,null,0,185025,9.629999999999999,57240]
[185077,{"$f":"TRUNC(A791,-3)/1000","v":185},{"$f":"VLOOKUP(B791,code437,2)","v":"MILFORD                      "},{"$f":"A791-B791*1000","v":77},"DOUGLAS                      ",null,null,0.43,0.43,null,null,2150,2150,null,0,185077,0.43,2150]
[185100,185,"MILFORD                      ",100,"FRAMINGHAM                   ",0.65,0,0,0,4709,0,0,0,null,0,185100]
[185101,185,"MILFORD                      ",101,"FRANKLIN                     ",3.05,3,2.97,-2.9999999999999805E-2,15250,15000,19468,4468,null,0,185101,2.97,19468]
[185136,185,"MILFORD                      ",136,"HOLLISTON                    ",null,1,1,0,null,5000,5000,0,null,0,185136,1,5000]
[185138,185,"MILFORD                      ",138,"HOPEDALE                     ",29.01,26,27.939999999999998,1.9399999999999977,157957,146907,163150,16243,null,0,185138,27.939999999999998,163150]
[185139,185,"MILFORD                      ",139,"HOPKINTON                    ",0.82,1,1,0,4100,5000,5000,0,null,0,185139,1,5000]
[185170,185,"MILFORD                      ",170,"MARLBOROUGH                  ",1,4,4,0,5000,31000,24919,-6081,null,0,185170,4,24919]
[185177,185,"MILFORD                      ",177,"MEDWAY                       ",5,5,5,0,26592,29000,28895,-105,null,0,185177,5,28895]
[185187,185,"MILFORD                      ",187,"MILLIS                       ",1,1,1,0,5000,5000,5000,0,null,0,185187,1,5000]
[185198,185,"MILFORD                      ",198,"NATICK                       ",0.56000000000000005,0,0,0,2800,0,0,0,null,0,185198]
[185214,185,"MILFORD                      ",214,"NORTHBRIDGE                  ",2.36,3,4.7099999999999991,1.7099999999999991,11800,15000,27501,12501,null,0,185214,4.7099999999999991,27501]
[185271,185,"MILFORD                      ",271,"SHREWSBURY                   ",1,1,1.6099999999999999,0.60999999999999988,5000,5000,8050,3050,null,0,185271,1.6099999999999999,8050]
[185276,185,"MILFORD                      ",276,"SOUTHBOROUGH                 ",0.15,0,0,0,1737,0,0,0,null,0,185276]
[185304,185,"MILFORD                      ",304,"UXBRIDGE                     ",13,12,12.57,0.57000000000000028,80044,75044,74654,-390,null,0,185304,12.57,74654]
[185316,185,"MILFORD                      ",316,"WEBSTER                      ",1,1,1,0,5000,5000,5000,0,null,0,185316,1,5000]
[185317,185,"MILFORD                      ",317,"WELLESLEY                    ",1,0,0,0,5000,0,0,0,null,0,185317]
[185622,185,"MILFORD                      ",622,"BLACKSTONE MILLVILLE         ",5,2,2.56,0.56000000000000005,34570,19570,26616,7046,null,0,185622,2.56,26616]
[185710,185,"MILFORD                      ",710,"MENDON UPTON                 ",11.620000000000001,10,11.379999999999999,1.379999999999999,60122,50603,60465,9862,null,0,185710,11.379999999999999,60465]
[187016,187,"MILLIS                       ",16,"ATTLEBORO                    ",0.74,1,1,0,3700,5000,5000,0,null,0,187016,1,5000]
[187018,187,"MILLIS                       ",18,"AVON                         ",2,0,0,0,10000,0,0,0,null,0,187018]
[187025,187,"MILLIS                       ",25,"BELLINGHAM                   ",7.5,11,10.3,-0.69999999999999929,37500,55000,51847,-3153,null,0,187025,10.3,51847]
[187035,187,"MILLIS                       ",35,"BOSTON                       ",1,1,0,-1,5000,5000,0,-5000,null,0,187035]
[187073,{"$f":"TRUNC(A813,-3)/1000","v":187},{"$f":"VLOOKUP(B813,code437,2)","v":"MILLIS                       "},{"$f":"A813-B813*1000","v":73},"DEDHAM                       ",null,null,0.59,0.59,null,null,2950,2950,null,0,187073,0.59,2950]
[187100,187,"MILLIS                       ",100,"FRAMINGHAM                   ",0.72,1,1.02,2.0000000000000018E-2,3600,5000,5100,100,null,0,187100,1.02,5100]
[187101,187,"MILLIS                       ",101,"FRANKLIN                     ",6.1,6,9.9600000000000009,3.9600000000000009,33520,33020,51209,18189,null,0,187101,9.9600000000000009,51209]
[187136,187,"MILLIS                       ",136,"HOLLISTON                    ",0.54,0,0,0,2700,0,0,0,null,0,187136]
[187175,187,"MILLIS                       ",175,"MEDFIELD                     ",4.6899999999999995,2,2,0,23450,10000,10000,0,null,0,187175,2,10000]
[187177,187,"MILLIS                       ",177,"MEDWAY                       ",16.32,17,20.2,3.1999999999999993,103246,88998,111180,22182,null,0,187177,20.2,111180]
[187185,187,"MILLIS                       ",185,"MILFORD                      ",7.42,7,7.8199999999999994,0.8199999999999994,39794,39000,40929,1929,null,0,187185,7.8199999999999994,40929]
[187198,187,"MILLIS                       ",198,"NATICK                       ",3.6,1,1,0,23873,5000,5000,0,null,0,187198,1,5000]
[187199,187,"MILLIS                       ",199,"NEEDHAM                      ",1,1,1,0,5000,5000,5000,0,null,0,187199,1,5000]
[187207,187,"MILLIS                       ",207,"NEWTON                       ",2.4000000000000004,0,0,0,12000,0,0,0,null,0,187207]
[187208,187,"MILLIS                       ",208,"NORFOLK                      ",1,1,1,0,5000,5000,5000,0,null,0,187208,1,5000]
[187212,187,"MILLIS                       ",212,"NORTH ATTLEBOROUGH           ",1,2,2,0,5000,10000,10000,0,null,0,187212,2,10000]
[187214,187,"MILLIS                       ",214,"NORTHBRIDGE                  ",null,1,1,0,null,5000,5000,0,null,0,187214,1,5000]
[187220,187,"MILLIS                       ",220,"NORWOOD                      ",null,2,3.7199999999999998,1.7199999999999998,null,10000,20406,10406,null,0,187220,3.7199999999999998,20406]
[187304,{"$f":"TRUNC(A827,-3)/1000","v":187},{"$f":"VLOOKUP(B827,code437,2)","v":"MILLIS                       "},{"$f":"A827-B827*1000","v":304},"UXBRIDGE                     ",null,null,0.28000000000000003,0.28000000000000003,null,null,1400,1400,null,0,187304,0.28000000000000003,1400]
[187307,187,"MILLIS                       ",307,"WALPOLE                      ",6,6,6,0,34201,36485,34655,-1830,null,0,187307,6,34655]
[187350,187,"MILLIS                       ",350,"WRENTHAM                     ",1,0,0,0,5000,0,0,0,null,0,187350]
[187690,187,"MILLIS                       ",690,"KING PHILIP                  ",7,6,5.63,-0.37000000000000011,36971,38971,35544,-3427,null,0,187690,5.63,35544]
[187710,187,"MILLIS                       ",710,"MENDON UPTON                 ",6,4,4.74,0.74000000000000021,30000,20000,23700,3700,null,0,187710,4.74,23700]
[191061,191,"MONSON                       ",61,"CHICOPEE                     ",null,2,2,0,null,10000,10000,0,null,0,191061,2,10000]
[191137,191,"MONSON                       ",137,"HOLYOKE                      ",1,1,1,0,5000,5000,5000,0,null,0,191137,1,5000]
[191227,191,"MONSON                       ",227,"PALMER                       ",16,19,19,0,92926,118926,135358,16432,null,0,191227,19,135358]
[191281,191,"MONSON                       ",281,"SPRINGFIELD                  ",17.96,22,22,0,101730,135000,133370,-1630,null,0,191281,22,133370]
[191306,191,"MONSON                       ",306,"WALES                        ",2,2,2,0,10000,10000,10000,0,null,0,191306,2,10000]
[191309,191,"MONSON                       ",309,"WARE                         ",2,2,2,0,10000,10000,10000,0,null,0,191309,2,10000]
[191332,191,"MONSON                       ",332,"WEST SPRINGFIELD             ",1,1,1,0,5000,5000,5000,0,null,0,191332,1,5000]
[191680,191,"MONSON                       ",680,"HAMPDEN WILBRAHAM            ",2,2,2,0,10000,10000,10000,0,null,0,191680,2,10000]
[191770,191,"MONSON                       ",770,"TANTASQUA                    ",1,1,1,0,5000,5000,5000,0,null,{"$f":"P840-A840","v":0},191770,1,5000]
[198014,198,"NATICK                       ",14,"ASHLAND                      ",4.8,4,{"$f":"Q841","v":4},{"$f":"H841-G841","v":0},30411,30411,{"$f":"R841","v":23934},{"$f":"L841-K841","v":-6477},null,0,198014,4,23934]
[198035,198,"NATICK                       ",35,"BOSTON                       ",2,2,2,0,14785,14785,16997,2212,null,0,198035,2,16997]
[198100,198,"NATICK                       ",100,"FRAMINGHAM                   ",18.64,16,16,0,96085,90885,90758,-127,null,0,198100,16,90758]
[198136,198,"NATICK                       ",136,"HOLLISTON                    ",1.69,2,2,0,11912,13462,10000,-3462,null,0,198136,2,10000]
[198138,198,"NATICK                       ",138,"HOPEDALE                     ",2,0,0,0,12827,0,0,0,null,0,198138]
[198139,198,"NATICK                       ",139,"HOPKINTON                    ",0.39,0,0,0,1950,0,0,0,null,0,198139]
[198170,198,"NATICK                       ",170,"MARLBOROUGH                  ",4,4,4,0,43776,43776,42779,-997,null,0,198170,4,42779]
[198185,198,"NATICK                       ",185,"MILFORD                      ",2,2,2,0,10000,10000,10000,0,null,0,198185,2,10000]
[198187,198,"NATICK                       ",187,"MILLIS                       ",2.54,2,2,0,12700,10000,10000,0,null,0,198187,2,10000]
[198213,198,"NATICK                       ",213,"NORTHBOROUGH                 ",null,1,0,-1,null,9000,0,-9000,null,0,198213]
[198288,198,"NATICK                       ",288,"SUDBURY                      ",1,0,0,0,6154,0,0,0,null,0,198288]
[198315,198,"NATICK                       ",315,"WAYLAND                      ",1,2,2,0,5000,14000,68879,54879,null,0,198315,2,68879]
[198330,198,"NATICK                       ",330,"WESTON                       ",null,2,2,0,null,14000,15853,1853,null,0,198330,2,15853]
[198655,198,"NATICK                       ",655,"DOVER SHERBORN               ",null,1,1.8900000000000001,0.89000000000000012,null,5000,9450,4450,null,0,198655,1.8900000000000001,9450]
[198695,198,"NATICK                       ",695,"LINCOLN SUDBURY              ",null,1,1,0,null,6154,7992,1838,null,0,198695,1,7992]
[204007,204,"NEWBURYPORT                  ",7,"AMESBURY                     ",12,6,6,0,60057,37000,57808,20808,null,0,204007,6,57808]
[204105,204,"NEWBURYPORT                  ",105,"GEORGETOWN                   ",1,1,1,0,35640,40640,5000,-35640,null,0,204105,1,5000]
[204128,204,"NEWBURYPORT                  ",128,"HAVERHILL                    ",9,6.5,6.5,0,50669,36032,35845,-187,null,0,204128,6.5,35845]
[204149,204,"NEWBURYPORT                  ",149,"LAWRENCE                     ",1,1,1,0,7989,7989,8470,481,null,0,204149,1,8470]
[204160,204,"NEWBURYPORT                  ",160,"LOWELL                       ",null,2,1.33,-0.66999999999999993,null,10000,6650,-3350,null,0,204160,1.33,6650]
[204229,204,"NEWBURYPORT                  ",229,"PEABODY                      ",1,1,1,0,7703,7703,6771,-932,null,0,204229,1,6771]
[204745,204,"NEWBURYPORT                  ",745,"PENTUCKET                    ",6,4,4,0,32098,22098,25193,3095,null,0,204745,4,25193]
[204773,204,"NEWBURYPORT                  ",773,"TRITON                       ",26.16,21.5,21.19,-0.30999999999999872,533316,510016,496072,-13944,null,0,204773,21.19,496072]
[209063,209,"NORTH ADAMS                  ",63,"CLARKSBURG                   ",7.03,8,9.14,1.1400000000000006,49192,58042,83332,25290,null,0,209063,9.14,83332]
[209098,209,"NORTH ADAMS                  ",98,"FLORIDA                      ",2,5,5,0,10000,37000,29198,-7802,null,0,209098,5,29198]
[209236,209,"NORTH ADAMS                  ",236,"PITTSFIELD                   ",1,1,0.88000000000000012,-0.11999999999999988,5000,5000,4400,-600,null,0,209236,0.88000000000000012,4400]
[209341,209,"NORTH ADAMS                  ",341,"WILLIAMSTOWN                 ",1.7400000000000002,0,0,0,8805,0,0,0,null,0,209341]
[209603,209,"NORTH ADAMS                  ",603,"ADAMS CHESHIRE               ",31.299999999999997,22,26.939999999999998,4.9399999999999977,210860,147689,195779,48090,null,0,209603,26.939999999999998,195779]
[209715,209,"NORTH ADAMS                  ",715,"MOUNT GREYLOCK               ",1.1400000000000001,1,2.04,1.04,6669,5000,10200,5200,null,0,209715,2.04,10200]
[209717,209,"NORTH ADAMS                  ",717,"MOHAWK TRAIL                 ",null,3,0.17,-2.83,null,31000,850,-30150,null,0,209717,0.17,850]
[210005,210,"NORTHAMPTON                  ",5,"AGAWAM                       ",2,1,1,0,10000,5000,5000,0,null,0,210005,1,5000]
[210008,210,"NORTHAMPTON                  ",8,"AMHERST                      ",1,0,0,0,12361,0,0,0,null,0,210008]
[210024,210,"NORTHAMPTON                  ",24,"BELCHERTOWN                  ",2,0,0,0,13550,0,0,0,null,0,210024]
[210061,210,"NORTHAMPTON                  ",61,"CHICOPEE                     ",4.9000000000000004,5,4,-1,24500,35874,24189,-11685,null,0,210061,4,24189]
[210068,210,"NORTHAMPTON                  ",68,"CONWAY                       ",2,2,2,0,12342,12342,11901,-441,null,0,210068,2,11901]
[210074,210,"NORTHAMPTON                  ",74,"DEERFIELD                    ",1,0,0,0,5000,0,0,0,null,0,210074]
[210086,210,"NORTHAMPTON                  ",86,"EASTHAMPTON                  ",72.88,63,64.37,1.3700000000000045,561043,467846,494026,26180,null,0,210086,64.37,494026]
[210111,210,"NORTHAMPTON                  ",111,"GRANBY                       ",1.22,1,1,0,9974,9000,8461,-539,null,0,210111,1,8461]
[210114,210,"NORTHAMPTON                  ",114,"GREENFIELD                   ",5,5,3,-2,25000,28550,17355,-11195,null,0,210114,3,17355]
[210117,210,"NORTHAMPTON                  ",117,"HADLEY                       ",6,7,7,0,38954,43954,38595,-5359,null,0,210117,7,38595]
[210127,210,"NORTHAMPTON                  ",127,"HATFIELD                     ",5,5,5.4499999999999993,0.44999999999999929,28550,25000,27250,2250,null,0,210127,5.4499999999999993,27250]
[210137,210,"NORTHAMPTON                  ",137,"HOLYOKE                      ",38.15,34,36.18,2.1799999999999997,309329,277784,328741,50957,null,0,210137,36.18,328741]
[210227,210,"NORTHAMPTON                  ",227,"PALMER                       ",1,0,0,0,5000,0,0,0,null,0,210227]
[210275,210,"NORTHAMPTON                  ",275,"SOUTHAMPTON                  ",null,1,0,-1,null,5000,0,-5000,null,0,210275]
[210278,210,"NORTHAMPTON                  ",278,"SOUTH HADLEY                 ",1,2,2,0,5000,10000,10000,0,null,0,210278,2,10000]
[210281,210,"NORTHAMPTON                  ",281,"SPRINGFIELD                  ",4,4,3.4,-0.60000000000000009,23731,31000,21642,-9358,null,0,210281,3.4,21642]
[210325,210,"NORTHAMPTON                  ",325,"WESTFIELD                    ",1,1,1,0,5000,5000,5000,0,null,0,210325,1,5000]
[210327,210,"NORTHAMPTON                  ",327,"WESTHAMPTON                  ",1,1,3,2,5000,5000,15000,10000,null,0,210327,3,15000]
[210332,210,"NORTHAMPTON                  ",332,"WEST SPRINGFIELD             ",1,1,1,0,5000,5000,5000,0,null,0,210332,1,5000]
[210337,210,"NORTHAMPTON                  ",337,"WHATELY                      ",2,1,1,0,40512,35512,41800,6288,null,0,210337,1,41800]
[210340,210,"NORTHAMPTON                  ",340,"WILLIAMSBURG                 ",12.8,11,11,0,69709,60709,61346,637,null,0,210340,11,61346]
[210349,210,"NORTHAMPTON                  ",349,"WORTHINGTON                  ",null,8,8,0,null,130824,124204,-6620,null,0,210349,8,124204]
[210605,210,"NORTHAMPTON                  ",605,"AMHERST PELHAM               ",1,1,0.45,-0.55000000000000004,5000,5000,2250,-2750,null,0,210605,0.45,2250]
[210632,210,"NORTHAMPTON                  ",632,"CHESTERFIELD GOSHEN",1.88,4,4,0,9400,24000,27761,3761,null,0,210632,4,27761]
[210635,210,"NORTHAMPTON                  ",635,"CENTRAL BERKSHIRE            ",2.2000000000000002,2,2,0,11000,10000,11324,1324,null,0,210635,2,11324]
[210670,210,"NORTHAMPTON                  ",670,"FRONTIER                     ",7,8,10.51,2.5099999999999998,35000,40000,56145,16145,null,0,210670,10.51,56145]
[210672,210,"NORTHAMPTON                  ",672,"GATEWAY                      ",17,10,10,0,188080,62256,65726,3470,null,0,210672,10,65726]
[210683,210,"NORTHAMPTON                  ",683,"HAMPSHIRE                    ",24,33,32,-1,169956,176765,167804,-8961,null,0,210683,32,167804]
[210717,210,"NORTHAMPTON                  ",717,"MOHAWK TRAIL                 ",5,7,7,0,194873,199873,253532,53659,null,0,210717,7,253532]
[210750,210,"NORTHAMPTON                  ",750,"PIONEER                      ",1,1,1,0,5000,5000,5000,0,null,0,210750,1,5000]
[214025,214,"NORTHBRIDGE                  ",25,"BELLINGHAM                   ",0.5,0.5,0.77,0.27,2500,2500,3850,1350,null,0,214025,0.77,3850]
[214077,214,"NORTHBRIDGE                  ",77,"DOUGLAS                      ",21.26,18,16.11,-1.8900000000000006,112815,92967,84303,-8664,null,0,214077,16.11,84303]
[214100,214,"NORTHBRIDGE                  ",100,"FRAMINGHAM                   ",1,0,0,0,5000,0,0,0,null,0,214100]
[214110,214,"NORTHBRIDGE                  ",110,"GRAFTON                      ",3.38,6,5.26,-0.74000000000000021,16900,30000,26300,-3700,null,{"$f":"P904-A904","v":0},214110,5.26,26300]
[214177,{"$f":"TRUNC(A905,-3)/1000","v":214},{"$f":"VLOOKUP(B905,code437,2)","v":"NORTHBRIDGE                  "},{"$f":"A905-B905*1000","v":177},"MEDWAY                       ",null,null,{"$f":"Q905","v":2.19},{"$f":"H905-G905","v":2.19},null,null,{"$f":"R905","v":10950},{"$f":"L905-K905","v":10950},null,0,214177,2.19,10950]
[214185,214,"NORTHBRIDGE                  ",185,"MILFORD                      ",2.59,2,2.13,0.12999999999999989,17652,14702,19725,5023,null,0,214185,2.13,19725]
[214186,214,"NORTHBRIDGE                  ",186,"MILLBURY                     ",3.36,2,1.22,-0.78,31400,19427,18662,-765,null,0,214186,1.22,18662]
[214226,214,"NORTHBRIDGE                  ",226,"OXFORD                       ",2.5,2,2.65,0.64999999999999991,23039,10000,13250,3250,null,0,214226,2.65,13250]
[214271,214,"NORTHBRIDGE                  ",271,"SHREWSBURY                   ",1,1,1,0,5000,5000,5000,0,null,0,214271,1,5000]
[214290,214,"NORTHBRIDGE                  ",290,"SUTTON                       ",3,4,3.16,-0.83999999999999986,15000,24000,17673,-6327,null,0,214290,3.16,17673]
[214304,214,"NORTHBRIDGE                  ",304,"UXBRIDGE                     ",55.120000000000005,52.5,47.47,-5.0300000000000011,293872,279751,248880,-30871,null,0,214304,47.47,248880]
[214348,214,"NORTHBRIDGE                  ",348,"WORCESTER                    ",5.74,5.5,5.99,0.49000000000000021,29731,27500,29950,2450,null,0,214348,5.99,29950]
[214622,214,"NORTHBRIDGE                  ",622,"BLACKSTONE MILLVILLE         ",3,3,4.8,1.7999999999999998,15000,15000,24000,9000,null,0,214622,4.8,24000]
[214658,214,"NORTHBRIDGE                  ",658,"DUDLEY CHARLTON              ",0.72,2,1.24,-0.76,3600,10000,6200,-3800,null,0,214658,1.24,6200]
[214690,214,"NORTHBRIDGE                  ",690,"KING PHILIP                  ",null,1,1,0,null,9541,12157,2616,null,0,214690,1,12157]
[214710,214,"NORTHBRIDGE                  ",710,"MENDON UPTON                 ",2.2400000000000002,5,6.8100000000000005,1.8100000000000005,11200,25000,35478,10478,null,0,214710,6.8100000000000005,35478]
[214730,{"$f":"TRUNC(A917,-3)/1000","v":214},{"$f":"VLOOKUP(B917,code437,2)","v":"NORTHBRIDGE                  "},{"$f":"A917-B917*1000","v":730},"NORTHBORO SOUTHBORO          ",null,null,0.4,0.4,null,null,2000,2000,null,0,214730,0.4,2000]
[214753,214,"NORTHBRIDGE                  ",753,"QUABBIN                      ",1,1,1,0,5000,5000,5000,0,null,0,214753,1,5000]
[214767,214,"NORTHBRIDGE                  ",767,"SPENCER EAST BROOKFIELD      ",2,1,1,0,10000,5000,5000,0,null,0,214767,1,5000]
[215001,215,"NORTH BROOKFIELD             ",1,"ABINGTON                     ",null,1,0,-1,null,5000,0,-5000,null,0,215001]
[215045,215,"NORTH BROOKFIELD             ",45,"BROOKFIELD                   ",1.28,0,1.62,1.62,6400,0,11679,11679,null,0,215045,1.62,11679]
[215151,215,"NORTH BROOKFIELD             ",151,"LEICESTER                    ",4,3,3,0,20000,15000,15000,0,null,0,215151,3,15000]
[215214,215,"NORTH BROOKFIELD             ",214,"NORTHBRIDGE                  ",1,0,1,1,5000,0,5000,5000,null,0,215214,1,5000]
[215277,215,"NORTH BROOKFIELD             ",277,"SOUTHBRIDGE                  ",0.52,2,1,-1,2600,10000,18307,8307,null,0,215277,1,18307]
[215309,215,"NORTH BROOKFIELD             ",309,"WARE                         ",1.1599999999999999,0,0,0,5800,0,0,0,null,0,215309]
[215348,215,"NORTH BROOKFIELD             ",348,"WORCESTER                    ",0.7,1,1,0,3500,5000,5000,0,null,0,215348,1,5000]
[215753,215,"NORTH BROOKFIELD             ",753,"QUABBIN                      ",6.8100000000000005,7,6.0500000000000007,-0.94999999999999929,35497,35000,30250,-4750,null,0,215753,6.0500000000000007,30250]
[215767,215,"NORTH BROOKFIELD             ",767,"SPENCER EAST BROOKFIELD      ",38.4,43,39.75,-3.25,224868,241304,202912,-38392,null,0,215767,39.75,202912]
[215770,215,"NORTH BROOKFIELD             ",770,"TANTASQUA                    ",2,2,1.3599999999999999,-0.64000000000000012,10000,10000,6800,-3200,null,0,215770,1.3599999999999999,6800]
[215775,215,"NORTH BROOKFIELD             ",775,"WACHUSETT                    ",null,1,1.48,0.48,null,5000,9929,4929,null,0,215775,1.48,9929]
[215778,215,"NORTH BROOKFIELD             ",778,"QUABOAG",9,8,8.32,0.32000000000000028,53545,47375,42703,-4672,null,0,215778,8.32,42703]
[218016,218,"NORTON                       ",16,"ATTLEBORO                    ",3,5,3.76,-1.2400000000000002,15000,29000,18800,-10200,null,0,218016,3.76,18800]
[218044,218,"NORTON                       ",44,"BROCKTON                     ",1,6,6,0,5000,30000,30000,0,null,0,218044,6,30000]
[218088,218,"NORTON                       ",88,"EASTON                       ",1,1,1,0,5000,5000,5000,0,null,0,218088,1,5000]
[218099,218,"NORTON                       ",99,"FOXBOROUGH                   ",null,1,0.95,-5.0000000000000044E-2,null,5000,4750,-250,null,0,218099,0.95,4750]
[218167,218,"NORTON                       ",167,"MANSFIELD                    ",null,0.5,0.5,0,null,2500,2500,0,null,0,218167,0.5,2500]
[218293,218,"NORTON                       ",293,"TAUNTON                      ",6,14.5,16.239999999999998,1.7399999999999984,39700,89200,81200,-8000,null,0,218293,16.239999999999998,81200]
[218650,218,"NORTON                       ",650,"DIGHTON REHOBOTH             ",null,4.5,4.5,0,null,36500,22500,-14000,null,0,218650,4.5,22500]
[218665,218,"NORTON                       ",665,"FREETOWN LAKEVILLE           ",null,2,2,0,null,10000,10000,0,null,0,218665,2,10000]
[221089,221,"OAK BLUFFS                   ",89,"EDGARTOWN                    ",11.27,12,10,-2,57862,60000,50000,-10000,null,0,221089,10,50000]
[221296,221,"OAK BLUFFS                   ",296,"TISBURY                      ",13,14,18.45,4.4499999999999993,84661,93661,92250,-1411,null,0,221296,18.45,92250]
[221774,221,"OAK BLUFFS                   ",774,"UPISLAND",11,10,7,-3,83630,60768,35000,-25768,null,0,221774,7,35000]
[223091,223,"ORANGE                       ",91,"ERVING                       ",1,2,2,0,5000,10000,10000,0,null,0,223091,2,10000]
[223103,{"$f":"TRUNC(A944,-3)/1000","v":223},{"$f":"VLOOKUP(B944,code437,2)","v":"ORANGE                       "},{"$f":"A944-B944*1000","v":103},"GARDNER                      ",null,null,0.18,0.18,null,null,900,900,null,0,223103,0.18,900]
[223114,223,"ORANGE                       ",114,"GREENFIELD                   ",1,0,0,0,5000,0,0,0,null,0,223114]
[223615,223,"ORANGE                       ",615,"ATHOL ROYALSTON              ",49.11,51,54.78,3.7800000000000011,315204,335432,372288,36856,null,0,223615,54.78,372288]
[223728,223,"ORANGE                       ",728,"NEW SALEM WENDELL            ",1,2,2.64,0.64000000000000012,5000,14000,13497,-503,null,0,223728,2.64,13497]
[223750,223,"ORANGE                       ",750,"PIONEER                      ",1,1,1,0,14176,14176,14308,132,null,0,223750,1,14308]
[223753,{"$f":"TRUNC(A949,-3)/1000","v":223},{"$f":"VLOOKUP(B949,code437,2)","v":"ORANGE                       "},{"$f":"A949-B949*1000","v":753},"QUABBIN                      ",null,null,0.63,0.63,null,null,3150,3150,null,0,223753,0.63,3150]
[224041,224,"ORLEANS                      ",41,"BREWSTER                     ",1,1,1,0,5000,5000,5000,0,null,0,224041,1,5000]
[226017,226,"OXFORD                       ",17,"AUBURN                       ",null,1,1,0,null,5000,5000,0,null,0,226017,1,5000]
[226077,226,"OXFORD                       ",77,"DOUGLAS                      ",null,1,1,0,null,5000,5000,0,null,0,226077,1,5000]
[226151,226,"OXFORD                       ",151,"LEICESTER                    ",1,0,0,0,5000,0,0,0,null,0,226151]
[226277,{"$f":"TRUNC(A954,-3)/1000","v":226},{"$f":"VLOOKUP(B954,code437,2)","v":"OXFORD                       "},{"$f":"A954-B954*1000","v":277},"SOUTHBRIDGE                  ",null,null,0.27,0.27,null,null,1350,1350,null,0,226277,0.27,1350]
[226290,226,"OXFORD                       ",290,"SUTTON                       ",null,1,1,0,null,5000,5000,0,null,0,226290,1,5000]
[226309,226,"OXFORD                       ",309,"WARE                         ",null,1,0.9,-9.9999999999999978E-2,null,5000,4500,-500,null,0,226309,0.9,4500]
[226316,226,"OXFORD                       ",316,"WEBSTER                      ",1,0,0.83,0.83,5000,0,4150,4150,null,0,226316,0.83,4150]
[226348,226,"OXFORD                       ",348,"WORCESTER                    ",1,0,0,0,5000,0,0,0,null,0,226348]
[226658,226,"OXFORD                       ",658,"DUDLEY CHARLTON              ",1,1,0.93,-6.9999999999999951E-2,10129,5000,4650,-350,null,0,226658,0.93,4650]
[227024,227,"PALMER                       ",24,"BELCHERTOWN                  ",1,1,1,0,5000,5000,5000,0,null,0,227024,1,5000]
[227061,227,"PALMER                       ",61,"CHICOPEE                     ",0.8,0,0,0,4000,0,0,0,null,0,227061]
[227161,227,"PALMER                       ",161,"LUDLOW                       ",0.81,1,1,0,4050,5000,5000,0,null,0,227161,1,5000]
[227191,227,"PALMER                       ",191,"MONSON                       ",4.0599999999999996,5,5.9799999999999995,0.97999999999999954,20300,25000,29900,4900,null,0,227191,5.9799999999999995,29900]
[227281,227,"PALMER                       ",281,"SPRINGFIELD                  ",6,6,7.48,1.4800000000000004,31638,31638,44629,12991,null,0,227281,7.48,44629]
[227306,227,"PALMER                       ",306,"WALES                        ",null,1,1,0,null,5000,5000,0,null,0,227306,1,5000]
[227309,227,"PALMER                       ",309,"WARE                         ",5,5,7.24,2.2400000000000002,29368,29368,41153,11785,null,0,227309,7.24,41153]
[227680,227,"PALMER                       ",680,"HAMPDEN WILBRAHAM            ",1.77,0,0,0,8850,0,0,0,null,0,227680]
[227770,{"$f":"TRUNC(A968,-3)/1000","v":227},{"$f":"VLOOKUP(B968,code437,2)","v":"PALMER                       "},{"$f":"A968-B968*1000","v":770},"TANTASQUA                    ",null,null,0.62,0.62,null,null,3100,3100,null,{"$f":"P968-A968","v":0},227770,0.62,3100]
[227775,227,"PALMER                       ",775,"WACHUSETT                    ",null,1,{"$f":"Q969","v":1},{"$f":"H969-G969","v":0},null,5000,{"$f":"R969","v":5000},{"$f":"L969-K969","v":0},null,0,227775,1,5000]
[227778,227,"PALMER                       ",778,"QUABOAG",null,1,2.02,1.02,null,5000,10100,5100,null,0,227778,2.02,10100]
[229007,229,"PEABODY                      ",7,"AMESBURY                     ",0.88,2,2,0,4400,14000,15244,1244,null,0,229007,2,15244]
[229030,229,"PEABODY                      ",30,"BEVERLY                      ",4,4,3.54,-0.45999999999999996,20000,20000,17700,-2300,null,0,229030,3.54,17700]
[229071,229,"PEABODY                      ",71,"DANVERS                      ",4.79,6,5.32,-0.67999999999999972,23950,34000,34360,360,null,0,229071,5.32,34360]
[229107,229,"PEABODY                      ",107,"GLOUCESTER                   ",2,3,3.4,0.39999999999999991,10000,15000,19655,4655,null,0,229107,3.4,19655]
[229144,{"$f":"TRUNC(A975,-3)/1000","v":229},{"$f":"VLOOKUP(B975,code437,2)","v":"PEABODY                      "},{"$f":"A975-B975*1000","v":144},"IPSWICH                      ",null,null,0.56999999999999995,0.56999999999999995,null,null,2850,2850,null,0,229144,0.56999999999999995,2850]
[229160,229,"PEABODY                      ",160,"LOWELL                       ",2,1,1,0,10000,5000,5000,0,null,0,229160,1,5000]
[229163,229,"PEABODY                      ",163,"LYNN                         ",22.63,36,34.340000000000003,-1.6599999999999966,114482,189099,177079,-12020,null,0,229163,34.340000000000003,177079]
[229196,{"$f":"TRUNC(A978,-3)/1000","v":229},{"$f":"VLOOKUP(B978,code437,2)","v":"PEABODY                      "},{"$f":"A978-B978*1000","v":196},"NAHANT                       ",null,null,1.48,1.48,null,null,7400,7400,null,0,229196,1.48,7400]
[229217,229,"PEABODY                      ",217,"NORTH READING                ",null,1,1,0,null,5000,5000,0,null,0,229217,1,5000]
[229258,229,"PEABODY                      ",258,"SALEM                        ",25.650000000000002,23,22.68,-0.32000000000000028,131067,128817,122054,-6763,null,0,229258,22.68,122054]
[229262,229,"PEABODY                      ",262,"SAUGUS                       ",1,3,3,0,5000,15000,15000,0,null,0,229262,3,15000]
[229284,{"$f":"TRUNC(A982,-3)/1000","v":229},{"$f":"VLOOKUP(B982,code437,2)","v":"PEABODY                      "},{"$f":"A982-B982*1000","v":284},"STONEHAM                     ",null,null,0.76,0.76,null,null,3800,3800,null,0,229284,0.76,3800]
[229305,229,"PEABODY                      ",305,"WAKEFIELD                    ",2,0,0,0,10000,0,0,0,null,0,229305]
[229705,229,"PEABODY                      ",705,"MASCONOMET                   ",null,2,2,0,null,10000,10000,0,null,0,229705,2,10000]
[229745,{"$f":"TRUNC(A985,-3)/1000","v":229},{"$f":"VLOOKUP(B985,code437,2)","v":"PEABODY                      "},{"$f":"A985-B985*1000","v":745},"PENTUCKET                    ",null,null,0.76,0.76,null,null,3800,3800,null,0,229745,0.76,3800]
[229817,229,"PEABODY                      ",817,"ESSEX NORTH SHORE",6.9,7,8.24,1.2400000000000002,37043,37543,42653,5110,null,0,229817,8.24,42653]
[229853,229,"PEABODY                      ",853,"NORTHEAST METROPOLITAN       ",null,1,1,0,null,5000,5000,0,null,0,229853,1,5000]
[230008,230,"PELHAM                       ",8,"AMHERST                      ",9.92,10,10.59,0.58999999999999986,65928,67400,72440,5040,null,0,230008,10.59,72440]
[230024,230,"PELHAM                       ",24,"BELCHERTOWN                  ",19.72,25,24.830000000000002,-0.16999999999999815,173829,200229,199186,-1043,null,0,230024,24.830000000000002,199186]
[230061,230,"PELHAM                       ",61,"CHICOPEE                     ",null,1,1,0,null,5000,5000,0,null,0,230061,1,5000]
[230086,230,"PELHAM                       ",86,"EASTHAMPTON                  ",1,1,1,0,8442,8442,8918,476,null,0,230086,1,8918]
[230111,230,"PELHAM                       ",111,"GRANBY                       ",1,0,0,0,5000,0,0,0,null,0,230111]
[230117,230,"PELHAM                       ",117,"HADLEY                       ",1,0,0,0,6334,0,0,0,null,0,230117]
[230137,230,"PELHAM                       ",137,"HOLYOKE                      ",2,1,1,0,10000,5000,5000,0,null,0,230137,1,5000]
[230223,230,"PELHAM                       ",223,"ORANGE                       ",1,0,0,0,14045,0,0,0,null,0,230223]
[230272,230,"PELHAM                       ",272,"SHUTESBURY                   ",6,5,5.55,0.54999999999999982,30000,29000,31056,2056,null,0,230272,5.55,31056]
[230278,230,"PELHAM                       ",278,"SOUTH HADLEY                 ",2,2,1.98,-2.0000000000000018E-2,15006,10000,9900,-100,null,0,230278,1.98,9900]
[230309,230,"PELHAM                       ",309,"WARE                         ",1,0,0,0,5000,0,0,0,null,0,230309]
[230332,230,"PELHAM                       ",332,"WEST SPRINGFIELD             ",null,1,1,0,null,14045,13219,-826,null,0,230332,1,13219]
[230674,230,"PELHAM                       ",674,"GILL MONTAGUE                ",3.98,5,4.97,-3.0000000000000249E-2,19900,29000,32518,3518,null,0,230674,4.97,32518]
[230728,230,"PELHAM                       ",728,"NEW SALEM WENDELL            ",1,1,1,0,5000,5000,5000,0,null,0,230728,1,5000]
[234008,234,"PETERSHAM                    ",8,"AMHERST                      ",1,1,1,0,9503,9503,10053,550,null,0,234008,1,10053]
[234103,234,"PETERSHAM                    ",103,"GARDNER                      ",1,1,1,0,5000,5000,5000,0,null,0,234103,1,5000]
[234215,234,"PETERSHAM                    ",215,"NORTH BROOKFIELD             ",1,1,1,0,5000,5000,5000,0,null,0,234215,1,5000]
[234223,234,"PETERSHAM                    ",223,"ORANGE                       ",5,4,5.41,1.4100000000000001,25000,22000,31464,9464,null,0,234223,5.41,31464]
[234309,234,"PETERSHAM                    ",309,"WARE                         ",1,0,0,0,5000,0,0,0,null,0,234309]
[234343,234,"PETERSHAM                    ",343,"WINCHENDON                   ",1,1,1,0,5000,5000,5000,0,null,0,234343,1,5000]
[234615,234,"PETERSHAM                    ",615,"ATHOL ROYALSTON              ",38.83,40,40.269999999999996,0.26999999999999602,228389,243803,249834,6031,null,0,234615,40.269999999999996,249834]
[234720,234,"PETERSHAM                    ",720,"NARRAGANSETT                 ",8,7,7,0,40000,35000,35000,0,null,0,234720,7,35000]
[234728,234,"PETERSHAM                    ",728,"NEW SALEM WENDELL            ",3,3,2.99,-9.9999999999997868E-3,18569,15000,14950,-50,null,0,234728,2.99,14950]
[234753,234,"PETERSHAM                    ",753,"QUABBIN                      ",6.5600000000000005,7,7,0,42484,44378,47474,3096,null,0,234753,7,47474]
[236121,236,"PITTSFIELD                   ",121,"HANCOCK                      ",3,2,2.69,0.69,15000,10000,13450,3450,null,0,236121,2.69,13450]
[236148,236,"PITTSFIELD                   ",148,"LANESBOROUGH                 ",15.12,12,13.790000000000001,1.7900000000000009,78135,61635,74658,13023,null,0,236148,13.790000000000001,74658]
[236150,{"$f":"TRUNC(A1014,-3)/1000","v":236},{"$f":"VLOOKUP(B1014,code437,2)","v":"PITTSFIELD                   "},{"$f":"A1014-B1014*1000","v":150},"LEE                          ",null,null,0.78,0.78,null,null,3900,3900,null,0,236150,0.78,3900]
[236152,236,"PITTSFIELD                   ",152,"LENOX                        ",6.37,7,5.64,-1.3600000000000003,33902,35000,28200,-6800,null,0,236152,5.64,28200]
[236209,236,"PITTSFIELD                   ",209,"NORTH ADAMS                  ",1.05,0,0,0,5250,0,0,0,null,0,236209]
[236249,236,"PITTSFIELD                   ",249,"RICHMOND                     ",1,1,1.7400000000000002,0.74000000000000021,5000,5000,8700,3700,null,0,236249,1.7400000000000002,8700]
[236341,236,"PITTSFIELD                   ",341,"WILLIAMSTOWN                 ",1,1,1,0,5000,5000,5000,0,null,0,236341,1,5000]
[236603,236,"PITTSFIELD                   ",603,"ADAMS CHESHIRE               ",13.58,13,13.200000000000001,0.20000000000000107,77806,78906,71878,-7028,null,0,236603,13.200000000000001,71878]
[236618,236,"PITTSFIELD                   ",618,"BERKSHIRE HILLS              ",2,2,3.71,1.71,10000,10000,18550,8550,null,0,236618,3.71,18550]
[236635,236,"PITTSFIELD                   ",635,"CENTRAL BERKSHIRE            ",40.640000000000008,38,45.110000000000014,7.1100000000000136,223799,229342,266834,37492,null,0,236635,45.110000000000014,266834]
[236662,{"$f":"TRUNC(A1022,-3)/1000","v":236},{"$f":"VLOOKUP(B1022,code437,2)","v":"PITTSFIELD                   "},{"$f":"A1022-B1022*1000","v":662},"FARMINGTON RIVER",null,null,0.63,0.63,null,null,3150,3150,null,0,236662,0.63,3150]
[236685,236,"PITTSFIELD                   ",685,"HAWLEMONT                    ",1,0,0,0,5000,0,0,0,null,0,236685]
[236715,236,"PITTSFIELD                   ",715,"MOUNT GREYLOCK               ",10.33,14,13.37,-0.63000000000000078,55987,76052,69779,-6273,null,0,236715,13.37,69779]
[236851,236,"PITTSFIELD                   ",851,"NORTHERN BERKSHIRE           ",4,1,0,-1,20000,5000,0,-5000,null,0,236851]
[240239,240,"PLYMPTON                     ",239,"PLYMOUTH                     ",4,5,5,0,20000,25000,25000,0,null,0,240239,5,25000]
[240336,{"$f":"TRUNC(A1027,-3)/1000","v":240},{"$f":"VLOOKUP(B1027,code437,2)","v":"PLYMPTON                     "},{"$f":"A1027-B1027*1000","v":336},"WEYMOUTH                     ",null,null,1,1,null,null,5000,5000,null,0,240336,1,5000]
[242041,242,"PROVINCETOWN                 ",41,"BREWSTER                     ",1,1,1.1000000000000001,0.10000000000000009,5000,9000,17909,8909,null,0,242041,1.1000000000000001,17909]
[242085,242,"PROVINCETOWN                 ",85,"EASTHAM                      ",4,7,7.91,0.91000000000000014,20000,37560,46279,8719,null,0,242085,7.91,46279]
[242261,242,"PROVINCETOWN                 ",261,"SANDWICH                     ",null,1,0,-1,null,5000,0,-5000,null,0,242261]
[242300,242,"PROVINCETOWN                 ",300,"TRURO                        ",6.1800000000000006,16,19.009999999999998,3.009999999999998,50806,107906,199664,91758,null,0,242300,19.009999999999998,199664]
[242318,242,"PROVINCETOWN                 ",318,"WELLFLEET                    ",7.5,4,5.51,1.5099999999999998,151030,20000,45037,25037,null,{"$f":"P1032-A1032","v":0},242318,5.51,45037]
[242645,242,"PROVINCETOWN                 ",645,"DENNIS YARMOUTH              ",1,0,{"$f":"Q1033","v":0},{"$f":"H1033-G1033","v":0},5000,0,{"$f":"R1033","v":0},{"$f":"L1033-K1033","v":0},null,0,242645]
[242660,242,"PROVINCETOWN                 ",660,"NAUSET                       ",8.17,8,8,0,68502,65694,55043,-10651,null,0,242660,8,55043]
[242712,{"$f":"TRUNC(A1035,-3)/1000","v":242},{"$f":"VLOOKUP(B1035,code437,2)","v":"PROVINCETOWN                 "},{"$f":"A1035-B1035*1000","v":712},"MONOMOY",null,null,1,1,null,null,5000,5000,null,0,242712,1,5000]
[244035,{"$f":"TRUNC(A1036,-3)/1000","v":244},{"$f":"VLOOKUP(B1036,code437,2)","v":"RANDOLPH                     "},{"$f":"A1036-B1036*1000","v":35},"BOSTON                       ",null,null,3,3,null,null,18519,18519,null,0,244035,3,18519]
[244044,244,"RANDOLPH                     ",44,"BROCKTON                     ",4.6700000000000008,5,3,-2,43979,42950,15000,-27950,null,0,244044,3,15000]
[244133,244,"RANDOLPH                     ",133,"HOLBROOK                     ",0.66,1,1,0,3300,5000,5000,0,null,0,244133,1,5000]
[249121,249,"RICHMOND                     ",121,"HANCOCK                      ",4,2,1,-1,20000,10000,5000,-5000,null,0,249121,1,5000]
[249150,249,"RICHMOND                     ",150,"LEE                          ",5,5,3,-2,25000,25000,15000,-10000,null,0,249150,3,15000]
[249152,249,"RICHMOND                     ",152,"LENOX                        ",1,2,2,0,5000,10000,10000,0,null,0,249152,2,10000]
[249236,249,"RICHMOND                     ",236,"PITTSFIELD                   ",52,54,55,1,260000,274000,280238,6238,null,0,249236,55,280238]
[249341,{"$f":"TRUNC(A1043,-3)/1000","v":249},{"$f":"VLOOKUP(B1043,code437,2)","v":"RICHMOND                     "},{"$f":"A1043-B1043*1000","v":341},"WILLIAMSTOWN                 ",null,null,1,1,null,null,5000,5000,null,0,249341,1,5000]
[249603,249,"RICHMOND                     ",603,"ADAMS CHESHIRE               ",1,0,0,0,5000,0,0,0,null,0,249603]
[249618,249,"RICHMOND                     ",618,"BERKSHIRE HILLS              ",11,15.5,15.5,0,55000,89500,79532,-9968,null,0,249618,15.5,79532]
[249635,249,"RICHMOND                     ",635,"CENTRAL BERKSHIRE            ",2,2,2,0,10000,10000,10000,0,null,0,249635,2,10000]
[251001,251,"ROCKLAND                     ",1,"ABINGTON                     ",12.4,12,12.08,8.0000000000000071E-2,64212,76877,67619,-9258,null,0,251001,12.08,67619]
[251018,251,"ROCKLAND                     ",18,"AVON                         ",1,1,0.22,-0.78,5000,5000,1100,-3900,null,0,251018,0.22,1100]
[251044,251,"ROCKLAND                     ",44,"BROCKTON                     ",5,5,6.3,1.2999999999999998,25000,25000,31500,6500,null,0,251044,6.3,31500]
[251095,251,"ROCKLAND                     ",95,"FALL RIVER                   ",0.65,1,0,-1,3250,5000,0,-5000,null,0,251095]
[251133,251,"ROCKLAND                     ",133,"HOLBROOK                     ",3,2,2.85,0.85000000000000009,15000,10000,14250,4250,null,0,251133,2.85,14250]
[251142,{"$f":"TRUNC(A1052,-3)/1000","v":251},{"$f":"VLOOKUP(B1052,code437,2)","v":"ROCKLAND                     "},{"$f":"A1052-B1052*1000","v":142},"HULL                         ",null,null,1,1,null,null,5000,5000,null,0,251142,1,5000]
[251171,251,"ROCKLAND                     ",171,"MARSHFIELD                   ",3,0,0,0,16569,0,0,0,null,0,251171]
[251182,251,"ROCKLAND                     ",182,"MIDDLEBOROUGH                ",null,1,1,0,null,5000,5000,0,null,0,251182,1,5000]
[251231,251,"ROCKLAND                     ",231,"PEMBROKE                     ",1.65,2,2,0,8250,10000,10000,0,null,0,251231,2,10000]
[251239,251,"ROCKLAND                     ",239,"PLYMOUTH                     ",null,1,1,0,null,5000,5000,0,null,0,251239,1,5000]
[251244,251,"ROCKLAND                     ",244,"RANDOLPH                     ",null,1,1,0,null,5000,5000,0,null,0,251244,1,5000]
[251336,251,"ROCKLAND                     ",336,"WEYMOUTH                     ",5,4,2.71,-1.29,25000,20000,13550,-6450,null,0,251336,2.71,13550]
[251625,{"$f":"TRUNC(A1059,-3)/1000","v":251},{"$f":"VLOOKUP(B1059,code437,2)","v":"ROCKLAND                     "},{"$f":"A1059-B1059*1000","v":625},"BRIDGEWATER RAYNHAM          ",null,null,2.33,2.33,null,null,11650,11650,null,0,251625,2.33,11650]
[251780,251,"ROCKLAND                     ",780,"WHITMAN HANSON               ",4.58,3,4.63,1.63,22900,15000,23150,8150,null,0,251780,4.63,23150]
[252030,252,"ROCKPORT                     ",30,"BEVERLY                      ",2,2,2,0,13908,13908,16119,2211,null,0,252030,2,16119]
[252071,252,"ROCKPORT                     ",71,"DANVERS                      ",1,1,1,0,5000,5000,5000,0,null,0,252071,1,5000]
[252107,252,"ROCKPORT                     ",107,"GLOUCESTER                   ",221.26,230,233.83,3.8300000000000125,1226649,1288919,1360125,71206,null,0,252107,233.83,1360125]
[252258,252,"ROCKPORT                     ",258,"SALEM                        ",null,1,1,0,null,5000,5000,0,null,0,252258,1,5000]
[253190,{"$f":"TRUNC(A1065,-3)/1000","v":253},{"$f":"VLOOKUP(B1065,code437,2)","v":"ROWE                         "},{"$f":"A1065-B1065*1000","v":190},"MONROE                       ",null,null,0.5,0.5,null,null,2784,2784,null,0,253190,0.5,2784]
[253209,253,"ROWE                         ",209,"NORTH ADAMS                  ",2,1,1,0,11868,6868,6120,-748,null,0,253209,1,6120]
[253603,253,"ROWE                         ",603,"ADAMS CHESHIRE               ",null,0.5,0.5,0,null,14500,3450,-11050,null,0,253603,0.5,3450]
[253685,253,"ROWE                         ",685,"HAWLEMONT                    ",7,8,8,0,35000,40000,40000,0,null,0,253685,8,40000]
[253717,253,"ROWE                         ",717,"MOHAWK TRAIL                 ",9.379999999999999,9,9,0,46900,49000,45000,-4000,null,0,253717,9,45000]
[261020,261,"SANDWICH                     ",20,"BARNSTABLE                   ",21,20,18,-2,105000,100000,90000,-10000,null,0,261020,18,90000]
[261036,261,"SANDWICH                     ",36,"BOURNE                       ",27.5,26,26,0,177359,159397,152023,-7374,null,0,261036,26,152023]
[261041,261,"SANDWICH                     ",41,"BREWSTER                     ",1,1,1,0,5000,9000,5000,-4000,null,0,261041,1,5000]
[261172,261,"SANDWICH                     ",172,"MASHPEE                      ",14,15,13.4,-1.5999999999999996,70000,83000,67000,-16000,null,0,261172,13.4,67000]
[261239,261,"SANDWICH                     ",239,"PLYMOUTH                     ",7,10,10,0,40877,55877,58015,2138,null,0,261239,10,58015]
[261310,261,"SANDWICH                     ",310,"WAREHAM                      ",6.5,1,1,0,32702,5000,5000,0,null,0,261310,1,5000]
[261645,261,"SANDWICH                     ",645,"DENNIS YARMOUTH              ",5.5,7,6,-1,27500,39000,30000,-9000,null,0,261645,6,30000]
[261712,261,"SANDWICH                     ",712,"MONOMOY",null,1,1,0,null,5000,5000,0,null,0,261712,1,5000]
[263209,{"$f":"TRUNC(A1078,-3)/1000","v":263},{"$f":"VLOOKUP(B1078,code437,2)","v":"SAVOY                        "},{"$f":"A1078-B1078*1000","v":209},"NORTH ADAMS                  ",null,null,1,1,null,null,5000,5000,null,0,263209,1,5000]
[263603,263,"SAVOY                        ",603,"ADAMS CHESHIRE               ",8,7,10,3,44944,37846,52305,14459,null,0,263603,10,52305]
[263635,263,"SAVOY                        ",635,"CENTRAL BERKSHIRE            ",4,0,0,0,20054,0,0,0,null,0,263635]
[263717,263,"SAVOY                        ",717,"MOHAWK TRAIL                 ",2,2,0,-2,10000,10000,0,-10000,null,0,263717]
[271110,271,"SHREWSBURY                   ",110,"GRAFTON                      ",0.81,0,0,0,4989,0,0,0,null,0,271110]
[275061,{"$f":"TRUNC(A1083,-3)/1000","v":275},{"$f":"VLOOKUP(B1083,code437,2)","v":"SOUTHAMPTON                  "},{"$f":"A1083-B1083*1000","v":61},"CHICOPEE                     ",null,null,0.78,0.78,null,null,3900,3900,null,0,275061,0.78,3900]
[275086,275,"SOUTHAMPTON                  ",86,"EASTHAMPTON                  ",24,26,26,0,135465,147885,149115,1230,null,0,275086,26,149115]
[275137,275,"SOUTHAMPTON                  ",137,"HOLYOKE                      ",24,24,23.5,-0.5,121429,125429,126055,626,null,0,275137,23.5,126055]
[275210,275,"SOUTHAMPTON                  ",210,"NORTHAMPTON                  ",1,1,1,0,5000,5000,5000,0,null,0,275210,1,5000]
[275278,275,"SOUTHAMPTON                  ",278,"SOUTH HADLEY                 ",3,3,3,0,67336,53296,67956,14660,null,0,275278,3,67956]
[275281,275,"SOUTHAMPTON                  ",281,"SPRINGFIELD                  ",2,4,4,0,10000,20000,20000,0,null,0,275281,4,20000]
[275325,275,"SOUTHAMPTON                  ",325,"WESTFIELD                    ",6,6,6,0,30000,30000,30000,0,null,0,275325,6,30000]
[275327,275,"SOUTHAMPTON                  ",327,"WESTHAMPTON                  ",1,2,2,0,5000,10000,10000,0,null,0,275327,2,10000]
[275332,275,"SOUTHAMPTON                  ",332,"WEST SPRINGFIELD             ",1,1,1,0,5000,5000,5000,0,null,0,275332,1,5000]
[275672,275,"SOUTHAMPTON                  ",672,"GATEWAY                      ",3,4,3.6,-0.39999999999999991,15000,20000,18000,-2000,null,0,275672,3.6,18000]
[277226,277,"SOUTHBRIDGE                  ",226,"OXFORD                       ",1,1,1,0,5000,5000,5000,0,null,0,277226,1,5000]
[277287,277,"SOUTHBRIDGE                  ",287,"STURBRIDGE                   ",null,1,0.63,-0.37,null,5000,3150,-1850,null,0,277287,0.63,3150]
[277316,277,"SOUTHBRIDGE                  ",316,"WEBSTER                      ",2.33,1,2,1,23973,5000,10000,5000,null,0,277316,2,10000]
[277348,277,"SOUTHBRIDGE                  ",348,"WORCESTER                    ",1,1,0.68,-0.31999999999999995,23902,23902,3400,-20502,null,{"$f":"P1096-A1096","v":0},277348,0.68,3400]
[277658,277,"SOUTHBRIDGE                  ",658,"DUDLEY CHARLTON              ",1,2,{"$f":"Q1097","v":3},{"$f":"H1097-G1097","v":1},5000,10000,{"$f":"R1097","v":15000},{"$f":"L1097-K1097","v":5000},null,0,277658,3,15000]
[277770,277,"SOUTHBRIDGE                  ",770,"TANTASQUA                    ",1,0,0,0,13244,0,0,0,null,0,277770]
[278024,278,"SOUTH HADLEY                 ",24,"BELCHERTOWN                  ",3,2,2,0,15000,10000,10000,0,null,0,278024,2,10000]
[278061,278,"SOUTH HADLEY                 ",61,"CHICOPEE                     ",47.160000000000004,45.5,43.63,-1.8699999999999974,298718,234501,276296,41795,null,0,278061,43.63,276296]
[278086,278,"SOUTH HADLEY                 ",86,"EASTHAMPTON                  ",2,4,5.38,1.38,10000,20000,27336,7336,null,0,278086,5.38,27336]
[278111,278,"SOUTH HADLEY                 ",111,"GRANBY                       ",21,18,22.79,4.7899999999999991,109346,91491,115572,24081,null,0,278111,22.79,115572]
[278137,278,"SOUTH HADLEY                 ",137,"HOLYOKE                      ",78.05,71,71.45,0.45000000000000284,441633,407963,388242,-19721,null,0,278137,71.45,388242]
[278161,278,"SOUTH HADLEY                 ",161,"LUDLOW                       ",2,1,1.1399999999999999,0.1399999999999999,10000,5000,5700,700,null,0,278161,1.1399999999999999,5700]
[278281,278,"SOUTH HADLEY                 ",281,"SPRINGFIELD                  ",14.26,17,13,-4,71300,85000,65000,-20000,null,0,278281,13,65000]
[278332,278,"SOUTH HADLEY                 ",332,"WEST SPRINGFIELD             ",1,1,1,0,5000,5000,5000,0,null,0,278332,1,5000]
[278670,278,"SOUTH HADLEY                 ",670,"FRONTIER                     ",null,1,1,0,null,5000,5000,0,null,0,278670,1,5000]
[278770,278,"SOUTH HADLEY                 ",770,"TANTASQUA                    ",null,1,1,0,null,5000,5000,0,null,0,278770,1,5000]
[281005,{"$f":"TRUNC(A1109,-3)/1000","v":281},{"$f":"VLOOKUP(B1109,code437,2)","v":"SPRINGFIELD                  "},{"$f":"A1109-B1109*1000","v":5},"AGAWAM                       ",null,null,1,1,null,null,5000,5000,null,0,281005,1,5000]
[281061,281,"SPRINGFIELD                  ",61,"CHICOPEE                     ",5.88,5,7,2,29400,25000,39605,14605,null,0,281061,7,39605]
[281087,{"$f":"TRUNC(A1111,-3)/1000","v":281},{"$f":"VLOOKUP(B1111,code437,2)","v":"SPRINGFIELD                  "},{"$f":"A1111-B1111*1000","v":87},"EAST LONGMEADOW              ",null,null,1,1,null,null,5000,5000,null,0,281087,1,5000]
[281137,281,"SPRINGFIELD                  ",137,"HOLYOKE                      ",1,0,3,3,5000,0,18747,18747,null,0,281137,3,18747]
[281278,281,"SPRINGFIELD                  ",278,"SOUTH HADLEY                 ",0.53,0,0,0,6504,0,0,0,null,0,281278]
[281680,{"$f":"TRUNC(A1114,-3)/1000","v":281},{"$f":"VLOOKUP(B1114,code437,2)","v":"SPRINGFIELD                  "},{"$f":"A1114-B1114*1000","v":680},"HAMPDEN WILBRAHAM            ",null,null,1,1,null,null,5000,5000,null,0,281680,1,5000]
[281717,281,"SPRINGFIELD                  ",717,"MOHAWK TRAIL                 ",1,1,1,0,5000,5000,5000,0,null,0,281717,1,5000]
[289008,289,"SUNDERLAND                   ",8,"AMHERST                      ",0.49,1,1.72,0.72,2450,5000,27793,22793,null,0,289008,1.72,27793]
[289024,289,"SUNDERLAND                   ",24,"BELCHERTOWN                  ",3,3,3,0,15000,15000,15000,0,null,0,289024,3,15000]
[289068,289,"SUNDERLAND                   ",68,"CONWAY                       ",1,2,2,0,12012,10000,10000,0,null,0,289068,2,10000]
[289074,289,"SUNDERLAND                   ",74,"DEERFIELD                    ",3,5,4.54,-0.45999999999999996,15000,32000,22700,-9300,null,0,289074,4.54,22700]
[289114,289,"SUNDERLAND                   ",114,"GREENFIELD                   ",3.2800000000000002,6,4.2300000000000004,-1.7699999999999996,46444,81953,58149,-23804,null,0,289114,4.2300000000000004,58149]
[289127,289,"SUNDERLAND                   ",127,"HATFIELD                     ",null,2,2,0,null,14000,11753,-2247,null,0,289127,2,11753]
[289210,289,"SUNDERLAND                   ",210,"NORTHAMPTON                  ",4,1,1,0,20000,5000,5000,0,null,0,289210,1,5000]
[289278,289,"SUNDERLAND                   ",278,"SOUTH HADLEY                 ",4,2,3,1,20000,10000,15000,5000,null,0,289278,3,15000]
[289281,289,"SUNDERLAND                   ",281,"SPRINGFIELD                  ",1,1,1,0,5000,5000,5000,0,null,0,289281,1,5000]
[289340,{"$f":"TRUNC(A1125,-3)/1000","v":289},{"$f":"VLOOKUP(B1125,code437,2)","v":"SUNDERLAND                   "},{"$f":"A1125-B1125*1000","v":340},"WILLIAMSBURG                 ",null,null,0.19,0.19,null,null,950,950,null,0,289340,0.19,950]
[289674,289,"SUNDERLAND                   ",674,"GILL MONTAGUE                ",16,20,18.670000000000002,-1.3299999999999983,126165,142559,131212,-11347,null,0,289674,18.670000000000002,131212]
[289750,{"$f":"TRUNC(A1127,-3)/1000","v":289},{"$f":"VLOOKUP(B1127,code437,2)","v":"SUNDERLAND                   "},{"$f":"A1127-B1127*1000","v":750},"PIONEER                      ",null,null,0.16,0.16,null,null,800,800,null,0,289750,0.16,800]
[290017,290,"SUTTON                       ",17,"AUBURN                       ",5,3,3,0,27971,17971,18101,130,null,0,290017,3,18101]
[290077,290,"SUTTON                       ",77,"DOUGLAS                      ",7,6,4,-2,39200,34200,25086,-9114,null,0,290077,4,25086]
[290110,290,"SUTTON                       ",110,"GRAFTON                      ",1,1,1,0,8396,8396,5000,-3396,null,0,290110,1,5000]
[290186,290,"SUTTON                       ",186,"MILLBURY                     ",6,6,5,-1,30000,30000,25000,-5000,null,0,290186,5,25000]
[290214,290,"SUTTON                       ",214,"NORTHBRIDGE                  ",4,4,4,0,20000,20000,20000,0,null,0,290214,4,20000]
[290226,290,"SUTTON                       ",226,"OXFORD                       ",10,8,8,0,50000,40000,40000,0,null,0,290226,8,40000]
[290304,290,"SUTTON                       ",304,"UXBRIDGE                     ",4,3,2,-1,20000,15000,10000,-5000,null,0,290304,2,10000]
[290316,290,"SUTTON                       ",316,"WEBSTER                      ",1,1,1,0,7408,7408,7166,-242,null,0,290316,1,7166]
[290348,290,"SUTTON                       ",348,"WORCESTER                    ",11,11,11,0,74264,66563,68730,2167,null,0,290348,11,68730]
[290658,290,"SUTTON                       ",658,"DUDLEY CHARLTON              ",1,1,0,-1,5000,5000,0,-5000,null,0,290658]
[290710,290,"SUTTON                       ",710,"MENDON UPTON                 ",1,0,0,0,5000,0,0,0,null,0,290710]
[290775,290,"SUTTON                       ",775,"WACHUSETT                    ",1,0,0,0,5000,0,0,0,null,0,290775]
[293014,293,"TAUNTON                      ",14,"ASHLAND                      ",1,0,0,0,5000,0,0,0,null,0,293014]
[293016,293,"TAUNTON                      ",16,"ATTLEBORO                    ",3,2,2,0,15000,10000,10000,0,null,0,293016,2,10000]
[293025,293,"TAUNTON                      ",25,"BELLINGHAM                   ",1,2,1.97,-3.0000000000000027E-2,5000,10000,9850,-150,null,0,293025,1.97,9850]
[293027,293,"TAUNTON                      ",27,"BERKLEY                      ",2,1,1.69,0.69,10000,5000,8450,3450,null,0,293027,1.69,8450]
[293052,293,"TAUNTON                      ",52,"CARVER                       ",1,0,0,0,5000,0,0,0,null,0,293052]
[293083,293,"TAUNTON                      ",83,"EAST BRIDGEWATER             ",7.0000000000000007E-2,0,0,0,350,0,0,0,null,0,293083]
[293095,293,"TAUNTON                      ",95,"FALL RIVER                   ",6.04,8,11.26,3.26,32551,47000,65122,18122,null,0,293095,11.26,65122]
[293096,{"$f":"TRUNC(A1147,-3)/1000","v":293},{"$f":"VLOOKUP(B1147,code437,2)","v":"TAUNTON                      "},{"$f":"A1147-B1147*1000","v":96},"FALMOUTH                     ",null,null,1,1,null,null,5000,5000,null,0,293096,1,5000]
[293136,293,"TAUNTON                      ",136,"HOLLISTON                    ",null,1,0.97,-3.0000000000000027E-2,null,5000,4850,-150,null,0,293136,0.97,4850]
[293167,293,"TAUNTON                      ",167,"MANSFIELD                    ",null,1,0.93,-6.9999999999999951E-2,null,5000,4650,-350,null,0,293167,0.93,4650]
[293182,293,"TAUNTON                      ",182,"MIDDLEBOROUGH                ",8.5,5,7.4399999999999995,2.4399999999999995,42500,25000,37200,12200,null,0,293182,7.4399999999999995,37200]
[293201,293,"TAUNTON                      ",201,"NEW BEDFORD                  ",5.7999999999999989,8,7.8999999999999995,-0.10000000000000053,30131,40000,39500,-500,null,0,293201,7.8999999999999995,39500]
[293212,293,"TAUNTON                      ",212,"NORTH ATTLEBOROUGH           ",1,0,0,0,5000,0,0,0,null,0,293212]
[293218,293,"TAUNTON                      ",218,"NORTON                       ",6.0799999999999992,4,5,1,34681,24047,30112,6065,null,0,293218,5,30112]
[293244,293,"TAUNTON                      ",244,"RANDOLPH                     ",3,3,3,0,16339,16339,16044,-295,null,0,293244,3,16044]
[293250,293,"TAUNTON                      ",250,"ROCHESTER                    ",2,0,1,1,10000,0,5000,5000,null,0,293250,1,5000]
[293273,293,"TAUNTON                      ",273,"SOMERSET                     ",null,1,1,0,null,5000,5000,0,null,0,293273,1,5000]
[293310,293,"TAUNTON                      ",310,"WAREHAM                      ",2,1,1,0,10000,5000,5000,0,null,0,293310,1,5000]
[293323,293,"TAUNTON                      ",323,"WEST BRIDGEWATER             ",1,1,1,0,5000,5000,5000,0,null,0,293323,1,5000]
[293625,293,"TAUNTON                      ",625,"BRIDGEWATER RAYNHAM          ",17.77,17,16.89,-0.10999999999999943,90068,86218,86452,234,null,0,293625,16.89,86452]
[293650,293,"TAUNTON                      ",650,"DIGHTON REHOBOTH             ",6,8,7.96,-4.0000000000000036E-2,34335,44335,43438,-897,null,{"$f":"P1160-A1160","v":0},293650,7.96,43438]
[293665,293,"TAUNTON                      ",665,"FREETOWN LAKEVILLE           ",1,2,{"$f":"Q1161","v":1.97},{"$f":"H1161-G1161","v":-3.0000000000000027E-2},5000,10000,{"$f":"R1161","v":9850},{"$f":"L1161-K1161","v":-150},null,0,293665,1.97,9850]
[293740,293,"TAUNTON                      ",740,"OLD ROCHESTER                ",null,1,1,0,null,5000,5000,0,null,0,293740,1,5000]
[293763,293,"TAUNTON                      ",763,"SOMERSET BERKLEY",3.8600000000000003,1,1.05,5.0000000000000044E-2,20879,5000,5250,250,null,0,293763,1.05,5250]
[293810,293,"TAUNTON                      ",810,"BRISTOL PLYMOUTH             ",3.5999999999999996,5,3.83,-1.17,18000,25000,19150,-5850,null,0,293810,3.83,19150]
[293821,293,"TAUNTON                      ",821,"GREATER FALL RIVER           ",1.51,2,2.95,0.95000000000000018,7550,10000,14750,4750,null,0,293821,2.95,14750]
[293825,293,"TAUNTON                      ",825,"GREATER NEW BEDFORD          ",2,3,3,0,10000,15000,15000,0,null,0,293825,3,15000]
[293855,293,"TAUNTON                      ",855,"OLD COLONY                   ",null,1,0.81,-0.18999999999999995,null,5000,4050,-950,null,0,293855,0.81,4050]
[293872,293,"TAUNTON                      ",872,"SOUTHEASTERN                 ",3,2,3,1,22181,10000,15000,5000,null,0,293872,3,15000]
[293873,293,"TAUNTON                      ",873,"SOUTH SHORE                  ",1,1,1,0,5000,5000,5000,0,null,0,293873,1,5000]
[293879,293,"TAUNTON                      ",879,"UPPER CAPE COD               ",1,0,0,0,5000,0,0,0,null,0,293879]
[296089,296,"TISBURY                      ",89,"EDGARTOWN                    ",4.18,4,4,0,23004,22104,22081,-23,null,0,296089,4,22081]
[296221,296,"TISBURY                      ",221,"OAK BLUFFS                   ",12.05,10,13.089999999999998,3.0899999999999981,63290,53040,68880,15840,null,0,296221,13.089999999999998,68880]
[296774,296,"TISBURY                      ",774,"UPISLAND",4.91,4,3.94,-6.0000000000000053E-2,27884,20000,19700,-300,null,0,296774,3.94,19700]
[300041,{"$f":"TRUNC(A1174,-3)/1000","v":300},{"$f":"VLOOKUP(B1174,code437,2)","v":"TRURO                        "},{"$f":"A1174-B1174*1000","v":41},"BREWSTER                     ",null,null,0.98,0.98,null,null,4900,4900,null,0,300041,0.98,4900]
[300085,300,"TRURO                        ",85,"EASTHAM                      ",1,0,0,0,5000,0,0,0,null,0,300085]
[300242,300,"TRURO                        ",242,"PROVINCETOWN                 ",13,11,8.3800000000000008,-2.6199999999999992,83389,73389,47833,-25556,null,0,300242,8.3800000000000008,47833]
[300318,300,"TRURO                        ",318,"WELLFLEET                    ",5.49,4,4.51,0.50999999999999979,27450,20000,22550,2550,null,0,300318,4.51,22550]
[300660,300,"TRURO                        ",660,"NAUSET                       ",0.49,1,1,0,5784,5000,5000,0,null,0,300660,1,5000]
[301031,301,"TYNGSBOROUGH                 ",31,"BILLERICA                    ",0.15,0,0,0,750,0,0,0,null,0,301031]
[301056,301,"TYNGSBOROUGH                 ",56,"CHELMSFORD                   ",1.22,1.5,2.5,1,6100,7500,12500,5000,null,0,301056,2.5,12500]
[301079,301,"TYNGSBOROUGH                 ",79,"DRACUT                       ",13,11.5,12.12,0.61999999999999922,67914,60414,76855,16441,null,0,301079,12.12,76855]
[301097,301,"TYNGSBOROUGH                 ",97,"FITCHBURG                    ",2,2,2,0,10000,10000,10000,0,null,0,301097,2,10000]
[301160,301,"TYNGSBOROUGH                 ",160,"LOWELL                       ",18.27,20,19.14,-0.85999999999999943,114201,117782,108936,-8846,null,0,301160,19.14,108936]
[301326,301,"TYNGSBOROUGH                 ",326,"WESTFORD                     ",1,0,0,0,5000,0,0,0,null,0,301326]
[301342,301,"TYNGSBOROUGH                 ",342,"WILMINGTON                   ",1,0,0,0,5000,0,0,0,null,0,301342]
[301673,301,"TYNGSBOROUGH                 ",673,"GROTON DUNSTABLE             ",null,2,2,0,null,10000,10000,0,null,0,301673,2,10000]
[301735,301,"TYNGSBOROUGH                 ",735,"NORTH MIDDLESEX              ",3,3.5,5.0199999999999996,1.5199999999999996,15000,17500,25100,7600,null,0,301735,5.0199999999999996,25100]
[304025,304,"UXBRIDGE                     ",25,"BELLINGHAM                   ",1,2,1.38,-0.62000000000000011,5000,10000,6900,-3100,null,0,304025,1.38,6900]
[304064,304,"UXBRIDGE                     ",64,"CLINTON                      ",null,1,1,0,null,5000,5000,0,null,0,304064,1,5000]
[304077,304,"UXBRIDGE                     ",77,"DOUGLAS                      ",10.459999999999999,10,9.11,-0.89000000000000057,64026,69726,62738,-6988,null,0,304077,9.11,62738]
[304110,304,"UXBRIDGE                     ",110,"GRAFTON                      ",2.81,5,3.7800000000000002,-1.2199999999999998,14050,25000,18900,-6100,null,0,304110,3.7800000000000002,18900]
[304138,304,"UXBRIDGE                     ",138,"HOPEDALE                     ",2,2,2,0,11831,11831,10990,-841,null,0,304138,2,10990]
[304141,{"$f":"TRUNC(A1193,-3)/1000","v":304},{"$f":"VLOOKUP(B1193,code437,2)","v":"UXBRIDGE                     "},{"$f":"A1193-B1193*1000","v":141},"HUDSON                       ",null,null,1.38,1.38,null,null,6900,6900,null,0,304141,1.38,6900]
[304151,{"$f":"TRUNC(A1194,-3)/1000","v":304},{"$f":"VLOOKUP(B1194,code437,2)","v":"UXBRIDGE                     "},{"$f":"A1194-B1194*1000","v":151},"LEICESTER                    ",null,null,0.5,0.5,null,null,2500,2500,null,0,304151,0.5,2500]
[304170,304,"UXBRIDGE                     ",170,"MARLBOROUGH                  ",null,3,2,-1,null,15000,10000,-5000,null,0,304170,2,10000]
[304177,304,"UXBRIDGE                     ",177,"MEDWAY                       ",null,2,0,-2,null,10000,0,-10000,null,0,304177]
[304185,304,"UXBRIDGE                     ",185,"MILFORD                      ",5.54,7,7.45,0.45000000000000018,27700,39000,50535,11535,null,0,304185,7.45,50535]
[304186,304,"UXBRIDGE                     ",186,"MILLBURY                     ",2,5,5.12,0.12000000000000011,10000,29000,29248,248,null,0,304186,5.12,29248]
[304214,304,"UXBRIDGE                     ",214,"NORTHBRIDGE                  ",43.75,46,44.160000000000004,-1.8399999999999963,313874,318541,363965,45424,null,0,304214,44.160000000000004,363965]
[304226,304,"UXBRIDGE                     ",226,"OXFORD                       ",2,2,2.48,0.48,10000,10000,12400,2400,null,0,304226,2.48,12400]
[304271,304,"UXBRIDGE                     ",271,"SHREWSBURY                   ",1,2,1.38,-0.62000000000000011,5000,10000,6900,-3100,null,0,304271,1.38,6900]
[304277,304,"UXBRIDGE                     ",277,"SOUTHBRIDGE                  ",null,2,1.84,-0.15999999999999992,null,10000,9200,-800,null,0,304277,1.84,9200]
[304290,304,"UXBRIDGE                     ",290,"SUTTON                       ",2.52,3,3.66,0.66000000000000014,12600,15000,18986,3986,null,0,304290,3.66,18986]
[304316,304,"UXBRIDGE                     ",316,"WEBSTER                      ",1.55,4,2.4499999999999997,-1.5500000000000003,7750,24000,18891,-5109,null,0,304316,2.4499999999999997,18891]
[304321,304,"UXBRIDGE                     ",321,"WESTBOROUGH                  ",null,1,1,0,null,5000,5000,0,null,0,304321,1,5000]
[304322,304,"UXBRIDGE                     ",322,"WEST BOYLSTON                ",null,2,1.26,-0.74,null,10000,6300,-3700,null,0,304322,1.26,6300]
[304348,304,"UXBRIDGE                     ",348,"WORCESTER                    ",null,10,9.6900000000000013,-0.30999999999999872,null,50000,48450,-1550,null,0,304348,9.6900000000000013,48450]
[304600,{"$f":"TRUNC(A1208,-3)/1000","v":304},{"$f":"VLOOKUP(B1208,code437,2)","v":"UXBRIDGE                     "},{"$f":"A1208-B1208*1000","v":600},"ACTON BOXBOROUGH             ",null,null,0.5,0.5,null,null,2500,2500,null,0,304600,0.5,2500]
[304622,304,"UXBRIDGE                     ",622,"BLACKSTONE MILLVILLE         ",10.3,15,15,0,52152,79000,78620,-380,null,0,304622,15,78620]
[304658,304,"UXBRIDGE                     ",658,"DUDLEY CHARLTON              ",null,1,1,0,null,5000,5000,0,null,0,304658,1,5000]
[304710,304,"UXBRIDGE                     ",710,"MENDON UPTON                 ",6,3,3,0,30000,15000,15000,0,null,0,304710,3,15000]
[304725,{"$f":"TRUNC(A1212,-3)/1000","v":304},{"$f":"VLOOKUP(B1212,code437,2)","v":"UXBRIDGE                     "},{"$f":"A1212-B1212*1000","v":725},"NASHOBA                      ",null,null,0.5,0.5,null,null,2500,2500,null,0,304725,0.5,2500]
[304753,304,"UXBRIDGE                     ",753,"QUABBIN                      ",null,1,0.34,-0.65999999999999992,null,5000,1700,-3300,null,0,304753,0.34,1700]
[304767,304,"UXBRIDGE                     ",767,"SPENCER EAST BROOKFIELD      ",null,2,1.77,-0.22999999999999998,null,10000,8850,-1150,null,0,304767,1.77,8850]
[304770,{"$f":"TRUNC(A1215,-3)/1000","v":304},{"$f":"VLOOKUP(B1215,code437,2)","v":"UXBRIDGE                     "},{"$f":"A1215-B1215*1000","v":770},"TANTASQUA                    ",null,null,0.28000000000000003,0.28000000000000003,null,null,1400,1400,null,0,304770,0.28000000000000003,1400]
[304775,304,"UXBRIDGE                     ",775,"WACHUSETT                    ",null,14,12.04,-1.9600000000000009,null,70000,60200,-9800,null,0,304775,12.04,60200]
[306043,306,"WALES                        ",43,"BRIMFIELD                    ",3,3,2.17,-0.83000000000000007,15000,15000,10850,-4150,null,0,306043,2.17,10850]
[306135,306,"WALES                        ",135,"HOLLAND                      ",null,1,1,0,null,5000,5000,0,null,0,306135,1,5000]
[306137,306,"WALES                        ",137,"HOLYOKE                      ",0.22,0,0,0,1100,0,0,0,null,0,306137]
[306191,306,"WALES                        ",191,"MONSON                       ",3,3,3,0,15000,15000,15000,0,null,0,306191,3,15000]
[306227,306,"WALES                        ",227,"PALMER                       ",1,0,0,0,5000,0,0,0,null,0,306227]
[306277,306,"WALES                        ",277,"SOUTHBRIDGE                  ",3,0,0,0,17638,0,0,0,null,0,306277]
[309024,309,"WARE                         ",24,"BELCHERTOWN                  ",1,0,0,0,5000,0,0,0,null,0,309024]
[309043,309,"WARE                         ",43,"BRIMFIELD                    ",1,0,0,0,26192,0,0,0,null,{"$f":"P1224-A1224","v":0},309043]
[309061,{"$f":"TRUNC(A1225,-3)/1000","v":309},{"$f":"VLOOKUP(B1225,code437,2)","v":"WARE                         "},{"$f":"A1225-B1225*1000","v":61},"CHICOPEE                     ",null,null,{"$f":"Q1225","v":1},{"$f":"H1225-G1225","v":1},null,null,{"$f":"R1225","v":5000},{"$f":"L1225-K1225","v":5000},null,0,309061,1,5000]
[309111,309,"WARE                         ",111,"GRANBY                       ",1,0,0,0,5000,0,0,0,null,0,309111]
[309191,309,"WARE                         ",191,"MONSON                       ",1,1,1,0,5000,5000,5000,0,null,0,309191,1,5000]
[309227,309,"WARE                         ",227,"PALMER                       ",11.14,18,18.62,0.62000000000000099,60497,105797,111809,6012,null,0,309227,18.62,111809]
[309281,309,"WARE                         ",281,"SPRINGFIELD                  ",2,3,3,0,12216,17216,16598,-618,null,0,309281,3,16598]
[309753,309,"WARE                         ",753,"QUABBIN                      ",14.579999999999998,18,18.669999999999998,0.66999999999999815,100029,121129,115218,-5911,null,0,309753,18.669999999999998,115218]
[309770,309,"WARE                         ",770,"TANTASQUA                    ",null,1,1,0,null,16044,26578,10534,null,0,309770,1,26578]
[309778,309,"WARE                         ",778,"QUABOAG",5,8,6.52,-1.4800000000000004,25000,44000,32600,-11400,null,0,309778,6.52,32600]
[310003,{"$f":"TRUNC(A1233,-3)/1000","v":310},{"$f":"VLOOKUP(B1233,code437,2)","v":"WAREHAM                      "},{"$f":"A1233-B1233*1000","v":3},"ACUSHNET                     ",null,null,0.47,0.47,null,null,2350,2350,null,0,310003,0.47,2350]
[310036,310,"WAREHAM                      ",36,"BOURNE                       ",11.950000000000001,7,6.3800000000000017,-0.61999999999999833,60238,35000,31900,-3100,null,0,310036,6.3800000000000017,31900]
[310052,{"$f":"TRUNC(A1235,-3)/1000","v":310},{"$f":"VLOOKUP(B1235,code437,2)","v":"WAREHAM                      "},{"$f":"A1235-B1235*1000","v":52},"CARVER                       ",null,null,1.62,1.62,null,null,8100,8100,null,0,310052,1.62,8100]
[310072,310,"WAREHAM                      ",72,"DARTMOUTH                    ",1,0,1,1,5000,0,5000,5000,null,0,310072,1,5000]
[310095,310,"WAREHAM                      ",95,"FALL RIVER                   ",1,1,0,-1,5000,5000,0,-5000,null,0,310095]
[310096,310,"WAREHAM                      ",96,"FALMOUTH                     ",1.58,0,1.53,1.53,12380,0,7650,7650,null,0,310096,1.53,7650]
[310169,{"$f":"TRUNC(A1239,-3)/1000","v":310},{"$f":"VLOOKUP(B1239,code437,2)","v":"WAREHAM                      "},{"$f":"A1239-B1239*1000","v":169},"MARION                       ",null,null,0.72,0.72,null,null,5096,5096,null,0,310169,0.72,5096]
[310172,310,"WAREHAM                      ",172,"MASHPEE                      ",0.57999999999999996,0,0,0,2900,0,0,0,null,0,310172]
[310201,310,"WAREHAM                      ",201,"NEW BEDFORD                  ",6.44,6,8.8499999999999979,2.8499999999999979,68382,34000,54062,20062,null,0,310201,8.8499999999999979,54062]
[310239,310,"WAREHAM                      ",239,"PLYMOUTH                     ",4.97,1,1,0,24850,5000,5000,0,null,0,310239,1,5000]
[310261,310,"WAREHAM                      ",261,"SANDWICH                     ",2,2,3.1399999999999997,1.1399999999999997,10000,10000,15700,5700,null,0,310261,3.1399999999999997,15700]
[310690,310,"WAREHAM                      ",690,"KING PHILIP                  ",0.4,0,0,0,2000,0,0,0,null,0,310690]
[310740,310,"WAREHAM                      ",740,"OLD ROCHESTER                ",5.58,1,2.13,1.1299999999999999,30978,5000,10650,5650,null,0,310740,2.13,10650]
[310855,310,"WAREHAM                      ",855,"OLD COLONY                   ",null,1,0,-1,null,5000,0,-5000,null,0,310855]
[310879,310,"WAREHAM                      ",879,"UPPER CAPE COD               ",1,1,0.11,-0.89,5000,5000,550,-4450,null,0,310879,0.11,550]
[316064,316,"WEBSTER                      ",64,"CLINTON                      ",null,1,1,0,null,5000,5000,0,null,0,316064,1,5000]
[316077,316,"WEBSTER                      ",77,"DOUGLAS                      ",1,2,2,0,5000,10000,10000,0,null,0,316077,2,10000]
[316110,316,"WEBSTER                      ",110,"GRAFTON                      ",0.44,0,0,0,7232,0,0,0,null,0,316110]
[316226,316,"WEBSTER                      ",226,"OXFORD                       ",2.25,5,4.2,-0.79999999999999982,11993,25000,21000,-4000,null,0,316226,4.2,21000]
[316277,316,"WEBSTER                      ",277,"SOUTHBRIDGE                  ",5.54,3,4,1,27700,15000,20000,5000,null,0,316277,4,20000]
[316348,316,"WEBSTER                      ",348,"WORCESTER                    ",7.98,6,5.26,-0.74000000000000021,45240,30000,26300,-3700,null,0,316348,5.26,26300]
[316658,316,"WEBSTER                      ",658,"DUDLEY CHARLTON              ",9.59,14,12.21,-1.7899999999999991,50674,76248,63681,-12567,null,0,316658,12.21,63681]
[316767,316,"WEBSTER                      ",767,"SPENCER EAST BROOKFIELD      ",0.22,0,0,0,1100,0,0,0,null,0,316767]
[316876,316,"WEBSTER                      ",876,"SOUTHERN WORCESTER           ",1,0,0,0,5000,0,0,0,null,0,316876]
[322064,322,"WEST BOYLSTON                ",64,"CLINTON                      ",2,4,4,0,18339,28339,35760,7421,null,0,322064,4,35760]
[322097,322,"WEST BOYLSTON                ",97,"FITCHBURG                    ",2,2,2,0,10000,10000,10000,0,null,0,322097,2,10000]
[322153,322,"WEST BOYLSTON                ",153,"LEOMINSTER                   ",1,1,1,0,5000,5000,5000,0,null,0,322153,1,5000]
[322186,322,"WEST BOYLSTON                ",186,"MILLBURY                     ",null,2,2,0,null,13677,18175,4498,null,0,322186,2,18175]
[322271,322,"WEST BOYLSTON                ",271,"SHREWSBURY                   ",1,1,1,0,5000,5000,5000,0,null,0,322271,1,5000]
[322348,322,"WEST BOYLSTON                ",348,"WORCESTER                    ",125.79,139,138.24,-0.75999999999999091,679732,744694,745391,697,null,0,322348,138.24,745391]
[322620,322,"WEST BOYLSTON                ",620,"BERLIN BOYLSTON              ",2,2,2,0,10000,10000,10000,0,null,0,322620,2,10000]
[322753,322,"WEST BOYLSTON                ",753,"QUABBIN                      ",2,1,0,-1,12668,5000,0,-5000,null,0,322753]
[322767,322,"WEST BOYLSTON                ",767,"SPENCER EAST BROOKFIELD      ",1,0,0,0,5000,0,0,0,null,0,322767]
[322775,322,"WEST BOYLSTON                ",775,"WACHUSETT                    ",16,10,11,1,89371,58362,67951,9589,null,0,322775,11,67951]
[323018,323,"WEST BRIDGEWATER             ",18,"AVON                         ",null,1,1,0,null,5000,5000,0,null,0,323018,1,5000]
[323040,323,"WEST BRIDGEWATER             ",40,"BRAINTREE                    ",1,1,1,0,5000,5000,5000,0,null,0,323040,1,5000]
[323044,323,"WEST BRIDGEWATER             ",44,"BROCKTON                     ",67.490000000000009,93,91.070000000000007,-1.9299999999999926,356286,493308,479838,-13470,null,0,323044,91.070000000000007,479838]
[323083,323,"WEST BRIDGEWATER             ",83,"EAST BRIDGEWATER             ",10,11,9.68,-1.3200000000000003,98181,89321,93134,3813,null,0,323083,9.68,93134]
[323088,323,"WEST BRIDGEWATER             ",88,"EASTON                       ",1.48,2,1,-1,7400,10000,5000,-5000,null,0,323088,1,5000]
[323133,323,"WEST BRIDGEWATER             ",133,"HOLBROOK                     ",1,0,0,0,5000,0,0,0,null,0,323133]
[323167,323,"WEST BRIDGEWATER             ",167,"MANSFIELD                    ",2,1,1,0,10000,5000,5000,0,null,0,323167,1,5000]
[323182,323,"WEST BRIDGEWATER             ",182,"MIDDLEBOROUGH                ",6.49,4,4,0,35455,23005,23050,45,null,0,323182,4,23050]
[323218,323,"WEST BRIDGEWATER             ",218,"NORTON                       ",null,1,1,0,null,5000,5000,0,null,0,323218,1,5000]
[323231,323,"WEST BRIDGEWATER             ",231,"PEMBROKE                     ",1,2,2,0,5000,10000,10000,0,null,0,323231,2,10000]
[323251,323,"WEST BRIDGEWATER             ",251,"ROCKLAND                     ",1.49,2,2,0,7450,10000,10000,0,null,0,323251,2,10000]
[323285,323,"WEST BRIDGEWATER             ",285,"STOUGHTON                    ",4,4,4,0,20000,20000,20000,0,null,0,323285,4,20000]
[323293,323,"WEST BRIDGEWATER             ",293,"TAUNTON                      ",3,9,9,0,18164,60164,51675,-8489,null,0,323293,9,51675]
[323625,323,"WEST BRIDGEWATER             ",625,"BRIDGEWATER RAYNHAM          ",126.49,113,116.48,3.480000000000004,755923,584181,698142,113961,null,0,323625,116.48,698142]
[323665,323,"WEST BRIDGEWATER             ",665,"FREETOWN LAKEVILLE           ",1,1,1,0,5000,5000,5000,0,null,0,323665,1,5000]
[323760,323,"WEST BRIDGEWATER             ",760,"SILVER LAKE                  ",1,1,1,0,5000,5000,5000,0,null,0,323760,1,5000]
[323780,323,"WEST BRIDGEWATER             ",780,"WHITMAN HANSON               ",2.4900000000000002,2,1,-1,12450,10000,5000,-5000,null,0,323780,1,5000]
[325005,325,"WESTFIELD                    ",5,"AGAWAM                       ",3,1,3,2,15000,5000,17133,12133,null,0,325005,3,17133]
[325061,325,"WESTFIELD                    ",61,"CHICOPEE                     ",3,4,5,1,15000,27000,30203,3203,null,0,325061,5,30203]
[325086,325,"WESTFIELD                    ",86,"EASTHAMPTON                  ",1,1,0,-1,9024,9206,0,-9206,null,0,325086]
[325137,325,"WESTFIELD                    ",137,"HOLYOKE                      ",25.189999999999998,20,20.149999999999999,0.14999999999999858,136927,100000,106415,6415,null,0,325137,20.149999999999999,106415]
[325143,325,"WESTFIELD                    ",143,"HUNTINGTON                   ",null,1,0,-1,null,5000,0,-5000,null,{"$f":"P1288-A1288","v":0},325143]
[325275,325,"WESTFIELD                    ",275,"SOUTHAMPTON                  ",3,3,{"$f":"Q1289","v":3},{"$f":"H1289-G1289","v":0},22039,22039,{"$f":"R1289","v":17005},{"$f":"L1289-K1289","v":-5034},null,0,325275,3,17005]
[325278,325,"WESTFIELD                    ",278,"SOUTH HADLEY                 ",1,2,1,-1,5000,10000,5000,-5000,null,0,325278,1,5000]
[325281,325,"WESTFIELD                    ",281,"SPRINGFIELD                  ",26.450000000000003,23,22.28,-0.71999999999999886,155965,128103,120919,-7184,null,0,325281,22.28,120919]
[325309,325,"WESTFIELD                    ",309,"WARE                         ",1,0,0,0,5000,0,0,0,null,0,325309]
[325332,325,"WESTFIELD                    ",332,"WEST SPRINGFIELD             ",4.6500000000000004,2,4.4400000000000004,2.4400000000000004,37937,10000,22200,12200,null,0,325332,4.4400000000000004,22200]
[325348,325,"WESTFIELD                    ",348,"WORCESTER                    ",null,1,1,0,null,5000,5000,0,null,0,325348,1,5000]
[325662,325,"WESTFIELD                    ",662,"FARMINGTON RIVER",2,2,2,0,10000,10000,10000,0,null,0,325662,2,10000]
[325672,325,"WESTFIELD                    ",672,"GATEWAY                      ",28,26,32.31,6.3100000000000023,153047,145255,257056,111801,null,0,325672,32.31,257056]
[325680,325,"WESTFIELD                    ",680,"HAMPDEN WILBRAHAM            ",0.78,0,1,1,10443,0,5000,5000,null,0,325680,1,5000]
[325683,325,"WESTFIELD                    ",683,"HAMPSHIRE                    ",3,2,2,0,15000,10000,10000,0,null,0,325683,2,10000]
[325766,325,"WESTFIELD                    ",766,"SOUTHWICK TOLLAND",34,30,32.629999999999995,2.6299999999999955,175377,159377,170568,11191,null,0,325766,32.629999999999995,170568]
[326031,326,"WESTFORD                     ",31,"BILLERICA                    ",1,1,1,0,5000,5000,5000,0,null,0,326031,1,5000]
[326056,326,"WESTFORD                     ",56,"CHELMSFORD                   ",19.440000000000001,17,18.07,1.0700000000000003,136677,116699,143906,27207,null,0,326056,18.07,143906]
[326079,326,"WESTFORD                     ",79,"DRACUT                       ",2,2.5,1.5,-1,13503,16003,7500,-8503,null,0,326079,1.5,7500]
[326103,326,"WESTFORD                     ",103,"GARDNER                      ",1,1,1,0,5000,5000,5000,0,null,0,326103,1,5000]
[326158,326,"WESTFORD                     ",158,"LITTLETON                    ",5,7,7,0,25000,47000,35000,-12000,null,0,326158,7,35000]
[326160,326,"WESTFORD                     ",160,"LOWELL                       ",5,5,6,1,40096,40096,48060,7964,null,0,326160,6,48060]
[326181,326,"WESTFORD                     ",181,"METHUEN                      ",2,3,2,-1,10000,15000,10000,-5000,null,0,326181,2,10000]
[326301,326,"WESTFORD                     ",301,"TYNGSBOROUGH                 ",14,14,14,0,71099,74000,72616,-1384,null,0,326301,14,72616]
[326616,326,"WESTFORD                     ",616,"AYER SHIRLEY",11,12,10.420000000000002,-1.5799999999999983,55000,60000,52100,-7900,null,0,326616,10.420000000000002,52100]
[326673,326,"WESTFORD                     ",673,"GROTON DUNSTABLE             ",null,0.5,0.5,0,null,2500,2500,0,null,0,326673,0.5,2500]
[326735,326,"WESTFORD                     ",735,"NORTH MIDDLESEX              ",4,7,7,0,20000,35000,35000,0,null,0,326735,7,35000]
[327086,327,"WESTHAMPTON                  ",86,"EASTHAMPTON                  ",7,10,10,0,45856,58087,61749,3662,null,0,327086,10,61749]
[327210,327,"WESTHAMPTON                  ",210,"NORTHAMPTON                  ",2,2,2,0,19024,19024,32983,13959,null,0,327210,2,32983]
[327275,327,"WESTHAMPTON                  ",275,"SOUTHAMPTON                  ",3,2,2,0,33575,27070,30847,3777,null,0,327275,2,30847]
[327325,327,"WESTHAMPTON                  ",325,"WESTFIELD                    ",3,3,3,0,15000,15000,15000,0,null,0,327325,3,15000]
[327672,327,"WESTHAMPTON                  ",672,"GATEWAY                      ",1,2,1.6,-0.39999999999999991,5000,10000,8000,-2000,null,0,327672,1.6,8000]
[332005,332,"WEST SPRINGFIELD             ",5,"AGAWAM                       ",10,12,9.1,-2.9000000000000004,66682,74850,58959,-15891,null,0,332005,9.1,58959]
[332061,332,"WEST SPRINGFIELD             ",61,"CHICOPEE                     ",3,2,3,1,15000,10000,15000,5000,null,0,332061,3,15000]
[332087,332,"WEST SPRINGFIELD             ",87,"EAST LONGMEADOW              ",1,1,1,0,5000,5000,5000,0,null,0,332087,1,5000]
[332137,332,"WEST SPRINGFIELD             ",137,"HOLYOKE                      ",5,6,6,0,25000,30000,30000,0,null,0,332137,6,30000]
[332275,332,"WEST SPRINGFIELD             ",275,"SOUTHAMPTON                  ",1,1,1,0,5000,5000,5000,0,null,0,332275,1,5000]
[332281,332,"WEST SPRINGFIELD             ",281,"SPRINGFIELD                  ",89.69,88,85,-3,535304,535793,491617,-44176,null,0,332281,85,491617]
[332325,332,"WEST SPRINGFIELD             ",325,"WESTFIELD                    ",2.57,4,3,-1,12850,24000,19255,-4745,null,0,332325,3,19255]
[337074,337,"WHATELY                      ",74,"DEERFIELD                    ",5.4399999999999995,6,3.8600000000000003,-2.1399999999999997,34047,30000,19623,-10377,null,0,337074,3.8600000000000003,19623]
[337086,337,"WHATELY                      ",86,"EASTHAMPTON                  ",2,2,2,0,10000,10000,10000,0,null,0,337086,2,10000]
[337091,337,"WHATELY                      ",91,"ERVING                       ",1,1,2,1,5000,5000,10000,5000,null,0,337091,2,10000]
[337114,337,"WHATELY                      ",114,"GREENFIELD                   ",3,5,5,0,15000,29000,53103,24103,null,0,337114,5,53103]
[337127,337,"WHATELY                      ",127,"HATFIELD                     ",10.32,4,4,0,54480,20000,20000,0,null,0,337127,4,20000]
[337137,337,"WHATELY                      ",137,"HOLYOKE                      ",2,2,2,0,10000,10000,10000,0,null,0,337137,2,10000]
[337210,337,"WHATELY                      ",210,"NORTHAMPTON                  ",2,1,1,0,10000,5000,5000,0,null,0,337210,1,5000]
[337223,337,"WHATELY                      ",223,"ORANGE                       ",1,1,1,0,5000,5000,5000,0,null,0,337223,1,5000]
[337289,337,"WHATELY                      ",289,"SUNDERLAND                   ",3,0,0,0,15000,0,0,0,null,0,337289]
[337309,337,"WHATELY                      ",309,"WARE                         ",1,0,0,0,5000,0,0,0,null,0,337309]
[337635,{"$f":"TRUNC(A1333,-3)/1000","v":337},{"$f":"VLOOKUP(B1333,code437,2)","v":"WHATELY                      "},{"$f":"A1333-B1333*1000","v":635},"CENTRAL BERKSHIRE            ",null,null,1,1,null,null,5000,5000,null,0,337635,1,5000]
[337674,337,"WHATELY                      ",674,"GILL MONTAGUE                ",17.149999999999999,22,21,-1,93309,121559,110547,-11012,null,0,337674,21,110547]
[337728,337,"WHATELY                      ",728,"NEW SALEM WENDELL            ",null,2,2,0,null,14000,15940,1940,null,0,337728,2,15940]
[337750,337,"WHATELY                      ",750,"PIONEER                      ",1,0,0,0,5000,0,0,0,null,0,337750]
[340210,340,"WILLIAMSBURG                 ",210,"NORTHAMPTON                  ",1,1,0.33,-0.66999999999999993,5000,5000,1650,-3350,null,0,340210,0.33,1650]
[340327,340,"WILLIAMSBURG                 ",327,"WESTHAMPTON                  ",1,0,0,0,5000,0,0,0,null,0,340327]
[340349,340,"WILLIAMSBURG                 ",349,"WORTHINGTON                  ",null,5,5,0,null,29000,28846,-154,null,0,340349,5,28846]
[340632,340,"WILLIAMSBURG                 ",632,"CHESTERFIELD GOSHEN",4.38,5,5,0,21900,25000,25000,0,null,0,340632,5,25000]
[340635,340,"WILLIAMSBURG                 ",635,"CENTRAL BERKSHIRE            ",2.4700000000000002,7,7,0,18323,39000,37192,-1808,null,0,340635,7,37192]
[340672,340,"WILLIAMSBURG                 ",672,"GATEWAY                      ",3,0,0,0,15000,0,0,0,null,0,340672]
[340717,{"$f":"TRUNC(A1343,-3)/1000","v":340},{"$f":"VLOOKUP(B1343,code437,2)","v":"WILLIAMSBURG                 "},{"$f":"A1343-B1343*1000","v":717},"MOHAWK TRAIL                 ",null,null,1.08,1.08,null,null,10117,10117,null,0,340717,1.08,10117]
[341063,341,"WILLIAMSTOWN                 ",63,"CLARKSBURG                   ",2,1,1,0,10000,5000,5000,0,null,0,341063,1,5000]
[341121,341,"WILLIAMSTOWN                 ",121,"HANCOCK                      ",3,0,0,0,15000,0,0,0,null,0,341121]
[341148,341,"WILLIAMSTOWN                 ",148,"LANESBOROUGH                 ",1,1,1,0,5000,5000,5000,0,null,0,341148,1,5000]
[341200,341,"WILLIAMSTOWN                 ",200,"NEW ASHFORD                  ",2,1,1,0,12406,5000,5000,0,null,0,341200,1,5000]
[341209,341,"WILLIAMSTOWN                 ",209,"NORTH ADAMS                  ",30.1,25,24.94,-5.9999999999998721E-2,175238,134190,134604,414,null,0,341209,24.94,134604]
[341236,341,"WILLIAMSTOWN                 ",236,"PITTSFIELD                   ",null,1,0.98,-2.0000000000000018E-2,null,5000,4900,-100,null,0,341236,0.98,4900]
[341603,341,"WILLIAMSTOWN                 ",603,"ADAMS CHESHIRE               ",2,2,2,0,10000,10000,10000,0,null,0,341603,2,10000]
[341635,341,"WILLIAMSTOWN                 ",635,"CENTRAL BERKSHIRE            ",2,1,1,0,10000,5000,5000,0,null,0,341635,1,5000]
[343097,343,"WINCHENDON                   ",97,"FITCHBURG                    ",2,2,2,0,56305,56305,10000,-46305,null,{"$f":"P1352-A1352","v":0},343097,2,10000]
[343103,343,"WINCHENDON                   ",103,"GARDNER                      ",11.93,8,{"$f":"Q1353","v":8},{"$f":"H1353-G1353","v":0},63236,47206,{"$f":"R1353","v":40000},{"$f":"L1353-K1353","v":-7206},null,0,343103,8,40000]
[343610,343,"WINCHENDON                   ",610,"ASHBURNHAM WESTMINSTER       ",5.49,4,5,1,33426,32976,25000,-7976,null,0,343610,5,25000]
[343615,343,"WINCHENDON                   ",615,"ATHOL ROYALSTON              ",6,9,7,-2,30000,45000,35000,-10000,null,0,343615,7,35000]
[343720,343,"WINCHENDON                   ",720,"NARRAGANSETT                 ",14,7,7,0,117754,35000,35000,0,null,0,343720,7,35000]
[343753,343,"WINCHENDON                   ",753,"QUABBIN                      ",1,0,0,0,5000,0,0,0,null,0,343753]
[346035,346,"WINTHROP                     ",35,"BOSTON                       ",7,6,7,1,35000,30000,35000,5000,null,0,346035,7,35000]
[346093,346,"WINTHROP                     ",93,"EVERETT                      ",null,1,1,0,null,12000,12223,223,null,0,346093,1,12223]
[346163,346,"WINTHROP                     ",163,"LYNN                         ",2,1,1,0,10000,5000,5000,0,null,0,346163,1,5000]
[346248,346,"WINTHROP                     ",248,"REVERE                       ",3,3,3,0,15000,15000,15000,0,null,0,346248,3,15000]
[346262,{"$f":"TRUNC(A1362,-3)/1000","v":346},{"$f":"VLOOKUP(B1362,code437,2)","v":"WINTHROP                     "},{"$f":"A1362-B1362*1000","v":262},"SAUGUS                       ",null,null,1,1,null,null,5000,5000,null,0,346262,1,5000]
[346274,{"$f":"TRUNC(A1363,-3)/1000","v":346},{"$f":"VLOOKUP(B1363,code437,2)","v":"WINTHROP                     "},{"$f":"A1363-B1363*1000","v":274},"SOMERVILLE                   ",null,null,2,2,null,null,10000,10000,null,0,346274,2,10000]
[346346,{"$f":"TRUNC(A1364,-3)/1000","v":346},{"$f":"VLOOKUP(B1364,code437,2)","v":"WINTHROP                     "},{"$f":"A1364-B1364*1000","v":346},"WINTHROP                     ",null,null,1,1,null,null,5000,5000,null,0,346346,1,5000]
[348017,348,"WORCESTER                    ",17,"AUBURN                       ",1,3,2.31,-0.69,5000,15000,11550,-3450,null,0,348017,2.31,11550]
[348064,348,"WORCESTER                    ",64,"CLINTON                      ",3,2,1.54,-0.45999999999999996,15000,10000,7700,-2300,null,0,348064,1.54,7700]
[348084,348,"WORCESTER                    ",84,"EAST BROOKFIELD              ",1,0,0,0,5000,0,0,0,null,0,348084]
[348100,348,"WORCESTER                    ",100,"FRAMINGHAM                   ",null,1,1,0,null,5000,5000,0,null,0,348100,1,5000]
[348101,348,"WORCESTER                    ",101,"FRANKLIN                     ",null,1,0,-1,null,5000,0,-5000,null,0,348101]
[348110,348,"WORCESTER                    ",110,"GRAFTON                      ",null,3,2.98,-2.0000000000000018E-2,null,19000,19526,526,null,0,348110,2.98,19526]
[348151,348,"WORCESTER                    ",151,"LEICESTER                    ",8.23,8,8,0,41150,47000,45053,-1947,null,0,348151,8,45053]
[348153,348,"WORCESTER                    ",153,"LEOMINSTER                   ",null,2,2,0,null,10000,10000,0,null,0,348153,2,10000]
[348186,348,"WORCESTER                    ",186,"MILLBURY                     ",1,2,2,0,5000,14000,12684,-1316,null,0,348186,2,12684]
[348213,348,"WORCESTER                    ",213,"NORTHBOROUGH                 ",4,0,0,0,20000,0,0,0,null,0,348213]
[348214,348,"WORCESTER                    ",214,"NORTHBRIDGE                  ",null,0,0,0,null,0,0,0,null,0,348214]
[348226,348,"WORCESTER                    ",226,"OXFORD                       ",1,1,1,0,5000,5000,5000,0,null,0,348226,1,5000]
[348271,348,"WORCESTER                    ",271,"SHREWSBURY                   ",10.32,8,7.42,-0.58000000000000007,51600,40000,37100,-2900,null,0,348271,7.42,37100]
[348277,348,"WORCESTER                    ",277,"SOUTHBRIDGE                  ",1,2,2,0,5000,10000,10000,0,null,0,348277,2,10000]
[348290,348,"WORCESTER                    ",290,"SUTTON                       ",1,0,0,0,5000,0,0,0,null,0,348290]
[348304,348,"WORCESTER                    ",304,"UXBRIDGE                     ",2,1,0,-1,10000,5000,0,-5000,null,0,348304]
[348316,348,"WORCESTER                    ",316,"WEBSTER                      ",2,4,3.95,-4.9999999999999822E-2,13294,27000,25148,-1852,null,0,348316,3.95,25148]
[348321,348,"WORCESTER                    ",321,"WESTBOROUGH                  ",7.58,3,3,0,37900,15000,15000,0,null,0,348321,3,15000]
[348322,348,"WORCESTER                    ",322,"WEST BOYLSTON                ",5,5,5,0,34656,34656,29936,-4720,null,0,348322,5,29936]
[348658,348,"WORCESTER                    ",658,"DUDLEY CHARLTON              ",2,2,2,0,10000,10000,10000,0,null,0,348658,2,10000]
[348753,348,"WORCESTER                    ",753,"QUABBIN                      ",3,2,2,0,15000,10000,10000,0,null,0,348753,2,10000]
[348767,348,"WORCESTER                    ",767,"SPENCER EAST BROOKFIELD      ",2,6,6,0,25080,49733,46200,-3533,null,0,348767,6,46200]
[348775,348,"WORCESTER                    ",775,"WACHUSETT                    ",7,17,16.95,-5.0000000000000711E-2,42042,92042,91430,-612,null,0,348775,16.95,91430]
[348832,348,"WORCESTER                    ",832,"MONTACHUSETT                 ",1,0,0,0,5000,0,0,0,null,0,348832]
[348876,348,"WORCESTER                    ",876,"SOUTHERN WORCESTER           ",3.68,0,0,0,23053,0,0,0,null,0,348876]
[349635,349,"WORTHINGTON                  ",635,"CENTRAL BERKSHIRE            ",null,1,1,0,null,5000,5000,0,null,0,349635,1,5000]
[349672,349,"WORTHINGTON                  ",672,"GATEWAY                      ",null,3,3.37,0.37000000000000011,null,15000,16850,1850,null,0,349672,3.37,16850]
[349717,349,"WORTHINGTON                  ",717,"MOHAWK TRAIL                 ",null,1,1,0,null,5000,5000,0,null,0,349717,1,5000]
[600064,600,"ACTON BOXBOROUGH             ",64,"CLINTON                      ",2,1,1,0,12135,7135,7319,184,null,0,600064,1,7319]
[600125,600,"ACTON BOXBOROUGH             ",125,"HARVARD                      ",1,1,1,0,5000,5000,5000,0,null,0,600125,1,5000]
[600141,600,"ACTON BOXBOROUGH             ",141,"HUDSON                       ",1,1,2,1,5000,5000,10000,5000,null,0,600141,2,10000]
[600153,600,"ACTON BOXBOROUGH             ",153,"LEOMINSTER                   ",3,3,3,0,17485,17485,17021,-464,null,0,600153,3,17021]
[600158,600,"ACTON BOXBOROUGH             ",158,"LITTLETON                    ",6,7,6,-1,30000,35000,30000,-5000,null,0,600158,6,30000]
[600170,600,"ACTON BOXBOROUGH             ",170,"MARLBOROUGH                  ",2,2,2,0,10000,10000,10000,0,null,0,600170,2,10000]
[600174,600,"ACTON BOXBOROUGH             ",174,"MAYNARD                      ",10.5,9,8,-1,54945,47445,41472,-5973,null,0,600174,8,41472]
[600616,600,"ACTON BOXBOROUGH             ",616,"AYER SHIRLEY",9,8,8,0,60396,53295,54690,1395,null,0,600616,8,54690]
[600725,600,"ACTON BOXBOROUGH             ",725,"NASHOBA                      ",8,7,8,1,66302,61302,48689,-12613,null,0,600725,8,48689]
[603063,603,"ADAMS CHESHIRE               ",63,"CLARKSBURG                   ",null,1,1,0,null,5000,5000,0,null,0,603063,1,5000]
[603098,603,"ADAMS CHESHIRE               ",98,"FLORIDA                      ",1,1,1,0,5000,5000,5000,0,null,0,603098,1,5000]
[603148,603,"ADAMS CHESHIRE               ",148,"LANESBOROUGH                 ",2,3,2.2999999999999998,-0.70000000000000018,10000,15000,11500,-3500,null,0,603148,2.2999999999999998,11500]
[603209,603,"ADAMS CHESHIRE               ",209,"NORTH ADAMS                  ",24.619999999999997,20,21.57,1.5700000000000003,164775,133823,131089,-2734,null,0,603209,21.57,131089]
[603236,603,"ADAMS CHESHIRE               ",236,"PITTSFIELD                   ",3.91,2,5.0000000000000009,3.0000000000000009,19550,10000,25000,15000,null,0,603236,5.0000000000000009,25000]
[603263,603,"ADAMS CHESHIRE               ",263,"SAVOY                        ",23.48,19,20.149999999999999,1.1499999999999986,156742,104631,110881,6250,null,0,603263,20.149999999999999,110881]
[603341,603,"ADAMS CHESHIRE               ",341,"WILLIAMSTOWN                 ",0.67,0,0,0,3350,0,0,0,null,0,603341]
[603635,603,"ADAMS CHESHIRE               ",635,"CENTRAL BERKSHIRE            ",2,1,1,0,10000,5000,5000,0,null,0,603635,1,5000]
[603715,603,"ADAMS CHESHIRE               ",715,"MOUNT GREYLOCK               ",0.52,3,2.5300000000000002,-0.46999999999999975,2600,19000,15919,-3081,null,0,603715,2.5300000000000002,15919]
[605005,605,"AMHERST PELHAM               ",5,"AGAWAM                       ",2,0,0,0,44446,0,0,0,null,0,605005]
[605024,605,"AMHERST PELHAM               ",24,"BELCHERTOWN                  ",19,17,17,0,104939,94939,91947,-2992,null,0,605024,17,91947]
[605061,605,"AMHERST PELHAM               ",61,"CHICOPEE                     ",1,0,0,0,5000,0,0,0,null,0,605061]
[605086,605,"AMHERST PELHAM               ",86,"EASTHAMPTON                  ",2,2,2,0,39655,39655,36892,-2763,null,0,605086,2,36892]
[605091,605,"AMHERST PELHAM               ",91,"ERVING                       ",0.44,0,0,0,23678,0,0,0,null,{"$f":"P1415-A1415","v":0},605091]
[605111,605,"AMHERST PELHAM               ",111,"GRANBY                       ",1,0,{"$f":"Q1416","v":0},{"$f":"H1416-G1416","v":0},5000,0,{"$f":"R1416","v":0},{"$f":"L1416-K1416","v":0},null,0,605111]
[605114,605,"AMHERST PELHAM               ",114,"GREENFIELD                   ",1,1,1,0,9061,9061,9354,293,null,0,605114,1,9354]
[605117,605,"AMHERST PELHAM               ",117,"HADLEY                       ",29.02,20,18.59,-1.4100000000000001,201792,132724,125051,-7673,null,0,605117,18.59,125051]
[605127,605,"AMHERST PELHAM               ",127,"HATFIELD                     ",null,1,1,0,null,5000,5000,0,null,0,605127,1,5000]
[605137,605,"AMHERST PELHAM               ",137,"HOLYOKE                      ",1,1,1,0,5000,5000,5000,0,null,0,605137,1,5000]
[605210,605,"AMHERST PELHAM               ",210,"NORTHAMPTON                  ",2,4,4,0,10000,20000,20000,0,null,0,605210,4,20000]
[605278,605,"AMHERST PELHAM               ",278,"SOUTH HADLEY                 ",3,4,3.17,-0.83000000000000007,15000,24000,19454,-4546,null,0,605278,3.17,19454]
[605309,605,"AMHERST PELHAM               ",309,"WARE                         ",2,3,3,0,20203,25203,42521,17318,null,0,605309,3,42521]
[605332,605,"AMHERST PELHAM               ",332,"WEST SPRINGFIELD             ",null,1,1,0,null,24243,26213,1970,null,0,605332,1,26213]
[605670,605,"AMHERST PELHAM               ",670,"FRONTIER                     ",10,7,6.16,-0.83999999999999986,50000,35000,30800,-4200,null,0,605670,6.16,30800]
[605672,605,"AMHERST PELHAM               ",672,"GATEWAY                      ",1,0,0,0,5000,0,0,0,null,0,605672]
[605674,605,"AMHERST PELHAM               ",674,"GILL MONTAGUE                ",7,7,6.48,-0.51999999999999957,38924,42924,48370,5446,null,0,605674,6.48,48370]
[605683,605,"AMHERST PELHAM               ",683,"HAMPSHIRE                    ",2,1,1,0,10000,5000,5000,0,null,0,605683,1,5000]
[605717,605,"AMHERST PELHAM               ",717,"MOHAWK TRAIL                 ",1,2,2,0,5000,10000,10000,0,null,0,605717,2,10000]
[605750,605,"AMHERST PELHAM               ",750,"PIONEER                      ",1,0,0,0,5000,0,0,0,null,0,605750]
[605755,605,"AMHERST PELHAM               ",755,"RALPH C MAHAR                ",3,2,2,0,34243,10000,10000,0,null,0,605755,2,10000]
[610097,610,"ASHBURNHAM WESTMINSTER       ",97,"FITCHBURG                    ",45.44,46,47.84,1.8400000000000034,249120,238872,256104,17232,null,0,610097,47.84,256104]
[610103,610,"ASHBURNHAM WESTMINSTER       ",103,"GARDNER                      ",57.910000000000004,78,79.72,1.7199999999999989,296724,405274,426807,21533,null,0,610103,79.72,426807]
[610153,610,"ASHBURNHAM WESTMINSTER       ",153,"LEOMINSTER                   ",3.14,5,6.53,1.5300000000000002,15700,33000,36825,3825,null,0,610153,6.53,36825]
[610162,610,"ASHBURNHAM WESTMINSTER       ",162,"LUNENBURG                    ",2,2,2,0,10000,10000,10000,0,null,0,610162,2,10000]
[610343,610,"ASHBURNHAM WESTMINSTER       ",343,"WINCHENDON                   ",15,23,22.28,-0.71999999999999886,77430,117000,111400,-5600,null,0,610343,22.28,111400]
[610615,610,"ASHBURNHAM WESTMINSTER       ",615,"ATHOL ROYALSTON              ",6,7,7,0,30429,39000,36350,-2650,null,0,610615,7,36350]
[610616,610,"ASHBURNHAM WESTMINSTER       ",616,"AYER SHIRLEY",1,2,2,0,17887,22887,17859,-5028,null,0,610616,2,17859]
[610720,610,"ASHBURNHAM WESTMINSTER       ",720,"NARRAGANSETT                 ",10,22,22,0,50000,110000,110000,0,null,0,610720,22,110000]
[610725,610,"ASHBURNHAM WESTMINSTER       ",725,"NASHOBA                      ",1,1,1,0,6667,6667,8624,1957,null,0,610725,1,8624]
[610735,610,"ASHBURNHAM WESTMINSTER       ",735,"NORTH MIDDLESEX              ",2,4,2.85,-1.1499999999999999,10000,20000,14250,-5750,null,0,610735,2.85,14250]
[610753,610,"ASHBURNHAM WESTMINSTER       ",753,"QUABBIN                      ",4,6,6,0,24742,34742,33076,-1666,null,0,610753,6,33076]
[610775,610,"ASHBURNHAM WESTMINSTER       ",775,"WACHUSETT                    ",null,1,1,0,null,5000,5000,0,null,0,610775,1,5000]
[615008,{"$f":"TRUNC(A1444,-3)/1000","v":615},{"$f":"VLOOKUP(B1444,code437,2)","v":"ATHOL ROYALSTON              "},{"$f":"A1444-B1444*1000","v":8},"AMHERST                      ",null,null,1,1,null,null,5000,5000,null,0,615008,1,5000]
[615097,615,"ATHOL ROYALSTON              ",97,"FITCHBURG                    ",1,0,0.83,0.83,5000,0,4150,4150,null,0,615097,0.83,4150]
[615103,615,"ATHOL ROYALSTON              ",103,"GARDNER                      ",3,1,5,4,15000,5000,25000,20000,null,0,615103,5,25000]
[615110,615,"ATHOL ROYALSTON              ",110,"GRAFTON                      ",1,0,0,0,5000,0,0,0,null,0,615110]
[615114,615,"ATHOL ROYALSTON              ",114,"GREENFIELD                   ",null,3,2.4500000000000002,-0.54999999999999982,null,15000,12250,-2750,null,0,615114,2.4500000000000002,12250]
[615153,615,"ATHOL ROYALSTON              ",153,"LEOMINSTER                   ",null,1,1,0,null,5000,5000,0,null,0,615153,1,5000]
[615223,615,"ATHOL ROYALSTON              ",223,"ORANGE                       ",28.18,18,24.17,6.1700000000000017,172097,110000,133452,23452,null,0,615223,24.17,133452]
[615226,615,"ATHOL ROYALSTON              ",226,"OXFORD                       ",1,1,1,0,5000,5000,5000,0,null,0,615226,1,5000]
[615227,{"$f":"TRUNC(A1452,-3)/1000","v":615},{"$f":"VLOOKUP(B1452,code437,2)","v":"ATHOL ROYALSTON              "},{"$f":"A1452-B1452*1000","v":227},"PALMER                       ",null,null,0.68,0.68,null,null,3400,3400,null,0,615227,0.68,3400]
[615234,615,"ATHOL ROYALSTON              ",234,"PETERSHAM                    ",1,1,1,0,5000,5000,5000,0,null,0,615234,1,5000]
[615343,615,"ATHOL ROYALSTON              ",343,"WINCHENDON                   ",8.1700000000000017,6,5,-1,44073,30000,25000,-5000,null,0,615343,5,25000]
[615348,{"$f":"TRUNC(A1455,-3)/1000","v":615},{"$f":"VLOOKUP(B1455,code437,2)","v":"ATHOL ROYALSTON              "},{"$f":"A1455-B1455*1000","v":348},"WORCESTER                    ",null,null,0.51,0.51,null,null,2550,2550,null,0,615348,0.51,2550]
[615720,615,"ATHOL ROYALSTON              ",720,"NARRAGANSETT                 ",3,6,5.0199999999999996,-0.98000000000000043,15000,54000,25489,-28511,null,0,615720,5.0199999999999996,25489]
[615728,615,"ATHOL ROYALSTON              ",728,"NEW SALEM WENDELL            ",null,2,2,0,null,14000,14162,162,null,0,615728,2,14162]
[615735,615,"ATHOL ROYALSTON              ",735,"NORTH MIDDLESEX              ",null,1,1,0,null,7000,10793,3793,null,0,615735,1,10793]
[615753,615,"ATHOL ROYALSTON              ",753,"QUABBIN                      ",1,1,1,0,19194,5000,5000,0,null,0,615753,1,5000]
[615755,615,"ATHOL ROYALSTON              ",755,"RALPH C MAHAR                ",10.67,11,14.41,3.41,86811,80741,105404,24663,null,0,615755,14.41,105404]
[616064,616,"AYER SHIRLEY",64,"CLINTON                      ",2,8,6.5200000000000005,-1.4799999999999995,10000,40000,32600,-7400,null,0,616064,6.5200000000000005,32600]
[616079,616,"AYER SHIRLEY",79,"DRACUT                       ",null,1,1,0,null,5000,5000,0,null,0,616079,1,5000]
[616097,616,"AYER SHIRLEY",97,"FITCHBURG                    ",42.580000000000005,47,44.8,-2.2000000000000028,308700,317356,271759,-45597,null,0,616097,44.8,271759]
[616099,616,"AYER SHIRLEY",99,"FOXBOROUGH                   ",null,1,0,-1,null,5000,0,-5000,null,0,616099]
[616103,616,"AYER SHIRLEY",103,"GARDNER                      ",5,3,3,0,25000,15000,15000,0,null,0,616103,3,15000]
[616125,616,"AYER SHIRLEY",125,"HARVARD                      ",null,1,0,-1,null,5000,0,-5000,null,0,616125]
[616149,{"$f":"TRUNC(A1467,-3)/1000","v":616},{"$f":"VLOOKUP(B1467,code437,2)","v":"AYER SHIRLEY"},{"$f":"A1467-B1467*1000","v":149},"LAWRENCE                     ",null,null,0.84,0.84,null,null,4200,4200,null,0,616149,0.84,4200]
[616153,616,"AYER SHIRLEY",153,"LEOMINSTER                   ",24.59,22,22.96,0.96000000000000085,152407,125810,138346,12536,null,0,616153,22.96,138346]
[616158,616,"AYER SHIRLEY",158,"LITTLETON                    ",1,0,0.74,0.74,5000,0,3700,3700,null,0,616158,0.74,3700]
[616160,616,"AYER SHIRLEY",160,"LOWELL                       ",null,1,1,0,null,5000,5000,0,null,0,616160,1,5000]
[616162,616,"AYER SHIRLEY",162,"LUNENBURG                    ",10.740000000000002,13,15.540000000000001,2.5400000000000009,68776,74530,91492,16962,null,0,616162,15.540000000000001,91492]
[616191,616,"AYER SHIRLEY",191,"MONSON                       ",1.08,0,0,0,5400,0,0,0,null,0,616191]
[616223,{"$f":"TRUNC(A1473,-3)/1000","v":616},{"$f":"VLOOKUP(B1473,code437,2)","v":"AYER SHIRLEY"},{"$f":"A1473-B1473*1000","v":223},"ORANGE                       ",null,null,1.02,1.02,null,null,5100,5100,null,0,616223,1.02,5100]
[616288,616,"AYER SHIRLEY",288,"SUDBURY                      ",0.98,1,0,-1,4900,5000,0,-5000,null,0,616288]
[616326,616,"AYER SHIRLEY",326,"WESTFORD                     ",null,1,0.82000000000000006,-0.17999999999999994,null,5000,4100,-900,null,0,616326,0.82000000000000006,4100]
[616343,616,"AYER SHIRLEY",343,"WINCHENDON                   ",2,3,3.88,0.87999999999999989,18326,31326,41843,10517,null,0,616343,3.88,41843]
[616352,616,"AYER SHIRLEY",352,"DEVENS",4.8,5,5,0,30834,28408,26703,-1705,null,0,616352,5,26703]
[616600,616,"AYER SHIRLEY",600,"ACTON BOXBOROUGH             ",null,1,2,1,null,9000,10000,1000,null,0,616600,2,10000]
[616610,616,"AYER SHIRLEY",610,"ASHBURNHAM WESTMINSTER       ",1,1,1,0,5000,5000,5000,0,null,{"$f":"P1479-A1479","v":0},616610,1,5000]
[616673,616,"AYER SHIRLEY",673,"GROTON DUNSTABLE             ",7.09,6,{"$f":"Q1480","v":5.6},{"$f":"H1480-G1480","v":-0.40000000000000036},47715,34806,{"$f":"R1480","v":28000},{"$f":"L1480-K1480","v":-6806},null,0,616673,5.6,28000]
[616720,616,"AYER SHIRLEY",720,"NARRAGANSETT                 ",1,1,1.3599999999999999,0.35999999999999988,5000,5000,11690,6690,null,0,616720,1.3599999999999999,11690]
[616725,616,"AYER SHIRLEY",725,"NASHOBA                      ",null,2,1.48,-0.52,null,10000,7400,-2600,null,0,616725,1.48,7400]
[616735,616,"AYER SHIRLEY",735,"NORTH MIDDLESEX              ",14.34,14,14.780000000000001,0.78000000000000114,87193,83556,80945,-2611,null,0,616735,14.780000000000001,80945]
[616775,616,"AYER SHIRLEY",775,"WACHUSETT                    ",1.1399999999999999,2,2,0,5700,10000,10000,0,null,0,616775,2,10000]
[618022,618,"BERKSHIRE HILLS              ",22,"BECKET                       ",2,3,3,0,10000,15000,15000,0,null,0,618022,3,15000]
[618033,618,"BERKSHIRE HILLS              ",33,"BLANDFORD                    ",null,2,2,0,null,12120,11951,-169,null,0,618033,2,11951]
[618150,618,"BERKSHIRE HILLS              ",150,"LEE                          ",43.67,50,49.06,-0.93999999999999773,248678,291963,299478,7515,null,0,618150,49.06,299478]
[618152,618,"BERKSHIRE HILLS              ",152,"LENOX                        ",12,10,9.3600000000000012,-0.63999999999999879,78861,55804,59185,3381,null,0,618152,9.3600000000000012,59185]
[618195,618,"BERKSHIRE HILLS              ",195,"MOUNT WASHINGTON             ",1,1,1,0,5000,5000,5000,0,null,0,618195,1,5000]
[618209,618,"BERKSHIRE HILLS              ",209,"NORTH ADAMS                  ",0.5,0.5,0,-0.5,4347,9500,0,-9500,null,0,618209]
[618236,618,"BERKSHIRE HILLS              ",236,"PITTSFIELD                   ",26.5,31.5,30.09,-1.4100000000000001,151453,201694,188246,-13448,null,0,618236,30.09,188246]
[618249,618,"BERKSHIRE HILLS              ",249,"RICHMOND                     ",3.17,3,3,0,17654,19000,17545,-1455,null,0,618249,3,17545]
[618302,618,"BERKSHIRE HILLS              ",302,"TYRINGHAM                    ",6,5,5,0,30000,25000,25000,0,null,0,618302,5,25000]
[618635,618,"BERKSHIRE HILLS              ",635,"CENTRAL BERKSHIRE            ",13.65,11,10.469999999999999,-0.53000000000000114,69871,60621,63674,3053,null,0,618635,10.469999999999999,63674]
[618662,618,"BERKSHIRE HILLS              ",662,"FARMINGTON RIVER",7,6,6,0,35000,30000,30000,0,null,0,618662,6,30000]
[618672,618,"BERKSHIRE HILLS              ",672,"GATEWAY                      ",5,1,1,0,27120,5000,5000,0,null,0,618672,1,5000]
[618765,618,"BERKSHIRE HILLS              ",765,"SOUTHERN BERKSHIRE           ",121.66,102,105.22,3.2199999999999989,620319,540028,552557,12529,null,0,618765,105.22,552557]
[620064,620,"BERLIN BOYLSTON              ",64,"CLINTON                      ",16.439999999999998,17,17,0,98655,101455,103368,1913,null,0,620064,17,103368]
[620110,620,"BERLIN BOYLSTON              ",110,"GRAFTON                      ",1,1,1,0,5000,5000,5000,0,null,0,620110,1,5000]
[620141,620,"BERLIN BOYLSTON              ",141,"HUDSON                       ",2,1,1,0,15964,9000,11515,2515,null,0,620141,1,11515]
[620153,620,"BERLIN BOYLSTON              ",153,"LEOMINSTER                   ",2,2,2,0,10000,10000,10000,0,null,0,620153,2,10000]
[620186,620,"BERLIN BOYLSTON              ",186,"MILLBURY                     ",null,1,1,0,null,5000,5000,0,null,0,620186,1,5000]
[620271,620,"BERLIN BOYLSTON              ",271,"SHREWSBURY                   ",5,4,4,0,25000,20000,20000,0,null,0,620271,4,20000]
[620322,620,"BERLIN BOYLSTON              ",322,"WEST BOYLSTON                ",9,8,8,0,53138,52138,50083,-2055,null,0,620322,8,50083]
[620348,620,"BERLIN BOYLSTON              ",348,"WORCESTER                    ",53,50,50,0,291750,277661,282143,4482,null,0,620348,50,282143]
[620710,620,"BERLIN BOYLSTON              ",710,"MENDON UPTON                 ",1,1,1,0,6957,6957,7176,219,null,0,620710,1,7176]
[620725,620,"BERLIN BOYLSTON              ",725,"NASHOBA                      ",1,1,1,0,7176,7176,8144,968,null,0,620725,1,8144]
[620775,620,"BERLIN BOYLSTON              ",775,"WACHUSETT                    ",3,4,4,0,15000,20000,29595,9595,null,0,620775,4,29595]
[622025,622,"BLACKSTONE MILLVILLE         ",25,"BELLINGHAM                   ",10.14,7,12.240000000000002,5.240000000000002,50700,35000,71555,36555,null,0,622025,12.240000000000002,71555]
[622099,622,"BLACKSTONE MILLVILLE         ",99,"FOXBOROUGH                   ",null,1,0.88,-0.12,null,5000,4400,-600,null,0,622099,0.88,4400]
[622101,622,"BLACKSTONE MILLVILLE         ",101,"FRANKLIN                     ",1,0,0,0,5000,0,0,0,null,0,622101]
[622167,622,"BLACKSTONE MILLVILLE         ",167,"MANSFIELD                    ",null,1,1,0,null,5000,5000,0,null,0,622167,1,5000]
[622177,622,"BLACKSTONE MILLVILLE         ",177,"MEDWAY                       ",1,1,1,0,5000,5000,5000,0,null,0,622177,1,5000]
[622185,622,"BLACKSTONE MILLVILLE         ",185,"MILFORD                      ",1,1,1,0,5000,5000,5000,0,null,0,622185,1,5000]
[622220,622,"BLACKSTONE MILLVILLE         ",220,"NORWOOD                      ",null,1,1,0,null,5000,8350,3350,null,0,622220,1,8350]
[622265,622,"BLACKSTONE MILLVILLE         ",265,"SEEKONK                      ",null,1,1,0,null,5000,5000,0,null,0,622265,1,5000]
[622304,622,"BLACKSTONE MILLVILLE         ",304,"UXBRIDGE                     ",20,25,23,-2,100000,129000,115297,-13703,null,0,622304,23,115297]
[622690,622,"BLACKSTONE MILLVILLE         ",690,"KING PHILIP                  ",0.33,0,0,0,1650,0,0,0,null,0,622690]
[622710,622,"BLACKSTONE MILLVILLE         ",710,"MENDON UPTON                 ",6,5,4.68,-0.32000000000000028,30000,32000,26745,-5255,null,0,622710,4.68,26745]
[625044,625,"BRIDGEWATER RAYNHAM          ",44,"BROCKTON                     ",3.18,6,5.2,-0.79999999999999982,21279,37000,30372,-6628,null,0,625044,5.2,30372]
[625083,625,"BRIDGEWATER RAYNHAM          ",83,"EAST BRIDGEWATER             ",4,2,2,0,20521,14000,11049,-2951,null,0,625083,2,11049]
[625182,625,"BRIDGEWATER RAYNHAM          ",182,"MIDDLEBOROUGH                ",10.17,9,9,0,50850,45000,45000,0,null,0,625182,9,45000]
[625218,625,"BRIDGEWATER RAYNHAM          ",218,"NORTON                       ",2,0,0,0,10000,0,0,0,null,0,625218]
[625293,625,"BRIDGEWATER RAYNHAM          ",293,"TAUNTON                      ",9,8,8,0,49726,56000,49077,-6923,null,0,625293,8,49077]
[625323,625,"BRIDGEWATER RAYNHAM          ",323,"WEST BRIDGEWATER             ",0.47,0,0,0,2350,0,0,0,null,0,625323]
[625665,625,"BRIDGEWATER RAYNHAM          ",665,"FREETOWN LAKEVILLE           ",null,2,2,0,null,10000,10000,0,null,0,625665,2,10000]
[625760,625,"BRIDGEWATER RAYNHAM          ",760,"SILVER LAKE                  ",null,1,0.89,-0.10999999999999999,null,5000,4450,-550,null,0,625760,0.89,4450]
[625763,625,"BRIDGEWATER RAYNHAM          ",763,"SOMERSET BERKLEY",3,1,1,0,15821,5000,5000,0,null,0,625763,1,5000]
[632068,{"$f":"TRUNC(A1529,-3)/1000","v":632},{"$f":"VLOOKUP(B1529,code437,2)","v":"CHESTERFIELD GOSHEN"},{"$f":"A1529-B1529*1000","v":68},"CONWAY                       ",null,null,1.58,1.58,null,null,8172,8172,null,0,632068,1.58,8172]
[632137,632,"CHESTERFIELD GOSHEN",137,"HOLYOKE                      ",null,2,0.76,-1.24,null,10000,3800,-6200,null,0,632137,0.76,3800]
[632210,632,"CHESTERFIELD GOSHEN",210,"NORTHAMPTON                  ",null,1,0,-1,null,5000,0,-5000,null,0,632210]
[632340,632,"CHESTERFIELD GOSHEN",340,"WILLIAMSBURG                 ",3,3,3,0,15821,15821,15663,-158,null,0,632340,3,15663]
[632349,632,"CHESTERFIELD GOSHEN",349,"WORTHINGTON                  ",null,10,7.42,-2.58,null,58368,41280,-17088,null,0,632349,7.42,41280]
[632635,632,"CHESTERFIELD GOSHEN",635,"CENTRAL BERKSHIRE            ",4.22,7,7.82,0.82000000000000028,21100,41000,71599,30599,null,0,632635,7.82,71599]
[632672,632,"CHESTERFIELD GOSHEN",672,"GATEWAY                      ",12,2,2,0,61368,10000,10000,0,null,0,632672,2,10000]
[632717,632,"CHESTERFIELD GOSHEN",717,"MOHAWK TRAIL                 ",1,1,1,0,5000,5000,5000,0,null,0,632717,1,5000]
[635114,635,"CENTRAL BERKSHIRE            ",114,"GREENFIELD                   ",0.09,0,0,0,450,0,0,0,null,0,635114]
[635148,635,"CENTRAL BERKSHIRE            ",148,"LANESBOROUGH                 ",2.16,5,6,1,10800,25000,35950,10950,null,0,635148,6,35950]
[635150,635,"CENTRAL BERKSHIRE            ",150,"LEE                          ",1.6099999999999999,2,2,0,8050,10000,10000,0,null,0,635150,2,10000]
[635152,635,"CENTRAL BERKSHIRE            ",152,"LENOX                        ",null,1,0,-1,null,5000,0,-5000,null,0,635152]
[635209,635,"CENTRAL BERKSHIRE            ",209,"NORTH ADAMS                  ",0.36,0,0,0,1800,0,0,0,null,0,635209]
[635236,635,"CENTRAL BERKSHIRE            ",236,"PITTSFIELD                   ",95.320000000000007,108,114.94000000000001,6.9400000000000119,603752,684243,718392,34149,null,0,635236,114.94000000000001,718392]
[635249,635,"CENTRAL BERKSHIRE            ",249,"RICHMOND                     ",1,1,1,0,9198,9198,8270,-928,null,{"$f":"P1543-A1543","v":0},635249,1,8270]
[635263,635,"CENTRAL BERKSHIRE            ",263,"SAVOY                        ",2,2,{"$f":"Q1544","v":3},{"$f":"H1544-G1544","v":1},10000,10000,{"$f":"R1544","v":15000},{"$f":"L1544-K1544","v":5000},null,0,635263,3,15000]
[635349,635,"CENTRAL BERKSHIRE            ",349,"WORTHINGTON                  ",null,21,21.919999999999998,0.91999999999999815,null,138693,155510,16817,null,0,635349,21.919999999999998,155510]
[635603,635,"CENTRAL BERKSHIRE            ",603,"ADAMS CHESHIRE               ",10,6,6.03,3.0000000000000249E-2,69180,41448,41975,527,null,0,635603,6.03,41975]
[635672,635,"CENTRAL BERKSHIRE            ",672,"GATEWAY                      ",31.51,7,5,-2,217228,44511,35028,-9483,null,0,635672,5,35028]
[635715,635,"CENTRAL BERKSHIRE            ",715,"MOUNT GREYLOCK               ",3,3,2,-1,15000,15000,10000,-5000,null,0,635715,2,10000]
[635717,635,"CENTRAL BERKSHIRE            ",717,"MOHAWK TRAIL                 ",5.77,5,1,-4,32585,39393,5000,-34393,null,0,635717,1,5000]
[645020,645,"DENNIS YARMOUTH              ",20,"BARNSTABLE                   ",57.2,56,56.8,0.79999999999999716,389427,354192,334992,-19200,null,0,645020,56.8,334992]
[645036,645,"DENNIS YARMOUTH              ",36,"BOURNE                       ",1.28,2,2.99,0.99000000000000021,6400,10000,14950,4950,null,0,645036,2.99,14950]
[645041,645,"DENNIS YARMOUTH              ",41,"BREWSTER                     ",7,8,13.15,5.15,39336,44336,72730,28394,null,0,645041,13.15,72730]
[645096,645,"DENNIS YARMOUTH              ",96,"FALMOUTH                     ",0.41,1,1,0,2050,5000,5000,0,null,0,645096,1,5000]
[645172,645,"DENNIS YARMOUTH              ",172,"MASHPEE                      ",2.2199999999999998,6,5.4,-0.59999999999999964,11100,38000,28928,-9072,null,0,645172,5.4,28928]
[645224,645,"DENNIS YARMOUTH              ",224,"ORLEANS                      ",1,0,1,1,5000,0,5000,5000,null,0,645224,1,5000]
[645239,645,"DENNIS YARMOUTH              ",239,"PLYMOUTH                     ",0.3,0,0,0,1500,0,0,0,null,0,645239]
[645261,645,"DENNIS YARMOUTH              ",261,"SANDWICH                     ",2.11,0,1,1,10550,0,5000,5000,null,0,645261,1,5000]
[645300,645,"DENNIS YARMOUTH              ",300,"TRURO                        ",0.7,1,1,0,3500,21000,36743,15743,null,0,645300,1,36743]
[645310,645,"DENNIS YARMOUTH              ",310,"WAREHAM                      ",null,1,1.6400000000000001,0.64000000000000012,null,9000,11619,2619,null,0,645310,1.6400000000000001,11619]
[645660,645,"DENNIS YARMOUTH              ",660,"NAUSET                       ",4.3,3,3,0,46204,35761,50396,14635,null,0,645660,3,50396]
[645712,645,"DENNIS YARMOUTH              ",712,"MONOMOY",25.729999999999997,29,35,6,171374,191979,227366,35387,null,0,645712,35,227366]
[650095,650,"DIGHTON REHOBOTH",95,"FALL RIVER                   ",0,1,1,0,0,5000,5000,0,null,0,650095,1,5000]
[650293,650,"DIGHTON REHOBOTH",293,"TAUNTON                      ",0,5,4.3100000000000005,-0.6899999999999995,0,25000,21550,-3450,null,0,650293,4.3100000000000005,21550]
[650810,650,"DIGHTON REHOBOTH",810,"BRISTOL PLYMOUTH             ",0,3,2,-1,0,19000,10000,-9000,null,0,650810,2,10000]
[650825,650,"DIGHTON REHOBOTH",825,"GREATER NEW BEDFORD          ",0,2,2,0,0,10000,10000,0,null,0,650825,2,10000]
[650878,650,"DIGHTON REHOBOTH",878,"TRI COUNTY                   ",0,1,0.69,-0.31000000000000005,0,5000,3450,-1550,null,0,650878,0.69,3450]
[658017,658,"DUDLEY CHARLTON              ",17,"AUBURN                       ",3,2,2,0,24424,10000,10000,0,null,0,658017,2,10000]
[658077,658,"DUDLEY CHARLTON              ",77,"DOUGLAS                      ",null,1,1,0,null,5000,5000,0,null,0,658077,1,5000]
[658151,658,"DUDLEY CHARLTON              ",151,"LEICESTER                    ",null,1,1,0,null,9000,8316,-684,null,0,658151,1,8316]
[658186,658,"DUDLEY CHARLTON              ",186,"MILLBURY                     ",0.18,0,0,0,900,0,0,0,null,0,658186]
[658214,658,"DUDLEY CHARLTON              ",214,"NORTHBRIDGE                  ",1.55,0,0,0,7750,0,0,0,null,0,658214]
[658215,658,"DUDLEY CHARLTON              ",215,"NORTH BROOKFIELD             ",1,1,1,0,5000,5000,5000,0,null,0,658215,1,5000]
[658226,658,"DUDLEY CHARLTON              ",226,"OXFORD                       ",22.630000000000003,23,21.25,-1.75,122815,120586,114477,-6109,null,0,658226,21.25,114477]
[658271,{"$f":"TRUNC(A1574,-3)/1000","v":658},{"$f":"VLOOKUP(B1574,code437,2)","v":"DUDLEY CHARLTON              "},{"$f":"A1574-B1574*1000","v":271},"SHREWSBURY                   ",null,null,1,1,null,null,5000,5000,null,0,658271,1,5000]
[658277,658,"DUDLEY CHARLTON              ",277,"SOUTHBRIDGE                  ",61.499999999999993,71,69.7,-1.2999999999999972,354830,411440,408594,-2846,null,0,658277,69.7,408594]
[658304,658,"DUDLEY CHARLTON              ",304,"UXBRIDGE                     ",null,1,1,0,null,5000,5000,0,null,0,658304,1,5000]
[658316,658,"DUDLEY CHARLTON              ",316,"WEBSTER                      ",37.090000000000003,36,34,-2,192631,197795,175855,-21940,null,0,658316,34,175855]
[658348,658,"DUDLEY CHARLTON              ",348,"WORCESTER                    ",4,5,8,3,20000,25000,46374,21374,null,0,658348,8,46374]
[658710,658,"DUDLEY CHARLTON              ",710,"MENDON UPTON                 ",null,1,1,0,null,5000,5000,0,null,0,658710,1,5000]
[658767,658,"DUDLEY CHARLTON              ",767,"SPENCER EAST BROOKFIELD      ",3.5,2,1.5899999999999999,-0.41000000000000014,23726,14000,11225,-2775,null,0,658767,1.5899999999999999,11225]
[658770,658,"DUDLEY CHARLTON              ",770,"TANTASQUA                    ",1,3,1,-2,8840,15000,5000,-10000,null,0,658770,1,5000]
[658778,658,"DUDLEY CHARLTON              ",778,"QUABOAG",1,1,1,0,5000,5000,5000,0,null,0,658778,1,5000]
[660020,660,"NAUSET                       ",20,"BARNSTABLE                   ",13.35,19,18.119999999999997,-0.88000000000000256,71948,118407,113020,-5387,null,0,660020,18.119999999999997,113020]
[660036,660,"NAUSET                       ",36,"BOURNE                       ",1,2,2,0,6710,11710,13071,1361,null,0,660036,2,13071]
[660242,660,"NAUSET                       ",242,"PROVINCETOWN                 ",7,9,9,0,41545,51545,49563,-1982,null,0,660242,9,49563]
[660261,660,"NAUSET                       ",261,"SANDWICH                     ",2,5,6,1,10877,25000,30000,5000,null,0,660261,6,30000]
[660300,660,"NAUSET                       ",300,"TRURO                        ",9.51,2,2,0,51734,10000,10000,0,null,0,660300,2,10000]
[660645,660,"NAUSET                       ",645,"DENNIS YARMOUTH              ",84.63000000000001,93,89.42,-3.5799999999999983,526771,573113,548779,-24334,null,0,660645,89.42,548779]
[660712,660,"NAUSET                       ",712,"MONOMOY",148.77000000000001,149,153,4,842369,853093,846645,-6448,null,0,660712,153,846645]
[662150,662,"FARMINGTON RIVER",150,"LEE                          ",5,2,2,0,25000,10000,10000,0,null,0,662150,2,10000]
[662635,662,"FARMINGTON RIVER",635,"CENTRAL BERKSHIRE            ",2,4,4,0,14645,20000,20000,0,null,0,662635,4,20000]
[662672,662,"FARMINGTON RIVER",672,"GATEWAY                      ",1,1,1,0,5000,5000,5000,0,null,0,662672,1,5000]
[662765,662,"FARMINGTON RIVER",765,"SOUTHERN BERKSHIRE           ",3,3,3,0,15000,22000,20075,-1925,null,0,662765,3,20075]
[662766,662,"FARMINGTON RIVER",766,"SOUTHWICK TOLLAND",5,5,5,0,28719,28719,27005,-1714,null,0,662766,5,27005]
[665003,665,"FREETOWN LAKEVILLE           ",3,"ACUSHNET                     ",1.28,2,2,0,13452,10000,10000,0,null,0,665003,2,10000]
[665036,665,"FREETOWN LAKEVILLE           ",36,"BOURNE                       ",1,0,0,0,5225,0,0,0,null,0,665036]
[665044,665,"FREETOWN LAKEVILLE           ",44,"BROCKTON                     ",null,2,2,0,null,10000,10000,0,null,0,665044,2,10000]
[665095,665,"FREETOWN LAKEVILLE           ",95,"FALL RIVER                   ",1,1,1.8,0.8,5000,5000,9000,4000,null,0,665095,1.8,9000]
[665182,665,"FREETOWN LAKEVILLE           ",182,"MIDDLEBOROUGH                ",3,5,6.42,1.42,15000,25000,32100,7100,null,0,665182,6.42,32100]
[665201,665,"FREETOWN LAKEVILLE           ",201,"NEW BEDFORD                  ",8,13,17.07,4.07,40000,65000,91141,26141,null,0,665201,17.07,91141]
[665292,665,"FREETOWN LAKEVILLE           ",292,"SWANSEA                      ",2,2,2,0,10000,10000,11622,1622,null,0,665292,2,11622]
[665293,665,"FREETOWN LAKEVILLE           ",293,"TAUNTON                      ",4,6,6,0,24525,30000,30000,0,null,0,665293,6,30000]
[665310,665,"FREETOWN LAKEVILLE           ",310,"WAREHAM                      ",null,1,1.8,0.8,null,5000,9000,4000,null,0,665310,1.8,9000]
[665740,{"$f":"TRUNC(A1604,-3)/1000","v":665},{"$f":"VLOOKUP(B1604,code437,2)","v":"FREETOWN LAKEVILLE           "},{"$f":"A1604-B1604*1000","v":740},"OLD ROCHESTER                ",null,null,0.88,0.88,null,null,4400,4400,null,0,665740,0.88,4400]
[665763,665,"FREETOWN LAKEVILLE           ",763,"SOMERSET BERKLEY",1,1,1,0,5000,5000,5000,0,null,{"$f":"P1605-A1605","v":0},665763,1,5000]
[670086,670,"FRONTIER                     ",86,"EASTHAMPTON                  ",1.44,1,{"$f":"Q1606","v":1},{"$f":"H1606-G1606","v":0},17741,5000,{"$f":"R1606","v":5000},{"$f":"L1606-K1606","v":0},null,0,670086,1,5000]
[670091,670,"FRONTIER                     ",91,"ERVING                       ",1.59,2,3,1,7950,10000,15000,5000,null,0,670091,3,15000]
[670114,670,"FRONTIER                     ",114,"GREENFIELD                   ",46.73,45,47.78,2.7800000000000011,387244,351315,399955,48640,null,0,670114,47.78,399955]
[670117,670,"FRONTIER                     ",117,"HADLEY                       ",2,2,1,-1,17441,18200,5000,-13200,null,0,670117,1,5000]
[670127,670,"FRONTIER                     ",127,"HATFIELD                     ",5,6,6.3,0.29999999999999982,66372,66472,57169,-9303,null,0,670127,6.3,57169]
[670137,670,"FRONTIER                     ",137,"HOLYOKE                      ",1,1,1,0,5000,5000,5000,0,null,0,670137,1,5000]
[670210,670,"FRONTIER                     ",210,"NORTHAMPTON                  ",4,5,5,0,20000,25000,25000,0,null,0,670210,5,25000]
[670281,{"$f":"TRUNC(A1613,-3)/1000","v":670},{"$f":"VLOOKUP(B1613,code437,2)","v":"FRONTIER                     "},{"$f":"A1613-B1613*1000","v":281},"SPRINGFIELD                  ",null,null,0.46,0.46,null,null,2300,2300,null,0,670281,0.46,2300]
[670309,670,"FRONTIER                     ",309,"WARE                         ",1,2,2,0,5000,10000,10000,0,null,0,670309,2,10000]
[670325,{"$f":"TRUNC(A1615,-3)/1000","v":670},{"$f":"VLOOKUP(B1615,code437,2)","v":"FRONTIER                     "},{"$f":"A1615-B1615*1000","v":325},"WESTFIELD                    ",null,null,0.56999999999999995,0.56999999999999995,null,null,21035,21035,null,0,670325,0.56999999999999995,21035]
[670605,670,"FRONTIER                     ",605,"AMHERST PELHAM               ",10.72,7,8,1,71189,40560,58687,18127,null,0,670605,8,58687]
[670615,{"$f":"TRUNC(A1617,-3)/1000","v":670},{"$f":"VLOOKUP(B1617,code437,2)","v":"FRONTIER                     "},{"$f":"A1617-B1617*1000","v":615},"ATHOL ROYALSTON              ",null,null,0.3,0.3,null,null,1500,1500,null,0,670615,0.3,1500]
[670674,670,"FRONTIER                     ",674,"GILL MONTAGUE                ",28.11,36,33.53,-2.4699999999999989,157396,213846,286619,72773,null,0,670674,33.53,286619]
[670683,670,"FRONTIER                     ",683,"HAMPSHIRE                    ",3,2,1.67,-0.33000000000000007,22428,14854,10394,-4460,null,0,670683,1.67,10394]
[670717,670,"FRONTIER                     ",717,"MOHAWK TRAIL                 ",8,11,11.56,0.5600000000000005,75173,87913,113513,25600,null,0,670717,11.56,113513]
[670750,670,"FRONTIER                     ",750,"PIONEER                      ",6,4,4,0,33673,20000,20000,0,null,0,670750,4,20000]
[670755,670,"FRONTIER                     ",755,"RALPH C MAHAR                ",2,2,2,0,14844,10000,10000,0,null,0,670755,2,10000]
[672086,672,"GATEWAY                      ",86,"EASTHAMPTON                  ",1,1,1,0,5000,5000,5000,0,null,0,672086,1,5000]
[672137,672,"GATEWAY                      ",137,"HOLYOKE                      ",1,1,0,-1,5000,5000,0,-5000,null,0,672137]
[672227,672,"GATEWAY                      ",227,"PALMER                       ",null,1,1,0,null,5000,5000,0,null,0,672227,1,5000]
[672281,672,"GATEWAY                      ",281,"SPRINGFIELD                  ",1,2,3.4699999999999998,1.4699999999999998,5000,14000,26340,12340,null,0,672281,3.4699999999999998,26340]
[672325,672,"GATEWAY                      ",325,"WESTFIELD                    ",14,19,22.33,3.3299999999999983,70000,99000,111650,12650,null,0,672325,22.33,111650]
[672327,672,"GATEWAY                      ",327,"WESTHAMPTON                  ",1,1,1,0,18649,18649,16027,-2622,null,0,672327,1,16027]
[672349,672,"GATEWAY                      ",349,"WORTHINGTON                  ",null,11,10,-1,null,62000,107784,45784,null,0,672349,10,107784]
[672635,672,"GATEWAY                      ",635,"CENTRAL BERKSHIRE            ",3,3,3,0,16356,16356,17552,1196,null,0,672635,3,17552]
[672662,672,"GATEWAY                      ",662,"FARMINGTON RIVER",1,2,2,0,5000,10000,10000,0,null,0,672662,2,10000]
[672683,672,"GATEWAY                      ",683,"HAMPSHIRE                    ",3,1,1,0,15794,5794,5000,-794,null,0,672683,1,5000]
[672766,672,"GATEWAY                      ",766,"SOUTHWICK TOLLAND",1,1,1,0,5000,9000,5000,-4000,null,0,672766,1,5000]
[673056,673,"GROTON DUNSTABLE             ",56,"CHELMSFORD                   ",1,1,0.87,-0.13,10981,5000,4350,-650,null,0,673056,0.87,4350]
[673153,673,"GROTON DUNSTABLE             ",153,"LEOMINSTER                   ",1,1,1,0,5000,5000,5000,0,null,0,673153,1,5000]
[673158,673,"GROTON DUNSTABLE             ",158,"LITTLETON                    ",1,1,1,0,5000,5000,5000,0,null,0,673158,1,5000]
[673162,673,"GROTON DUNSTABLE             ",162,"LUNENBURG                    ",2,1,1,0,10000,5000,5000,0,null,0,673162,1,5000]
[673181,673,"GROTON DUNSTABLE             ",181,"METHUEN                      ",1,1,1,0,5000,5000,5000,0,null,0,673181,1,5000]
[673301,673,"GROTON DUNSTABLE             ",301,"TYNGSBOROUGH                 ",2,2,2,0,10000,10000,10000,0,null,0,673301,2,10000]
[673352,673,"GROTON DUNSTABLE             ",352,"DEVENS",null,1,0,-1,null,5000,0,-5000,null,0,673352]
[673616,673,"GROTON DUNSTABLE             ",616,"AYER SHIRLEY",9,8,8,0,49629,44000,45273,1273,null,0,673616,8,45273]
[673735,673,"GROTON DUNSTABLE             ",735,"NORTH MIDDLESEX              ",38,30,30,0,200620,155169,168369,13200,null,0,673735,30,168369]
[674008,674,"GILL MONTAGUE                ",8,"AMHERST                      ",0.68,0,0,0,3400,0,0,0,null,0,674008]
[674074,{"$f":"TRUNC(A1644,-3)/1000","v":674},{"$f":"VLOOKUP(B1644,code437,2)","v":"GILL MONTAGUE                "},{"$f":"A1644-B1644*1000","v":74},"DEERFIELD                    ",null,null,1.03,1.03,null,null,5150,5150,null,0,674074,1.03,5150]
[674091,674,"GILL MONTAGUE                ",91,"ERVING                       ",9.1000000000000014,4,4,0,57595,27337,34426,7089,null,0,674091,4,34426]
[674097,{"$f":"TRUNC(A1646,-3)/1000","v":674},{"$f":"VLOOKUP(B1646,code437,2)","v":"GILL MONTAGUE                "},{"$f":"A1646-B1646*1000","v":97},"FITCHBURG                    ",null,null,2,2,null,null,10000,10000,null,0,674097,2,10000]
[674114,674,"GILL MONTAGUE                ",114,"GREENFIELD                   ",65.540000000000006,58,60.870000000000005,2.8700000000000045,508272,423861,526510,102649,null,0,674114,60.870000000000005,526510]
[674154,674,"GILL MONTAGUE                ",154,"LEVERETT                     ",2,2,2,0,10000,10000,10000,0,null,0,674154,2,10000]
[674223,674,"GILL MONTAGUE                ",223,"ORANGE                       ",null,1,1,0,null,12000,12746,746,null,0,674223,1,12746]
[674289,674,"GILL MONTAGUE                ",289,"SUNDERLAND                   ",3,3,3,0,15000,15000,15000,0,null,0,674289,3,15000]
[674605,674,"GILL MONTAGUE                ",605,"AMHERST PELHAM               ",1,1,1,0,5000,5000,5000,0,null,0,674605,1,5000]
[674615,674,"GILL MONTAGUE                ",615,"ATHOL ROYALSTON              ",2,1,1.67,0.66999999999999993,10000,5000,8350,3350,null,0,674615,1.67,8350]
[674670,674,"GILL MONTAGUE                ",670,"FRONTIER                     ",4,4,3.45,-0.54999999999999982,20000,20000,17250,-2750,null,0,674670,3.45,17250]
[674717,674,"GILL MONTAGUE                ",717,"MOHAWK TRAIL                 ",3.54,0,0.79,0.79,26027,0,3950,3950,null,0,674717,0.79,3950]
[674728,674,"GILL MONTAGUE                ",728,"NEW SALEM WENDELL            ",0.18,1,1,0,900,5000,5000,0,null,0,674728,1,5000]
[674750,674,"GILL MONTAGUE                ",750,"PIONEER                      ",12.850000000000001,8,11,3,149616,123812,139716,15904,null,0,674750,11,139716]
[674755,674,"GILL MONTAGUE                ",755,"RALPH C MAHAR                ",2.15,2,2,0,13231,10000,10000,0,null,0,674755,2,10000]
[675030,675,"HAMILTON WENHAM              ",30,"BEVERLY                      ",15,13,12,-1,78275,65000,60000,-5000,null,0,675030,12,60000]
[675071,675,"HAMILTON WENHAM              ",71,"DANVERS                      ",8,10,10,0,40000,50000,50000,0,null,0,675071,10,50000]
[675105,675,"HAMILTON WENHAM              ",105,"GEORGETOWN                   ",3,3,3,0,16180,16180,16137,-43,null,0,675105,3,16137]
[675107,675,"HAMILTON WENHAM              ",107,"GLOUCESTER                   ",15,12,12,0,76180,61180,61137,-43,null,0,675107,12,61137]
[675144,675,"HAMILTON WENHAM              ",144,"IPSWICH                      ",4.75,4,4,0,24902,21152,21124,-28,null,0,675144,4,21124]
[675163,675,"HAMILTON WENHAM              ",163,"LYNN                         ",5,5,5,0,31122,31122,30831,-291,null,0,675163,5,30831]
[675229,675,"HAMILTON WENHAM              ",229,"PEABODY                      ",23,19,19,0,116309,100309,98261,-2048,null,0,675229,19,98261]
[675252,675,"HAMILTON WENHAM              ",252,"ROCKPORT                     ",3.65,5,5,0,19103,25000,25000,0,null,0,675252,5,25000]
[675258,675,"HAMILTON WENHAM              ",258,"SALEM                        ",12.3,12,12,0,61500,64000,60980,-3020,null,0,675258,12,60980]
[675262,675,"HAMILTON WENHAM              ",262,"SAUGUS                       ",1,1,1,0,5000,5000,5000,0,null,0,675262,1,5000]
[675698,675,"HAMILTON WENHAM              ",698,"MANCHESTER ESSEX",1,0,1,1,5000,0,5000,5000,null,0,675698,1,5000]
[675773,675,"HAMILTON WENHAM              ",773,"TRITON                       ",6.25,6,6,0,33405,32155,35254,3099,null,{"$f":"P1669-A1669","v":0},675773,6,35254]
[680005,680,"HAMPDEN WILBRAHAM            ",5,"AGAWAM                       ",2,2,{"$f":"Q1670","v":2},{"$f":"H1670-G1670","v":0},10000,10000,{"$f":"R1670","v":10000},{"$f":"L1670-K1670","v":0},null,0,680005,2,10000]
[680087,680,"HAMPDEN WILBRAHAM            ",87,"EAST LONGMEADOW              ",2,3,3,0,10000,22000,46266,24266,null,0,680087,3,46266]
[680111,680,"HAMPDEN WILBRAHAM            ",111,"GRANBY                       ",null,1,1,0,null,5000,5000,0,null,0,680111,1,5000]
[680161,680,"HAMPDEN WILBRAHAM            ",161,"LUDLOW                       ",2,1,1,0,10000,5000,5000,0,null,0,680161,1,5000]
[680191,680,"HAMPDEN WILBRAHAM            ",191,"MONSON                       ",5,8,8,0,25000,40000,40000,0,null,0,680191,8,40000]
[680227,680,"HAMPDEN WILBRAHAM            ",227,"PALMER                       ",2,2,2,0,11808,11808,13684,1876,null,0,680227,2,13684]
[680278,680,"HAMPDEN WILBRAHAM            ",278,"SOUTH HADLEY                 ",1,0,0,0,5000,0,0,0,null,0,680278]
[680281,680,"HAMPDEN WILBRAHAM            ",281,"SPRINGFIELD                  ",105.47,96,94.35,-1.6500000000000057,592860,545567,583122,37555,null,0,680281,94.35,583122]
[683086,683,"HAMPSHIRE                    ",86,"EASTHAMPTON                  ",51.29,43,43.55,0.54999999999999716,298754,265453,266255,802,null,0,683086,43.55,266255]
[683137,683,"HAMPSHIRE                    ",137,"HOLYOKE                      ",30.439999999999998,30,29.11,-0.89000000000000057,270944,223282,278581,55299,null,0,683137,29.11,278581]
[683161,{"$f":"TRUNC(A1680,-3)/1000","v":683},{"$f":"VLOOKUP(B1680,code437,2)","v":"HAMPSHIRE                    "},{"$f":"A1680-B1680*1000","v":161},"LUDLOW                       ",null,null,0.37,0.37,null,null,1850,1850,null,0,683161,0.37,1850]
[683210,683,"HAMPSHIRE                    ",210,"NORTHAMPTON                  ",6.23,6,5.63,-0.37000000000000011,84082,73402,112503,39101,null,0,683210,5.63,112503]
[683278,683,"HAMPSHIRE                    ",278,"SOUTH HADLEY                 ",null,1,1,0,null,5000,5000,0,null,0,683278,1,5000]
[683281,683,"HAMPSHIRE                    ",281,"SPRINGFIELD                  ",null,1,1,0,null,5000,5000,0,null,0,683281,1,5000]
[683325,683,"HAMPSHIRE                    ",325,"WESTFIELD                    ",5,6,6.24,0.24000000000000021,31355,43355,47578,4223,null,0,683325,6.24,47578]
[683332,683,"HAMPSHIRE                    ",332,"WEST SPRINGFIELD             ",0.53,0,1.45,1.45,2650,0,7250,7250,null,0,683332,1.45,7250]
[683635,683,"HAMPSHIRE                    ",635,"CENTRAL BERKSHIRE            ",null,3,3,0,null,15000,15000,0,null,0,683635,3,15000]
[683670,683,"HAMPSHIRE                    ",670,"FRONTIER                     ",null,1,1,0,null,5000,5000,0,null,0,683670,1,5000]
[683672,683,"HAMPSHIRE                    ",672,"GATEWAY                      ",12.82,4,4,0,65673,20000,20000,0,null,0,683672,4,20000]
[683717,683,"HAMPSHIRE                    ",717,"MOHAWK TRAIL                 ",1,1,1,0,5000,5000,5000,0,null,0,683717,1,5000]
[683778,683,"HAMPSHIRE                    ",778,"QUABOAG",0.48,0,0,0,2400,0,0,0,null,0,683778]
[685114,685,"HAWLEMONT                    ",114,"GREENFIELD                   ",2,0,0.46,0.46,10000,0,2300,2300,null,0,685114,0.46,2300]
[685190,685,"HAWLEMONT                    ",190,"MONROE                       ",0.37,1,0.24,-0.76,1850,5000,1200,-3800,null,0,685190,0.24,1200]
[685209,685,"HAWLEMONT                    ",209,"NORTH ADAMS                  ",0.16,0,0,0,800,0,0,0,null,0,685209]
[685253,685,"HAWLEMONT                    ",253,"ROWE                         ",1,1,1,0,11970,11970,11957,-13,null,0,685253,1,11957]
[685674,685,"HAWLEMONT                    ",674,"GILL MONTAGUE                ",2,0,0.66,0.66,10000,0,3300,3300,null,0,685674,0.66,3300]
[685717,685,"HAWLEMONT                    ",717,"MOHAWK TRAIL                 ",8.26,13,13.39,0.39000000000000057,56732,79626,89007,9381,null,0,685717,13.39,89007]
[698030,698,"MANCHESTER ESSEX",30,"BEVERLY                      ",18,17,17,0,90000,85000,85000,0,null,0,698030,17,85000]
[698071,698,"MANCHESTER ESSEX",71,"DANVERS                      ",2,4,4,0,10000,20000,20000,0,null,0,698071,4,20000]
[698107,698,"MANCHESTER ESSEX",107,"GLOUCESTER                   ",47,43,44,1,239525,223097,322297,99200,null,0,698107,44,322297]
[698144,698,"MANCHESTER ESSEX",144,"IPSWICH                      ",null,1,1,0,null,5000,5000,0,null,0,698144,1,5000]
[698229,698,"MANCHESTER ESSEX",229,"PEABODY                      ",1,2,2,0,5000,10000,10000,0,null,0,698229,2,10000]
[698248,698,"MANCHESTER ESSEX",248,"REVERE                       ",1,0,0,0,5000,0,0,0,null,0,698248]
[698252,698,"MANCHESTER ESSEX",252,"ROCKPORT                     ",1,1,1,0,5000,5000,5000,0,null,0,698252,1,5000]
[698258,698,"MANCHESTER ESSEX",258,"SALEM                        ",1,2,2,0,5000,10000,10000,0,null,0,698258,2,10000]
[710025,710,"MENDON UPTON                 ",25,"BELLINGHAM                   ",6.23,5,6.73,1.7300000000000004,32518,25000,34793,9793,null,0,710025,6.73,34793]
[710077,710,"MENDON UPTON                 ",77,"DOUGLAS                      ",2,3,3,0,10000,15000,15000,0,null,0,710077,3,15000]
[710088,710,"MENDON UPTON                 ",88,"EASTON                       ",null,1,1,0,null,5000,5000,0,null,0,710088,1,5000]
[710100,710,"MENDON UPTON                 ",100,"FRAMINGHAM                   ",1,1,1,0,8664,8664,8716,52,null,0,710100,1,8716]
[710110,710,"MENDON UPTON                 ",110,"GRAFTON                      ",6,9,9.75,0.75,30000,45000,48750,3750,null,0,710110,9.75,48750]
[710138,710,"MENDON UPTON                 ",138,"HOPEDALE                     ",5.96,3,3,0,41732,15000,15000,0,null,0,710138,3,15000]
[710139,710,"MENDON UPTON                 ",139,"HOPKINTON                    ",5,5,5,0,25000,25000,25000,0,null,0,710139,5,25000]
[710185,710,"MENDON UPTON                 ",185,"MILFORD                      ",9.86,18,15.100000000000001,-2.8999999999999986,49300,97000,79216,-17784,null,0,710185,15.100000000000001,79216]
[710198,710,"MENDON UPTON                 ",198,"NATICK                       ",1,1,1,0,5000,5000,5000,0,null,0,710198,1,5000]
[710214,710,"MENDON UPTON                 ",214,"NORTHBRIDGE                  ",28.44,32,30.169999999999998,-1.8300000000000018,149717,171517,159916,-11601,null,0,710214,30.169999999999998,159916]
[710226,710,"MENDON UPTON                 ",226,"OXFORD                       ",3,2,2,0,15000,10000,10000,0,null,0,710226,2,10000]
[710304,710,"MENDON UPTON                 ",304,"UXBRIDGE                     ",48.7,50,46.510000000000012,-3.4899999999999878,304155,317991,290228,-27763,null,0,710304,46.510000000000012,290228]
[710316,710,"MENDON UPTON                 ",316,"WEBSTER                      ",1,1,1,0,12480,12480,12588,108,null,0,710316,1,12588]
[710321,710,"MENDON UPTON                 ",321,"WESTBOROUGH                  ",0.3,0,0,0,1500,0,0,0,null,0,710321]
[710348,710,"MENDON UPTON                 ",348,"WORCESTER                    ",1,1,1,0,5000,5000,5000,0,null,0,710348,1,5000]
[710622,710,"MENDON UPTON                 ",622,"BLACKSTONE MILLVILLE         ",16.770000000000003,17,16,-1,90286,93000,81558,-11442,null,0,710622,16,81558]
[710658,710,"MENDON UPTON                 ",658,"DUDLEY CHARLTON              ",2,1,1,0,29603,24603,14850,-9753,null,0,710658,1,14850]
[710775,710,"MENDON UPTON                 ",775,"WACHUSETT                    ",1,0,0,0,5000,0,0,0,null,0,710775]
[712020,712,"MONOMOY",20,"BARNSTABLE                   ",24.11,21,23.470000000000002,2.4700000000000024,126241,118691,129843,11152,null,0,712020,23.470000000000002,129843]
[712036,712,"MONOMOY",36,"BOURNE                       ",null,2,0,-2,null,10000,0,-10000,null,0,712036]
[712041,712,"MONOMOY",41,"BREWSTER                     ",12.8,16,15.02,-0.98000000000000043,99937,99628,89857,-9771,null,0,712041,15.02,89857]
[712085,712,"MONOMOY",85,"EASTHAM                      ",1.1400000000000001,0,0,0,11124,0,0,0,null,0,712085]
[712096,712,"MONOMOY",96,"FALMOUTH                     ",1,1,1,0,5000,5000,5000,0,null,0,712096,1,5000]
[712172,712,"MONOMOY",172,"MASHPEE                      ",0.62,0,0,0,3458,0,0,0,null,0,712172]
[712224,712,"MONOMOY",224,"ORLEANS                      ",1,1,1,0,5000,5000,5000,0,null,0,712224,1,5000]
[712242,712,"MONOMOY",242,"PROVINCETOWN                 ",null,1,1,0,null,5000,5000,0,null,0,712242,1,5000]
[712261,712,"MONOMOY",261,"SANDWICH                     ",7,3,5,2,48131,21900,29320,7420,null,0,712261,5,29320]
[712645,712,"MONOMOY",645,"DENNIS YARMOUTH              ",205.57999999999998,197,195.63999999999996,-1.3600000000000421,1255722,1090203,1139650,49447,null,0,712645,195.63999999999996,1139650]
[712660,712,"MONOMOY",660,"NAUSET                       ",18.38,16,14.99,-1.0099999999999998,128723,111932,107854,-4078,null,{"$f":"P1733-A1733","v":0},712660,14.99,107854]
[715063,715,"MOUNT GREYLOCK               ",63,"CLARKSBURG                   ",3,6,{"$f":"Q1734","v":5.22},{"$f":"H1734-G1734","v":-0.78000000000000025},24781,39781,{"$f":"R1734","v":31096},{"$f":"L1734-K1734","v":-8685},null,0,715063,5.22,31096]
[715209,715,"MOUNT GREYLOCK               ",209,"NORTH ADAMS                  ",26.560000000000002,25,24.46,-0.53999999999999915,144880,139203,137543,-1660,null,0,715209,24.46,137543]
[715236,715,"MOUNT GREYLOCK               ",236,"PITTSFIELD                   ",22.38,20,20,0,129570,107946,108315,369,null,0,715236,20,108315]
[715249,715,"MOUNT GREYLOCK               ",249,"RICHMOND                     ",1,1,1,0,5000,5000,5000,0,null,0,715249,1,5000]
[715603,715,"MOUNT GREYLOCK               ",603,"ADAMS CHESHIRE               ",3.49,6,5.96,-4.0000000000000036E-2,22991,34592,31704,-2888,null,0,715603,5.96,31704]
[715635,715,"MOUNT GREYLOCK               ",635,"CENTRAL BERKSHIRE            ",5,6,6,0,25000,30000,30000,0,null,0,715635,6,30000]
[717008,717,"MOHAWK TRAIL                 ",8,"AMHERST                      ",0.48,1,0.14000000000000001,-0.86,2400,5000,700,-4300,null,0,717008,0.14000000000000001,700]
[717068,717,"MOHAWK TRAIL                 ",68,"CONWAY                       ",3,3,3,0,32966,30605,42507,11902,null,0,717068,3,42507]
[717074,717,"MOHAWK TRAIL                 ",74,"DEERFIELD                    ",3,2,3,1,15000,14000,18607,4607,null,0,717074,3,18607]
[717091,717,"MOHAWK TRAIL                 ",91,"ERVING                       ",1,0,0,0,5000,0,0,0,null,0,717091]
[717114,717,"MOHAWK TRAIL                 ",114,"GREENFIELD                   ",36.239999999999995,38,41.29,3.2899999999999991,276944,250366,374458,124092,null,0,717114,41.29,374458]
[717154,717,"MOHAWK TRAIL                 ",154,"LEVERETT                     ",null,1,1,0,null,5000,5000,0,null,0,717154,1,5000]
[717161,717,"MOHAWK TRAIL                 ",161,"LUDLOW                       ",0.18,0,0,0,900,0,0,0,null,0,717161]
[717210,{"$f":"TRUNC(A1747,-3)/1000","v":717},{"$f":"VLOOKUP(B1747,code437,2)","v":"MOHAWK TRAIL                 "},{"$f":"A1747-B1747*1000","v":210},"NORTHAMPTON                  ",null,null,2,2,null,null,10000,10000,null,0,717210,2,10000]
[717236,717,"MOHAWK TRAIL                 ",236,"PITTSFIELD                   ",0.17,0,0,0,850,0,0,0,null,0,717236]
[717340,717,"MOHAWK TRAIL                 ",340,"WILLIAMSBURG                 ",0.44,0,0,0,4542,0,0,0,null,0,717340]
[717349,717,"MOHAWK TRAIL                 ",349,"WORTHINGTON                  ",null,2,2,0,null,10000,10000,0,null,0,717349,2,10000]
[717603,717,"MOHAWK TRAIL                 ",603,"ADAMS CHESHIRE               ",2,2,2,0,13099,13099,15962,2863,null,0,717603,2,15962]
[717635,717,"MOHAWK TRAIL                 ",635,"CENTRAL BERKSHIRE            ",3,8,8,0,15000,40000,41930,1930,null,0,717635,8,41930]
[717670,717,"MOHAWK TRAIL                 ",670,"FRONTIER                     ",2,2,2,0,15311,15311,10000,-5311,null,0,717670,2,10000]
[717672,717,"MOHAWK TRAIL                 ",672,"GATEWAY                      ",1,1,2,1,5000,5000,10657,5657,null,0,717672,2,10657]
[717674,717,"MOHAWK TRAIL                 ",674,"GILL MONTAGUE                ",7.97,7,7,0,45078,35000,35000,0,null,0,717674,7,35000]
[717683,717,"MOHAWK TRAIL                 ",683,"HAMPSHIRE                    ",2,0,0,0,10000,0,0,0,null,0,717683]
[717685,717,"MOHAWK TRAIL                 ",685,"HAWLEMONT                    ",8.51,0,12.91,12.91,43383,0,67122,67122,null,0,717685,12.91,67122]
[717750,717,"MOHAWK TRAIL                 ",750,"PIONEER                      ",1,3,2.98,-2.0000000000000018E-2,5000,15000,18016,3016,null,0,717750,2.98,18016]
[717755,717,"MOHAWK TRAIL                 ",755,"RALPH C MAHAR                ",2,1,1,0,10000,5000,5000,0,null,0,717755,1,5000]
[720097,720,"NARRAGANSETT                 ",97,"FITCHBURG                    ",null,1,1,0,null,5000,5000,0,null,0,720097,1,5000]
[720103,720,"NARRAGANSETT                 ",103,"GARDNER                      ",35.99,54,55.07,1.0700000000000003,198732,295622,343945,48323,null,0,720103,55.07,343945]
[720153,720,"NARRAGANSETT                 ",153,"LEOMINSTER                   ",1,2,2.12,0.12000000000000011,10326,14000,13903,-97,null,0,720153,2.12,13903]
[720223,720,"NARRAGANSETT                 ",223,"ORANGE                       ",0.05,4,4,0,250,20000,20000,0,null,0,720223,4,20000]
[720343,720,"NARRAGANSETT                 ",343,"WINCHENDON                   ",36.11,49,46.09,-2.9099999999999966,210145,288087,286116,-1971,null,0,720343,46.09,286116]
[720348,720,"NARRAGANSETT                 ",348,"WORCESTER                    ",0.73,0,0,0,5832,0,0,0,null,0,720348]
[720610,720,"NARRAGANSETT                 ",610,"ASHBURNHAM WESTMINSTER       ",2,2,2,0,10000,10000,10000,0,null,0,720610,2,10000]
[720615,720,"NARRAGANSETT                 ",615,"ATHOL ROYALSTON              ",55.079999999999991,53,53.800000000000004,0.80000000000000426,316113,292522,281486,-11036,null,0,720615,53.800000000000004,281486]
[720753,720,"NARRAGANSETT                 ",753,"QUABBIN                      ",7.25,7,6.88,-0.12000000000000011,37714,35000,34400,-600,null,0,720753,6.88,34400]
[720755,720,"NARRAGANSETT                 ",755,"RALPH C MAHAR                ",5,5,5,0,29051,29051,36523,7472,null,0,720755,5,36523]
[720767,720,"NARRAGANSETT                 ",767,"SPENCER EAST BROOKFIELD      ",1,2,2,0,5000,10000,10000,0,null,0,720767,2,10000]
[720775,720,"NARRAGANSETT                 ",775,"WACHUSETT                    ",null,1,1,0,null,5000,5000,0,null,0,720775,1,5000]
[720832,720,"NARRAGANSETT                 ",832,"MONTACHUSETT                 ",6,4,6.7200000000000006,2.7200000000000006,39640,29138,43228,14090,null,0,720832,6.7200000000000006,43228]
[725056,725,"NASHOBA                      ",56,"CHELMSFORD                   ",2,2,2,0,12802,12802,12354,-448,null,0,725056,2,12354]
[725064,725,"NASHOBA                      ",64,"CLINTON                      ",51.55,48,46,-2,278736,251820,245829,-5991,null,0,725064,46,245829]
[725097,725,"NASHOBA                      ",97,"FITCHBURG                    ",7,3,4,1,41325,15000,20000,5000,null,0,725097,4,20000]
[725125,725,"NASHOBA                      ",125,"HARVARD                      ",3,1,1,0,17553,5000,5000,0,null,0,725125,1,5000]
[725141,725,"NASHOBA                      ",141,"HUDSON                       ",6.65,4,4,0,34172,20922,22329,1407,null,0,725141,4,22329]
[725153,725,"NASHOBA                      ",153,"LEOMINSTER                   ",57.4,49,48.37,-0.63000000000000256,295079,259404,254970,-4434,null,0,725153,48.37,254970]
[725158,725,"NASHOBA                      ",158,"LITTLETON                    ",1,1,1,0,10178,10178,13959,3781,null,0,725158,1,13959]
[725162,725,"NASHOBA                      ",162,"LUNENBURG                    ",6,4,4,0,31811,21811,21515,-296,null,0,725162,4,21515]
[725170,725,"NASHOBA                      ",170,"MARLBOROUGH                  ",1,1,1,0,5000,5000,5524,524,null,0,725170,1,5524]
[725174,725,"NASHOBA                      ",174,"MAYNARD                      ",2,0,0,0,10000,0,0,0,null,0,725174]
[725274,{"$f":"TRUNC(A1783,-3)/1000","v":725},{"$f":"VLOOKUP(B1783,code437,2)","v":"NASHOBA                      "},{"$f":"A1783-B1783*1000","v":274},"SOMERVILLE                   ",null,null,1,1,null,null,5000,5000,null,0,725274,1,5000]
[725322,725,"NASHOBA                      ",322,"WEST BOYLSTON                ",1,1,0,-1,5000,5000,0,-5000,null,0,725322]
[725348,725,"NASHOBA                      ",348,"WORCESTER                    ",1,1,1,0,5000,5000,5000,0,null,0,725348,1,5000]
[725610,725,"NASHOBA                      ",610,"ASHBURNHAM WESTMINSTER       ",1,1,1,0,5000,5000,5000,0,null,0,725610,1,5000]
[725616,725,"NASHOBA                      ",616,"AYER SHIRLEY",1,1,1,0,5000,5000,5000,0,null,0,725616,1,5000]
[725620,725,"NASHOBA                      ",620,"BERLIN BOYLSTON              ",18,15,15,0,90000,75000,75000,0,null,0,725620,15,75000]
[725720,725,"NASHOBA                      ",720,"NARRAGANSETT                 ",3,3,3,0,15000,19000,18674,-326,null,0,725720,3,18674]
[725775,725,"NASHOBA                      ",775,"WACHUSETT                    ",4,1,1,0,20000,5000,5000,0,null,0,725775,1,5000]
[728223,728,"NEW SALEM WENDELL            ",223,"ORANGE                       ",9.89,10,12.159999999999998,2.1599999999999984,51253,51803,69537,17734,null,0,728223,12.159999999999998,69537]
[728234,728,"NEW SALEM WENDELL            ",234,"PETERSHAM                    ",4,4,4,0,20000,20000,20000,0,null,0,728234,4,20000]
[728615,728,"NEW SALEM WENDELL            ",615,"ATHOL ROYALSTON              ",11,9,10,1,65516,45000,50000,5000,null,0,728615,10,50000]
[728720,728,"NEW SALEM WENDELL            ",720,"NARRAGANSETT                 ",1,0,0.8,0.8,5000,0,4000,4000,null,0,728720,0.8,4000]
[728750,728,"NEW SALEM WENDELL            ",750,"PIONEER                      ",0.51,0,0,0,2550,0,0,0,null,0,728750]
[735056,{"$f":"TRUNC(A1796,-3)/1000","v":735},{"$f":"VLOOKUP(B1796,code437,2)","v":"NORTH MIDDLESEX              "},{"$f":"A1796-B1796*1000","v":56},"CHELMSFORD                   ",null,null,0.45,0.45,null,null,2250,2250,null,0,735056,0.45,2250]
[735097,735,"NORTH MIDDLESEX              ",97,"FITCHBURG                    ",40.339999999999996,53,56.21,3.2100000000000009,227893,297932,327149,29217,null,{"$f":"P1797-A1797","v":0},735097,56.21,327149]
[735103,735,"NORTH MIDDLESEX              ",103,"GARDNER                      ",3.77,4,{"$f":"Q1798","v":4.4000000000000004},{"$f":"H1798-G1798","v":0.40000000000000036},18850,24000,{"$f":"R1798","v":22000},{"$f":"L1798-K1798","v":-2000},null,0,735103,4.4000000000000004,22000]
[735125,735,"NORTH MIDDLESEX              ",125,"HARVARD                      ",1,0,0,0,8761,0,0,0,null,0,735125]
[735153,735,"NORTH MIDDLESEX              ",153,"LEOMINSTER                   ",5.7,2,2,0,37845,10000,10000,0,null,0,735153,2,10000]
[735158,735,"NORTH MIDDLESEX              ",158,"LITTLETON                    ",1.18,0,0,0,5900,0,0,0,null,0,735158]
[735160,735,"NORTH MIDDLESEX              ",160,"LOWELL                       ",2,2,2,0,10000,10000,10000,0,null,0,735160,2,10000]
[735162,735,"NORTH MIDDLESEX              ",162,"LUNENBURG                    ",8.4,8,8,0,58599,45872,40000,-5872,null,0,735162,8,40000]
[735301,735,"NORTH MIDDLESEX              ",301,"TYNGSBOROUGH                 ",null,1,1,0,null,5000,5000,0,null,0,735301,1,5000]
[735343,735,"NORTH MIDDLESEX              ",343,"WINCHENDON                   ",2,1,1,0,10000,5000,5000,0,null,0,735343,1,5000]
[735610,735,"NORTH MIDDLESEX              ",610,"ASHBURNHAM WESTMINSTER       ",5.4899999999999993,7,7,0,27450,35000,41165,6165,null,0,735610,7,41165]
[735616,735,"NORTH MIDDLESEX              ",616,"AYER SHIRLEY",3.9699999999999998,1,1,0,40432,14233,5000,-9233,null,0,735616,1,5000]
[735673,735,"NORTH MIDDLESEX              ",673,"GROTON DUNSTABLE             ",3,4,4,0,15000,20000,23809,3809,null,0,735673,4,23809]
[740003,740,"OLD ROCHESTER                ",3,"ACUSHNET                     ",9.84,12,13,1,49200,60000,65000,5000,null,0,740003,13,65000]
[740052,740,"OLD ROCHESTER                ",52,"CARVER                       ",1,0,0,0,5000,0,0,0,null,0,740052]
[740094,740,"OLD ROCHESTER                ",94,"FAIRHAVEN                    ",8.83,10,10.81,0.8100000000000005,51096,56946,59601,2655,null,0,740094,10.81,59601]
[740095,740,"OLD ROCHESTER                ",95,"FALL RIVER                   ",1,1,1,0,5000,5000,5000,0,null,0,740095,1,5000]
[740182,740,"OLD ROCHESTER                ",182,"MIDDLEBOROUGH                ",5,3,3,0,25000,15000,15000,0,null,0,740182,3,15000]
[740201,740,"OLD ROCHESTER                ",201,"NEW BEDFORD                  ",11.01,8,10,2,59779,40000,54030,14030,null,0,740201,10,54030]
[740310,740,"OLD ROCHESTER                ",310,"WAREHAM                      ",38.99,32,32.39,0.39000000000000057,206179,174210,168745,-5465,null,0,740310,32.39,168745]
[740331,740,"OLD ROCHESTER                ",331,"WESTPORT                     ",2.83,1,0.65,-0.35,19392,10242,3940,-6302,null,0,740331,0.65,3940]
[740625,740,"OLD ROCHESTER                ",625,"BRIDGEWATER RAYNHAM          ",1,0,0,0,5000,0,0,0,null,0,740625]
[740665,740,"OLD ROCHESTER                ",665,"FREETOWN LAKEVILLE           ",3,3,2,-1,15000,15000,10000,-5000,null,0,740665,2,10000]
[745007,745,"PENTUCKET                    ",7,"AMESBURY                     ",5,5,5,0,25000,25000,25000,0,null,0,745007,5,25000]
[745030,745,"PENTUCKET                    ",30,"BEVERLY                      ",1,0,0,0,5000,0,0,0,null,0,745030]
[745079,745,"PENTUCKET                    ",79,"DRACUT                       ",null,1,0,-1,null,9000,0,-9000,null,0,745079]
[745105,745,"PENTUCKET                    ",105,"GEORGETOWN                   ",1,0,0,0,5000,0,0,0,null,0,745105]
[745128,745,"PENTUCKET                    ",128,"HAVERHILL                    ",112.37,99.5,99,-0.5,601671,539369,552068,12699,null,0,745128,99,552068]
[745204,745,"PENTUCKET                    ",204,"NEWBURYPORT                  ",5,3,2.54,-0.45999999999999996,25000,15000,12700,-2300,null,0,745204,2.54,12700]
[745258,745,"PENTUCKET                    ",258,"SALEM                        ",0.18,0,0,0,900,0,0,0,null,0,745258]
[745773,745,"PENTUCKET                    ",773,"TRITON                       ",2,2,2,0,10000,10000,10000,0,null,0,745773,2,10000]
[750008,750,"PIONEER                      ",8,"AMHERST                      ",0.72,0,0,0,3600,0,0,0,null,0,750008]
[750074,750,"PIONEER                      ",74,"DEERFIELD                    ",1,0,1,1,10358,0,9696,9696,null,0,750074,1,9696]
[750091,750,"PIONEER                      ",91,"ERVING                       ",20.529999999999998,17,17,0,140384,91431,86572,-4859,null,0,750091,17,86572]
[750114,750,"PIONEER                      ",114,"GREENFIELD                   ",81.679999999999978,76,73.34,-2.6599999999999966,478444,442203,422092,-20111,null,0,750114,73.34,422092]
[750154,750,"PIONEER                      ",154,"LEVERETT                     ",1,1,1,0,5000,5000,5000,0,null,0,750154,1,5000]
[750223,750,"PIONEER                      ",223,"ORANGE                       ",15.170000000000002,14,12.57,-1.4299999999999997,125467,81416,68928,-12488,null,0,750223,12.57,68928]
[750230,750,"PIONEER                      ",230,"PELHAM                       ",1,1,1,0,5000,5000,5000,0,null,0,750230,1,5000]
[750253,750,"PIONEER                      ",253,"ROWE                         ",1,2,2,0,5000,10000,10000,0,null,0,750253,2,10000]
[750605,750,"PIONEER                      ",605,"AMHERST PELHAM               ",1,1,1,0,5000,5000,5000,0,null,0,750605,1,5000]
[750615,750,"PIONEER                      ",615,"ATHOL ROYALSTON              ",6,9,10.45,1.4499999999999993,30000,45000,52250,7250,null,0,750615,10.45,52250]
[750670,750,"PIONEER                      ",670,"FRONTIER                     ",null,2,2,0,null,10000,10000,0,null,0,750670,2,10000]
[750674,750,"PIONEER                      ",674,"GILL MONTAGUE                ",39.01,29,29.53,0.53000000000000114,227731,181681,172735,-8946,null,0,750674,29.53,172735]
[750717,750,"PIONEER                      ",717,"MOHAWK TRAIL                 ",1,1,0.11,-0.89,5000,5000,550,-4450,null,0,750717,0.11,550]
[750755,750,"PIONEER                      ",755,"RALPH C MAHAR                ",2,1,1.85,0.85000000000000009,10000,5000,9250,4250,null,0,750755,1.85,9250]
[753017,753,"QUABBIN                      ",17,"AUBURN                       ",1,0,0,0,5000,0,0,0,null,0,753017]
[753025,753,"QUABBIN                      ",25,"BELLINGHAM                   ",0.51,0,0,0,2550,0,0,0,null,0,753025]
[753064,753,"QUABBIN                      ",64,"CLINTON                      ",1,0,0,0,5000,0,0,0,null,0,753064]
[753097,753,"QUABBIN                      ",97,"FITCHBURG                    ",1,5,4.3599999999999994,-0.64000000000000057,7030,25000,21800,-3200,null,0,753097,4.3599999999999994,21800]
[753103,753,"QUABBIN                      ",103,"GARDNER                      ",22.330000000000002,35,33.769999999999996,-1.230000000000004,122022,186089,199889,13800,null,0,753103,33.769999999999996,199889]
[753110,753,"QUABBIN                      ",110,"GRAFTON                      ",1.17,0,0,0,5850,0,0,0,null,0,753110]
[753141,753,"QUABBIN                      ",141,"HUDSON                       ",1,0,0,0,5000,0,0,0,null,0,753141]
[753153,753,"QUABBIN                      ",153,"LEOMINSTER                   ",1,0,0,0,5000,0,0,0,null,0,753153]
[753170,753,"QUABBIN                      ",170,"MARLBOROUGH                  ",1.51,0,0,0,7550,0,0,0,null,0,753170]
[753214,753,"QUABBIN                      ",214,"NORTHBRIDGE                  ",0.38,0,0,0,1900,0,0,0,null,0,753214]
[753215,753,"QUABBIN                      ",215,"NORTH BROOKFIELD             ",49.81,49,51.06,2.0600000000000023,270962,257390,283027,25637,null,0,753215,51.06,283027]
[753226,753,"QUABBIN                      ",226,"OXFORD                       ",0.51,0,0,0,2550,0,0,0,null,0,753226]
[753227,753,"QUABBIN                      ",227,"PALMER                       ",2,2,2,0,10000,10000,10000,0,null,0,753227,2,10000]
[753234,753,"QUABBIN                      ",234,"PETERSHAM                    ",5,3,3,0,25000,15000,15000,0,null,0,753234,3,15000]
[753271,753,"QUABBIN                      ",271,"SHREWSBURY                   ",0.51,0,0,0,2550,0,0,0,null,0,753271]
[753277,753,"QUABBIN                      ",277,"SOUTHBRIDGE                  ",1.02,0,0,0,5100,0,0,0,null,0,753277]
[753290,753,"QUABBIN                      ",290,"SUTTON                       ",2.88,0,0,0,14400,0,0,0,null,0,753290]
[753309,753,"QUABBIN                      ",309,"WARE                         ",76.3,85,83.33,-1.6700000000000017,471806,489329,494683,5354,null,0,753309,83.33,494683]
[753316,753,"QUABBIN                      ",316,"WEBSTER                      ",1.65,0,0,0,8250,0,0,0,null,0,753316]
[753322,753,"QUABBIN                      ",322,"WEST BOYLSTON                ",1,0,0,0,5000,0,0,0,null,0,753322]
[753348,753,"QUABBIN                      ",348,"WORCESTER                    ",10.489999999999998,2,1.3599999999999999,-0.64000000000000012,52450,10000,6800,-3200,null,{"$f":"P1861-A1861","v":0},753348,1.3599999999999999,6800]
[753610,753,"QUABBIN",610,"ASHBURNHAM WESTMINSTER       ",0.75,0,{"$f":"Q1862","v":0.12},{"$f":"H1862-G1862","v":0.12},3750,0,{"$f":"R1862","v":600},{"$f":"L1862-K1862","v":600},null,0,753610,0.12,600]
[753615,753,"QUABBIN                      ",615,"ATHOL ROYALSTON              ",41.79,41,39.99,-1.009999999999998,258471,254521,251143,-3378,null,0,753615,39.99,251143]
[753658,753,"QUABBIN                      ",658,"DUDLEY CHARLTON              ",1.81,1,0.32,-0.67999999999999994,9050,5000,1600,-3400,null,0,753658,0.32,1600]
[753720,753,"QUABBIN                      ",720,"NARRAGANSETT                 ",28.68,34,34.51,0.50999999999999801,150346,188660,189156,496,null,0,753720,34.51,189156]
[753725,753,"QUABBIN                      ",725,"NASHOBA                      ",1,0,0,0,5000,0,0,0,null,0,753725]
[753755,753,"QUABBIN                      ",755,"RALPH C MAHAR                ",31,23,23,0,161513,118992,118968,-24,null,0,753755,23,118968]
[753767,753,"QUABBIN                      ",767,"SPENCER EAST BROOKFIELD      ",18.459999999999997,21,21.31,0.30999999999999872,101417,118117,115420,-2697,null,0,753767,21.31,115420]
[753770,753,"QUABBIN                      ",770,"TANTASQUA                    ",2.38,1,0.61,-0.39,11900,9000,4999,-4001,null,0,753770,0.61,4999]
[753775,753,"QUABBIN                      ",775,"WACHUSETT                    ",28.24,10,11.56,1.5600000000000005,141200,50000,73306,23306,null,0,753775,11.56,73306]
[753778,753,"QUABBIN                      ",778,"QUABOAG",9.67,19,14.960000000000003,-4.0399999999999974,48350,95000,75338,-19662,null,0,753778,14.960000000000003,75338]
[755064,755,"RALPH C MAHAR                ",64,"CLINTON                      ",2,2,2,0,10000,10000,10000,0,null,0,755064,2,10000]
[755091,755,"RALPH C MAHAR                ",91,"ERVING                       ",2,2,2,0,10000,10000,10000,0,null,0,755091,2,10000]
[755097,755,"RALPH C MAHAR                ",97,"FITCHBURG                    ",13.290000000000001,14,13.76,-0.24000000000000021,66450,70000,68800,-1200,null,0,755097,13.76,68800]
[755103,755,"RALPH C MAHAR                ",103,"GARDNER                      ",11.78,15,15.17,0.16999999999999993,58900,75000,75850,850,null,0,755103,15.17,75850]
[755114,{"$f":"TRUNC(A1876,-3)/1000","v":755},{"$f":"VLOOKUP(B1876,code437,2)","v":"RALPH C MAHAR                "},{"$f":"A1876-B1876*1000","v":114},"GREENFIELD                   ",null,null,0.51,0.51,null,null,30082,30082,null,0,755114,0.51,30082]
[755153,755,"RALPH C MAHAR                ",153,"LEOMINSTER                   ",15.98,20,20.09,8.9999999999999858E-2,79900,100000,100450,450,null,0,755153,20.09,100450]
[755158,755,"RALPH C MAHAR                ",158,"LITTLETON                    ",1,1,1,0,5000,12000,22934,10934,null,0,755158,1,22934]
[755160,755,"RALPH C MAHAR                ",160,"LOWELL                       ",0.38,0,0,0,1900,0,0,0,null,0,755160]
[755162,755,"RALPH C MAHAR                ",162,"LUNENBURG                    ",1.51,3,3.51,0.50999999999999979,7550,15000,17550,2550,null,0,755162,3.51,17550]
[755181,755,"RALPH C MAHAR                ",181,"METHUEN                      ",null,1,1,0,null,5000,5000,0,null,0,755181,1,5000]
[755215,755,"RALPH C MAHAR                ",215,"NORTH BROOKFIELD             ",null,1,1,0,null,5000,5000,0,null,0,755215,1,5000]
[755271,755,"RALPH C MAHAR                ",271,"SHREWSBURY                   ",1,1,1,0,5000,5000,5000,0,null,0,755271,1,5000]
[755316,755,"RALPH C MAHAR                ",316,"WEBSTER                      ",null,1,1.51,0.51,null,5000,7550,2550,null,0,755316,1.51,7550]
[755317,755,"RALPH C MAHAR                ",317,"WELLESLEY                    ",null,1,0.11,-0.89,null,5000,550,-4450,null,0,755317,0.11,550]
[755343,755,"RALPH C MAHAR                ",343,"WINCHENDON                   ",8.120000000000001,8,8,0,40600,40000,40000,0,null,0,755343,8,40000]
[755348,755,"RALPH C MAHAR                ",348,"WORCESTER                    ",1.51,3,3,0,7550,15000,15000,0,null,0,755348,3,15000]
[755600,{"$f":"TRUNC(A1888,-3)/1000","v":755},{"$f":"VLOOKUP(B1888,code437,2)","v":"RALPH C MAHAR                "},{"$f":"A1888-B1888*1000","v":600},"ACTON BOXBOROUGH             ",null,null,0.51,0.51,null,null,2550,2550,null,0,755600,0.51,2550]
[755605,755,"RALPH C MAHAR                ",605,"AMHERST PELHAM               ",1,0,0,0,5000,0,0,0,null,0,755605]
[755610,755,"RALPH C MAHAR                ",610,"ASHBURNHAM WESTMINSTER       ",6.7799999999999994,9,9.51,0.50999999999999979,33900,45000,47550,2550,null,0,755610,9.51,47550]
[755615,755,"RALPH C MAHAR                ",615,"ATHOL ROYALSTON              ",123,111,116.53999999999998,5.5399999999999778,710985,666039,726042,60003,null,0,755615,116.53999999999998,726042]
[755616,755,"RALPH C MAHAR                ",616,"AYER SHIRLEY",null,2,2,0,null,10000,10000,0,null,0,755616,2,10000]
[755622,755,"RALPH C MAHAR                ",622,"BLACKSTONE MILLVILLE         ",1,0,0,0,5000,0,0,0,null,0,755622]
[755673,755,"RALPH C MAHAR                ",673,"GROTON DUNSTABLE             ",1,1,1,0,5000,5000,5000,0,null,0,755673,1,5000]
[755720,755,"RALPH C MAHAR                ",720,"NARRAGANSETT                 ",10.64,11,13.54,2.5399999999999991,90045,77445,85970,8525,null,0,755720,13.54,85970]
[755725,755,"RALPH C MAHAR                ",725,"NASHOBA                      ",5.14,6,6.54,0.54,25700,30000,32700,2700,null,0,755725,6.54,32700]
[755735,755,"RALPH C MAHAR                ",735,"NORTH MIDDLESEX              ",1.93,1,2.02,1.02,9650,5000,10100,5100,null,0,755735,2.02,10100]
[755750,755,"RALPH C MAHAR                ",750,"PIONEER                      ",3.86,3,3,0,21010,16710,16084,-626,null,0,755750,3,16084]
[755753,755,"RALPH C MAHAR                ",753,"QUABBIN                      ",6.28,13,13.34,0.33999999999999986,45747,74463,72955,-1508,null,0,755753,13.34,72955]
[755775,755,"RALPH C MAHAR                ",775,"WACHUSETT                    ",3.16,4,4,0,15800,20000,20000,0,null,0,755775,4,20000]
[763095,763,"SOMERSET BERKLEY",95,"FALL RIVER                   ",13.270000000000001,24,23.76,-0.23999999999999844,98174,145410,148727,3317,null,0,763095,23.76,148727]
[763102,{"$f":"TRUNC(A1902,-3)/1000","v":763},{"$f":"VLOOKUP(B1902,code437,2)","v":"SOMERSET BERKLEY"},{"$f":"A1902-B1902*1000","v":102},"FREETOWN                     ",null,null,1,1,null,null,5000,5000,null,0,763102,1,5000]
[763201,{"$f":"TRUNC(A1903,-3)/1000","v":763},{"$f":"VLOOKUP(B1903,code437,2)","v":"SOMERSET BERKLEY"},{"$f":"A1903-B1903*1000","v":201},"NEW BEDFORD                  ",null,null,0.53,0.53,null,null,2650,2650,null,0,763201,0.53,2650]
[763292,763,"SOMERSET BERKLEY",292,"SWANSEA                      ",1.7200000000000002,7,7,0,8600,39000,37179,-1821,null,0,763292,7,37179]
[763293,763,"SOMERSET BERKLEY",293,"TAUNTON                      ",2.86,5,3.46,-1.54,19087,29787,24627,-5160,null,0,763293,3.46,24627]
[763331,763,"SOMERSET BERKLEY",331,"WESTPORT                     ",0.54,3,2.1100000000000003,-0.88999999999999968,2700,15000,10550,-4450,null,0,763331,2.1100000000000003,10550]
[763650,763,"SOMERSET BERKLEY",650,"DIGHTON REHOBOTH             ",3.13,5,5.59,0.58999999999999986,15650,25000,27950,2950,null,0,763650,5.59,27950]
[763665,763,"SOMERSET BERKLEY",665,"FREETOWN LAKEVILLE           ",2,4,3.41,-0.58999999999999986,20660,20000,17050,-2950,null,0,763665,3.41,17050]
[763810,763,"SOMERSET BERKLEY",810,"BRISTOL PLYMOUTH             ",null,1,1,0,null,5000,5000,0,null,0,763810,1,5000]
[763821,763,"SOMERSET BERKLEY",821,"GREATER FALL RIVER           ",null,4,3,-1,null,20000,15000,-5000,null,0,763821,3,15000]
[765005,765,"SOUTHERN BERKSHIRE           ",5,"AGAWAM                       ",1.82,1,1,0,9100,5000,5000,0,null,0,765005,1,5000]
[765150,765,"SOUTHERN BERKSHIRE           ",150,"LEE                          ",2.33,3,3,0,11650,15000,15000,0,null,0,765150,3,15000]
[765152,765,"SOUTHERN BERKSHIRE           ",152,"LENOX                        ",1,0,0,0,5000,0,0,0,null,0,765152]
[765209,765,"SOUTHERN BERKSHIRE           ",209,"NORTH ADAMS                  ",4,4,4,0,23879,23879,26124,2245,null,0,765209,4,26124]
[765236,765,"SOUTHERN BERKSHIRE           ",236,"PITTSFIELD                   ",2.13,1,1,0,10650,5000,5000,0,null,0,765236,1,5000]
[765302,765,"SOUTHERN BERKSHIRE           ",302,"TYRINGHAM                    ",null,1,1,0,null,5000,5000,0,null,0,765302,1,5000]
[765618,765,"SOUTHERN BERKSHIRE           ",618,"BERKSHIRE HILLS              ",76.97999999999999,71,76.13,5.1299999999999955,435102,417146,444996,27850,null,0,765618,76.13,444996]
[765635,765,"SOUTHERN BERKSHIRE           ",635,"CENTRAL BERKSHIRE            ",4,4,3.4,-0.60000000000000009,28288,28288,25761,-2527,null,0,765635,3.4,25761]
[765662,765,"SOUTHERN BERKSHIRE           ",662,"FARMINGTON RIVER",31.33,30,29,-1,166101,159451,159437,-14,null,0,765662,29,159437]
[765766,765,"SOUTHERN BERKSHIRE           ",766,"SOUTHWICK TOLLAND",null,3,3,0,null,15000,28481,13481,null,0,765766,3,28481]
[766005,766,"SOUTHWICK TOLLAND",5,"AGAWAM                       ",16,22,22.4,0.39999999999999858,92383,147995,144105,-3890,null,0,766005,22.4,144105]
[766061,766,"SOUTHWICK TOLLAND",61,"CHICOPEE                     ",null,1,0,-1,null,5000,0,-5000,null,0,766061]
[766111,766,"SOUTHWICK TOLLAND",111,"GRANBY                       ",null,1,0,-1,null,5000,0,-5000,null,0,766111]
[766210,766,"SOUTHWICK TOLLAND",210,"NORTHAMPTON                  ",1,0,0,0,5000,0,0,0,null,0,766210]
[766281,766,"SOUTHWICK TOLLAND",281,"SPRINGFIELD                  ",25.75,30,30.38,0.37999999999999901,159501,156503,161519,5016,null,{"$f":"P1925-A1925","v":0},766281,30.38,161519]
[766325,766,"SOUTHWICK TOLLAND",325,"WESTFIELD                    ",47.639999999999993,59,{"$f":"Q1926","v":63.28},{"$f":"H1926-G1926","v":4.2800000000000011},272573,313697,{"$f":"R1926","v":343472},{"$f":"L1926-K1926","v":29775},null,0,766325,63.28,343472]
[766332,766,"SOUTHWICK TOLLAND",332,"WEST SPRINGFIELD             ",7.2,6,6,0,36000,30000,30000,0,null,0,766332,6,30000]
[766672,766,"SOUTHWICK TOLLAND",672,"GATEWAY                      ",4,5,5,0,20000,25000,25000,0,null,0,766672,5,25000]
[766683,766,"SOUTHWICK TOLLAND",683,"HAMPSHIRE                    ",1,0,0,0,5000,0,0,0,null,0,766683]
[767017,767,"SPENCER EAST BROOKFIELD      ",17,"AUBURN                       ",0.36,1,0.82,-0.18000000000000005,1800,5000,4100,-900,null,0,767017,0.82,4100]
[767045,767,"SPENCER EAST BROOKFIELD      ",45,"BROOKFIELD                   ",1,1,1.01,1.0000000000000009E-2,8277,5000,11105,6105,null,0,767045,1.01,11105]
[767151,767,"SPENCER EAST BROOKFIELD      ",151,"LEICESTER                    ",5.1599999999999993,3,3.3200000000000003,0.32000000000000028,29273,18473,21450,2977,null,0,767151,3.3200000000000003,21450]
[767215,767,"SPENCER EAST BROOKFIELD      ",215,"NORTH BROOKFIELD             ",19.59,11,11.730000000000002,0.7300000000000022,143307,96887,90626,-6261,null,0,767215,11.730000000000002,90626]
[767226,767,"SPENCER EAST BROOKFIELD      ",226,"OXFORD                       ",null,2,1,-1,null,10000,5000,-5000,null,0,767226,1,5000]
[767277,767,"SPENCER EAST BROOKFIELD      ",277,"SOUTHBRIDGE                  ",7.54,6,6.88,0.87999999999999989,37700,34000,34536,536,null,0,767277,6.88,34536]
[767322,767,"SPENCER EAST BROOKFIELD      ",322,"WEST BOYLSTON                ",null,1,1,0,null,5000,5000,0,null,0,767322,1,5000]
[767348,767,"SPENCER EAST BROOKFIELD      ",348,"WORCESTER                    ",5.5,6,6.72,0.71999999999999975,31276,31852,36136,4284,null,0,767348,6.72,36136]
[767610,767,"SPENCER EAST BROOKFIELD      ",610,"ASHBURNHAM WESTMINSTER       ",2,2,0.4,-1.6,10000,10000,2000,-8000,null,0,767610,0.4,2000]
[767658,767,"SPENCER EAST BROOKFIELD      ",658,"DUDLEY CHARLTON              ",2.7500000000000004,2,3,1,16109,10000,15000,5000,null,0,767658,3,15000]
[767753,767,"SPENCER EAST BROOKFIELD      ",753,"QUABBIN                      ",3.2899999999999996,2,2.84,0.83999999999999986,17290,10000,15696,5696,null,0,767753,2.84,15696]
[767770,767,"SPENCER EAST BROOKFIELD      ",770,"TANTASQUA                    ",3,1,0,-1,15000,5000,0,-5000,null,0,767770]
[767775,767,"SPENCER EAST BROOKFIELD      ",775,"WACHUSETT                    ",null,1,0.91,-8.9999999999999969E-2,null,5000,4550,-450,null,0,767775,0.91,4550]
[767778,767,"SPENCER EAST BROOKFIELD      ",778,"QUABOAG",2.3200000000000003,1.5,2.0300000000000002,0.53000000000000025,13075,10975,19636,8661,null,0,767778,2.0300000000000002,19636]
[767832,767,"SPENCER EAST BROOKFIELD      ",832,"MONTACHUSETT                 ",null,1,1.54,0.54,null,9000,9651,651,null,0,767832,1.54,9651]
[767876,767,"SPENCER EAST BROOKFIELD      ",876,"SOUTHERN WORCESTER           ",2,1,1,0,10000,5000,5000,0,null,0,767876,1,5000]
[770084,770,"TANTASQUA                    ",84,"EAST BROOKFIELD              ",5,6,5,-1,25000,30000,25000,-5000,null,0,770084,5,25000]
[770151,770,"TANTASQUA                    ",151,"LEICESTER                    ",2.6,1,1,0,13000,5000,5000,0,null,0,770151,1,5000]
[770191,770,"TANTASQUA                    ",191,"MONSON                       ",5,4,4,0,30387,25387,27251,1864,null,0,770191,4,27251]
[770215,770,"TANTASQUA                    ",215,"NORTH BROOKFIELD             ",8,9,11.14,2.1400000000000006,40000,53000,79346,26346,null,0,770215,11.14,79346]
[770226,770,"TANTASQUA                    ",226,"OXFORD                       ",1,1,1,0,5000,5000,5000,0,null,0,770226,1,5000]
[770227,770,"TANTASQUA                    ",227,"PALMER                       ",2,3,3,0,10000,15000,15000,0,null,0,770227,3,15000]
[770277,770,"TANTASQUA                    ",277,"SOUTHBRIDGE                  ",23.4,20,21.15,1.1499999999999986,132207,133669,138239,4570,null,0,770277,21.15,138239]
[770309,770,"TANTASQUA                    ",309,"WARE                         ",2,1,0,-1,35402,5000,0,-5000,null,0,770309]
[770324,770,"TANTASQUA                    ",324,"WEST BROOKFIELD              ",8.33,6,6,0,48896,37246,36053,-1193,null,0,770324,6,36053]
[770348,770,"TANTASQUA                    ",348,"WORCESTER                    ",null,1,1,0,null,9000,8704,-296,null,0,770348,1,8704]
[770658,770,"TANTASQUA                    ",658,"DUDLEY CHARLTON              ",3,4,4,0,19173,20000,20000,0,null,0,770658,4,20000]
[770767,770,"TANTASQUA                    ",767,"SPENCER EAST BROOKFIELD      ",30.72,33,33,0,171826,178235,190576,12341,null,0,770767,33,190576]
[770778,770,"TANTASQUA                    ",778,"QUABOAG",41.809999999999995,34,33.44,-0.56000000000000227,227820,192770,184863,-7907,null,0,770778,33.44,184863]
[770860,770,"TANTASQUA                    ",860,"PATHFINDER                   ",7,7,7,0,41376,38131,35000,-3131,null,0,770860,7,35000]
[770876,770,"TANTASQUA                    ",876,"SOUTHERN WORCESTER           ",22.37,25,27.04,2.0399999999999991,132011,155155,163155,8000,null,0,770876,27.04,163155]
[773007,773,"TRITON                       ",7,"AMESBURY                     ",48.22,39,38.01,-0.99000000000000199,352395,228610,221630,-6980,null,0,773007,38.01,221630]
[773009,773,"TRITON                       ",9,"ANDOVER                      ",null,1,1,0,null,5000,5000,0,null,0,773009,1,5000]
[773071,773,"TRITON                       ",71,"DANVERS                      ",4,3,3,0,20000,15000,15000,0,null,0,773071,3,15000]
[773105,773,"TRITON                       ",105,"GEORGETOWN                   ",13,9,9.42,0.41999999999999993,109741,84741,110856,26115,null,0,773105,9.42,110856]
[773128,773,"TRITON                       ",128,"HAVERHILL                    ",42.44,39.5,38.879999999999995,-0.62000000000000455,270171,255471,236590,-18881,null,0,773128,38.879999999999995,236590]
[773144,773,"TRITON                       ",144,"IPSWICH                      ",9.66,6,5.2,-0.79999999999999982,54601,36301,30118,-6183,null,0,773144,5.2,30118]
[773149,773,"TRITON                       ",149,"LAWRENCE                     ",6,7,6.47,-0.53000000000000025,55049,60049,63699,3650,null,0,773149,6.47,63699]
[773181,773,"TRITON                       ",181,"METHUEN                      ",1,2,1.26,-0.74,5000,10000,6300,-3700,null,0,773181,1.26,6300]
[773204,773,"TRITON                       ",204,"NEWBURYPORT                  ",39.450000000000003,35,35.090000000000003,9.0000000000003411E-2,253755,230138,216932,-13206,null,0,773204,35.090000000000003,216932]
[773229,773,"TRITON                       ",229,"PEABODY                      ",3,3,3,0,15000,15000,15000,0,null,0,773229,3,15000]
[773258,773,"TRITON                       ",258,"SALEM                        ",null,1,0,-1,null,5000,0,-5000,null,0,773258]
[773262,773,"TRITON                       ",262,"SAUGUS                       ",null,1,0.71,-0.29000000000000004,null,5000,3550,-1450,null,0,773262,0.71,3550]
[773298,773,"TRITON                       ",298,"TOPSFIELD                    ",0.71,0,0,0,3550,0,0,0,null,0,773298]
[773675,773,"TRITON                       ",675,"HAMILTON WENHAM              ",2.3200000000000003,3,3,0,11600,15000,15000,0,null,0,773675,3,15000]
[773745,773,"TRITON                       ",745,"PENTUCKET                    ",11.73,14,11.3,-2.6999999999999993,58650,70000,56500,-13500,null,0,773745,11.3,56500]
[774089,774,"UPISLAND",89,"EDGARTOWN                    ",17,17,19,2,99295,107233,117183,9950,null,0,774089,19,117183]
[774221,774,"UPISLAND",221,"OAK BLUFFS                   ",10,14,13,-1,68615,100615,117438,16823,null,0,774221,13,117438]
[774296,774,"UPISLAND",296,"TISBURY                      ",24,26,24,-2,148085,152191,142297,-9894,null,0,774296,24,142297]
[775017,775,"WACHUSETT                    ",17,"AUBURN                       ",2,1,1,0,10000,5000,5000,0,null,0,775017,1,5000]
[775064,775,"WACHUSETT                    ",64,"CLINTON                      ",2,2,2,0,10000,10000,10000,0,null,0,775064,2,10000]
[775097,775,"WACHUSETT                    ",97,"FITCHBURG                    ",26,24,22,-2,137337,131337,118788,-12549,null,0,775097,22,118788]
[775103,775,"WACHUSETT                    ",103,"GARDNER                      ",5,6,6,0,25000,30000,30000,0,null,0,775103,6,30000]
[775151,775,"WACHUSETT                    ",151,"LEICESTER                    ",3,2,2,0,15000,10000,10000,0,null,0,775151,2,10000]
[775153,775,"WACHUSETT                    ",153,"LEOMINSTER                   ",15,13,12,-1,91455,81455,72876,-8579,null,0,775153,12,72876]
[775214,775,"WACHUSETT                    ",214,"NORTHBRIDGE                  ",1,1,1,0,5000,5000,5000,0,null,0,775214,1,5000]
[775215,775,"WACHUSETT                    ",215,"NORTH BROOKFIELD             ",1,0,0,0,5000,0,0,0,null,0,775215]
[775271,775,"WACHUSETT                    ",271,"SHREWSBURY                   ",1,0,0,0,5000,0,0,0,null,0,775271]
[775322,775,"WACHUSETT                    ",322,"WEST BOYLSTON                ",9,8,9,1,57464,52464,58666,6202,null,0,775322,9,58666]
[775348,775,"WACHUSETT                    ",348,"WORCESTER                    ",88.839999999999989,76,76,0,456410,406946,401553,-5393,null,{"$f":"P1989-A1989","v":0},775348,76,401553]
[775610,775,"WACHUSETT                    ",610,"ASHBURNHAM WESTMINSTER       ",7,7,{"$f":"Q1990","v":7},{"$f":"H1990-G1990","v":0},35000,35000,{"$f":"R1990","v":35000},{"$f":"L1990-K1990","v":0},null,0,775610,7,35000]
[775720,775,"WACHUSETT                    ",720,"NARRAGANSETT                 ",3,3,3,0,15000,15000,15000,0,null,0,775720,3,15000]
[775753,775,"WACHUSETT                    ",753,"QUABBIN                      ",19,17,17,0,95000,93000,170906,77906,null,0,775753,17,170906]
[775767,775,"WACHUSETT                    ",767,"SPENCER EAST BROOKFIELD      ",21,16,16,0,106220,80000,80000,0,null,0,775767,16,80000]
[778024,{"$f":"TRUNC(A1994,-3)/1000","v":778},{"$f":"VLOOKUP(B1994,code437,2)","v":"QUABOAG"},{"$f":"A1994-B1994*1000","v":24},"BELCHERTOWN                  ",null,null,2,2,null,null,10000,10000,null,0,778024,2,10000]
[778043,778,"QUABOAG",43,"BRIMFIELD                    ",4,3,3.98,0.98,54508,49508,45494,-4014,null,0,778043,3.98,45494]
[778086,778,"QUABOAG",86,"EASTHAMPTON                  ",1,1,0,-1,5000,5000,0,-5000,null,0,778086]
[778191,778,"QUABOAG",191,"MONSON                       ",0.21,0,0,0,1050,0,0,0,null,0,778191]
[778210,{"$f":"TRUNC(A1998,-3)/1000","v":778},{"$f":"VLOOKUP(B1998,code437,2)","v":"QUABOAG"},{"$f":"A1998-B1998*1000","v":210},"NORTHAMPTON                  ",null,null,1,1,null,null,5000,5000,null,0,778210,1,5000]
[778215,778,"QUABOAG",215,"NORTH BROOKFIELD             ",20.189999999999998,20,18.18,-1.8200000000000003,102372,104557,91890,-12667,null,0,778215,18.18,91890]
[778227,778,"QUABOAG",227,"PALMER                       ",13.55,7,8,1,70941,35000,40000,5000,null,0,778227,8,40000]
[778277,778,"QUABOAG",277,"SOUTHBRIDGE                  ",93.15,111,110.93,-6.9999999999993179E-2,502466,599628,585569,-14059,null,0,778277,110.93,585569]
[778281,778,"QUABOAG",281,"SPRINGFIELD                  ",1.54,1,0,-1,7700,5000,0,-5000,null,0,778281]
[778287,778,"QUABOAG",287,"STURBRIDGE                   ",0.31,0,0,0,1550,0,0,0,null,0,778287]
[778309,778,"QUABOAG",309,"WARE                         ",29.31,27,26.240000000000002,-0.75999999999999801,154006,138449,136737,-1712,null,0,778309,26.240000000000002,136737]
[778348,778,"QUABOAG",348,"WORCESTER                    ",0.87,1,0.68,-0.31999999999999995,4350,5000,3400,-1600,null,0,778348,0.68,3400]
[778658,778,"QUABOAG",658,"DUDLEY CHARLTON              ",5,6,6.77,0.76999999999999957,25878,30878,33996,3118,null,0,778658,6.77,33996]
[778753,778,"QUABOAG",753,"QUABBIN                      ",2,1,2.34,1.3399999999999999,10429,9000,13912,4912,null,0,778753,2.34,13912]
[778767,778,"QUABOAG",767,"SPENCER EAST BROOKFIELD      ",4.92,6,6,0,24600,30000,31086,1086,null,0,778767,6,31086]
[778770,778,"QUABOAG",770,"TANTASQUA                    ",10.210000000000001,5,7.2200000000000006,2.2200000000000006,66180,35929,38817,2888,null,0,778770,7.2200000000000006,38817]
[780001,780,"WHITMAN HANSON               ",1,"ABINGTON                     ",5,12,12,0,25000,68000,75739,7739,null,0,780001,12,75739]
[780035,780,"WHITMAN HANSON               ",35,"BOSTON                       ",null,1,1,0,null,5000,5000,0,null,0,780035,1,5000]
[780044,780,"WHITMAN HANSON               ",44,"BROCKTON                     ",3,4,3,-1,15000,24000,15000,-9000,null,0,780044,3,15000]
[780052,780,"WHITMAN HANSON               ",52,"CARVER                       ",1,0,0,0,5000,0,0,0,null,0,780052]
[780083,780,"WHITMAN HANSON               ",83,"EAST BRIDGEWATER             ",1.7,5,5,0,8500,29000,31894,2894,null,0,780083,5,31894]
[780122,780,"WHITMAN HANSON               ",122,"HANOVER                      ",null,1,1,0,null,5000,5000,0,null,0,780122,1,5000]
[780175,780,"WHITMAN HANSON               ",175,"MEDFIELD                     ",1,0,0,0,5000,0,0,0,null,0,780175]
[780182,780,"WHITMAN HANSON               ",182,"MIDDLEBOROUGH                ",1,1,1,0,5000,9000,13696,4696,null,0,780182,1,13696]
[780218,780,"WHITMAN HANSON               ",218,"NORTON                       ",1,1,1,0,5000,5000,5000,0,null,0,780218,1,5000]
[780239,780,"WHITMAN HANSON               ",239,"PLYMOUTH                     ",1,0,0,0,5000,0,0,0,null,0,780239]
[780244,780,"WHITMAN HANSON               ",244,"RANDOLPH                     ",null,1,1,0,null,9000,5854,-3146,null,0,780244,1,5854]
[780251,780,"WHITMAN HANSON               ",251,"ROCKLAND                     ",null,1,0.48,-0.52,null,5000,2400,-2600,null,0,780251,0.48,2400]
[780336,780,"WHITMAN HANSON               ",336,"WEYMOUTH                     ",null,1,1,0,null,5000,5000,0,null,0,780336,1,5000]
[780625,780,"WHITMAN HANSON               ",625,"BRIDGEWATER RAYNHAM          ",null,1,1,0,null,5000,5000,0,null,0,780625,1,5000]
[780760,780,"WHITMAN HANSON               ",760,"SILVER LAKE                  ",1,2,2.2800000000000002,0.28000000000000025,5000,10000,16490,6490,null,0,780760,2.2800000000000002,16490]
[817163,817,"ESSEX NORTH SHORE",163,"LYNN                         ",1,1,1,0,5000,5000,5000,0,null,0,817163,1,5000]
[817885,817,"ESSEX NORTH SHORE",885,"WHITTIER                     ",1,0,0,0,5000,0,0,0,null,0,817885]
[823828,823,"GREATER LAWRENCE             ",828,"GREATER LOWELL               ",1,1,1.41,0.40999999999999992,5000,5000,7050,2050,null,0,823828,1.41,7050]
[823885,823,"GREATER LAWRENCE             ",885,"WHITTIER                     ",4.5,4,4.8099999999999996,0.80999999999999961,22500,24000,24941,941,null,0,823885,4.8099999999999996,24941]
[828852,828,"GREATER LOWELL               ",852,"NASHOBA VALLEY               ",3,2,0,-2,19232,14232,0,-14232,null,0,828852]
[828885,828,"GREATER LOWELL               ",885,"WHITTIER                     ",0.36,0,0,0,5838,0,0,0,null,0,828885]
[832064,832,"MONTACHUSETT                 ",64,"CLINTON                      ",1.06,1,1,0,5300,5000,5000,0,null,0,832064,1,5000]
[832153,832,"MONTACHUSETT                 ",153,"LEOMINSTER                   ",16.909999999999997,16,16.350000000000001,0.35000000000000142,89338,83121,84594,1473,null,0,832153,16.350000000000001,84594]
[832348,832,"MONTACHUSETT                 ",348,"WORCESTER                    ",2.04,0,0.41,0.41,10200,0,2050,2050,null,0,832348,0.41,2050]
[832818,832,"MONTACHUSETT                 ",818,"FRANKLIN COUNTY              ",1.38,2,1.52,-0.48,6900,10000,7600,-2400,null,0,832818,1.52,7600]
[832830,832,"MONTACHUSETT                 ",830,"MINUTEMAN                    ",0.83,0,0,0,4150,0,0,0,null,0,832830]
[832852,832,"MONTACHUSETT                 ",852,"NASHOBA VALLEY               ",1.81,1,1,0,9050,9000,5241,-3759,null,0,832852,1,5241]
[832876,832,"MONTACHUSETT                 ",876,"SOUTHERN WORCESTER           ",0.81,0,0.81,0.81,4050,0,5076,5076,null,0,832876,0.81,5076]
[852153,852,"NASHOBA VALLEY               ",153,"LEOMINSTER                   ",4,2,2.7,0.70000000000000018,22416,14645,16349,1704,null,0,852153,2.7,16349]
[852801,852,"NASHOBA VALLEY               ",801,"ASSABET VALLEY               ",1,0,0,0,5000,0,0,0,null,0,852801]
[852810,852,"NASHOBA VALLEY               ",810,"BRISTOL PLYMOUTH             ",0.76,0,0,0,3800,0,0,0,null,0,852810]
[852823,852,"NASHOBA VALLEY               ",823,"GREATER LAWRENCE             ",1.79,4,4,0,9898,20948,20911,-37,null,0,852823,4,20911]
[852828,852,"NASHOBA VALLEY               ",828,"GREATER LOWELL               ",26.8,25,23.92,-1.0799999999999983,141589,134425,126150,-8275,null,0,852828,23.92,126150]
[852830,852,"NASHOBA VALLEY               ",830,"MINUTEMAN                    ",1,1,1.62,0.62000000000000011,5000,5000,8100,3100,null,0,852830,1.62,8100]
[852832,852,"NASHOBA VALLEY               ",832,"MONTACHUSETT                 ",12.2,11,12.64,1.6400000000000006,68354,65453,68689,3236,null,0,852832,12.64,68689]
[852871,852,"NASHOBA VALLEY               ",871,"SHAWSHEEN VALLEY             ",20.47,17,17.63,0.62999999999999901,109192,95477,95527,50,null,0,852871,17.63,95527]
[853035,853,"NORTHEAST METROPOLITAN       ",35,"BOSTON                       ",4.6099999999999994,3,2.2400000000000002,-0.75999999999999979,30785,22735,13205,-9530,null,0,853035,2.2400000000000002,13205]
[853093,853,"NORTHEAST METROPOLITAN       ",93,"EVERETT                      ",12.86,11,11,0,74108,63098,60468,-2630,null,0,853093,11,60468]
[853163,853,"NORTHEAST METROPOLITAN       ",163,"LYNN                         ",6.15,8,8,0,39014,52264,46408,-5856,null,0,853163,8,46408]
[853308,853,"NORTHEAST METROPOLITAN       ",308,"WALTHAM                      ",1.02,0,0,0,5100,0,0,0,null,0,853308]
[853806,853,"NORTHEAST METROPOLITAN       ",806,"BLUE HILLS                   ",1,0,0,0,5000,0,0,0,null,0,853806]
[853817,853,"NORTHEAST METROPOLITAN       ",817,"ESSEX NORTH SHORE",6.09,5,5,0,33756,31264,29098,-2166,null,{"$f":"P2051-A2051","v":0},853817,5,29098]
[853823,853,"NORTHEAST METROPOLITAN       ",823,"GREATER LAWRENCE             ",3.36,1,{"$f":"Q2052","v":1},{"$f":"H2052-G2052","v":0},17099,5000,{"$f":"R2052","v":5000},{"$f":"L2052-K2052","v":0},null,0,853823,1,5000]
[853871,853,"NORTHEAST METROPOLITAN       ",871,"SHAWSHEEN VALLEY             ",0.51,1,0.59,-0.41000000000000003,8574,9000,3924,-5076,null,0,853871,0.59,3924]
[853872,853,"NORTHEAST METROPOLITAN       ",872,"SOUTHEASTERN                 ",1,1,1,0,5000,5000,5000,0,null,0,853872,1,5000]
[860061,860,"PATHFINDER                   ",61,"CHICOPEE                     ",0.4,1,2,1,2000,5000,10000,5000,null,0,860061,2,10000]
[860161,860,"PATHFINDER                   ",161,"LUDLOW                       ",13,15,15,0,70221,87221,86235,-986,null,0,860161,15,86235]
[860278,860,"PATHFINDER                   ",278,"SOUTH HADLEY                 ",1,2,1,-1,5000,14000,5000,-9000,null,0,860278,1,5000]
[860281,860,"PATHFINDER                   ",281,"SPRINGFIELD                  ",0.53,5,4.68,-0.32000000000000028,4574,29000,23884,-5116,null,0,860281,4.68,23884]
[860324,860,"PATHFINDER                   ",324,"WEST BROOKFIELD              ",null,4,5.0500000000000007,1.0500000000000007,null,20000,25250,5250,null,0,860324,5.0500000000000007,25250]
[860770,860,"PATHFINDER                   ",770,"TANTASQUA                    ",5.6099999999999994,5,4.33,-0.66999999999999993,32630,29580,24789,-4791,null,0,860770,4.33,24789]
[860818,860,"PATHFINDER                   ",818,"FRANKLIN COUNTY              ",1,0,0,0,5000,0,0,0,null,0,860818]
[860832,860,"PATHFINDER                   ",832,"MONTACHUSETT                 ",1,0,0,0,7656,0,0,0,null,0,860832]
[860876,860,"PATHFINDER                   ",876,"SOUTHERN WORCESTER           ",null,2,1.6400000000000001,-0.35999999999999988,null,10000,8200,-1800,null,0,860876,1.6400000000000001,8200]
[885817,885,"WHITTIER                     ",817,"ESSEX NORTH SHORE",2,3,3,0,11475,16475,16723,248,null,0,885817,3,16723]
[885823,885,"WHITTIER                     ",823,"GREATER LAWRENCE             ",137.66999999999999,112,110.58,-1.4200000000000017,737961,616193,605592,-10601,null,0,885823,110.58,605592]
[885853,885,"WHITTIER                     ",853,"NORTHEAST METROPOLITAN       ",null,1,1,0,null,9000,5748,-3252,null,0,885853,1,5748]
[3901001,3901,"MAVA",1,"ABINGTON                     ",6.2299999999999995,3,3,0,41799,20100,20100,0,null,0,3901001,3,20100]
[3901005,3901,"MAVA",5,"AGAWAM                       ",4,3,3,0,26800,20100,20100,0,null,0,3901005,3,20100]
[3901007,3901,"MA VIRTUAL ACADEMY",7,"AMESBURY                     ",1.98,2,1.3599999999999999,-0.64000000000000012,14400,21532,11555,-9977,null,0,3901007,1.3599999999999999,11555]
[3901008,3901,"MA VIRTUAL ACADEMY",8,"AMHERST                      ",0.47,0,0,0,3189,0,0,0,null,0,3901008]
[3901009,3901,"MA VIRTUAL ACADEMY",9,"ANDOVER                      ",1.51,1,1,0,10154,6700,6700,0,null,0,3901009,1,6700]
[3901010,3901,"MA VIRTUAL ACADEMY",10,"ARLINGTON                    ",0.48,2,1.18,-0.82000000000000006,3255,21400,9563,-11837,null,0,3901010,1.18,9563]
[3901014,3901,"MA VIRTUAL ACADEMY",14,"ASHLAND                      ",1,0,0,0,6700,0,0,0,null,0,3901014]
[3901016,3901,"MAVA",16,"ATTLEBORO                    ",3.23,7,7.85,0.84999999999999964,22379,53900,53025,-875,null,0,3901016,7.85,53025]
[3901017,3901,"MAVA",17,"AUBURN                       ",3.2199999999999998,3,1.7599999999999998,-1.2400000000000002,22842,20100,11886,-8214,null,0,3901017,1.7599999999999998,11886]
[3901020,3901,"MAVA",20,"BARNSTABLE                   ",4.2299999999999995,7,7.65,0.65000000000000036,28825,46900,51642,4742,null,0,3901020,7.65,51642]
[3901023,3901,"MA VIRTUAL ACADEMY",23,"BEDFORD                      ",null,2,2,0,null,13400,13400,0,null,0,3901023,2,13400]
[3901024,3901,"MAVA",24,"BELCHERTOWN                  ",0.28000000000000003,1,0.13,-0.87,2504,6700,936,-5764,null,0,3901024,0.13,936]
[3901025,3901,"MAVA",25,"BELLINGHAM                   ",3,0,0,0,21706,0,0,0,null,0,3901025]
[3901030,3901,"MAVA",30,"BEVERLY                      ",9.57,7,5.8599999999999994,-1.1400000000000006,64152,46900,39274,-7626,null,0,3901030,5.8599999999999994,39274]
[3901031,3901,"MA VIRTUAL ACADEMY",31,"BILLERICA                    ",3.65,3,4.5500000000000007,1.5500000000000007,24557,24100,36349,12249,null,0,3901031,4.5500000000000007,36349]
[3901035,3901,"MAVA",35,"BOSTON                       ",29.940000000000005,29,28.250000000000004,-0.74999999999999645,205436,208986,198832,-10154,null,0,3901035,28.250000000000004,198832]
[3901036,3901,"MAVA",36,"BOURNE                       ",3.51,1,0.81,-0.18999999999999995,23632,6700,5441,-1259,null,0,3901036,0.81,5441]
[3901038,3901,"MAVA",38,"BOXFORD                      ",1,1,1,0,6700,6700,6700,0,null,0,3901038,1,6700]
[3901039,3901,"MA VIRTUAL ACADEMY",39,"BOYLSTON                     ",1.92,0,0,0,12870,0,0,0,null,0,3901039]
[3901040,3901,"MAVA",40,"BRAINTREE                    ",2.66,1,1.76,0.76,17848,6700,11810,5110,null,0,3901040,1.76,11810]
[3901044,3901,"MAVA",44,"BROCKTON                     ",16.22,11,10.25,-0.75,108808,73700,69089,-4611,null,0,3901044,10.25,69089]
[3901048,3901,"MA VIRTUAL ACADEMY",48,"BURLINGTON                   ",1,0,0,0,6700,0,0,0,null,0,3901048]
[3901049,3901,"MAVA",49,"CAMBRIDGE                    ",2,2,2,0,13400,13400,13400,0,null,0,3901049,2,13400]
[3901052,3901,"MAVA",52,"CARVER                       ",3.21,3,2.31,-0.69,21566,20100,15529,-4571,null,0,3901052,2.31,15529]
[3901056,3901,"MAVA",56,"CHELMSFORD                   ",1.48,3,2.46,-0.54,9955,20100,16523,-3577,null,0,3901056,2.46,16523]
[3901057,3901,"MAVA",57,"CHELSEA                      ",2.7800000000000002,6,6.09,8.9999999999999858E-2,18642,40200,40872,672,null,0,3901057,6.09,40872]
[3901061,3901,"MAVA",61,"CHICOPEE                     ",6,12,13.66,1.6600000000000001,40200,84400,95278,10878,null,0,3901061,13.66,95278]
[3901064,3901,"MAVA",64,"CLINTON                      ",7,4,2.61,-1.3900000000000001,46900,26800,17666,-9134,null,0,3901064,2.61,17666]
[3901071,3901,"MA VIRTUAL ACADEMY",71,"DANVERS                      ",0.99,1,1,0,6634,6700,6700,0,null,0,3901071,1,6700]
[3901072,3901,"MASS VIRTUAL ACADEMY",72,"DARTMOUTH                    ",2,2,1.47,-0.53,13400,13400,9889,-3511,null,0,3901072,1.47,9889]
[3901073,3901,"MAVA",73,"DEDHAM                       ",1.46,1,1,0,9898,6700,6700,0,null,0,3901073,1,6700]
[3901074,3901,"MA VIRTUAL ACADEMY",74,"DEERFIELD                    ",null,3,2.98,-2.0000000000000018E-2,null,20100,19968,-132,null,0,3901074,2.98,19968]
[3901077,3901,"MAVA",77,"DOUGLAS                      ",3,2,4,2,20100,13400,27724,14324,null,0,3901077,4,27724]
[3901079,3901,"MAVA",79,"DRACUT                       ",1,4,4.57,0.57000000000000028,6700,26800,30956,4156,null,0,3901079,4.57,30956]
[3901083,3901,"MAVA",83,"EAST BRIDGEWATER             ",3,0,0,0,20100,0,0,0,null,0,3901083]
[3901086,3901,"MAVA",86,"EASTHAMPTON                  ",2.96,2,2.68,0.68000000000000016,19835,13400,17980,4580,null,0,3901086,2.68,17980]
[3901087,3901,"MAVA",87,"EAST LONGMEADOW              ",3,2,1.4,-0.60000000000000009,20133,13400,9425,-3975,null,0,3901087,1.4,9425]
[3901088,3901,"MAVA",88,"EASTON                       ",3,1,1,0,20921,7521,7926,405,null,0,3901088,1,7926]
[3901093,3901,"MA VIRTUAL ACADEMY",93,"EVERETT                      ",null,2,1.96,-4.0000000000000036E-2,null,13400,13136,-264,null,0,3901093,1.96,13136]
[3901094,3901,"MAVA",94,"FAIRHAVEN                    ",0.11,0,0,0,804,0,0,0,null,0,3901094]
[3901095,3901,"MAVA",95,"FALL RIVER                   ",13.799999999999997,13,12.940000000000001,-5.9999999999998721E-2,98310,92865,91169,-1696,null,0,3901095,12.940000000000001,91169]
[3901096,3901,"MAVA",96,"FALMOUTH                     ",1.1000000000000001,1,1.74,0.74,7438,6700,11678,4978,null,0,3901096,1.74,11678]
[3901097,3901,"MAVA",97,"FITCHBURG                    ",6.1899999999999995,5,6.09,1.0899999999999999,45829,36844,44983,8139,null,0,3901097,6.09,44983]
[3901099,3901,"MA VIRTUAL ACADEMY",99,"FOXBOROUGH                   ",null,1,1,0,null,6700,6700,0,null,0,3901099,1,6700]
[3901100,3901,"MAVA",100,"FRAMINGHAM                   ",1,2,1.22,-0.78,6700,13400,8233,-5167,null,0,3901100,1.22,8233]
[3901101,3901,"MA VIRTUAL ACADEMY",101,"FRANKLIN                     ",null,2,2,0,null,17400,13779,-3621,null,0,3901101,2,13779]
[3901103,3901,"MAVA",103,"GARDNER                      ",4.9399999999999995,8,7.3,-0.70000000000000018,33469,73600,50959,-22641,null,0,3901103,7.3,50959]
[3901107,3901,"MA VIRTUAL ACADEMY",107,"GLOUCESTER                   ",1.7,1,1,0,12726,6700,6700,0,null,0,3901107,1,6700]
[3901110,3901,"MAVA",110,"GRAFTON                      ",1.47,3,2.92,-8.0000000000000071E-2,10823,24100,20909,-3191,null,{"$f":"P2115-A2115","v":0},3901110,2.92,20909]
[3901114,3901,"MAVA",114,"GREENFIELD                   ",17.32,18,{"$f":"Q2116","v":16.66},{"$f":"H2116-G2116","v":-1.3399999999999999},125521,173004,{"$f":"R2116","v":126089},{"$f":"L2116-K2116","v":-46915},null,0,3901114,16.66,126089]
[3901127,3901,"MAVA",127,"HATFIELD                     ",5,6,6,0,33500,40200,40200,0,null,0,3901127,6,40200]
[3901128,3901,"MAVA",128,"HAVERHILL                    ",5.65,5,4.92,-8.0000000000000071E-2,37957,33500,33046,-454,null,0,3901128,4.92,33046]
[3901131,{"$f":"TRUNC(A2119,-3)/1000","v":3901},{"$f":"VLOOKUP(B2119,code437,2)","v":"MA VIRTUAL ACADEMY"},{"$f":"A2119-B2119*1000","v":131},"HINGHAM                      ",null,null,0.52,0.52,null,null,3520,3520,null,0,3901131,0.52,3520]
[3901133,3901,"MAVA",133,"HOLBROOK                     ",4.96,4,4.66,0.66000000000000014,33838,26800,31248,4448,null,0,3901133,4.66,31248]
[3901136,3901,"MAVA",136,"HOLLISTON                    ",0.61,0,0,0,4191,0,0,0,null,0,3901136]
[3901137,3901,"MAVA",137,"HOLYOKE                      ",3.68,5,6.13,1.1299999999999999,29638,38307,44670,6363,null,0,3901137,6.13,44670]
[3901138,3901,"MAVA",138,"HOPEDALE                     ",0.49,2,2,0,3471,20400,17266,-3134,null,0,3901138,2,17266]
[3901141,{"$f":"TRUNC(A2124,-3)/1000","v":3901},{"$f":"VLOOKUP(B2124,code437,2)","v":"MA VIRTUAL ACADEMY"},{"$f":"A2124-B2124*1000","v":141},"HUDSON                       ",null,null,1,1,null,null,6700,6700,null,0,3901141,1,6700]
[3901142,3901,"MAVA",142,"HULL                         ",1.8099999999999998,2,1.87,-0.12999999999999989,12217,17400,15930,-1470,null,0,3901142,1.87,15930]
[3901149,3901,"MAVA",149,"LAWRENCE                     ",6.2399999999999984,6,6.74,0.74000000000000021,45654,43838,49586,5748,null,0,3901149,6.74,49586]
[3901153,3901,"MAVA",153,"LEOMINSTER                   ",9.2899999999999991,4,3.98,-2.0000000000000018E-2,66721,36753,28252,-8501,null,0,3901153,3.98,28252]
[3901155,3901,"MA VIRTUAL ACADEMY",155,"LEXINGTON                    ",null,1,1,0,null,6700,6700,0,null,0,3901155,1,6700]
[3901157,3901,"MAVA",157,"LINCOLN                      ",0.42,3,2.2200000000000002,-0.7799999999999998,2858,20100,14933,-5167,null,0,3901157,2.2200000000000002,14933]
[3901158,3901,"MAVA",158,"LITTLETON                    ",1.22,1,1,0,8308,6700,6700,0,null,0,3901158,1,6700]
[3901160,3901,"MAVA",160,"LOWELL                       ",12.07,12,11.459999999999999,-0.54000000000000092,83870,86228,83872,-2356,null,0,3901160,11.459999999999999,83872]
[3901161,3901,"MAVA",161,"LUDLOW                       ",1.31,1,1,0,8829,6700,6700,0,null,0,3901161,1,6700]
[3901162,3901,"MA VIRTUAL ACADEMY",162,"LUNENBURG                    ",1,1,1.54,0.54,6700,6700,10353,3653,null,0,3901162,1.54,10353]
[3901163,3901,"MAVA",163,"LYNN                         ",11.620000000000001,11,12.540000000000001,1.5400000000000009,77883,77700,85005,7305,null,0,3901163,12.540000000000001,85005]
[3901165,3901,"MA VIRTUAL ACADEMY",165,"MALDEN                       ",3.89,2,3.56,1.56,26071,17400,25404,8004,null,0,3901165,3.56,25404]
[3901167,3901,"MAVA",167,"MANSFIELD                    ",2,3,3,0,13400,20100,20100,0,null,0,3901167,3,20100]
[3901168,3901,"MA VIRTUAL ACADEMY",168,"MARBLEHEAD                   ",null,2,2,0,null,13400,13400,0,null,0,3901168,2,13400]
[3901169,3901,"MA VIRTUAL ACADEMY",169,"MARION                       ",1,0,0,0,9670,0,0,0,null,0,3901169]
[3901170,3901,"MAVA",170,"MARLBOROUGH                  ",5.09,5,5.98,0.98000000000000043,34172,33500,40143,6643,null,0,3901170,5.98,40143]
[3901171,3901,"MA VIRTUAL ACADEMY",171,"MARSHFIELD                   ",1.6,1,1,0,10751,6700,6700,0,null,0,3901171,1,6700]
[3901172,3901,"MAVA",172,"MASHPEE                      ",2,0,0,0,13400,0,0,0,null,0,3901172]
[3901176,3901,"MAVA",176,"MEDFORD                      ",1,0,0,0,6700,0,0,0,null,0,3901176]
[3901177,3901,"MA VIRTUAL ACADEMY",177,"MEDWAY                       ",null,1,0.89,-0.10999999999999999,null,10700,7370,-3330,null,0,3901177,0.89,7370]
[3901178,3901,"MA VIRTUAL ACADEMY",178,"MELROSE                      ",1,2,1.63,-0.37000000000000011,8403,15103,11851,-3252,null,0,3901178,1.63,11851]
[3901181,3901,"MAVA",181,"METHUEN                      ",4.91,3,2.85,-0.14999999999999991,34610,20100,19106,-994,null,0,3901181,2.85,19106]
[3901182,3901,"MAVA",182,"MIDDLEBOROUGH                ",2.39,5,6.42,1.42,16059,33500,44451,10951,null,0,3901182,6.42,44451]
[3901184,3901,"MA VIRTUAL ACADEMY",184,"MIDDLETON                    ",null,1,1,0,null,6700,6700,0,null,0,3901184,1,6700]
[3901185,3901,"MAVA",185,"MILFORD                      ",0.65,0,0,0,4457,0,0,0,null,0,3901185]
[3901186,3901,"MAVA",186,"MILLBURY                     ",2.2200000000000002,2,2,0,14933,13400,13400,0,null,0,3901186,2,13400]
[3901187,3901,"MA VIRTUAL ACADEMY",187,"MILLIS                       ",null,2,1.81,-0.18999999999999995,null,13400,12142,-1258,null,0,3901187,1.81,12142]
[3901189,3901,"MAVA",189,"MILTON                       ",2.7,2,2,0,18188,13400,13400,0,null,0,3901189,2,13400]
[3901191,3901,"MAVA",191,"MONSON                       ",6.84,8,6.6,-1.4000000000000004,45840,53600,44326,-9274,null,0,3901191,6.6,44326]
[3901197,3901,"MA VIRTUAL ACADEMY",197,"NANTUCKET                    ",null,1,0.55000000000000004,-0.44999999999999996,null,6700,3719,-2981,null,0,3901197,0.55000000000000004,3719]
[3901198,3901,"MAVA",198,"NATICK                       ",3,2,2.54,0.54,20100,13400,18146,4746,null,0,3901198,2.54,18146]
[3901201,3901,"MAVA",201,"NEW BEDFORD                  ",17.46,34,32.380000000000003,-1.6199999999999974,119946,250248,223031,-27217,null,0,3901201,32.380000000000003,223031]
[3901204,3901,"MAVA",204,"NEWBURYPORT                  ",0.7,0,0,0,4713,0,0,0,null,0,3901204]
[3901207,3901,"MA VIRTUAL ACADEMY",207,"NEWTON                       ",7.0000000000000007E-2,2,1.24,-0.76,539,13400,8365,-5035,null,0,3901207,1.24,8365]
[3901208,3901,"MA VIRTUAL ACADEMY",208,"NORFOLK                      ",1,1,1,0,6700,6700,6700,0,null,0,3901208,1,6700]
[3901209,3901,"MAVA",209,"NORTH ADAMS                  ",1.7,1,1,0,11413,6700,6700,0,null,0,3901209,1,6700]
[3901210,3901,"MA VIRTUAL ACADEMY",210,"NORTHAMPTON                  ",1,1,1,0,6700,6700,6700,0,null,0,3901210,1,6700]
[3901212,3901,"MA VIRTUAL ACADEMY",212,"NORTH ATTLEBOROUGH           ",7,8,8,0,46900,53600,53600,0,null,0,3901212,8,53600]
[3901213,3901,"MA VIRTUAL ACADEMY",213,"NORTHBOROUGH                 ",null,1,0.98,-2.0000000000000018E-2,null,6700,6568,-132,null,0,3901213,0.98,6568]
[3901214,3901,"MAVA",214,"NORTHBRIDGE                  ",1.44,2,1.46,-0.54,9881,13400,9823,-3577,null,0,3901214,1.46,9823]
[3901215,3901,"MA VIRTUAL ACADEMY",215,"NORTH BROOKFIELD             ",2,1,1,0,13732,6700,6700,0,null,0,3901215,1,6700]
[3901217,3901,"MA VIRTUAL ACADEMY",217,"NORTH READING                ",1,1,0.98,-2.0000000000000018E-2,6700,6700,6568,-132,null,0,3901217,0.98,6568]
[3901218,3901,"MAVA",218,"NORTON                       ",6.7,4,2.16,-1.8399999999999999,48558,26800,14610,-12190,null,0,3901218,2.16,14610]
[3901220,3901,"MAVA",220,"NORWOOD                      ",2,3,3,0,18110,24810,22529,-2281,null,0,3901220,3,22529]
[3901223,3901,"MAVA",223,"ORANGE                       ",0.62,0,0.16,0.16,4183,0,1135,1135,null,0,3901223,0.16,1135]
[3901224,3901,"MA VIRTUAL ACADEMY",224,"ORLEANS                      ",1,0,0,0,6700,0,0,0,null,0,3901224]
[3901226,3901,"MAVA",226,"OXFORD                       ",6,5,3.9800000000000004,-1.0199999999999996,42236,35536,27916,-7620,null,0,3901226,3.9800000000000004,27916]
[3901227,3901,"MAVA",227,"PALMER                       ",2.69,1,1.3199999999999998,0.31999999999999984,18046,6700,8970,2270,null,0,3901227,1.3199999999999998,8970]
[3901229,3901,"MAVA",229,"PEABODY                      ",5.67,1,0.28000000000000003,-0.72,41113,6700,1930,-4770,null,0,3901229,0.28000000000000003,1930]
[3901231,3901,"MA VIRTUAL ACADEMY",231,"PEMBROKE                     ",0.99,1,1,0,6634,6700,6700,0,null,0,3901231,1,6700]
[3901236,3901,"MAVA",236,"PITTSFIELD                   ",7.419999999999999,6,6.0699999999999994,6.9999999999999396E-2,53400,47540,44486,-3054,null,0,3901236,6.0699999999999994,44486]
[3901239,3901,"MAVA",239,"PLYMOUTH                     ",0.06,2,0.74,-1.26,473,13400,5052,-8348,null,0,3901239,0.74,5052]
[3901242,{"$f":"TRUNC(A2176,-3)/1000","v":3901},{"$f":"VLOOKUP(B2176,code437,2)","v":"MA VIRTUAL ACADEMY"},{"$f":"A2176-B2176*1000","v":242},"PROVINCETOWN                 ",null,null,0.62,0.62,null,null,4258,4258,null,0,3901242,0.62,4258]
[3901243,3901,"MAVA",243,"QUINCY                       ",4.91,3,4.6599999999999993,1.6599999999999993,32904,27100,33072,5972,null,0,3901243,4.6599999999999993,33072]
[3901244,3901,"MA VIRTUAL ACADEMY",244,"RANDOLPH                     ",3.86,0,1.34,1.34,25873,0,9028,9028,null,0,3901244,1.34,9028]
[3901246,3901,"MAVA",246,"READING                      ",2,4,3.6,-0.39999999999999991,13400,30800,24809,-5991,null,{"$f":"P2179-A2179","v":0},3901246,3.6,24809]
[3901248,3901,"MAVA",248,"REVERE                       ",3.27,3,{"$f":"Q2180","v":4.5999999999999996},{"$f":"H2180-G2180","v":1.5999999999999996},24288,22424,{"$f":"R2180","v":31578},{"$f":"L2180-K2180","v":9154},null,0,3901248,4.5999999999999996,31578]
[3901251,3901,"MAVA",251,"ROCKLAND                     ",2.7,4,3.76,-0.24000000000000021,20801,30800,27314,-3486,null,0,3901251,3.76,27314]
[3901258,3901,"MAVA",258,"SALEM                        ",4,3,3.84,0.83999999999999986,26800,20100,25816,5716,null,0,3901258,3.84,25816]
[3901261,3901,"MAVA",261,"SANDWICH                     ",0.1,2,2,0,852,13400,13400,0,null,0,3901261,2,13400]
[3901262,3901,"MAVA",262,"SAUGUS                       ",1.48,3,2.98,-2.0000000000000018E-2,10400,20100,19968,-132,null,0,3901262,2.98,19968]
[3901264,3901,"MAVA",264,"SCITUATE                     ",1.7,0,0,0,11413,0,0,0,null,0,3901264]
[3901265,3901,"MAVA",265,"SEEKONK                      ",2,1,1,0,13400,6700,6700,0,null,0,3901265,1,6700]
[3901266,3901,"MA VIRTUAL ACADEMY",266,"SHARON                       ",0.69,0,0,0,4646,0,0,0,null,0,3901266]
[3901271,3901,"MAVA",271,"SHREWSBURY                   ",0.99,1,0.28999999999999998,-0.71,6634,6700,1996,-4704,null,0,3901271,0.28999999999999998,1996]
[3901273,3901,"MAVA",273,"SOMERSET                     ",0.28999999999999998,0,0,0,1996,0,0,0,null,0,3901273]
[3901274,3901,"MAVA",274,"SOMERVILLE                   ",1,2,2,0,6700,13400,13400,0,null,0,3901274,2,13400]
[3901276,3901,"MA VIRTUAL ACADEMY",276,"SOUTHBOROUGH                 ",3,3,3,0,20100,24100,21917,-2183,null,0,3901276,3,21917]
[3901277,3901,"MAVA",277,"SOUTHBRIDGE                  ",3.94,9,8.07,-0.92999999999999972,26403,71300,55908,-15392,null,0,3901277,8.07,55908]
[3901278,3901,"MAVA",278,"SOUTH HADLEY                 ",4,4,4.38,0.37999999999999989,30178,34178,31853,-2325,null,0,3901278,4.38,31853]
[3901281,3901,"MAVA",281,"SPRINGFIELD                  ",40.92,43,42.15,-0.85000000000000142,281595,319360,302325,-17035,null,0,3901281,42.15,302325]
[3901284,{"$f":"TRUNC(A2195,-3)/1000","v":3901},{"$f":"VLOOKUP(B2195,code437,2)","v":"MA VIRTUAL ACADEMY"},{"$f":"A2195-B2195*1000","v":284},"STONEHAM                     ",null,null,1.26,1.26,null,null,8498,8498,null,0,3901284,1.26,8498]
[3901285,3901,"MAVA",285,"STOUGHTON                    ",2,2,2,0,13400,17400,14918,-2482,null,0,3901285,2,14918]
[3901287,3901,"MASS VIRTUAL ACADEMY",287,"STURBRIDGE                   ",1,1,1,0,6700,13700,20035,6335,null,0,3901287,1,20035]
[3901290,3901,"MAVA",290,"SUTTON                       ",1,1,1,0,6700,6700,6700,0,null,0,3901290,1,6700]
[3901293,3901,"MAVA",293,"TAUNTON                      ",4.8599999999999994,4,5.1499999999999995,1.1499999999999995,32999,33800,38094,4294,null,0,3901293,5.1499999999999995,38094]
[3901295,3901,"MA VIRTUAL ACADEMY",295,"TEWKSBURY                    ",1,0,0,0,6700,0,0,0,null,0,3901295]
[3901301,3901,"MAVA",301,"TYNGSBOROUGH                 ",2.04,1,1,0,13740,6700,6700,0,null,0,3901301,1,6700]
[3901304,3901,"MAVA",304,"UXBRIDGE                     ",4,3,1,-2,26800,20100,6700,-13400,null,0,3901304,1,6700]
[3901305,{"$f":"TRUNC(A2203,-3)/1000","v":3901},{"$f":"VLOOKUP(B2203,code437,2)","v":"MA VIRTUAL ACADEMY"},{"$f":"A2203-B2203*1000","v":305},"WAKEFIELD                    ",null,null,3.24,3.24,null,null,21764,21764,null,0,3901305,3.24,21764]
[3901308,3901,"MAVA",308,"WALTHAM                      ",3,4,4.5,0.5,20100,26800,30188,3388,null,0,3901308,4.5,30188]
[3901309,3901,"MAVA",309,"WARE                         ",8.2100000000000009,6,5.29,-0.71,55183,40200,35497,-4703,null,0,3901309,5.29,35497]
[3901310,3901,"MA VIRTUAL ACADEMY",310,"WAREHAM                      ",2.8000000000000003,6,7.16,1.1600000000000001,19099,40200,48379,8179,null,0,3901310,7.16,48379]
[3901314,3901,"MA VIRTUAL ACADEMY",314,"WATERTOWN                    ",2,3,3,0,13400,20100,20100,0,null,0,3901314,3,20100]
[3901316,3901,"MA VIRTUAL ACADEMY",316,"WEBSTER                      ",1,3,2.5099999999999998,-0.49000000000000021,6700,24100,20704,-3396,null,0,3901316,2.5099999999999998,20704]
[3901321,3901,"MA VIRTUAL ACADEMY",321,"WESTBOROUGH                  ",0.27,0,0,0,1864,0,0,0,null,0,3901321]
[3901322,3901,"MAVA",322,"WEST BOYLSTON                ",2,2,2,0,13400,13400,13400,0,null,0,3901322,2,13400]
[3901323,3901,"MA VIRTUAL ACADEMY",323,"WEST BRIDGEWATER             ",1.7200000000000002,0,0,0,11620,0,0,0,null,0,3901323]
[3901325,3901,"MAVA",325,"WESTFIELD                    ",3.35,9,9.07,7.0000000000000284E-2,25692,66468,67787,1319,null,0,3901325,9.07,67787]
[3901326,3901,"MA VIRTUAL ACADEMY",326,"WESTFORD                     ",null,1,1,0,null,6700,6700,0,null,0,3901326,1,6700]
[3901332,3901,"MAVA",332,"WEST SPRINGFIELD             ",12.680000000000001,8,8,0,85131,57600,54763,-2837,null,0,3901332,8,54763]
[3901336,3901,"MAVA",336,"WEYMOUTH                     ",5.79,4,4,0,38884,26800,26800,0,null,0,3901336,4,26800]
[3901342,3901,"MA VIRTUAL ACADEMY",342,"WILMINGTON                   ",null,1,0.92,-7.999999999999996E-2,null,10700,6906,-3794,null,0,3901342,0.92,6906]
[3901343,3901,"MAVA",343,"WINCHENDON                   ",5.98,3,3.77,0.77,43192,23224,26572,3348,null,0,3901343,3.77,26572]
[3901344,3901,"MAVA",344,"WINCHESTER                   ",3,3,3,0,20100,20100,20100,0,null,0,3901344,3,20100]
[3901346,3901,"MAVA",346,"WINTHROP                     ",1,1,1,0,6700,6700,6700,0,null,0,3901346,1,6700]
[3901347,3901,"MA VIRTUAL ACADEMY",347,"WOBURN",null,1,1.3800000000000001,0.38000000000000012,null,6700,9368,2668,null,0,3901347,1.3800000000000001,9368]
[3901348,3901,"MAVA",348,"WORCESTER                    ",23,15,14.07,-0.92999999999999972,154653,100500,94639,-5861,null,0,3901348,14.07,94639]
[3901600,3901,"MAVA",600,"ACTON BOXBOROUGH             ",2,1,1,0,13400,6700,6700,0,null,0,3901600,1,6700]
[3901603,{"$f":"TRUNC(A2223,-3)/1000","v":3901},{"$f":"VLOOKUP(B2223,code437,2)","v":"MA VIRTUAL ACADEMY"},{"$f":"A2223-B2223*1000","v":603},"ADAMS CHESHIRE               ",null,null,0.51,0.51,null,null,4226,4226,null,0,3901603,0.51,4226]
[3901605,3901,"MAVA",605,"AMHERST PELHAM               ",2,2,2.2999999999999998,0.29999999999999982,13400,13400,16313,2913,null,0,3901605,2.2999999999999998,16313]
[3901610,3901,"MAVA",610,"ASHBURNHAM WESTMINSTER       ",1.22,1,1,0,9337,7439,7488,49,null,0,3901610,1,7488]
[3901615,3901,"MAVA",615,"ATHOL ROYALSTON              ",8.14,11,6.7600000000000007,-4.2399999999999993,57562,76157,49464,-26693,null,0,3901615,6.7600000000000007,49464]
[3901616,3901,"MAVA",616,"AYER SHIRLEY",2,2,2,0,17967,13400,13400,0,null,0,3901616,2,13400]
[3901618,3901,"MAVA",618,"BERKSHIRE HILLS              ",1,0,0,0,6700,0,0,0,null,0,3901618]
[3901625,3901,"MAVA",625,"BRIDGEWATER RAYNHAM          ",2.06,1,1.42,0.41999999999999993,21560,6700,9558,2858,null,0,3901625,1.42,9558]
[3901635,3901,"MAVA",635,"CENTRAL BERKSHIRE            ",3.15,2,2,0,23798,16028,18492,2464,null,0,3901635,2,18492]
[3901645,3901,"MAVA",645,"DENNIS YARMOUTH              ",3,1,1,0,20702,6700,6700,0,null,0,3901645,1,6700]
[3901650,3901,"MAVA",650,"DIGHTON REHOBOTH             ",2.59,3,3.74,0.74000000000000021,17459,20100,25078,4978,null,0,3901650,3.74,25078]
[3901655,3901,"MAVA",655,"DOVER SHERBORN               ",3,1,1,0,20100,6700,6700,0,null,0,3901655,1,6700]
[3901658,3901,"MAVA",658,"DUDLEY CHARLTON              ",2.17,3,2.94,-6.0000000000000053E-2,14705,20100,19703,-397,null,0,3901658,2.94,19703]
[3901660,3901,"MA VIRTUAL ACADEMY",660,"NAUSET                       ",1,0,0.78,0.78,6700,0,5243,5243,null,0,3901660,0.78,5243]
[3901665,3901,"MAVA",665,"FREETOWN LAKEVILLE           ",3.94,2,2,0,26403,13400,13400,0,null,0,3901665,2,13400]
[3901670,3901,"MAVA",670,"FRONTIER                     ",1,0,0,0,6700,0,0,0,null,0,3901670]
[3901672,3901,"MAVA",672,"GATEWAY                      ",1,1,1,0,6700,6700,6700,0,null,0,3901672,1,6700]
[3901673,3901,"MAVA",673,"GROTON DUNSTABLE             ",1,1,1,0,6700,6700,6700,0,null,0,3901673,1,6700]
[3901674,3901,"MA VIRTUAL ACADEMY",674,"GILL MONTAGUE                ",null,1,1,0,null,6700,6700,0,null,0,3901674,1,6700]
[3901675,3901,"MAVA",675,"HAMILTON WENHAM              ",3,1,1,0,20100,6700,6700,0,null,0,3901675,1,6700]
[3901680,3901,"MAVA",680,"HAMPDEN WILBRAHAM            ",4.4000000000000004,1,1,0,29526,6700,6700,0,null,0,3901680,1,6700]
[3901683,3901,"MAVA",683,"HAMPSHIRE                    ",5,6,6,0,33500,40200,40200,0,null,{"$f":"P2243-A2243","v":0},3901683,6,40200]
[3901690,3901,"MA VIRTUAL ACADEMY",690,"KING PHILIP                  ",0.06,2,{"$f":"Q2244","v":1.43},{"$f":"H2244-G2244","v":-0.57000000000000006},473,20400,{"$f":"R2244","v":10460},{"$f":"L2244-K2244","v":-9940},null,0,3901690,1.43,10460]
[3901698,3901,"MA VIRTUAL ACADEMY",698,"MANCHESTER ESSEX",1,0,0,0,6700,0,0,0,null,0,3901698]
[3901700,3901,"MA VIRTUAL ACADEMY",700,"MARTHAS VINEYARD             ",null,1,1,0,null,6700,6700,0,null,0,3901700,1,6700]
[3901710,3901,"MA VIRTUAL ACADEMY",710,"MENDON UPTON                 ",2,2,1.34,-0.65999999999999992,13400,13400,9028,-4372,null,0,3901710,1.34,9028]
[3901712,3901,"MAVA",712,"MONOMOY",1,2,1.26,-0.74,6700,17400,8498,-8902,null,0,3901712,1.26,8498]
[3901715,3901,"MAVA",715,"MOUNT GREYLOCK               ",2,1,1,0,13400,6700,6700,0,null,0,3901715,1,6700]
[3901717,3901,"MAVA",717,"MOHAWK TRAIL                 ",2,3,2.0300000000000002,-0.96999999999999975,13400,24100,15258,-8842,null,0,3901717,2.0300000000000002,15258]
[3901720,3901,"MAVA",720,"NARRAGANSETT                 ",0.25,0,0,0,1731,0,0,0,null,0,3901720]
[3901725,3901,"MAVA",725,"NASHOBA                      ",2.7800000000000002,0,1.62,1.62,18642,0,10882,10882,null,0,3901725,1.62,10882]
[3901728,3901,"MAVA",728,"NEW SALEM WENDELL            ",1,0,0,0,6700,0,0,0,null,0,3901728]
[3901730,3901,"MAVA",730,"NORTHBORO SOUTHBORO          ",0.47,1,0.46,-0.54,3189,6700,3123,-3577,null,0,3901730,0.46,3123]
[3901735,3901,"MAVA",735,"NORTH MIDDLESEX              ",2.5499999999999998,5,4.26,-0.74000000000000021,17119,33500,28598,-4902,null,0,3901735,4.26,28598]
[3901740,3901,"MA VIRTUAL ACADEMY",740,"OLD ROCHESTER                ",null,1,1,0,null,9670,7936,-1734,null,0,3901740,1,7936]
[3901745,3901,"MAVA",745,"PENTUCKET                    ",1.92,1,1,0,14715,8545,8177,-368,null,0,3901745,1,8177]
[3901750,3901,"MA VIRTUAL ACADEMY",750,"PIONEER                      ",1.52,1,1,0,10220,6700,6700,0,null,0,3901750,1,6700]
[3901753,3901,"MAVA",753,"QUABBIN                      ",4.41,7,7.68,0.67999999999999972,39549,62247,61573,-674,null,0,3901753,7.68,61573]
[3901755,3901,"MAVA",755,"RALPH C MAHAR                ",2.08,1,0.53,-0.47,14006,6700,3662,-3038,null,0,3901755,0.53,3662]
[3901760,3901,"MA VIRTUAL ACADEMY",760,"SILVER LAKE                  ",null,2,1.97,-3.0000000000000027E-2,null,13400,13201,-199,null,0,3901760,1.97,13201]
[3901763,3901,"MA VIRTUAL ACADEMY",763,"SOMERSET BERKLEY",0.28999999999999998,0,0,0,1996,0,0,0,null,0,3901763]
[3901765,3901,"MAVA",765,"SOUTHERN BERKSHIRE           ",3.55,0,0,0,23819,0,0,0,null,0,3901765]
[3901766,3901,"MA VIRTUAL ACADEMY",766,"SOUTHWICK TOLLAND",1,1,1,0,6700,6700,6700,0,null,0,3901766,1,6700]
[3901767,3901,"MA VIRTUAL ACADEMY",767,"SPENCER EAST BROOKFIELD      ",1.1499999999999999,1,1.3900000000000001,0.39000000000000012,8073,10700,10016,-684,null,0,3901767,1.3900000000000001,10016]
[3901770,3901,"MA VIRTUAL ACADEMY",770,"TANTASQUA                    ",null,1,2,1,null,6700,13400,6700,null,0,3901770,2,13400]
[3901773,3901,"MA VIRTUAL ACADEMY",773,"TRITON                       ",0.11,1,1.55,0.55000000000000004,804,6700,10419,3719,null,0,3901773,1.55,10419]
[3901775,3901,"MAVA",775,"WACHUSETT                    ",8.2199999999999989,7,5.95,-1.0499999999999998,55261,46900,39944,-6956,null,0,3901775,5.95,39944]
[3901778,3901,"MA VIRTUAL ACADEMY",778,"QUABOAG",null,1,0.98,-2.0000000000000018E-2,null,6700,6568,-132,null,0,3901778,0.98,6568]
[3901780,3901,"MA VIRTUAL ACADEMY",780,"WHITMAN HANSON               ",1,2,1.97,-3.0000000000000027E-2,6700,13400,13201,-199,null,0,3901780,1.97,13201]
[3902001,3902,"TECCA",1,"ABINGTON                     ",1.57,3,4.0999999999999996,1.0999999999999996,11022,20100,27613,7513,null,0,3902001,4.0999999999999996,27613]
[3902003,3902,"TECCA",3,"ACUSHNET                     ",null,1,3.16,2.16,null,6700,21235,14535,null,0,3902003,3.16,21235]
[3902005,3902,"TECCA",5,"AGAWAM                       ",0.43,2,2.6,0.60000000000000009,2924,13400,17450,4050,null,0,3902005,2.6,17450]
[3902007,3902,"TECCA",7,"AMESBURY                     ",3.82,8,6.3199999999999994,-1.6800000000000006,28458,63315,43244,-20071,null,0,3902007,6.3199999999999994,43244]
[3902009,3902,"TECCA",9,"ANDOVER                      ",3.83,2,2,0,25749,17400,14767,-2633,null,0,3902009,2,14767]
[3902010,3902,"TECCA",10,"ARLINGTON                    ",0.43,0,0.78,0.78,2924,0,5243,5243,null,0,3902010,0.78,5243]
[3902014,3902,"TECCA",14,"ASHLAND                      ",null,0.5,1.86,1.36,null,3388,12620,9232,null,0,3902014,1.86,12620]
[3902016,3902,"TECCA",16,"ATTLEBORO                    ",6.8100000000000005,10,9.7200000000000006,-0.27999999999999936,47164,71000,66566,-4434,null,0,3902016,9.7200000000000006,66566]
[3902017,3902,"TECCA",17,"AUBURN                       ",0.28999999999999998,0,0.62,0.62,1996,0,4335,4335,null,0,3902017,0.62,4335]
[3902018,3902,"TECCA",18,"AVON                         ",0.49,0,0.47,0.47,3458,0,3967,3967,null,0,3902018,0.47,3967]
[3902020,3902,"TECCA",20,"BARNSTABLE                   ",2.7199999999999998,5,5.41,0.41000000000000014,18395,41500,39254,-2246,null,0,3902020,5.41,39254]
[3902023,3902,"TECCA",23,"BEDFORD                      ",0.9,0,1.1599999999999999,1.1599999999999999,6113,0,8265,8265,null,0,3902023,1.1599999999999999,8265]
[3902024,3902,"TECCA",24,"BELCHERTOWN                  ",5.21,7,7.0600000000000005,6.0000000000000497E-2,35207,50900,48339,-2561,null,0,3902024,7.0600000000000005,48339]
[3902025,3902,"TECCA",25,"BELLINGHAM                   ",6.4399999999999995,10,9.25,-0.75,44259,71000,62325,-8675,null,0,3902025,9.25,62325]
[3902026,{"$f":"TRUNC(A2285,-3)/1000","v":3902},{"$f":"VLOOKUP(B2285,code437,2)","v":"TECCA"},{"$f":"A2285-B2285*1000","v":26},"BELMONT                      ",null,null,1.3,1.3,null,null,8920,8920,null,0,3902026,1.3,8920]
[3902030,3902,"TECCA",30,"BEVERLY                      ",6.7200000000000006,11,11.940000000000001,0.94000000000000128,47367,79376,85591,6215,null,0,3902030,11.940000000000001,85591]
[3902031,3902,"TECCA",31,"BILLERICA                    ",5.1100000000000003,5,5.42,0.41999999999999993,34305,41500,40903,-597,null,0,3902031,5.42,40903]
[3902035,3902,"TECCA",35,"BOSTON                       ",25.220000000000002,41,43.829999999999991,2.8299999999999912,172984,292614,300422,7808,null,0,3902035,43.829999999999991,300422]
[3902036,3902,"TECCA",36,"BOURNE                       ",1.69,0,0,0,12138,0,0,0,null,0,3902036]
[3902040,3902,"TECCA",40,"BRAINTREE                    ",1.57,1,2.4299999999999997,1.4299999999999997,10627,6700,16520,9820,null,0,3902040,2.4299999999999997,16520]
[3902044,3902,"TECCA",44,"BROCKTON                     ",8.7499999999999982,14,14.43,0.42999999999999972,60207,106505,99419,-7086,null,0,3902044,14.43,99419]
[3902046,3902,"TECCA",46,"BROOKLINE                    ",null,1,1.31,0.31000000000000005,null,6700,8829,2129,null,0,3902046,1.31,8829]
[3902048,3902,"TECCA",48,"BURLINGTON                   ",2.5,3,3.88,0.87999999999999989,16788,20100,26005,5905,null,0,3902048,3.88,26005]
[3902049,3902,"TECCA",49,"CAMBRIDGE                    ",2.9000000000000004,3,3.41,0.41000000000000014,19479,20100,22891,2791,null,0,3902049,3.41,22891]
[3902050,3902,"TECCA",50,"CANTON                       ",0.03,1,1.4,0.39999999999999991,274,6700,9836,3136,null,0,3902050,1.4,9836]
[3902052,3902,"TECCA",52,"CARVER                       ",0.5,3,0.88,-2.12,3502,20100,6422,-13678,null,0,3902052,0.88,6422]
[3902056,3902,"TECCA",56,"CHELMSFORD                   ",2.41,5,3.31,-1.69,17114,45500,23046,-22454,null,0,3902056,3.31,23046]
[3902057,3902,"TECCA",57,"CHELSEA                      ",1.2,1,3.18,2.1800000000000002,8100,6700,21518,14818,null,0,3902057,3.18,21518]
[3902061,3902,"TECCA",61,"CHICOPEE                     ",4.54,8.5,10.370000000000001,1.870000000000001,30637,56988,70316,13328,null,0,3902061,10.370000000000001,70316]
[3902064,3902,"TECCA",64,"CLINTON                      ",2.93,2,1.2,-0.8,19711,13400,8100,-5300,null,0,3902064,1.2,8100]
[3902067,3902,"TECCA",67,"CONCORD                      ",0.78,2,2,0,5243,13400,13400,0,null,0,3902067,2,13400]
[3902071,3902,"TECCA",71,"DANVERS                      ",3.27,5,6.7799999999999994,1.7799999999999994,23100,34223,46277,12054,null,0,3902071,6.7799999999999994,46277]
[3902072,3902,"TECCA",72,"DARTMOUTH                    ",0.7,1,3,2,4863,6700,20175,13475,null,0,3902072,3,20175]
[3902073,3902,"TECCA",73,"DEDHAM                       ",1.2,1,0.14000000000000001,-0.86,8100,6700,1003,-5697,null,0,3902073,0.14000000000000001,1003]
[3902077,3902,"TECCA",77,"DOUGLAS                      ",0.56000000000000005,3,3.4699999999999998,0.46999999999999975,3861,20100,23416,3316,null,0,3902077,3.4699999999999998,23416]
[3902079,3902,"TECCA",79,"DRACUT                       ",0.77,4,4.42,0.41999999999999993,5251,26800,29658,2858,null,0,3902079,4.42,29658]
[3902082,3902,"TECCA",82,"DUXBURY                      ",0.71,1,1.77,0.77,4779,6700,12477,5777,null,{"$f":"P2307-A2307","v":0},3902082,1.77,12477]
[3902083,3902,"TECCA",83,"EAST BRIDGEWATER             ",2.3699999999999997,1,{"$f":"Q2308","v":1},{"$f":"H2308-G2308","v":0},16002,6700,{"$f":"R2308","v":6700},{"$f":"L2308-K2308","v":0},null,0,3902083,1,6700]
[3902086,3902,"TECCA",86,"EASTHAMPTON                  ",0.18,1,1,0,1309,6700,6700,0,null,0,3902086,1,6700]
[3902087,3902,"TECCA",87,"EAST LONGMEADOW              ",null,2,2.57,0.56999999999999984,null,17400,20834,3434,null,0,3902087,2.57,20834]
[3902088,3902,"TECCA",88,"EASTON                       ",2.1799999999999997,2,3.64,1.6400000000000001,14668,17400,25857,8457,null,0,3902088,3.64,25857]
[3902093,3902,"TECCA",93,"EVERETT                      ",3.4499999999999997,1,1.26,0.26,23456,6776,8649,1873,null,0,3902093,1.26,8649]
[3902094,3902,"TECCA",94,"FAIRHAVEN                    ",0.81,1,1.54,0.54,5701,10700,11532,832,null,0,3902094,1.54,11532]
[3902095,3902,"TECCA",95,"FALL RIVER                   ",8.8699999999999992,11,11.59,0.58999999999999986,61988,83799,88716,4917,null,0,3902095,11.59,88716]
[3902096,3902,"TECCA",96,"FALMOUTH                     ",3.1999999999999997,3,4.1399999999999997,1.1399999999999997,22484,21008,30662,9654,null,0,3902096,4.1399999999999997,30662]
[3902097,3902,"TECCA",97,"FITCHBURG                    ",5.71,9,9.81,0.8100000000000005,39089,68300,67049,-1251,null,0,3902097,9.81,67049]
[3902099,3902,"TECCA",99,"FOXBOROUGH                   ",0.17,1,1.87,0.87000000000000011,1201,6700,12539,5839,null,0,3902099,1.87,12539]
[3902100,3902,"TECCA",100,"FRAMINGHAM                   ",3.3400000000000007,15,10.45,-4.5500000000000007,22653,112500,71561,-40939,null,0,3902100,10.45,71561]
[3902101,3902,"TECCA",101,"FRANKLIN                     ",5.6599999999999993,7,7.2099999999999991,0.20999999999999908,41575,53033,54736,1703,null,0,3902101,7.2099999999999991,54736]
[3902103,3902,"TECCA",103,"GARDNER                      ",3.8400000000000003,5,8.56,3.5600000000000005,26235,33500,57769,24269,null,0,3902103,8.56,57769]
[3902105,3902,"TECCA",105,"GEORGETOWN                   ",3.11,3,3.48,0.48,21587,20100,23355,3255,null,0,3902105,3.48,23355]
[3902107,3902,"TECCA",107,"GLOUCESTER                   ",null,2,3.91,1.9100000000000001,null,13400,26279,12879,null,0,3902107,3.91,26279]
[3902110,3902,"TECCA",110,"GRAFTON                      ",4.72,4,7.1899999999999995,3.1899999999999995,32049,30800,48809,18009,null,0,3902110,7.1899999999999995,48809]
[3902111,3902,"TECCA",111,"GRANBY                       ",1,2,1.9000000000000001,-9.9999999999999867E-2,7696,14396,13100,-1296,null,0,3902111,1.9000000000000001,13100]
[3902114,3902,"TECCA",114,"GREENFIELD                   ",0.97,2.5,2.9,0.39999999999999991,8555,18842,22942,4100,null,0,3902114,2.9,22942]
[3902117,3902,"TECCA",117,"HADLEY                       ",3.3499999999999996,4,5.33,1.33,23033,27339,39999,12660,null,0,3902117,5.33,39999]
[3902127,{"$f":"TRUNC(A2327,-3)/1000","v":3902},{"$f":"VLOOKUP(B2327,code437,2)","v":"TECCA"},{"$f":"A2327-B2327*1000","v":127},"HATFIELD                     ",null,null,0.03,0.03,null,null,274,274,null,0,3902127,0.03,274]
[3902128,3902,"TECCA",128,"HAVERHILL                    ",4.92,12.5,10.520000000000001,-1.9799999999999986,33393,95788,72767,-23021,null,0,3902128,10.520000000000001,72767]
[3902131,3902,"TECCA",131,"HINGHAM                      ",null,3,2.96,-4.0000000000000036E-2,null,28100,20652,-7448,null,0,3902131,2.96,20652]
[3902133,3902,"TECCA",133,"HOLBROOK                     ",1.48,2,1.99,-1.0000000000000009E-2,9955,13400,13334,-66,null,0,3902133,1.99,13334]
[3902135,{"$f":"TRUNC(A2331,-3)/1000","v":3902},{"$f":"VLOOKUP(B2331,code437,2)","v":"TECCA"},{"$f":"A2331-B2331*1000","v":135},"HOLLAND                      ",null,null,0.52,0.52,null,null,3520,3520,null,0,3902135,0.52,3520]
[3902136,3902,"TECCA",136,"HOLLISTON                    ",2.3200000000000003,4,3.99,-9.9999999999997868E-3,16737,30800,27115,-3685,null,0,3902136,3.99,27115]
[3902137,3902,"TECCA",137,"HOLYOKE                      ",0.57999999999999996,6,3.83,-2.17,3992,40200,26050,-14150,null,0,3902137,3.83,26050]
[3902138,3902,"TECCA",138,"HOPEDALE                     ",2.17,3,4.3900000000000006,1.3900000000000006,14601,20100,31031,10931,null,0,3902138,4.3900000000000006,31031]
[3902139,3902,"TECCA",139,"HOPKINTON                    ",null,3,4.4399999999999995,1.4399999999999995,null,24100,30129,6029,null,0,3902139,4.4399999999999995,30129]
[3902141,3902,"TECCA",141,"HUDSON                       ",2.89,5,7.3000000000000016,2.3000000000000016,19623,41500,51794,10294,null,0,3902141,7.3000000000000016,51794]
[3902142,3902,"TECCA",142,"HULL                         ",2.69,3,3.13,0.12999999999999989,18736,20789,21348,559,null,0,3902142,3.13,21348]
[3902144,3902,"TECCA",144,"IPSWICH                      ",1.85,4,3.89,-0.10999999999999988,12407,26800,26147,-653,null,0,3902144,3.89,26147]
[3902149,3902,"TECCA",149,"LAWRENCE                     ",3.5700000000000003,14.5,10.409999999999998,-4.0900000000000016,24102,109188,72480,-36708,null,0,3902149,10.409999999999998,72480]
[3902150,3902,"TECCA",150,"LEE                          ",1.8800000000000001,1,1,0,13691,6700,6700,0,null,0,3902150,1,6700]
[3902151,3902,"TECCA",151,"LEICESTER                    ",0.24,0,0.02,0.02,1665,0,208,208,null,0,3902151,0.02,208]
[3902152,3902,"TECCA",152,"LENOX                        ",2.0700000000000003,0,0,0,13939,0,0,0,null,0,3902152]
[3902153,3902,"TECCA",153,"LEOMINSTER                   ",7.3400000000000007,8,8.65,0.65000000000000036,53156,60064,62411,2347,null,0,3902153,8.65,62411]
[3902154,3902,"TECCA",154,"LEVERETT                     ",0.34,1,0.37,-0.63,2328,6700,2526,-4174,null,0,3902154,0.37,2526]
[3902155,3902,"TECCA",155,"LEXINGTON                    ",1.43,4,4.34,0.33999999999999986,10525,26800,29128,2328,null,0,3902155,4.34,29128]
[3902158,3902,"TECCA",158,"LITTLETON                    ",null,1,1,0,null,10700,8831,-1869,null,0,3902158,1,8831]
[3902159,3902,"TECCA",159,"LONGMEADOW                   ",1,0,1.06,1.06,6881,0,7248,7248,null,0,3902159,1.06,7248]
[3902160,3902,"TECCA",160,"LOWELL                       ",5.8,18,20.309999999999995,2.3099999999999952,42223,128600,139908,11308,null,0,3902160,20.309999999999995,139908]
[3902161,3902,"TECCA",161,"LUDLOW                       ",1.25,2,2.0300000000000002,3.0000000000000249E-2,8432,13400,13674,274,null,0,3902161,2.0300000000000002,13674]
[3902162,3902,"TECCA",162,"LUNENBURG                    ",null,1,0.67999999999999994,-0.32000000000000006,null,6700,4656,-2044,null,0,3902162,0.67999999999999994,4656]
[3902163,3902,"TECCA",163,"LYNN                         ",12.61,16,17.82,1.8200000000000003,89252,118530,124892,6362,null,0,3902163,17.82,124892]
[3902165,3902,"TECCA",165,"MALDEN                       ",1.48,2,2.38,0.37999999999999989,11046,13400,15993,2593,null,0,3902165,2.38,15993]
[3902167,3902,"TECCA",167,"MANSFIELD                    ",0.27,0,0,0,1864,0,0,0,null,0,3902167]
[3902168,3902,"TECCA",168,"MARBLEHEAD                   ",0.60000000000000009,1,1.41,0.40999999999999992,4221,10700,9777,-923,null,0,3902168,1.41,9777]
[3902170,3902,"TECCA",170,"MARLBOROUGH                  ",3.75,4.5,4.34,-0.16000000000000014,25637,34188,29399,-4789,null,0,3902170,4.34,29399]
[3902171,3902,"TECCA",171,"MARSHFIELD                   ",1.94,4,5.14,1.1399999999999997,13153,26800,36422,9622,null,0,3902171,5.14,36422]
[3902172,{"$f":"TRUNC(A2357,-3)/1000","v":3902},{"$f":"VLOOKUP(B2357,code437,2)","v":"TECCA"},{"$f":"A2357-B2357*1000","v":172},"MASHPEE                      ",null,null,0.28000000000000003,0.28000000000000003,null,null,2005,2005,null,0,3902172,0.28000000000000003,2005]
[3902173,3902,"TECCA",173,"MATTAPOISETT                 ",0.39,2,1.33,-0.66999999999999993,3740,14481,10208,-4273,null,0,3902173,1.33,10208]
[3902175,3902,"TECCA",175,"MEDFIELD                     ",0.22,3,4.17,1.17,1533,24100,30402,6302,null,0,3902175,4.17,30402]
[3902176,3902,"TECCA",176,"MEDFORD                      ",2.7499999999999996,6,4.9799999999999995,-1.0200000000000005,19089,47200,40221,-6979,null,0,3902176,4.9799999999999995,40221]
[3902177,3902,"TECCA",177,"MEDWAY                       ",1,2,1.73,-0.27,6700,13400,11904,-1496,null,0,3902177,1.73,11904]
[3902178,3902,"TECCA",178,"MELROSE                      ",1.84,0,0,0,12910,0,0,0,null,0,3902178]
[3902181,3902,"TECCA",181,"METHUEN                      ",1.34,8,10.579999999999998,2.5799999999999983,9179,57600,73932,16332,null,0,3902181,10.579999999999998,73932]
[3902182,3902,"TECCA",182,"MIDDLEBOROUGH                ",4.4400000000000004,6,8.4499999999999993,2.4499999999999993,30849,44814,57629,12815,null,0,3902182,8.4499999999999993,57629]
[3902185,3902,"TECCA",185,"MILFORD                      ",5.6899999999999995,6,6.87,0.87000000000000011,40434,53172,49841,-3331,null,0,3902185,6.87,49841]
[3902186,3902,"TECCA",186,"MILLBURY                     ",1.9,3,3,0,12813,20100,20460,360,null,0,3902186,3,20460]
[3902187,3902,"TECCA",187,"MILLIS                       ",1.53,3,3.8,0.79999999999999982,10850,24664,26303,1639,null,0,3902187,3.8,26303]
[3902189,3902,"TECCA",189,"MILTON                       ",null,2,2,0,null,13400,13400,0,null,0,3902189,2,13400]
[3902191,3902,"TECCA",191,"MONSON                       ",1.58,0,0,0,10844,0,0,0,null,0,3902191]
[3902197,{"$f":"TRUNC(A2370,-3)/1000","v":3902},{"$f":"VLOOKUP(B2370,code437,2)","v":"TECCA"},{"$f":"A2370-B2370*1000","v":197},"NANTUCKET                    ",null,null,0.62,0.62,null,null,4183,4183,null,0,3902197,0.62,4183]
[3902198,3902,"TECCA",198,"NATICK                       ",4.66,4,2.85,-1.1499999999999999,33077,31694,20661,-11033,null,{"$f":"P2371-A2371","v":0},3902198,2.85,20661]
[3902199,3902,"TECCA",199,"NEEDHAM                      ",1.41,5,{"$f":"Q2372","v":4.9099999999999993},{"$f":"H2372-G2372","v":-9.0000000000000746E-2},9491,37500,{"$f":"R2372","v":33205},{"$f":"L2372-K2372","v":-4295},null,0,3902199,4.9099999999999993,33205]
[3902201,3902,"TECCA",201,"NEW BEDFORD                  ",5.78,5,9.66,4.66,39355,33500,65431,31931,null,0,3902201,9.66,65431]
[3902204,3902,"TECCA",204,"NEWBURYPORT                  ",null,1,1.29,0.29000000000000004,null,10700,10268,-432,null,0,3902204,1.29,10268]
[3902207,3902,"TECCA",207,"NEWTON                       ",0.22,5,3.32,-1.6800000000000002,1533,37500,22446,-15054,null,0,3902207,3.32,22446]
[3902209,3902,"TECCA",209,"NORTH ADAMS                  ",2.85,4,2.54,-1.46,19426,34800,17450,-17350,null,0,3902209,2.54,17450]
[3902210,3902,"TECCA",210,"NORTHAMPTON                  ",0.95,4,3.99,-9.9999999999997868E-3,8952,29383,27820,-1563,null,0,3902210,3.99,27820]
[3902211,3902,"TECCA",211,"NORTH ANDOVER                ",0.78,0,0,0,5243,0,0,0,null,0,3902211]
[3902212,3902,"TECCA",212,"NORTH ATTLEBOROUGH           ",0.29000000000000004,1,2.9,1.9,2072,6700,20306,13606,null,0,3902212,2.9,20306]
[3902213,3902,"TECCA",213,"NORTHBOROUGH                 ",null,1,1,0,null,6700,6700,0,null,{"$f":"P2380-A2380","v":0},3902213,1,6700]
[3902214,3902,"TECCA",214,"NORTHBRIDGE                  ",null,1,3.96,2.96,null,6700,27331,20631,null,0,3902214,3.96,27331]
[3902215,3902,"TECCA",215,"NORTH BROOKFIELD             ",1.63,3.5,3.5,0,12300,24764,24026,-738,null,0,3902215,3.5,24026]
[3902217,3902,"TECCA",217,"NORTH READING                ",2.0099999999999998,2,2.74,0.74000000000000021,13542,13400,18378,4978,null,0,3902217,2.74,18378]
[3902218,3902,"TECCA",218,"NORTON                       ",0.89999999999999991,5,5.8199999999999994,0.8199999999999994,6375,33500,39598,6098,null,0,3902218,5.8199999999999994,39598]
[3902219,3902,"TECCA",219,"NORWELL                      ",null,1,1,0,null,10700,6941,-3759,null,0,3902219,1,6941]
[3902220,3902,"TECCA",220,"NORWOOD                      ",2.4900000000000002,3,1.65,-1.35,16881,24100,11330,-12770,null,0,3902220,1.65,11330]
[3902223,3902,"TECCA",223,"ORANGE                       ",null,1,1.4,0.39999999999999991,null,6700,9425,2725,null,0,3902223,1.4,9425]
[3902224,{"$f":"TRUNC(A2388,-3)/1000","v":3902},{"$f":"VLOOKUP(B2388,code437,2)","v":"TECCA"},{"$f":"A2388-B2388*1000","v":224},"ORLEANS                      ",null,null,0.49,0.49,null,null,3321,3321,null,0,3902224,0.49,3321]
[3902226,3902,"TECCA",226,"OXFORD                       ",7.2099999999999991,9,7.74,-1.2599999999999998,48593,72300,52817,-19483,null,0,3902226,7.74,52817]
[3902227,3902,"TECCA",227,"PALMER                       ",3.2499999999999996,5,4.9700000000000006,-2.9999999999999361E-2,23063,34732,36117,1385,null,0,3902227,4.9700000000000006,36117]
[3902229,3902,"TECCA",229,"PEABODY                      ",2.1,3,3.73,0.73,14138,20100,25827,5727,null,0,3902229,3.73,25827]
[3902231,3902,"TECCA",231,"PEMBROKE                     ",3.5700000000000003,3,2.5099999999999998,-0.49000000000000021,24136,20100,16929,-3171,null,0,3902231,2.5099999999999998,16929]
[3902236,3902,"TECCA",236,"PITTSFIELD                   ",3.6900000000000004,8,10.42,2.42,25275,57600,73444,15844,null,0,3902236,10.42,73444]
[3902239,3902,"TECCA",239,"PLYMOUTH                     ",6.46,5,5.82,0.82000000000000028,43473,41500,40085,-1415,null,0,3902239,5.82,40085]
[3902243,3902,"TECCA",243,"QUINCY                       ",2.4699999999999998,5,3.2300000000000004,-1.7699999999999996,17973,38809,23783,-15026,null,0,3902243,3.2300000000000004,23783]
[3902244,3902,"TECCA",244,"RANDOLPH                     ",0.31,6,5.0300000000000011,-0.96999999999999886,2185,44200,35085,-9115,null,0,3902244,5.0300000000000011,35085]
[3902246,{"$f":"TRUNC(A2397,-3)/1000","v":3902},{"$f":"VLOOKUP(B2397,code437,2)","v":"TECCA"},{"$f":"A2397-B2397*1000","v":246},"READING                      ",null,null,1.32,1.32,null,null,10182,10182,null,0,3902246,1.32,10182]
[3902248,3902,"TECCA",248,"REVERE                       ",0.94,2,1.96,-4.0000000000000036E-2,6419,13400,13135,-265,null,0,3902248,1.96,13135]
[3902251,3902,"TECCA",251,"ROCKLAND                     ",5.9,6,5.6700000000000008,-0.32999999999999918,39538,40200,38089,-2111,null,0,3902251,5.6700000000000008,38089]
[3902252,3902,"TECCA",252,"ROCKPORT                     ",0.87,0,0,0,5839,0,0,0,null,0,3902252]
[3902258,3902,"TECCA",258,"SALEM                        ",2.88,3,4.07,1.0700000000000003,19597,24100,28232,4132,null,0,3902258,4.07,28232]
[3902261,3902,"TECCA",261,"SANDWICH                     ",2.84,5,8.31,3.3100000000000005,19228,41500,58759,17259,null,0,3902261,8.31,58759]
[3902262,3902,"TECCA",262,"SAUGUS                       ",1.33,2,2.2800000000000002,0.28000000000000025,9037,13400,15405,2005,null,0,3902262,2.2800000000000002,15405]
[3902264,3902,"TECCA",264,"SCITUATE                     ",1.04,0,1.3,1.3,7040,0,9081,9081,null,0,3902264,1.3,9081]
[3902265,3902,"TECCA",265,"SEEKONK                      ",0.81,2,3.3,1.2999999999999998,5779,20400,24931,4531,null,0,3902265,3.3,24931]
[3902266,3902,"TECCA",266,"SHARON                       ",null,1,1,0,null,10700,7856,-2844,null,0,3902266,1,7856]
[3902271,3902,"TECCA",271,"SHREWSBURY                   ",5.78,6,5.18,-0.82000000000000028,39043,44200,35914,-8286,null,0,3902271,5.18,35914]
[3902272,{"$f":"TRUNC(A2408,-3)/1000","v":3902},{"$f":"VLOOKUP(B2408,code437,2)","v":"TECCA"},{"$f":"A2408-B2408*1000","v":272},"SHUTESBURY                   ",null,null,0.03,0.03,null,null,241,241,null,0,3902272,0.03,241]
[3902273,3902,"TECCA",273,"SOMERSET                     ",null,1,1.45,0.44999999999999996,null,10700,12026,1326,null,0,3902273,1.45,12026]
[3902274,3902,"TECCA",274,"SOMERVILLE                   ",1.08,0,0,0,7305,0,0,0,null,0,3902274]
[3902276,3902,"TECCA",276,"SOUTHBOROUGH                 ",0.42,2,1.17,-0.83000000000000007,2858,13400,7901,-5499,null,0,3902276,1.17,7901]
[3902277,3902,"TECCA",277,"SOUTHBRIDGE                  ",4.8100000000000005,4,3.23,-0.77,32648,26800,21848,-4952,null,0,3902277,3.23,21848]
[3902278,3902,"TECCA",278,"SOUTH HADLEY                 ",0.53,2,2,0,3662,13400,13400,0,null,0,3902278,2,13400]
[3902281,3902,"TECCA",281,"SPRINGFIELD                  ",22.270000000000007,32,36.620000000000005,4.6200000000000045,153999,222476,250991,28515,null,0,3902281,36.620000000000005,250991]
[3902284,{"$f":"TRUNC(A2415,-3)/1000","v":3902},{"$f":"VLOOKUP(B2415,code437,2)","v":"TECCA"},{"$f":"A2415-B2415*1000","v":284},"STONEHAM                     ",null,null,0.47,0.47,null,null,3351,3351,null,0,3902284,0.47,3351]
[3902285,3902,"TECCA",285,"STOUGHTON                    ",5.09,7,6.6300000000000008,-0.36999999999999922,34248,51052,47225,-3827,null,0,3902285,6.6300000000000008,47225]
[3902290,3902,"TECCA",290,"SUTTON                       ",1,1,1.08,8.0000000000000071E-2,6700,6700,7305,605,null,0,3902290,1.08,7305]
[3902291,3902,"TECCA",291,"SWAMPSCOTT                   ",0.49,3,3.88,0.87999999999999989,3321,20100,26837,6737,null,0,3902291,3.88,26837]
[3902292,3902,"TECCA",292,"SWANSEA                      ",1,2,2,0,6776,13400,13400,0,null,0,3902292,2,13400]
[3902293,3902,"TECCA",293,"TAUNTON                      ",6.49,7.5,11.1,3.5999999999999996,43521,54288,75376,21088,null,0,3902293,11.1,75376]
[3902295,3902,"TECCA",295,"TEWKSBURY                    ",2.06,6,4.95,-1.0499999999999998,14229,44200,33779,-10421,null,0,3902295,4.95,33779]
[3902300,3902,"TECCA",300,"TRURO                        ",null,1,1,0,null,6700,6700,0,null,0,3902300,1,6700]
[3902301,3902,"TECCA",301,"TYNGSBOROUGH                 ",0.89,1,1,0,6064,6700,6700,0,null,0,3902301,1,6700]
[3902304,3902,"TECCA",304,"UXBRIDGE                     ",1.6099999999999999,2,0.81,-1.19,10816,13400,5633,-7767,null,0,3902304,0.81,5633]
[3902305,3902,"TECCA",305,"WAKEFIELD                    ",1.03,4,5.21,1.21,6974,26800,35042,8242,null,0,3902305,5.21,35042]
[3902307,3902,"TECCA",307,"WALPOLE                      ",2.7,3.5,3.88,0.37999999999999989,18605,27488,26499,-989,null,0,3902307,3.88,26499]
[3902308,3902,"TECCA",308,"WALTHAM                      ",0.46,3,3.83,0.83000000000000007,3123,20100,25824,5724,null,0,3902308,3.83,25824]
[3902309,3902,"TECCA",309,"WARE                         ",null,2,0.91,-1.0899999999999999,null,21400,6441,-14959,null,0,3902309,0.91,6441]
[3902310,3902,"TECCA",310,"WAREHAM                      ",4.3800000000000008,5,8.0299999999999994,3.0299999999999994,31950,55307,58347,3040,null,0,3902310,8.0299999999999994,58347]
[3902314,3902,"TECCA",314,"WATERTOWN                    ",2.5099999999999998,4,5.3199999999999994,1.3199999999999994,17578,26800,36984,10184,null,0,3902314,5.3199999999999994,36984]
[3902315,3902,"TECCA",315,"WAYLAND                      ",null,1,1.95,0.95,null,6700,13144,6444,null,0,3902315,1.95,13144]
[3902316,3902,"TECCA",316,"WEBSTER                      ",2.4299999999999997,4,5.24,1.2400000000000002,18668,28247,37197,8950,null,0,3902316,5.24,37197]
[3902321,3902,"TECCA",321,"WESTBOROUGH                  ",0.99,1,1,0,8143,6700,6700,0,null,0,3902321,1,6700]
[3902322,3902,"TECCA",322,"WEST BOYLSTON                ",2.8200000000000003,2,2,0,18982,13400,13400,0,null,0,3902322,2,13400]
[3902323,3902,"TECCA",323,"WEST BRIDGEWATER             ",1.9300000000000002,2,2.44,0.43999999999999995,13293,17400,16740,-660,null,0,3902323,2.44,16740]
[3902325,3902,"TECCA",325,"WESTFIELD                    ",3.21,3,{"$f":"Q2436","v":3.3499999999999996},{"$f":"H2436-G2436","v":0.34999999999999964},21641,20100,{"$f":"R2436","v":22726},{"$f":"L2436-K2436","v":2626},null,0,3902325,3.3499999999999996,22726]
[3902326,3902,"TECCA",326,"WESTFORD                     ",1,3,3.41,0.41000000000000014,6886,20100,23216,3116,null,0,3902326,3.41,23216]
[3902330,3902,"TECCA",330,"WESTON                       ",null,1,1,0,null,6700,6700,0,null,0,3902330,1,6700]
[3902331,3902,"TECCA",331,"WESTPORT                     ",0.83000000000000007,2,3.2600000000000002,1.2600000000000002,6182,13933,23637,9704,null,0,3902331,3.2600000000000002,23637]
[3902332,3902,"TECCA",332,"WEST SPRINGFIELD             ",1,4,5.93,1.9299999999999997,7112,37800,40730,2930,null,0,3902332,5.93,40730]
[3902335,3902,"TECCA",335,"WESTWOOD                     ",0.19,0,0,0,1334,0,0,0,null,0,3902335]
[3902336,3902,"TECCA",336,"WEYMOUTH                     ",2.1500000000000004,10,9.5000000000000018,-0.49999999999999822,14980,71000,67824,-3176,null,0,3902336,9.5000000000000018,67824]
[3902341,3902,"TECCA",341,"WILLIAMSTOWN                 ",0.12,0,0,0,945,0,0,0,null,0,3902341]
[3902342,3902,"TECCA",342,"WILMINGTON                   ",0.9,0,0.16,0.16,6038,0,1135,1135,null,{"$f":"P2444-A2444","v":0},3902342,0.16,1135]
[3902343,3902,"TECCA",343,"WINCHENDON                   ",7.0000000000000007E-2,1,2.84,1.8399999999999999,539,6700,19190,12490,null,0,3902343,2.84,19190]
[3902344,3902,"TECCA",344,"WINCHESTER                   ",null,1,0.8,-0.19999999999999996,null,10700,8083,-2617,null,0,3902344,0.8,8083]
[3902346,3902,"TECCA",346,"WINTHROP                     ",0.71,1,1.8499999999999999,0.84999999999999987,4929,6700,12482,5782,null,0,3902346,1.8499999999999999,12482]
[3902347,3902,"TECCA",347,"WOBURN",1.9100000000000001,0,2.48,2.48,12954,0,16864,16864,null,0,3902347,2.48,16864]
[3902348,3902,"TECCA",348,"WORCESTER                    ",15.000000000000004,30.5,30.369999999999994,-0.13000000000000611,104216,219924,209780,-10144,null,0,3902348,30.369999999999994,209780]
[3902600,3902,"TECCA",600,"ACTON BOXBOROUGH             ",0.22,0,0,0,1583,0,0,0,null,0,3902600]
[3902603,3902,"TECCA",603,"ADAMS CHESHIRE               ",null,1,1.02,2.0000000000000018E-2,null,10700,10398,-302,null,0,3902603,1.02,10398]
[3902605,3902,"TECCA",605,"AMHERST PELHAM               ",2.83,3,2.84,-0.16000000000000014,18974,24100,19317,-4783,null,0,3902605,2.84,19317]
[3902610,3902,"TECCA",610,"ASHBURNHAM WESTMINSTER       ",2.04,6,6.0100000000000007,1.0000000000000675E-2,13837,40200,40416,216,null,0,3902610,6.0100000000000007,40416]
[3902615,3902,"TECCA",615,"ATHOL ROYALSTON              ",2.66,5,7.71,2.71,17848,41500,54264,12764,null,0,3902615,7.71,54264]
[3902616,3902,"TECCA",616,"AYER SHIRLEY",2,2.5,2.69,0.18999999999999995,13400,16788,18266,1478,null,0,3902616,2.69,18266]
[3902618,3902,"TECCA",618,"BERKSHIRE HILLS              ",0.42,0,0,0,2858,0,0,0,null,0,3902618]
[3902620,3902,"TECCA",620,"BERLIN BOYLSTON              ",0.99,3,3,0,6634,20100,20100,0,null,0,3902620,3,20100]
[3902622,3902,"TECCA",622,"BLACKSTONE MILLVILLE         ",2.1100000000000003,5.5,5.26,-0.24000000000000021,14455,36888,35373,-1515,null,0,3902622,5.26,35373]
[3902625,3902,"TECCA",625,"BRIDGEWATER RAYNHAM          ",1.56,2,1.99,-1.0000000000000009E-2,11712,13400,13409,9,null,0,3902625,1.99,13409]
[3902635,3902,"TECCA",635,"CENTRAL BERKSHIRE            ",0.14000000000000001,1,1.48,0.48,1003,6700,9955,3255,null,0,3902635,1.48,9955]
[3902640,3902,"TECCA",640,"CONCORD CARLISLE             ",null,1,1.88,0.87999999999999989,null,6700,12742,6042,null,0,3902640,1.88,12742]
[3902645,3902,"TECCA",645,"DENNIS YARMOUTH              ",1,4,9.0500000000000007,5.0500000000000007,6700,26800,61508,34708,null,0,3902645,9.0500000000000007,61508]
[3902650,3902,"TECCA",650,"DIGHTON REHOBOTH             ",1,0,0,0,6700,0,0,0,null,0,3902650]
[3902655,3902,"TECCA",655,"DOVER SHERBORN               ",1.31,1,2.54,1.54,8829,6700,17053,10353,null,0,3902655,2.54,17053]
[3902658,3902,"TECCA",658,"DUDLEY CHARLTON              ",4.45,9.5,10.78,1.2799999999999994,30705,71688,73239,1551,null,0,3902658,10.78,73239]
[3902660,3902,"TECCA",660,"NAUSET                       ",1.36,4,3.2300000000000004,-0.76999999999999957,9625,38562,22783,-15779,null,0,3902660,3.2300000000000004,22783]
[3902665,3902,"TECCA",665,"FREETOWN LAKEVILLE           ",5.04,3,2.25,-0.75,34192,24100,16412,-7688,null,0,3902665,2.25,16412]
[3902670,3902,"TECCA",670,"FRONTIER                     ",1,0,0.49,0.49,6700,0,3447,3447,null,0,3902670,0.49,3447]
[3902672,3902,"TECCA",672,"GATEWAY                      ",0.19,1,0.14000000000000001,-0.86,1559,6700,1003,-5697,null,0,3902672,0.14000000000000001,1003]
[3902673,3902,"TECCA",673,"GROTON DUNSTABLE             ",1,3,2.99,-9.9999999999997868E-3,8170,21570,20585,-985,null,0,3902673,2.99,20585]
[3902675,3902,"TECCA",675,"HAMILTON WENHAM              ",null,2,2.0300000000000002,3.0000000000000249E-2,null,17400,14281,-3119,null,0,3902675,2.0300000000000002,14281]
[3902680,3902,"TECCA",680,"HAMPDEN WILBRAHAM            ",0.09,2,1.53,-0.47,680,21400,10936,-10464,null,0,3902680,1.53,10936]
[3902683,3902,"TECCA",683,"HAMPSHIRE                    ",null,1,1,0,null,6700,6700,0,null,0,3902683,1,6700]
[3902690,3902,"TECCA",690,"KING PHILIP                  ",1.1299999999999999,5,6.6499999999999995,1.6499999999999995,7711,33500,45139,11639,null,0,3902690,6.6499999999999995,45139]
[3902695,3902,"TECCA",695,"LINCOLN SUDBURY              ",null,1,1.02,2.0000000000000018E-2,null,6700,6908,208,null,0,3902695,1.02,6908]
[3902698,{"$f":"TRUNC(A2476,-3)/1000","v":3902},{"$f":"VLOOKUP(B2476,code437,2)","v":"TECCA"},{"$f":"A2476-B2476*1000","v":698},"MANCHESTER ESSEX",null,null,1.58,1.58,null,null,10693,10693,null,0,3902698,1.58,10693]
[3902700,3902,"TECCA",700,"MARTHAS VINEYARD             ",0.04,1,1.48,0.48,340,10700,11152,452,null,0,3902700,1.48,11152]
[3902705,3902,"TECCA",705,"MASCONOMET                   ",null,1,1,0,null,6700,6700,0,null,0,3902705,1,6700]
[3902710,3902,"TECCA",710,"MENDON UPTON                 ",null,1,1.4,0.39999999999999991,null,6700,9425,2725,null,0,3902710,1.4,9425]
[3902712,3902,"TECCA",712,"MONOMOY",1.44,2,3.81,1.81,14452,29400,41152,11752,null,0,3902712,3.81,41152]
[3902715,3902,"TECCA",715,"MOUNT GREYLOCK               ",0.84,2,0.57000000000000006,-1.43,5640,13400,3927,-9473,null,0,3902715,0.57000000000000006,3927]
[3902720,3902,"TECCA",720,"NARRAGANSETT                 ",1.46,2,2,0,9823,13400,13400,0,null,0,3902720,2,13400]
[3902725,3902,"TECCA",725,"NASHOBA                      ",2.73,1,1.21,0.20999999999999996,18782,6700,8643,1943,null,0,3902725,1.21,8643]
[3902730,3902,"TECCA",730,"NORTHBORO SOUTHBORO          ",0.19,0,0.48,0.48,1374,0,3255,3255,null,0,3902730,0.48,3255]
[3902735,3902,"TECCA",735,"NORTH MIDDLESEX              ",0.41,2,1.0900000000000001,-0.90999999999999992,2791,13400,7521,-5879,null,0,3902735,1.0900000000000001,7521]
[3902740,3902,"TECCA",740,"OLD ROCHESTER                ",0.97,5,2.81,-2.19,6501,33500,19718,-13782,null,0,3902740,2.81,19718]
[3902745,3902,"TECCA",745,"PENTUCKET                    ",1.74,2,2.48,0.48,11833,13400,16807,3407,null,0,3902745,2.48,16807]
[3902750,3902,"TECCA",750,"PIONEER                      ",2.17,1,1.48,0.48,16249,8272,11871,3599,null,0,3902750,1.48,11871]
[3902753,3902,"TECCA",753,"QUABBIN                      ",0.3,5,5.62,0.62000000000000011,2063,33500,38049,4549,null,0,3902753,5.62,38049]
[3902755,3902,"TECCA",755,"RALPH C MAHAR                ",0.25,1,0.69,-0.31000000000000005,1731,6700,4722,-1978,null,0,3902755,0.69,4722]
[3902760,3902,"TECCA",760,"SILVER LAKE                  ",0.4,1,0.84,-0.16000000000000003,2725,6700,5715,-985,null,0,3902760,0.84,5715]
[3902763,3902,"TECCA",763,"SOMERSET BERKLEY",0.36,1,1.45,0.44999999999999996,2460,6700,9756,3056,null,0,3902763,1.45,9756]
[3902767,3902,"TECCA",767,"SPENCER EAST BROOKFIELD      ",3.4300000000000006,2,2.96,0.96,25369,13400,19981,6581,null,0,3902767,2.96,19981]
[3902770,3902,"TECCA",770,"TANTASQUA                    ",2.61,2,2.0699999999999998,6.999999999999984E-2,17591,13400,13939,539,null,0,3902770,2.0699999999999998,13939]
[3902773,3902,"TECCA",773,"TRITON                       ",1.84,2,3.48,1.48,12770,13400,23626,10226,null,0,3902773,3.48,23626]
[3902775,3902,"TECCA",775,"WACHUSETT                    ",5.43,7,9.8199999999999985,2.8199999999999985,38341,54900,67406,12506,null,0,3902775,9.8199999999999985,67406]
[3902778,3902,"TECCA",778,"QUABOAG",1.1100000000000001,1,3.54,2.54,7504,6700,24124,17424,null,0,3902778,3.54,24124]
[3902780,3902,"TECCA",780,"WHITMAN HANSON               ",5.07,4,3.18,-0.81999999999999984,34836,27520,21899,-5621,null,0,3902780,3.18,21899]